{"text_format":"1","workbook":"xlsx","n_sheets":24,"sheets":["Resultados","BRRL","CAPEX","VCG","OR","IR","VOLUME","Série - IPCA","Classificação OPEX","DRIVER_OPEX","Centro_Custo","Drivers","Transporte Norte do Paraná","GLINK Londrina","rWACC","Taxa livre de risco","Beta_Damodaran","RetornoMerdado-SP500","RendimDividaRiscoBB-IGUUU510","Risco-Brasil","Inflação americana","We e Wd","Taxa Agepar","Plan1"],"not_rendered":{"charts":1,"images":4,"macros":1,"external_links":0,"defined_names":37,"comments":4,"pivot_tables":0},"unopened":[],"bounds":{"document_bytes":16777216,"sheet_cells":100000,"rows_first":2000,"rows_last":500,"rows_between":2000,"halvings":0,"cell_chars":16384,"cell_head_chars":4096},"cells_cut":0,"cells_raw":0,"read":"whole","date_system":"1900"}

{"sheet":"Resultados","index":0,"n_rows":38,"n_cols":13,"rows_kept":38,"cut":false,"hidden":false,"merged":[[33,10,33,12],[6,2,7,2],[6,8,6,12],[6,3,7,3],[31,10,31,11],[32,10,32,11]]}
[]
[null,null,"Versão definitiva aprovada com alterações efetuadas pelo Conselho Diretor"]
[null,null,"Base de Remuneração Regulatória Líquida na data de início do Ciclo Tarifário","BRRL0",null,{"$f":"BRRL!J6","v":981307.68252000015},null,"mil R$"]
[null,null,"Base de Remuneração Regulatória Líquida ao final do Ciclo Tarifário","BRRLT",null,{"$f":"BRRL!O6","v":1265860.3710129762},null,"mil R$"]
[null,null,"Weighted Average Cost of Capital - WACC","rWACC",null,{"$f":"ROUND(rWACC!D3,4)","v":8.7099999999999997E-2}]
[]
[null,null,"Descrição","Variável",null,null,null,null,"Ciclo Tarifário - 2024/2029"]
[null,null,null,null,null,null,null,0,1,2,3,4,5]
[null,null,"Base de Remuneração Regulatória Líquida ao longo do Ciclo Tarifário","BRRLi",null,"mil R$",null,{"$f":"F3","v":981307.68252000015},{"$f":"BRRL!K6","v":1091702.659312733},{"$f":"BRRL!L6","v":1197334.9728411837},{"$f":"BRRL!M6","v":1220373.245419445},{"$f":"BRRL!N6","v":1226412.1753552412},{"$f":"BRRL!O6","v":1265860.3710129762}]
[null,null,"Variação anual da Base de Remuneração Regulatória Líquida","BRRL (t+1 - t)",null,"mil R$",null,"-",{"$f":"BRRL!K16","v":110394.97679273284},{"$f":"BRRL!L16","v":105632.31352845067},{"$f":"BRRL!M16","v":23038.272578261327},{"$f":"BRRL!N16","v":6038.9299357961863},{"$f":"BRRL!O16","v":39448.195657734992}]
[null,null,"Amortização anual projetada da Base de Remuneração Regulatória Líquida","Amortização projetada",null,"mil R$",null,"-",{"$f":"BRRL!K15","v":35514.552812244801},{"$f":"BRRL!L15","v":41137.484068602309},{"$f":"BRRL!M15","v":45470.401058828356},{"$f":"BRRL!N15","v":48262.173140373008},{"$f":"BRRL!O15","v":51426.715853147529}]
[null,null,"Custos operacionais e outras despesas/gastos operacionais e receitas irrecuperáveis","Opex&Odesp",null,"mil R$",null,"-",{"$f":"DRIVER_OPEX!G451","v":35157.342731597644},{"$f":"DRIVER_OPEX!H451","v":40887.799881351064},{"$f":"DRIVER_OPEX!I451","v":48005.349005788114},{"$f":"DRIVER_OPEX!J451","v":50780.118901326059},{"$f":"DRIVER_OPEX!K451","v":52443.738839533857}]
[null,null,"Investimentos","Capex",null,"mil R$",null,"-",{"$f":"CAPEX!D8","v":145909.52960497767},{"$f":"CAPEX!E8","v":146769.797597053},{"$f":"CAPEX!F8","v":68508.673637089683},{"$f":"CAPEX!G8","v":54301.103076169187},{"$f":"CAPEX!H8","v":90874.911510882463}]
[null,null,"Variação do capital de giro","VCG",null,"mil R$",null,"-",{"$f":"VCG!E28/1000","v":1517.3366138750725},{"$f":"VCG!E29/1000","v":1426.8969774538689},{"$f":"VCG!E30/1000","v":650.8031698300839},{"$f":"VCG!E31/1000","v":798.61964844946931},{"$f":"VCG!E32/1000","v":-21979.964919687198}]
[null,null,"Outras receitas consideradas na modicidade tarifária","OR",null,"mil R$",null,"-",{"$f":"OR!E9","v":258.01782700196122},{"$f":"OR!F9","v":300.10161561322172},{"$f":"OR!G9","v":314.72594336963238},{"$f":"OR!H9","v":344.78257843490019},{"$f":"OR!I9","v":371.33098331238352}]
[null,null,"Valor do imposto de renda projetado","IR",null,"mil R$",null,"-",{"$f":"IR!D12","v":40227.5590370758},{"$f":"IR!E12","v":49377.328074130841},{"$f":"IR!F12","v":50272.760174892916},{"$f":"IR!G12","v":58094.474078025734},{"$f":"IR!H12","v":65030.509579482597}]
[null,null,"Atividades de Comercialização (mercado cativo)","Encargos de Comercialização - mercado cativo",null,"mil R$",null,"-",{"$f":"DRIVER_OPEX!G453","v":10939.528994280501},{"$f":"DRIVER_OPEX!H453","v":11375.173690599409},{"$f":"DRIVER_OPEX!I453","v":11776.383572501752},{"$f":"DRIVER_OPEX!J453","v":12053.467836538957},{"$f":"DRIVER_OPEX!K453","v":12391.199405169646}]
[null,null,"Atividades de Gestão ","Encargos de Gestão - cativo + livre",null,"mil R$",null,"-",{"$f":"DRIVER_OPEX!G452","v":36242.231098926597},{"$f":"DRIVER_OPEX!H452","v":37437.795342582212},{"$f":"DRIVER_OPEX!I452","v":37899.88688733556},{"$f":"DRIVER_OPEX!J452","v":38023.130038960495},{"$f":"DRIVER_OPEX!K452","v":38185.675269308333}]
[null,null,"Volume distribuído do mercado cativo","Volume: mercado cativo",null,"mil m³",null,"-",{"$f":"VOLUME!E21/1000","v":297937.46193578793},{"$f":"VOLUME!F21/1000","v":321383.39103942132},{"$f":"VOLUME!G21/1000","v":345323.94272671221},{"$f":"VOLUME!H21/1000","v":355227.45248545503},{"$f":"VOLUME!I21/1000","v":363451.64542370522}]
[null,null,"Volume distribuído do mercado livre","Volume: mercado livre",null,"mil m³",null,"-",{"$f":"SUM(VOLUME!E22:E23)/1000","v":171990},{"$f":"SUM(VOLUME!F22:F23)/1000","v":229950},{"$f":"SUM(VOLUME!G22:G23)/1000","v":231310},{"$f":"SUM(VOLUME!H22:H23)/1000","v":280842},{"$f":"SUM(VOLUME!I22:I23)/1000","v":325215}]
[null,null,"Volume distribuído total (mercado cativo + mercado livre)","Volume total",null,"mil m³",null,"-",{"$f":"SUM(VOLUME!E21:E23)/1000","v":469927.46193578793},{"$f":"SUM(VOLUME!F21:F23)/1000","v":551333.39103942132},{"$f":"SUM(VOLUME!G21:G23)/1000","v":576633.94272671221},{"$f":"SUM(VOLUME!H21:H23)/1000","v":636069.45248545508},{"$f":"SUM(VOLUME!I21:I23)/1000","v":688666.64542370522}]
[null,null,"Receita Direta (tarifária)","Receita",null,"mil R$",null,"-",{"$f":"(I19*$M$36+I20*$M$37)","v":234562.7978259676},{"$f":"(J19*$M$36+J20*$M$37)","v":272821.91225089331},286116.55664515751,313441.8292172912,337577.69757456379]
[]
[null,null,"Fluxo de caixa","-",null,"mil R$",null,{"$f":"-F3","v":-981307.68252000015},{"$f":"(I19*$M$36+I20*$M$37)-I12-I13-I14+I15-I16-I17-I18","v":-35172.712427763734},{"$f":"(J19*$M$36+J20*$M$37)-J12-J13-J14+J15-J16-J17-J18","v":-14152.777696663863},69317.426141089061,{"$f":"(L19*$M$36+L20*$M$37)-L12-L13-L14+L15-L16-L17-L18","v":99735.698216256191},{"$f":"(M19*$M$36+M20*$M$37)-M12-M13-M14+M15-M16-M17-M18+M9","v":1366863.3298861627}]
[null,null,"Fluxo de caixa descontado",{"$f":"SUM(H25:M25)","v":9.4851376683218405},null,"mil R$",null,{"$f":"-F3/(1+$F$5)^H8","v":-981307.68252000015},{"$f":"I24/(1+$F$5)^I8","v":-32354.62462309239},{"$f":"J24/(1+$F$5)^J8","v":-11975.749235992538},{"$f":"K24/(1+$F$5)^K8","v":53955.278816066777},{"$f":"L24/(1+$F$5)^L8","v":71412.238934275083},{"$f":"M24/(1+$F$5)^M8","v":900280.02376641147}]
[]
[null,null,"(+)",{"$f":"$F$3","v":981307.68252000015},null,"mil R$",null,"Receita Mercado Cativo e Livre sem Encargos",{"$f":"$D$37*I21","v":207615.55852142864},{"$f":"$D$37*J21","v":243580.9761801142},{"$f":"$D$37*K21","v":254758.84637271622},{"$f":"$D$37*L21","v":281017.65768741519},{"$f":"$D$37*M21","v":304255.27726289397}]
[null,null,"(-)",{"$f":"$F$4/(1+$F$5)^M8","v":833754.75805282826},null,"mil R$",null,"Receita Encargos Mercado Cativo",{"$f":"$K$36*I19","v":26279.937248124541},{"$f":"$K$36*J19","v":28348.014023579712},{"$f":"$K$36*K19","v":30459.719587356998},{"$f":"$K$36*L19","v":31333.270745727419},{"$f":"$K$36*M19","v":32058.69571554966}]
[null,null,"(+)",{"$f":"NPV($F$5,I12:M12)+NPV(F5,I18:M18)*DRIVER_OPEX!G457","v":248653.35732957241},null,"mil R$",null,"Receita Encargos Mercado Livre",{"$f":"$K$37*I20","v":666.16514132068221},{"$f":"$K$37*J20","v":890.66035378039942},{"$f":"$K$37*K20","v":895.92801231982685},{"$f":"$K$37*L20","v":1087.779234948445},{"$f":"$K$37*M20","v":1259.6482146322792}]
[null,null,"(+)",{"$f":"NPV($F$5,I13:M13)","v":410472.8358907142},null,"mil R$",null,"Outras Receitas",{"$f":"I15","v":258.01782700196122},{"$f":"J15","v":300.10161561322172},{"$f":"K15","v":314.72594336963238},{"$f":"L15","v":344.78257843490019},{"$f":"M15","v":371.33098331238352}]
[null,null,"(+)",{"$f":"NPV($F$5,I14:M14)","v":-10795.46362562727},null,"mil R$",null,"Receita Total",{"$f":"I27+I28+I29+I30","v":234819.6787378758},{"$f":"J27+J28+J29+J30","v":273119.7521730875},286429.21991576266,313783.49024652597,337944.95217638829]
[null,null,"(-)",{"$f":"NPV($F$5,I15:M15)","v":1227.7056928164395},null,"mil R$",null,"VPL Receita",{"$f":"NPV($F$5,I31:M31)","v":1117323.7900713978},null,"MBR (R$)\nMargem Bruta Requerida",null,{"$f":"SUM(I19:M19)*1000*M36+SUM(I20:M20)*1000*M37","v":1444520793.5138733}]
[null,null,"(+)",{"$f":"NPV($F$5,I16:M16)","v":202346.34166052536},null,"mil R$",null,"VPL Gastos",{"$f":"D27-D28+D30+D31+D33+NPV(F5,I12:M12)+NPV(F5,I17:M17)+NPV($F$5,I18:M18)","v":1117323.7900629921},null,"TUSD média global* (R$/m³)\n(TUSDc+TUSDL)",null,{"$f":"I32/D34","v":0.4951216998293394}]
[null,null,"(+)",{"$f":"NPV($F$5,I21:M21)","v":2256664.958244653},null,"mil m³",null,"VPL\nReceita - Gastos",{"$f":"(I32-I33)","v":8.4056518971920013E-6},null,"*Valor MÉDIO Global apenas a título de informação, não faz parte do modelo. A estrutura tarifária a ser proposta pela concessionária deve convergir para essa média."]
[]
[null,null,"Tarifa de Uso do Sistema de Distribuição [calculado] - TUSD (R$/m³)",{"$f":"(D27-D28+D29+D30+D31-D32+D33)/D34","v":0.44180341720069005},null,null,null,null,null,"Encargos (cativo)\nEc (R$/m³)",{"$f":"(NPV(F5,I17:M17)/NPV(F5,I19:M19))+(NPV(F5,I18:M18)/NPV(F5,I19:M19)*DRIVER_OPEX!G458)","v":8.8206219779735001E-2},"TUSDC (R$/m³)",{"$f":"ROUND($D$37,4)+ROUND(K36,4)","v":0.53}]
[null,null,"Tarifa de Uso do Sistema de Distribuição [atingir meta] - TUSD (R$/m³)",0.44180341720441474,null,null,null,null,null,"Encargos (livre)\nEl (R$/m³)",{"$f":"NPV(F5,I18:M18)/NPV(F5,I20:M20)*DRIVER_OPEX!G459","v":3.8732783378143047E-3},"TUSDL(R$/m³)",{"$f":"ROUND($D$37,4)+ROUND(K37,4)","v":0.44570000000000004}]
[null,null,null,null,null,null,null,null,null,"Versão definitiva aprovada com alterações efetuadas pelo Conselho Diretor"]

{"sheet":"BRRL","index":1,"n_rows":33,"n_cols":15,"rows_kept":33,"cut":false,"hidden":false,"merged":[[31,2,31,4],[32,2,32,4],[2,8,2,14],[2,2,2,4],[16,8,16,14],[3,10,3,14],[5,2,5,4],[3,2,3,4],[13,2,13,4],[20,2,20,4],[25,2,25,4]]}
[]
[]
[null,null,"Base de Remuneração Regulatória Líquida",null,null,null,null,null,"Movimentação da Base de Ativos durante o Ciclo Tarifário"]
[null,null,"Resumo da Base de Remuneração Regulatória Líquida",null,null,null,null,null,null,null,"1° Ciclo Tarifário (ano)"]
[null,null,"Descrição","Observação","R$",null,null,null,"Descrição",0,1,2,3,4,5]
[null,null,"(a) Base de Remuneração Regulatória Líquida",null,null,null,null,null,"(a) BRRL0-t* (mil R$)",{"$f":"E31/1000","v":981307.68252000015},{"$f":"J6+K8-K15","v":1091702.659312733},{"$f":"K6+L8-L15","v":1197334.9728411837},{"$f":"L6+M8-M15","v":1220373.245419445},1226412.1753552412,{"$f":"N6+O8-O15","v":1265860.3710129762}]
[null,null,"   (a.1) Outorga = (a.2) + (a.3)","Valor contabilizado no \"Anexo 7 - BRRL Inicial\" do Contrato de Concessão",508000000,null,null,null,"(b) Amortização da BRRL0 (mil R$)",0,{"$f":"$J$6/30","v":32710.256084000004},{"$f":"$J$6/30","v":32710.256084000004},32710.256084000004,32710.256084000004,32710.256084000004]
[null,null,"   (a.2) Compensação de créditos","Compensação de créditos em favor da Concessionária referente ao contrato anterior (item 1.3 do Contrato)",98000000,null,null,null,"(c) Imobilizações (mil R$)",0,{"$f":"CAPEX!D8","v":145909.52960497767},{"$f":"CAPEX!E8","v":146769.797597053},{"$f":"CAPEX!F8","v":68508.673637089683},{"$f":"CAPEX!G8","v":54301.103076169187},{"$f":"CAPEX!H8","v":90874.911510882463}]
[null,null,"   (a.3) Valor da Outorga pago","Valor efetivamente pago em 28/12/2022.",{"$f":"E7-E8","v":410000000},null,null,null,"(d) Amortização de (c) (mil R$)",0,{"$f":"SUM(K10:K14)","v":2804.2967282447953},{"$f":"SUM(L10:L14)","v":8427.2279846023066},{"$f":"SUM(M10:M14)","v":12760.144974828352},{"$f":"SUM(N10:N14)","v":15551.917056373},{"$f":"SUM(O10:O14)","v":18716.459769147528}]
[null,null,"   (a.4) Passivo Regulatório","Valor constante no item 10.12 do Contrato e referenciado no \"Anexo 07 - BRRL Inicial\"**",93106400.969999999,null,null,null,"   (d.1) Ano 1 (mil R$)",0,{"$f":"(SUM(CAPEX!L48:L49)/1000)/2","v":2804.2967282447953},{"$f":"K10*2","v":5608.5934564895906},{"$f":"L10","v":5608.5934564895906},5608.5934564895906,5608.5934564895906]
[null,null,"   (a.5) Outorga subtraído o Passivo Regulatório = (a.1) - (a.4)","-",{"$f":"E7-E10","v":414893599.02999997},null,null,null,"   (d.2) Ano 2 (mil R$)",0,0,{"$f":"(SUM(CAPEX!M48:M49)/1000)/2","v":2818.6345281127165},{"$f":"L11*2","v":5637.2690562254329},{"$f":"M11","v":5637.2690562254329},5637.2690562254329]
[null,null,"   (a.6) Bens não amortizados até assinatura do Contrato*","Valor contabilizado no \"Anexo 7 - BRRL Inicial\" do Contrato de Concessão, líquida das baixas identificadas",232239109.35000002,null,null,null,"   (d.3) Ano 3 (mil R$)",0,0,0,{"$f":"(SUM(CAPEX!N48:N49)/1000)/2","v":1514.2824621133288},{"$f":"M12*2","v":3028.5649242266577},{"$f":"N12","v":3028.5649242266577}]
[null,null,"   (a.7) BRRL Inicial = (a.5) + (a.6)","-",{"$f":"E11+E12","v":647132708.38},null,null,null,"   (d.4) Ano 4 (mil R$)",0,0,0,0,{"$f":"(SUM(CAPEX!O48:O49)/1000)/2","v":1277.4896194313203},{"$f":"N13*2","v":2554.9792388626406}]
[null,null,"(b) Investimentos realizados entre 01/01/2022 e 06/07/2024",null,null,null,null,null,"   (d.5) Ano 5 (mil R$)",0,0,0,0,0,{"$f":"(SUM(CAPEX!P48:P49)/1000)/2","v":1887.0530933432085}]
[null,null,"   (b.1) Investimentos realizados entre 01/01/2022 e 31/12/2023","Ativos imobilizados no período de 1/1/2022 a 31/12/2023, líquidas das baixas identificadas",23500670.559999999,null,null,null,"(e) Amortização total (mil R$) = (b) + (d)",0,{"$f":"K7+K9","v":35514.552812244801},{"$f":"L7+L9","v":41137.484068602309},{"$f":"M7+M9","v":45470.401058828356},{"$f":"N7+N9","v":48262.173140373008},{"$f":"O7+O9","v":51426.715853147529}]
[null,null,"   (b.2) Amortização de (b.1)","Amortização desde a data de entrada em serviço até 6/7/2024",{"$f":"2190696.66","v":2190696.66},null,null,null,"Variação anual da BRRL (mil R$)",0,{"$f":"K6-J6","v":110394.97679273284},{"$f":"L6-K6","v":105632.31352845067},{"$f":"M6-L6","v":23038.272578261327},{"$f":"N6-M6","v":6038.9299357961863},{"$f":"O6-N6","v":39448.195657734992}]
[null,null,"   (b.3) = (b.1) - (b.2)","-",{"$f":"E15-E16","v":21309973.899999999},null,null,null,"*Ativos ainda não laudados."]
[null,null,"   (b.4) Investimentos \"em formação\" entre 01/01/2022 e 31/12/2023","Ativos \"em formação\" no período de 1/1/2022 a 31/12/2023",12535074.949999999]
[null,null,"   (b.5) Investimentos projetados para no período de 01/01/2024 a 06/07/2024","Investimentos projetados no período de 01/01/2024 a 06/07/2024",26948804.16,null,null,null,null,null,2014,2015,2016,2017,2018]
[null,null,"   (b.6) = (b.4) + (b.5)","-",{"$f":"SUM(E18,E19)","v":39483879.109999999}]
[null,null,"(c) Atualização monetária pelo IPCA do período"]
[null,null,"   (c.1) = (a.5) x (1+ΔIPCA)","Atualização pelo IPCA desde 1/1/2022 até jul/2024",{"$f":"ROUND(E11*(1+ ROUND(('Série - IPCA'!C444-'Série - IPCA'!C411)/'Série - IPCA'!C411,6)),2)","v":471428245.50999999}]
[null,null,"   (c.2) = (a.6) x (1+ΔIPCA)","Atualização pelo IPCA desde 1/1/2022 até jul/2024",{"$f":"ROUND(E12*(1+ ROUND(('Série - IPCA'!C444-'Série - IPCA'!C411)/'Série - IPCA'!C411,6)),2)","v":263884707.11000001}]
[null,null,"   (c.3) = (b.3) x (1+ΔIPCA)","Atualização pelo IPCA desde a data de entrada em serviço até jul/2024",{"$f":"ROUND(22506504.08*(1+ ROUND(('Série - IPCA'!C444-'Série - IPCA'!C441)/'Série - IPCA'!C441,6)),2)","v":22784459.41}]
[null,null,"   (c.4) = (b.6)","-",{"$f":"E20","v":39483879.109999999}]
[null,null,"(d) Remuneração pela taxa WACC de 9,125%a.a. pro rata tempore do período"]
[null,null,"   (d.1) = (c.1) x (1+WACC)^(Δdias/365)","Capitalização de 1/1/2022 até 6/7/2024",{"$f":"ROUND(E22*(1+9.125%)^(_xlfn.DAYS(\"6/7/2024\",\"1/1/2022\")/365),2)","v":587075289.22000003}]
[null,null,"   (d.2) = (c.2) x (1+WACC)^(Δdias/365)","Capitalização de 1/1/2022 até 6/7/2024",{"$f":"ROUND(E23*(1+9.125%)^(_xlfn.DAYS(\"6/7/2024\",\"1/1/2022\")/365),2)","v":328618813.62}]
[null,null,"   (d.3) = (c.3) x (1+WACC)^(Δdias/365)","Capitalização desde a data de entrada em serviço até 6/7/2024",{"$f":"ROUND(25810935.5192*(1+ ROUND(('Série - IPCA'!C444-'Série - IPCA'!C441)/'Série - IPCA'!C441,6)),2)","v":26129700.57}]
[null,null,"   (d.4) = (b.6)","-",{"$f":"E20","v":39483879.109999999}]
[null,null,"BRRL0 = Ʃ(e)","-",{"$f":"SUM(E27:E30)","v":981307682.5200001}]
[null,null,"Ativos ainda em análise e não fiscalizados pela Agepar."]
[null,null,"Constatou-se uma diferença de R$ 539,44 entre o constante no item 10.12 do Contrato e o referenciado no \"Anexo 07 - BRRL Inicial\". Nesse caso, deu-se preferência ao valor constante no corpo do Contrato."]

{"sheet":"CAPEX","index":2,"n_rows":72,"n_cols":23,"rows_kept":72,"cut":false,"hidden":false,"merged":[[50,17,51,17],[50,18,50,22],[8,2,8,7],[3,3,3,7],[2,11,2,15],[2,10,3,10],[2,17,3,17],[30,10,31,10],[30,11,30,15],[2,18,2,22],[25,17,26,17],[25,18,25,22],[43,10,44,10],[43,11,43,15],[39,11,40,15]]}
[]
[null,null,null,null,null,null,null,null,null,null,"Informações encaminhadas pela COMPAGAS",null,null,null,null,null,null,"Informações encaminhadas pela COMPAGAS (adaptado)"]
[null,null,"Plano de Investimentos considerado*",null,null,null,null,null,null,null,"Fluxo de Investimentos","1º Ciclo Tarifário - R$",null,null,null,null,null,"JOA","1º Ciclo Tarifário - R$"]
[null,null,null,"1° Ciclo Tarifário (ano)",null,null,null,null,null,null,null,"2024/2025","2025/2026","2026/2027","2027/2028","2028/2029",null,null,"2024/2025","2025/2026","2026/2027","2027/2028","2028/2029"]
[null,null,"Descrição",1,2,3,4,5,null,null,"Expansão e Saturação",{"$f":"SUM(L6:L11)","v":121400990.94803406},{"$f":"SUM(M6:M11)","v":121545314.88698304},46408739.361819088,36106744.020821556,70371499.887416095,null,"Expansão e Saturação",{"$f":"SUM(S6:S11)","v":1956272.2574074075},{"$f":"SUM(T6:T11)","v":1642928.4947037608},515281.0671195247,439730.46148588124,1154441.0406131982]
[null,null,"CAPEX total proposto pela Concessionária (mil R$)",{"$f":"L29/1000","v":145909.52960497767},{"$f":"M29/1000","v":146769.797597053},68508.673637089683,54301.103076169187,90874.911510882463,null,null,"Expansão Londrina-Maringá",14850475.573958304,9570323.429325588,13546089.638540948,13290557.4691895,46975782.272033885,null,"Expansão Londrina-Maringá",{"$f":"L6*((1+rWACC!$D$3)^(63/252)-1)","v":313303.2294426125},{"$f":"M6*((1+rWACC!$D$3)^(63/252)-1)","v":201906.88320285192},{"$f":"N6*((1+rWACC!$D$3)^(63/252)-1)","v":285784.35814650269},{"$f":"O6*((1+rWACC!$D$3)^(63/252)-1)","v":280393.34871481312},{"$f":"P6*((1+rWACC!$D$3)^(63/252)-1)","v":991056.76569914306}]
[null,null,"Glosas adotadas pela Agepar (mil R$)",{"$f":"SUM(L40:L41)/1000","v":0},{"$f":"SUM(M40:M41)/1000","v":0},{"$f":"SUM(N40:N41)/1000","v":0},{"$f":"SUM(O40:O41)/1000","v":0},{"$f":"SUM(P40:P41)/1000","v":0},null,null,"Expansão Lapa",63688044.175911374,46695351.224030286,0,0,0,null,"Expansão Lapa",{"$f":"L7*((1+rWACC!$D$3)^(63/252)-1)","v":1343638.4456392378},{"$f":"M7*((1+rWACC!$D$3)^(63/252)-1)","v":985140.46002004575},0,0,0]
[null,null,"Total de investimentos considerados* (mil R$)",{"$f":"D6-D7","v":145909.52960497767},{"$f":"E6-E7","v":146769.797597053},68508.673637089683,54301.103076169187,90874.911510882463,null,null,"Corredores Sustentáveis ",8436223.3156768028,0,0,0,0,null,"Corredores Sustentáveis ",{"$f":"L8*((1+rWACC!$D$3)^(21/252)-1)","v":58914.466831257443},0,0,0,0]
[null,null,"*Mediante análise realizada pela Agepar.",null,null,null,null,null,null,null,"Programa de Desenvolvimento do Biometano",6885997.3996379348,35672331.932710581,8541789.1492001638,0,0,null,"Programa de Desenvolvimento do Biometano",{"$f":"L9*((1+rWACC!$D$3)^(21/252)-1)","v":48088.445530741352},{"$f":"M9*((1+rWACC!$D$3)^(21/252)-1)","v":249118.15842260921},{"$f":"N9*((1+rWACC!$D$3)^(21/252)-1)","v":59651.687097353155},0,0]
[null,null,null,null,null,null,null,null,null,null,"Expansão RMC",5844806.0549590047,7140015.381263895,140394.33188447013,140394.33188447013,140394.33188447013,null,"Expansão RMC",{"$f":"L10*((1+rWACC!$D$3)^(21/252)-1)","v":40817.273272049424},{"$f":"M10*((1+rWACC!$D$3)^(21/252)-1)","v":49862.383155796386},{"$f":"N10*((1+rWACC!$D$3)^(21/252)-1)","v":980.44550263788233},{"$f":"O10*((1+rWACC!$D$3)^(21/252)-1)","v":980.44550263788233},{"$f":"P10*((1+rWACC!$D$3)^(21/252)-1)","v":980.44550263788233}]
[null,null,null,null,null,null,null,null,null,null,"Programa de Saturação",21695444.427890643,22467292.919652689,24180466.242193509,22675792.219747584,23255323.283497728,null,"Programa de Saturação",{"$f":"L11*((1+rWACC!$D$3)^(21/252)-1)","v":151510.39669150932},{"$f":"M11*((1+rWACC!$D$3)^(21/252)-1)","v":156900.60990245763},{"$f":"N11*((1+rWACC!$D$3)^(21/252)-1)","v":168864.57637303096},{"$f":"O11*((1+rWACC!$D$3)^(21/252)-1)","v":158356.66726843023},{"$f":"P11*((1+rWACC!$D$3)^(21/252)-1)","v":162403.82941141722}]
[null,null,null,null,null,null,null,null,null,null,"Suporte Operacional",{"$f":"SUM(L13:L17)","v":8277438.6628524931},{"$f":"SUM(M13:M17)","v":8900862.1018933002},9225372.7730571646,5921488.7490326641,5817265.5143654412,null,"Suporte Operacional",{"$f":"SUM(S13:S17)","v":33499.997606602803},{"$f":"SUM(T13:T17)","v":42020.1753133327},{"$f":"SUM(U13:U17)","v":49805.615152577229},28537.412790528855,24092.222266551224]
[null,null,null,null,null,null,null,null,null,null,"INTEGRIDADE DE REDE",2524777.207643277,2611017.2095491798,2611017.2095491798,2611017.2095491798,2611017.2095491798,null,"INTEGRIDADE DE REDE",{"$f":"L13*((1+rWACC!$D$3)^(21/252)-1)","v":17631.811948316281},{"$f":"M13*((1+rWACC!$D$3)^(21/252)-1)","v":18234.070037237587},{"$f":"N13*((1+rWACC!$D$3)^(21/252)-1)","v":18234.070037237587},{"$f":"O13*((1+rWACC!$D$3)^(21/252)-1)","v":18234.070037237587},{"$f":"P13*((1+rWACC!$D$3)^(21/252)-1)","v":18234.070037237587}]
[null,null,null,null,null,null,null,null,null,null,"Redes de Distribuição - Ambiental",2272235.7517271251,2996942.5479782969,4520869.310025895,1270833.6780595267,838854.75133417093,null,"Redes de Distribuição - Ambiental",{"$f":"L14*((1+rWACC!$D$3)^(21/252)-1)","v":15868.185658286526},{"$f":"M14*((1+rWACC!$D$3)^(21/252)-1)","v":20929.184272534472},{"$f":"N14*((1+rWACC!$D$3)^(21/252)-1)","v":31571.545115339639},{"$f":"O14*((1+rWACC!$D$3)^(21/252)-1)","v":8874.8822515109478},{"$f":"P14*((1+rWACC!$D$3)^(21/252)-1)","v":5858.152229313635}]
[null,null,null,null,null,null,null,null,null,null,"Tachões e Equipamentos de GNC para atendimento a emergência",0,409095.16588373441,0,204547.58294186721,0,null,"Tachões e Equipamentos de GNC para atendimento a emergência",0,{"$f":"M15*((1+rWACC!$D$3)^(21/252)-1)","v":2856.9210035606393},0,{"$f":"O15*((1+rWACC!$D$3)^(21/252)-1)","v":1428.4605017803196},0]
[null,null,null,null,null,null,null,null,null,null,"Troca de Medidores",2164775.65,1568157.125,777836.2,519440.22499999998,1051743.5,null,"Troca de Medidores",0,0,0,0,0]
[null,null,null,null,null,null,null,null,null,null,"Máquinas, Aparelhos e Equipamentos",1315650.0534820899,1315650.0534820899,1315650.0534820899,1315650.0534820899,1315650.0534820899,null,"Máquinas, Aparelhos e Equipamentos",0,0,0,0,0]
[null,null,null,null,null,null,null,null,null,null,"Suporte Outros",{"$f":"SUM(L19:L23)","v":9858486.9913729299},{"$f":"SUM(M19:M23)","v":9858486.9913729299},9858486.9913729299,9858486.9913729299,9858486.9913729299,null,"Suporte Administrativo",{"$f":"SUM(S19:S23)","v":0},{"$f":"SUM(T19:T23)","v":0},0,0,0]
[null,null,null,null,null,null,null,null,null,null,"Benfeitorias em Bens de Terceiros",200000,200000,200000,200000,200000,null,"Benfeitorias em Bens de Terceiros",0,0,0,0,0]
[null,null,null,null,null,null,null,null,null,null,"Equipamentos de Processamento de Dados",5726178.6740044896,5726178.6740044896,5726178.6740044896,5726178.6740044896,5726178.6740044896,null,"Equipamentos de Processamento de Dados",0,0,0,0,0]
[null,null,null,null,null,null,null,null,null,null,"Softwares",3738107.0782626234,3738107.0782626234,3738107.0782626234,3738107.0782626234,3738107.0782626234,null,"Softwares",0,0,0,0,0]
[null,null,null,null,null,null,null,null,null,null,"Supervisório",133973.85995872389,133973.85995872389,133973.85995872389,133973.85995872389,133973.85995872389,null,"Supervisório",0,0,0,0,0]
[null,null,null,null,null,null,null,null,null,null,"Móveis e Utensílios",60227.379147093365,60227.379147093365,60227.379147093365,60227.379147093365,60227.379147093365,null,"Móveis e Utensílios",0,0,0,0,0]
[null,null,null,null,null,null,null,null,null,null,"Total",{"$f":"SUM(L5,L12,L18)","v":139536916.60225949},{"$f":"SUM(M5,M12,M18)","v":140304663.98024929},65492599.126249179,51886719.761227146,{"$f":"SUM(P5,P12,P18)","v":86047252.393154457},null,"Total",{"$f":"SUM(S5,S12,S18)","v":1989772.2550140102},{"$f":"SUM(T5,T12,T18)","v":1684948.6700170934},565086.68227210199,468267.87427641009,1178533.2628797493]
[null,null,null,null,null,null,null,null,null,null,null,null,null,null,null,null,null,"Informações encaminhadas pela COMPAGAS (adaptado)"]
[null,null,null,null,null,null,null,null,null,null,"JOA",{"$f":"S24","v":1989772.2550140102},{"$f":"T24","v":1684948.6700170934},565086.68227210199,468267.87427641009,1178533.2628797493,null,"MANPOWER (5%)","1º Ciclo Tarifário - R$"]
[null,null,null,null,null,null,null,null,null,null,"Manpower estimado no CAPEX",{"$f":"S47*S49","v":4382840.7477041744},{"$f":"T47*T49","v":4780184.9467866048},{"$f":"U47*U49","v":2450987.8285684134},1946115.4406656302,3649125.8548482633,null,null,"2024/2025","2025/2026","2026/2027","2027/2028","2028/2029"]
[null,null,null,null,null,null,null,null,null,null,null,null,null,null,null,null,null,"Expansão e Saturação",{"$f":"SUM(S29:S34)","v":6070049.5474017039},{"$f":"SUM(T29:T34)","v":6077265.7443491518},2320436.9680909542,1805337.2010410777,3518574.9943708042]
[null,null,null,null,null,null,null,null,null,null,"CAPEX Total",{"$f":"L24+L26+L27","v":145909529.60497767},{"$f":"M24+M26+M27","v":146769797.59705299},68508673.637089685,54301103.076169185,90874911.510882467,null,"Expansão Londrina-Maringá",{"$f":"5%*L6","v":742523.77869791526},{"$f":"5%*M6","v":478516.17146627943},677304.48192704748,664527.87345947511,2348789.1136016943]
[null,null,null,null,null,null,null,null,null,null,null,null,null,null,null,null,null,"Expansão Lapa",{"$f":"5%*L7","v":3184402.2087955689},2334767.5612015142,0,0,0]
[null,null,null,null,null,null,null,null,null,null,"Glosas","1º Ciclo Tarifário - R$",null,null,null,null,null,"Corredores Sustentáveis ",421811.16578384017,0,0,0,0]
[null,null,null,null,null,null,null,null,null,null,null,"2024/2025","2025/2026","2026/2027","2027/2028","2028/2029",null,"Programa de Desenvolvimento do Biometano",344299.86998189677,{"$f":"5%*M9","v":1783616.5966355291},{"$f":"5%*N9","v":427089.45746000821},0,0]
[null,null,null,null,null,null,null,null,null,null,"Equipamentos de Processamento de Dados",{"$f":"L20","v":5726178.6740044896},{"$f":"M20","v":5726178.6740044896},5726178.6740044896,5726178.6740044896,5726178.6740044896,null,"Expansão RMC",292240.30274795025,357000.76906319475,7019.7165942235069,{"$f":"5%*O10","v":7019.7165942235069},{"$f":"5%*P10","v":7019.7165942235069}]
[null,null,null,null,null,null,null,null,null,null,"   Aquisição de monitores",173865.43,173865.43,173865.43,173865.43,173865.43,null,"Programa de Saturação",1084772.2213945321,1123364.6459826345,1209023.3121096755,1133789.6109873792,1162766.1641748864]
[null,null,null,null,null,null,null,null,null,null,"   Aquisição de notebooks",2086385.35,2086385.35,2086385.35,2086385.35,2086385.35,null,"Suporte Operacional",{"$f":"SUM(S36:S40)","v":126238.86038216385},{"$f":"SUM(T36:T40)","v":151005.61877164571},130550.86047745899,140778.23962455234,130550.86047745899]
[null,null,null,null,null,null,null,null,null,null,"Considerações Agepar",null,null,null,null,null,null,"INTEGRIDADE DE REDE",126238.86038216385,{"$f":"5%*M13","v":130550.86047745899},{"$f":"5%*N13","v":130550.86047745899},{"$f":"5%*O13","v":130550.86047745899},{"$f":"5%*P13","v":130550.86047745899}]
[null,null,null,null,null,null,null,null,null,null,"   Valor considerado Agepar - aquisição de monitores",{"$f":"L34","v":173865.43},{"$f":"M34","v":173865.43},173865.43,173865.43,173865.43,null,"Redes de Distribuição - Ambiental",0,0,0,0,0]
[null,null,null,null,null,null,null,null,null,null,"   Valor considerado Agepar - aquisição de notebooks",{"$f":"L35","v":2086385.35},{"$f":"M35","v":2086385.35},2086385.35,2086385.35,2086385.35,null,"Tachões e Equipamentos de GNC para atendimento a emergência",0,20454.758294186722,0,10227.379147093361,0]
[null,null,null,null,null,null,null,null,null,null,"Valor final das glosas Agepar",null,null,null,null,null,null,"Troca de Medidores",0,0,0,0,0]
[null,null,null,null,null,null,null,null,null,null,"   Glosa Agepar - aquisição de monitores","Glosas não computadas conforme alteração efetuada pelo Conselho Diretor da Agepar na Reunião Extraordinária n° 18 e 19 de 2024.",null,null,null,null,null,"Máquinas, Aparelhos e Equipamentos",0,0,0,0,0]
[null,null,null,null,null,null,null,null,null,null,"   Glosa Agepar - aquisição de notebooks",null,null,null,null,null,null,"Suporte Administrativo",{"$f":"SUM(S42:S46)","v":0},{"$f":"SUM(T42:T46)","v":0},0,0,0]
[null,null,null,null,null,null,null,null,null,null,"Equipamentos de Processamento de Dados (pós glosas)",{"$f":"L20-SUM(L40:L41)","v":5726178.6740044896},{"$f":"M20-SUM(M40:M41)","v":5726178.6740044896},{"$f":"N20-SUM(N40:N41)","v":5726178.6740044896},{"$f":"O20-SUM(O40:O41)","v":5726178.6740044896},{"$f":"P20-SUM(P40:P41)","v":5726178.6740044896},null,"Benfeitorias em Bens de Terceiros",0,0,0,0,0]
[null,null,null,null,null,null,null,null,null,null,null,null,null,null,null,null,null,"Equipamentos de Processamento de Dados",0,0,0,0,0]
[null,null,null,null,null,null,null,null,null,null,"Amortização","1º Ciclo Tarifário - R$",null,null,null,null,null,"Softwares",0,0,0,0,0]
[null,null,null,null,null,null,null,null,null,null,null,"2024/2025","2025/2026","2026/2027","2027/2028","2028/2029",null,"Supervisório",0,0,0,0,0]
[null,null,null,null,null,null,null,null,null,null,"Amortizável em 30 anos",{"$f":"SUM(S53,S61,S62,S63,S64)","v":134735392.56012267},{"$f":"SUM(T53,T61,T62,T63,T64)","v":135595660.55219793},{"$f":"SUM(U53,U61,U62,U63,U64)","v":57334536.592234679},{"$f":"SUM(V53,V61,V62,V63,V64)","v":43126966.031314164},{"$f":"SUM(W53,W61,W62,W63,W64)","v":79700774.466027454},null,"Móveis e Utensílios",0,0,0,0,0]
[null,null,null,null,null,null,null,null,null,null,"Amortízável em 10 anos",{"$f":"SUM(S65,S66)-SUM(L40:L41)","v":11174137.044855019},{"$f":"SUM(T65,T66)-SUM(M40:M41)","v":11174137.044855019},{"$f":"SUM(U65,U66)-SUM(N40:N41)","v":11174137.044855019},{"$f":"SUM(V65,V66)-SUM(O40:O41)","v":11174137.044855019},{"$f":"SUM(W65,W66)-SUM(P40:P41)","v":11174137.044855019},null,"Total",{"$f":"SUM(S28,S35,S41)","v":6196288.4077838678},{"$f":"SUM(T28,T35,T41)","v":6228271.363120798},2450987.8285684134,1946115.4406656302,3649125.8548482633]
[null,null,null,null,null,null,null,null,null,null,"Amortização anual para 30 anos",{"$f":"L46/30","v":4491179.7520040888},{"$f":"M46/30","v":4519855.3517399309},{"$f":"N46/30","v":1911151.2197411559},{"$f":"O46/30","v":1437565.5343771388},{"$f":"P46/30","v":2656692.482200915}]
[null,null,null,null,null,null,null,null,null,null,"Amortização anual para 10 anos",{"$f":"L47/10","v":1117413.7044855019},{"$f":"M47/10","v":1117413.7044855019},{"$f":"N47/10","v":1117413.7044855019},{"$f":"O47/10","v":1117413.7044855019},{"$f":"P47/10","v":1117413.7044855019},null,"Fator",{"$f":"IF(S47>DRIVER_OPEX!G279,DRIVER_OPEX!G279,S47)/S47","v":0.70733323874956922},{"$f":"IF(T47>DRIVER_OPEX!H279,DRIVER_OPEX!H279,T47)/T47","v":0.76749786065702175},{"$f":"IF(U47>DRIVER_OPEX!I279,DRIVER_OPEX!I279,U47)/U47","v":1},{"$f":"IF(V47>DRIVER_OPEX!J279,DRIVER_OPEX!J279,V47)/V47","v":1},{"$f":"IF(W47>DRIVER_OPEX!K279,DRIVER_OPEX!K279,W47)/W47","v":1}]
[null,null,null,null,null,null,null,null,null,null,"Total",{"$f":"SUM(L48:L49)","v":5608593.4564895909},{"$f":"SUM(M48:M49)","v":5637269.056225433},{"$f":"SUM(N48:N49)","v":3028564.9242266575},{"$f":"SUM(O48:O49)","v":2554979.2388626407},{"$f":"SUM(P48:P49)","v":3774106.1866864171}]
[null,null,null,null,null,null,null,null,null,null,null,null,null,null,null,null,null,"CAPEX total","1º Ciclo Tarifário - R$"]
[null,null,null,null,null,null,null,null,null,null,null,null,null,null,null,null,null,null,"2024/2025","2025/2026","2026/2027","2027/2028","2028/2029"]
[null,null,null,null,null,null,null,null,null,null,null,null,null,null,null,null,null,"Expansão e Saturação",{"$f":"SUM(S54:S59)","v":127650811.01117548},{"$f":"SUM(T54:T59)","v":127852531.83911897},49244457.397029564,38351811.683348514,75044515.922400087]
[null,null,null,null,null,null,null,null,null,null,null,null,null,null,null,null,null,"Expansão Londrina-Maringá",{"$f":"L6+S6+S29*$S$49","v":15688990.552635882},{"$f":"M6+T6+T29*$T$49","v":10139490.450418599},{"$f":"N6+U6+U29*$U$49","v":14509178.478614498},{"$f":"O6+V6+V29*$V$49","v":14235478.691363789},{"$f":"P6+W6+W29*$W$49","v":50315628.151334718}]
[null,null,null,null,null,null,null,null,null,null,null,null,null,null,null,null,null,"Expansão Lapa",{"$f":"L7+S7+S30*$S$49","v":67284116.149379268},{"$f":"M7+T7+T30*$T$49","v":49472420.792403907},{"$f":"N7+U7+U30*$U$49","v":0},{"$f":"O7+V7+V30*$V$49","v":0},{"$f":"P7+W7+W30*$W$49","v":0}]
[null,null,null,null,null,null,null,null,null,null,null,null,null,null,null,null,null,"Corredores Sustentáveis ",{"$f":"L8+S8+S31*$S$49","v":8793498.8405426759},0,0,0,0]
[null,null,null,null,null,null,null,null,null,null,null,null,null,null,null,null,null,"Programa de Desenvolvimento do Biometano",7177620.5873040268,37290372.01328332,9028530.2937575262,0,0]
[null,null,null,null,null,null,null,null,null,null,null,null,null,null,null,null,null,"Expansão RMC",{"$f":"L10+S10+S33*$S$49","v":6092334.6080669165},7463875.0909286048,148394.49398133153,148394.49398133153,148394.49398133153]
[null,null,null,null,null,null,null,null,null,null,null,null,null,null,null,null,null,"Programa de Saturação",22614250.273246713,23486373.492084552,25558354.130676214,23967938.498003393,24580493.27708403]
[null,null,null,null,null,null,null,null,null,null,null,null,null,null,null,null,null,"Suporte Operacional",{"$f":"SUM(S61:S65)","v":8400231.6024292652},{"$f":"SUM(T61:T65)","v":9058778.7665610611},9405729.2486872002,6090804.4014477441,5971908.597109451]
[null,null,null,null,null,null,null,null,null,null,null,null,null,null,null,null,null,"INTEGRIDADE DE REDE",{"$f":"L13+S13+S36*$S$49","v":2631701.9615617637},2729448.7857098002,2759802.1400638763,2759802.1400638763,2759802.1400638763]
[null,null,null,null,null,null,null,null,null,null,null,null,null,null,null,null,null,"Redes de Distribuição - Ambiental",2288103.9373854115,3017871.7322508316,4552440.8551412346,1279708.5603110376,844712.90356348455]
[null,null,null,null,null,null,null,null,null,null,null,null,null,null,null,null,null,"Tachões e Equipamentos de GNC para atendimento a emergência",0,427651.07011833985,0,216203.4225907409,0]
[null,null,null,null,null,null,null,null,null,null,null,null,null,null,null,null,null,"Troca de Medidores",{"$f":"L16+S16+S39*$S$49","v":2164775.65},{"$f":"M16+T16+T39*$T$49","v":1568157.125},{"$f":"N16+U16+U39*$U$49","v":777836.2},{"$f":"O16+V16+V39*$V$49","v":519440.22499999998},{"$f":"P16+W16+W39*$W$49","v":1051743.5}]
[null,null,null,null,null,null,null,null,null,null,null,null,null,null,null,null,null,"Máquinas, Aparelhos e Equipamentos",1315650.0534820899,1315650.0534820899,1315650.0534820899,1315650.0534820899,1315650.0534820899]
[null,null,null,null,null,null,null,null,null,null,null,null,null,null,null,null,null,"Suporte Administrativo",{"$f":"SUM(S67:S71)","v":9858486.9913729299},{"$f":"SUM(T67:T71)","v":9858486.9913729299},9858486.9913729299,9858486.9913729299,9858486.9913729299]
[null,null,null,null,null,null,null,null,null,null,null,null,null,null,null,null,null,"Benfeitorias em Bens de Terceiros",200000,200000,200000,200000,200000]
[null,null,null,null,null,null,null,null,null,null,null,null,null,null,null,null,null,"Equipamentos de Processamento de Dados",{"$f":"L20+S20+S43*$S$49","v":5726178.6740044896},5726178.6740044896,5726178.6740044896,5726178.6740044896,5726178.6740044896]
[null,null,null,null,null,null,null,null,null,null,null,null,null,null,null,null,null,"Softwares",3738107.0782626234,3738107.0782626234,3738107.0782626234,3738107.0782626234,3738107.0782626234]
[null,null,null,null,null,null,null,null,null,null,null,null,null,null,null,null,null,"Supervisório",133973.85995872389,133973.85995872389,133973.85995872389,133973.85995872389,133973.85995872389]
[null,null,null,null,null,null,null,null,null,null,null,null,null,null,null,null,null,"Móveis e Utensílios",{"$f":"L23+S23+S46*$S$49","v":60227.379147093365},60227.379147093365,60227.379147093365,60227.379147093365,60227.379147093365]
[null,null,null,null,null,null,null,null,null,null,null,null,null,null,null,null,null,"Total",{"$f":"SUM(S53,S60,S66)","v":145909529.6049777},{"$f":"SUM(T53,T60,T66)","v":146769797.59705299},{"$f":"SUM(U53,U60,U66)","v":68508673.6370897},54301103.076169185,90874911.510882467]

{"sheet":"VCG","index":3,"n_rows":38,"n_cols":15,"rows_kept":38,"cut":false,"hidden":false,"merged":[[32,2,32,5],[4,2,4,5]]}
[]
[null,null,null,null,null,null,null,null,"VOLUME PROJETADO                                   m³/ano",2023,"2024/2025","2025/2026","2026/2027","2027/2028","2028/2029"]
[null,null,"Variação do Capital de Giro projetado*",null,null,null,null,null,"Total",{"$f":"J4+J5","v":299535490.1643998},{"$f":"K4+K5","v":469927461.93578792},{"$f":"L4+L5","v":551333391.03942132},575273942.72671223,630579452.48545504,683191645.42370522]
[null,null,"ITEM","VARIÁVEL ","VALOR","FONTE - Relatório da Administração 2023 (Compagas)",null,null,"Cativo",299535490.1643998,{"$f":"VOLUME!E21","v":297937461.93578792},{"$f":"VOLUME!F21","v":321383391.03942132},{"$f":"VOLUME!G21","v":345323942.72671223},{"$f":"VOLUME!H21","v":355227452.48545504},{"$f":"VOLUME!I21","v":363451645.42370522}]
[null,null,"CICLO OPERACIONAL E FINANCEIRO",null,null,null,null,null,"Livre",0,{"$f":"VOLUME!E22","v":171990000},{"$f":"VOLUME!F22","v":229950000},{"$f":"VOLUME!G22","v":229950000},{"$f":"VOLUME!H22","v":275352000},{"$f":"VOLUME!I22","v":319740000}]
[null,null,1,"Estoque Inicial de Gás (molécula sem tributos)",{"$f":"5694+42474.02414*0","v":5694},"Balanço patrimonial - Exercícios findos em 31 de dezembro 2022"]
[null,null,{"$f":"C6+1","v":2},"Estoque Final de Gás (molécula sem tributos)",{"$f":"5383+12835.00199*0","v":5383},"Balanço patrimonial - Exercícios findos em 31 de dezembro 2023",null,null,"VARIAÇÃO DO VOLUME PROJETADO         m³/ano",2023,"2024/2025","2025/2026","2026/2027","2027/2028","2028/2029"]
[null,null,3,"Estoque Médio Anual do Gás",{"$f":"(E6+E7)/2","v":5538.5},"=(1)+(2)/2",null,null,"Variação do volume projetado - Total","n.a.",{"$f":"K3-J3","v":170391971.77138811},{"$f":"L3-K3","v":81405929.103633404},23940551.687290907,55305509.758742809,52612192.938250184]
[null,null,4,"Estoque Final de Gás pago e não retirado (QPNR s/trib.)",12835.001990000001,"Balanço patrimonial - Exercícios findos em 31 de dezembro 2023",null,null,"Variação do volume projetado - Cativo","n.a.",{"$f":"K4-J4","v":-1598028.2286118865},23445929.103633404,23940551.687290907,9903509.7587428093,8224192.9382501841]
[null,null,5,"Estoque Médio Anual do Gás considerado",{"$f":"(E8+E9)","v":18373.501990000001},"=(3)+(4)",null,null,"Variação do volume projetado - Livre","n.a.",{"$f":"K5-J5","v":171990000},57960000,0,45402000,44388000]
[null,null,6,"Custo Anual de Aquisição do Gás sem Tributos",{"$f":"702662","v":702662},"Relatório da Administração - Exercício 2023, nota 18"]
[null,null,7,"PMRE ",{"$f":"E10/E11*360","v":9.4134316590337885},"=(3)/(4)*360",null,null,"VOLUME PROJETADO médio por dia            m³/dia",2023,"2024/2025","2025/2026","2026/2027","2027/2028","2028/2029"]
[null,null,8,"Contas a Receber Clientes Inicial",128579,"Balanço patrimonial - Exercícios findos em 31 de dezembro",null,null,"Total",{"$f":"J3/365","v":820645.17853260215},{"$f":"K3/365","v":1287472.4984542134},1510502.4412038941,1576092.9937718143,1727614.9383163152,1871757.9326676854]
[null,null,9,"Contas a Receber Clientes Final",82981,"Balanço patrimonial - Exercícios findos em 31 de dezembro",null,null,"Cativo",{"$f":"J4/365","v":820645.17853260215},816267.01900215866,880502.44120389398,946092.99377181428,973225.89722042473,995757.93266768556]
[null,null,{"$f":"C14+1","v":10},"Contas a Receber Clientes Médio",{"$f":"(E13+E14)/2","v":105780},"=(8)+(9)/2",null,null,"Livre",{"$f":"J5/365","v":0},471205.47945205477,630000,630000,754389.04109589045,876000]
[null,null,11,"Total de Vendas - Receita Operacional Bruta (DRE)",1306678,"Relatório da Administração - Exercício 2023, nota 17"]
[null,null,12,"PMR",{"$f":"((E15/E16)*360)","v":29.143216614957929},"=(10)/(11)*360",null,null,"VARIAÇÃO DO VOLUME PROJETADO           m³/dia",2023,"2024/2025","2025/2026","2026/2027","2027/2028","2028/2029"]
[null,null,13,"Compras Anuais sem tributos",{"$f":"E6+E11-E7-E9","v":690137.99800999998},"=(6)+(1)-(2)",null,null,"Variação do volume projetado - Total","n.a.",{"$f":"K13-J13","v":466827.31992161123},{"$f":"L13-K13","v":223029.94274968072},65590.552567920182,151521.9445445009,144142.99435137026]
[null,null,14,"Compras Anuais + Pis/Cofins/ICMS",{"$f":"(E18+E6-E7)/(1-9.25%)/(1-12%)","v":864574.25245429506},"=(13)/(1-9,25%)/(1-12%)",null,null,"Variação do volume projetado - Cativo","n.a.",{"$f":"K14-J14","v":-4378.1595304434886},64235.422201735317,65590.552567920298,27132.90344861045,22532.035447260831]
[null,null,15,"Fornecedores Inicial",97758,"Balanço patrimonial - Exercícios findos em 31 de dezembro",null,null,"Variação do volume projetado - Livre","n.a.",{"$f":"K15-J15","v":471205.47945205477},158794.52054794523,0,124389.04109589045,121610.95890410955]
[null,null,16,"Fornecedores Final",58010,"Balanço patrimonial - Exercícios findos em 31 de dezembro"]
[null,null,17,"Fornecedores Médio",{"$f":"(E20+E21)/2","v":77884},"=(15)+(16)/2",null,null,"Capital de Giro Atual fechamento ciclo 2023/2024"]
[null,null,18,"PMP",{"$f":"E22/E19*360","v":32.430112185745685},"=(17)/(14)*360",null,null,"Capital de Giro - Preço do Gás",{"$f":"J14*E25*K32/(1-9.25%)/(1-12%)","v":14249609.88746375},"R$"]
[null,null,19,"Ciclo Operacional estimado (dias)",{"$f":"E17+E12","v":38.556648273991719},"=(7)+(12)  PMRE + PMR",null,null,"Capital de Giro - TUSD",{"$f":"J14*K33*E25/(1-9.25%)/(1-12%)","v":3336698.6226149532},"R$"]
[null,null,20,"Ciclo Financeiro estimado (dias)",{"$f":"E12+E17-E23","v":6.1265360882460342},"=(7)+(12)-(18)  PMRE + PMR-PMP",null,null,"Capital de Giro Total",{"$f":"J23+J24","v":17586308.510078702},"R$"]
[]
[null,null,"VARIAÇÃO NO CAPITAL DE GIRO",null,null,null,null,null,"Receita Total Estimada",2023,"2024/2025","2025/2026","2026/2027","2027/2028","2028/2029"]
[null,null,21,"VCG - 2024/2025",{"$f":"K37","v":1517336.6138750724},"Aquisição Cap Giro 24/25 - Devolução Cap Giro 23/34",null,null,null,"n.a",{"$f":"((K32+K33)*K4+(K34*K5))/(1-9.25%)/(1-12%)","v":1138135868.2634282},{"$f":"((L32+L33)*L4+(L34*L5))/(1-9.25%)/(1-12%)","v":1223145960.3070986},1261918792.7145851,1309498072.0145638,1362301096.250562]
[null,null,22,"VCG - 2025/2026",{"$f":"L37","v":1426896.9774538688},"Quant Cap Giro 25/26 - Quant Cap Giro 24/25 "]
[null,null,23,"VCG - 2026/2027",{"$f":"M37","v":650803.16983008385},"Quant Cap Giro 26/27 - Quant Cap Giro 25/26"]
[null,null,24,"VCG - 2027/2028",{"$f":"N37","v":798619.64844946936},"Quant Cap Giro 27/28 - Quant Cap Giro 26/27 ",null,null,"Variação Anual do Capital de Giro                     R$","2023/2024","2024/2025","2025/2026","2026/2027","2027/2028","2028/2029"]
[null,null,25,"VCG - 2028/2029",{"$f":"O37","v":-21979964.919687197},"Quant Cap Giro 28/29 - Quant Cap Giro 27/28 - Devolução 28/29",null,null,"Custo do Gás estimado pela Compagas          R$/m³","n.a",2.2634028704807316,2.1904755232481947,2.0915374054682951,2.0684499999999999,2.0712415939499711]
[null,null,"*Valores projetados com base nas Demonstrações Financeiras divulgadas pela Concessionária e no Plano de Negócios entregue.",null,null,null,null,null,"TUSDC                                                                 R$/m³","n.a",{"$f":"Resultados!M36","v":0.53},{"$f":"K33","v":0.53},{"$f":"L33","v":0.53},{"$f":"M33","v":0.53},{"$f":"N33","v":0.53}]
[null,null,null,null,null,null,null,null,"TUSDL                                                                 R$/m³","n.a",{"$f":"Resultados!M37","v":0.44570000000000004},{"$f":"K34","v":0.44570000000000004},{"$f":"L34","v":0.44570000000000004},{"$f":"M34","v":0.44570000000000004},{"$f":"N34","v":0.44570000000000004}]
[null,null,null,null,null,null,null,null,"Devolução de capital de Giro no final do ciclo                                R$",{"$f":"J25","v":17586308.510078702},0,0,0,0,{"$f":"O36","v":22866265.285578638}]
[null,null,null,null,null,null,null,null,"Aquisição de Capital de Giro no início do ciclo                                R$","n.a.",{"$f":"((K14*(K32+K33)*$E$25)+((K15*K34)*$E$25))/(1-9.25%)/(1-12%)","v":19103645.123953775},{"$f":"((L14*(L32+L33)*$E$25)+((L15*L34)*$E$25))/(1-9.25%)/(1-12%)","v":20530542.101407643},{"$f":"((M14*(M32+M33)*$E$25)+((M15*M34)*$E$25))/(1-9.25%)/(1-12%)","v":21181345.271237727},{"$f":"((N14*(N32+N33)*$E$25)+((N15*N34)*$E$25))/(1-9.25%)/(1-12%)","v":21979964.919687197},{"$f":"((O14*(O32+O33)*$E$25)+((O15*O34)*$E$25))/(1-9.25%)/(1-12%)","v":22866265.285578638}]
[null,null,null,"Ciclo Financeiro Estimado",{"$f":"E25","v":6.1265360882460342},null,null,null,"Variação de Capital de Giro                                                                R$","n.a.",{"$f":"K36-J35","v":1517336.6138750724},{"$f":"L36-L35-K36","v":1426896.9774538688},{"$f":"M36-M35-L36","v":650803.16983008385},{"$f":"N36-N35-M36","v":798619.64844946936},{"$f":"O36-O35-N36","v":-21979964.919687197}]
[null,null,null,"Ciclo Operacional Estimado",{"$f":"E37+E23","v":38.556648273991719},null,null,null,"com base no ciclo financeiro"]

{"sheet":"OR","index":4,"n_rows":10,"n_cols":9,"rows_kept":10,"cut":false,"hidden":false,"merged":[[9,2,9,8],[3,4,3,8]]}
[]
[]
[null,null,"Outras Receitas projetado*"]
[null,null,null,null,"1° Ciclo Tarifário (ano)"]
[null,null,"Descrição","Percentual de \ncompartilhamento",1,2,3,4,5]
[null,null,"Receitas acessórias (mil R$)",0.2,{"$f":"SUM(Resultados!I27:I29)*0.05%*$D$6","v":23.456166091087386},{"$f":"SUM(Resultados!J27:J29)*0.05%*$D$6","v":27.281965055747431},{"$f":"SUM(Resultados!K27:K29)*0.05%*$D$6","v":28.611449397239308},{"$f":"SUM(Resultados!L27:L29)*0.05%*$D$6","v":31.343870766809108},{"$f":"SUM(Resultados!M27:M29)*0.05%*$D$6","v":33.757362119307594}]
[null,null,"Receitas correlatas (mil R$)",0.1,{"$f":"SUM(Resultados!I27:I29)*1%*$D$7","v":234.56166091087385},{"$f":"SUM(Resultados!J27:J29)*1%*$D$7","v":272.81965055747429},{"$f":"SUM(Resultados!K27:K29)*1%*$D$7","v":286.11449397239306},{"$f":"SUM(Resultados!L27:L29)*1%*$D$7","v":313.43870766809107},{"$f":"SUM(Resultados!M27:M29)*1%*$D$7","v":337.57362119307595}]
[null,null,"Receitas extraordinárias (mil R$)",0.5,0,0,0,0,0]
[null,null,"Outras Receitas projetado (mil R$)","-",{"$f":"SUM(E6:E8)","v":258.01782700196122},{"$f":"SUM(F6:F8)","v":300.10161561322172},314.72594336963238,344.78257843490019,371.33098331238352]
[null,null,"*Valores projetados com base na TUSDC e TUSDL calculada."]

{"sheet":"IR","index":5,"n_rows":51,"n_cols":18,"rows_kept":51,"cut":false,"hidden":false,"merged":[[3,3,3,7],[12,2,12,8],[8,3,8,7]]}
[]
[null,null,null,null,null,null,null,null,null,null,"Referência: Histórico de 2019 a 2023."]
[null,null,"Imposto de Renda projetado*","Alíquota=",0.34,null,null,null,null,null,"CONTA DETALHADA","DESCRIÇÃO","ANO DE 2019","ANO DE 2020","ANO DE 2021","ANO DE 2022","ANO DE 2023","MÉDIA 5 ANOS"]
[null,null,null,"1° Ciclo Tarifário (ano)",null,null,null,null,null,null,"01.002.412208001.5100.00.00000.000000.000000","Custo com Amortização",47471.4,21113.67,2691.94,2691.94,3216.69,15437.128000000002]
[null,null,"Descrição",1,2,3,4,5,null,null,"01.002.412208001.5200.00.00000.000000.000000","Custo com Amortização",25536845.82,28098186.460000001,28142776.170000002,30437686.469999999,27452997.899999999,27933698.563999999]
[null,null,"(+) Receita tarifária direta (mil R$)",{"$f":"SUM(Resultados!I27:I29)","v":234561.66091087385},{"$f":"SUM(Resultados!J27:J29)","v":272819.65055747429},{"$f":"SUM(Resultados!K27:K29)","v":286114.49397239304},{"$f":"SUM(Resultados!L27:L29)","v":313438.70766809105},{"$f":"SUM(Resultados!M27:M29)","v":337573.6211930759},null,null,"01.002.421208002.4100.00.00000.000000.000000","AMORT DIR USO-IMOVEI",1661582.16,0,0,0,0,332316.43199999997]
[null,null,"(+) Outras receitas (mil R$)",{"$f":"OR!E9","v":258.01782700196122},{"$f":"OR!F9","v":300.10161561322172},{"$f":"OR!G9","v":314.72594336963238},{"$f":"OR!H9","v":344.78257843490019},{"$f":"OR!I9","v":371.33098331238352},null,null,"01.002.421208002.4100.00.00000.000000.000000","AMORT DIR USO-VEICUL",364849.65,0,0,0,0,72969.930000000008]
[null,null,"(-) Despesas operacionais (mil R$)",{"$f":"DRIVER_OPEX!G454","v":82339.102824804737},{"$f":"DRIVER_OPEX!H454","v":89700.768914532688},{"$f":"DRIVER_OPEX!I454","v":97681.619465625423},{"$f":"DRIVER_OPEX!J454","v":100856.7167768255},{"$f":"DRIVER_OPEX!K454","v":103020.61351401184},null,null,"01.002.422208001.5300.00.00000.000000.000000","Despesas com Amortização",0,1522.71,1783.42,1630.58,1630.56,1313.4540000000002]
[null,null,"(-) Despesas financeiras e Ben. Fiscais (mil R$)","será acompanhado durante o ciclo tarifário",null,null,null,null,null,null,"01.002.422208001.5400.00.00000.000000.000000","Despesas com Amortização",3289.31,0,0,0,0,657.86199999999997]
[null,null,"(-) Depreciação/Amortização (mil R$)",{"$f":"L51/1000","v":34164.225804024594},{"$f":"M51/1000","v":38191.547746405282},40886.541112216895,42060.673240213029,43658.134016839409,null,null,"01.002.422208001.5500.00.00000.000000.000000","Despesas com Amortização",549.04999999999995,204.95,0,0,0,150.80000000000001]
[null,null,"Base de cálculo do IRPJ/CSLL projetado",{"$f":"SUM(D6:D7)-SUM(D8:D10)","v":118316.35010904647},{"$f":"IF(D11<0,SUM(E6:E7)-SUM(E8:E10)+D11,SUM(E6:E7)-SUM(E8:E10))","v":145227.43551214953},{"$f":"IF(E11<0,SUM(F6:F7)-SUM(F8:F10)+E11,SUM(F6:F7)-SUM(F8:F10))","v":147861.05933792033},{"$f":"IF(F11<0,SUM(G6:G7)-SUM(G8:G10)+F11,SUM(G6:G7)-SUM(G8:G10))","v":170866.10022948743},{"$f":"IF(G11<0,SUM(H6:H7)-SUM(H8:H10)+G11,SUM(H6:H7)-SUM(H8:H10))","v":191266.20464553704},null,null,"01.002.421208001.2200.00.00000.000000.000000","Despesas com Amortização",9200,9200.0400000000009,9200,4600.0200000000004,0,6440.0120000000006]
[null,null,"IRPJ/CSLL projetado (mil R$)",{"$f":"IF(D11<0,0,D11*$E$3)","v":40227.5590370758},{"$f":"IF(E11<0,0,E11*$E$3)","v":49377.328074130841},{"$f":"IF(F11<0,0,F11*$E$3)","v":50272.760174892916},58094.474078025734,65030.509579482597,null,null,"01.002.421208001.2300.00.00000.000000.000000","Despesas com Amortização",9200,9200.0400000000009,9200,4600.0200000000004,0,6440.0120000000006]
[null,null,"*Valores projetados com base na TUSDC e TUSDL calculada.",null,null,null,null,null,null,null,"01.002.421208001.2400.00.00000.000000.000000","Despesas com Amortização",9200,9200.0400000000009,9200,4736.6000000000004,204.84,6508.2960000000003]
[null,null,null,null,null,null,null,null,null,null,"01.002.421208001.3100.00.00000.000000.000000","Despesas com Amortização",0,8958.85,19119.79,14815.94,11392.25,10857.366]
[null,null,null,null,null,null,null,null,null,null,"01.002.421208001.3200.00.00000.000000.000000","Despesas com Amortização",0,11389.8,0,0,0,2277.96]
[null,null,null,null,null,null,null,null,null,null,"01.002.421208001.3400.00.00000.000000.000000","Despesas com Amortização",388.8,0,0,0,0,77.760000000000005]
[null,null,null,null,null,null,null,null,null,null,"01.002.421208001.4100.00.00000.000000.000000","Despesas com Amortização",317.70999999999998,309692.31,310890.14,327227.88,286804.37,246986.48200000002]
[null,null,null,null,null,null,null,null,null,null,"01.002.421208001.4200.00.00000.000000.000000","Despesas com Amortização",0,0,0,0,140900.64000000001,28180.128000000004]
[null,null,null,null,null,null,null,null,null,null,"01.002.421208001.4300.00.00000.000000.000000","Despesas com Amortização",215386.61,963091.67,1417540.65,1592388.81,1563559.57,1150393.4619999998]
[null,null,null,null,null,null,null,null,null,null,"01.002.421208002001.4100.00.00000.000000.000000","Desp com Amort - Imoveis",0,1709971.5,2359093.58,2659731.17,2106243.09,1767007.868]
[null,null,null,null,null,null,null,null,null,null,"01.002.421208002002.4100.00.00000.000000.000000","Desp com Amort - Veículos",0,500081.06,597441.09,766432.2,832064.59,539203.78799999994]
[null,null,null,null,null,null,null,null,null,null,"01.002.421208002003.4300.00.00000.000000.000000","Desp com Amort - Comput e Impress",0,0,0,74295.039999999994,449599.66,104778.93999999999]
[null,null,null,null,null,null,null,null,null,null,"01.002.412208001.5100.00.00000.000000.000000","DEPREC. MOV UTENS MÁQUINAS ESC",27.8,0,0,0,0,5.5600000000000005]
[null,null,null,null,null,null,null,null,null,null,"01.002.412208001.5200.00.00000.000000.000000.","DEPREC. EQUIP. OPERAÇÃO GASODU",2353554.54,0,0,0,0,470710.908]
[null,null,null,null,null,null,null,null,null,null,"01.002.412208001.5200.00.00000.000000.000000..","DEPREC. MOV UTENS MÁQUINAS ESC",268.36,0,0,0,0,53.672000000000004]
[null,null,null,null,null,null,null,null,null,null,"01.002.421208001.3100.00.00000.000000.000000.","DEPREC. EQUIP. OPERAÇÃO GASODU",15185.67,0,0,0,0,3037.134]
[null,null,null,null,null,null,null,null,null,null,"01.002.421208001.4100.00.00000.000000.000000.","DEPREC. MOV UTENS MÁQUINAS ESC",159711.76,0,0,0,0,31942.352000000003]
[null,null,null,null,null,null,null,null,null,null,"01.002.421208001.4100.00.00000.000000.000000.","DEPREC. VEÍCULOS",192655.03,0,0,0,0,38531.006000000001]
[null,null,null,null,null,null,null,null,null,null,"01.002.421208001.4100.00.00000.000000.000000..","DEPREC. BENFEITORIAS PROP. TER",5018.7700000000004,0,0,0,0,1003.7540000000001]
[null,null,null,null,null,null,null,null,null,null,"01.002.421208001.4300.00.00000.000000.000000.","DEPREC. MOV UTENS MÁQUINAS ESC",390.74,0,0,0,0,78.147999999999996]
[null,null,null,null,null,null,null,null,null,null,"01.002.421208001.4300.00.00000.000000.000000..","DEPREC. SISTEMAS E PROGRAMAS-A",294688.71000000002,0,0,0,0,58937.742000000006]
[null,null,null,null,null,null,null,null,null,null,"TOTAL",null,{"$f":"SUM(M4:M31)","v":30879781.890000001},{"$f":"SUM(N4:N31)","v":31651813.100000001},32878936.780000005,35890836.670000002,32848614.16,32829996.519999996]
[]
[null,null,null,null,null,null,null,null,null,null,"Informações encaminhadas pela COMPAGAS"]
[null,null,null,null,null,null,null,null,null,null,null,3.9524589726284365E-2,3.8987289323004423E-2,3.7473365188187495E-2,3.7159279744586798E-2,3.4846017811678294E-2]
[null,null,null,null,null,null,null,null,null,null,"Projeção IPCA - Tendências","2024/2025","2025/2026","2026/2027","2027/2028","2028/2029"]
[null,null,null,null,null,null,null,null,null,null,2025,1.0395245897262844,1.0800528356643204,1.120526049997707,1.1621639909506687,1.2026607780794267]
[null,null,null,null,null,null,null,null,null,null,2026,1,1.0389872893230043,1.0779216394416904,1.1179764311844478,1.1569334578185375]
[null,null,null,null,null,null,null,null,null,null,2027,1,1,1.0374733651881876,1.0760251281927733,1.113520318975592]
[null,null,null,null,null,null,null,null,null,null,2028,1,1,1,1.0371592797445868,1.0733001504801141]
[null,null,null,null,null,null,null,null,null,null,2029,1,1,1,1,1.0348460178116783]
[]
[]
[null,null,null,null,null,null,null,null,null,null,"Contábil - IR/CSLL","2024/2025","2025/2026","2026/2027","2027/2028","2028/2029"]
[null,null,null,null,null,null,null,null,null,null,null,{"$f":"BRRL!K7*1000/L37","v":31466553.46807418},{"$f":"BRRL!L7*1000/M37","v":30285792.512993619},{"$f":"BRRL!M7*1000/N37","v":29191874.730682913},{"$f":"BRRL!N7*1000/O37","v":28145990.014062036},{"$f":"BRRL!O7*1000/P37","v":27198239.670072399}]
[null,null,null,null,null,null,null,null,null,null,"2024/2025",{"$f":"BRRL!K10*1000/IR!L37","v":2697672.3359504086},{"$f":"BRRL!L10*1000/IR!M37","v":5192888.0433334075},{"$f":"BRRL!M10*1000/IR!N37","v":5005321.791939659},{"$f":"BRRL!N10*1000/IR!O37","v":4825991.4264781792},{"$f":"BRRL!O10*1000/IR!P37","v":4663487.4594032746}]
[null,null,null,null,null,null,null,null,null,null,"2025/2026",{"$f":"BRRL!K11*1000/IR!L38","v":0},{"$f":"BRRL!L11*1000/IR!M38","v":2712867.1900782501},{"$f":"BRRL!M11*1000/IR!N38","v":5229757.7578507997},{"$f":"BRRL!N11*1000/IR!O38","v":5042386.314220408},{"$f":"BRRL!O11*1000/IR!P38","v":4872595.7557272287}]
[null,null,null,null,null,null,null,null,null,null,"2026/2027",{"$f":"BRRL!K12*1000/IR!L39","v":0},{"$f":"BRRL!L12*1000/IR!M39","v":0},{"$f":"BRRL!M12*1000/IR!N39","v":1459586.8317435337},{"$f":"BRRL!N12*1000/IR!O39","v":2814585.6865938175},{"$f":"BRRL!O12*1000/IR!P39","v":2719811.1005400005}]
[null,null,null,null,null,null,null,null,null,null,"2027/2028",{"$f":"BRRL!K13*1000/IR!L40","v":0},{"$f":"BRRL!L13*1000/IR!M40","v":0},{"$f":"BRRL!M13*1000/IR!N40","v":0},{"$f":"BRRL!N13*1000/IR!O40","v":1231719.7988585879},{"$f":"BRRL!O13*1000/IR!P40","v":2380489.0344231613}]
[null,null,null,null,null,null,null,null,null,null,"2028/2029",{"$f":"BRRL!K14*1000/IR!L41","v":0},{"$f":"BRRL!L14*1000/IR!M41","v":0},{"$f":"BRRL!M14*1000/IR!N41","v":0},{"$f":"BRRL!N14*1000/IR!O41","v":0},{"$f":"BRRL!O14*1000/IR!P41","v":1823510.9966733381}]
[null,null,null,null,null,null,null,null,null,null,"Amortização Base",{"$f":"SUM(L45:L50)","v":34164225.804024592},{"$f":"SUM(M45:M50)","v":38191547.746405281},{"$f":"SUM(N45:N50)","v":40886541.112216897},42060673.240213029,43658134.016839407]

{"sheet":"VOLUME","index":6,"n_rows":23,"n_cols":9,"rows_kept":23,"cut":false,"hidden":false,"merged":[]}
[]
[]
[null,null,"m³/ano","Mercado","2024/2025","2025/2026","2026/2027","2027/2028","2028/2029"]
[null,null,"TOTAL","-",{"$f":"SUM(E5:E19)","v":469927461.93578792},{"$f":"SUM(F5:F19)","v":551333391.03942132},{"$f":"SUM(G5:G19)","v":576633942.72671223},{"$f":"SUM(H5:H19)","v":636069452.48545504},{"$f":"SUM(I5:I19)","v":688666645.42370522}]
[null,null,"Ceramista","Cativo",22841073.350000001,24313073.350000001,24313073.350000001,24380184.940000001,24313073.350000001]
[null,null,"Comercial","Cativo",6587816.1845423076,6832067.7032269053,7094123.221911503,7463353.1956687877,7836073.1755478755]
[null,null,"Geração de Energia Elétrica Para Consumidor Final e Cogeração\nUsuários com Quantidade Diária Contratada (QDC) de até 16.000 m³/dia  ","Cativo",57374.349999999991,57374.349999999991,57374.349999999991,57531.539999999994,57374.349999999991]
[null,null,"GNC","Cativo",4805955,4805955,4805955,4819122,4805955]
[null,null,"Industrial","Cativo",126499577.08,142695736.24999997,157659015.34999996,164483868.08714283,165499974.24999997]
[null,null,"Interruptível","Cativo",1131500,1131500,1131500,1134600,1131500]
[null,null,"Matéria Prima\nQuantidade Diária Contratada (QDC) de até 30.000 m³/dia  ","Cativo",4259340,4259340,4259340,4259340,4259340]
[null,null,"Residencial - Medição INDIVIDUAL","Cativo",10146858.280625518,10870635.738521578,11879016.019048361,13326528.827101858,15697913.633776911]
[null,null,"Residencial - Medição COLETIVA","Cativo",3749617.6906200568,4161458.6476728395,4789670.4357524104,5731673.8955416027,6783066.6643804386]
[null,null,"GNV","Cativo",19128350,20796250,21014875,21479250,21562374.999999996]
[null,null,"Cogeração","Cativo",14050000,16780000,25000000,28670000,32300000]
[null,null,"Unidades de Produção de Fertilizantes e Instalações de Refino de Petróleo\nQuantidade Diária Contratada (QDC) Acima de 500.000 m³/dia","Livre",0,0,0,44772000,89790000]
[null,null,"Tabela Grandes Usuários\nQuantidade Diária Contratada (QDC) Acima de 100.000 m³/dia","Livre"]
[null,null,"Matéria Prima","Cativo",84680000,84680000,84680000,84912000,84680000]
[null,null,"Termelétrico\nQuantidade Diária Contratada (QDC) Acima de 500.000 m³/dia","Livre",171990000,229950000,229950000,230580000,229950000]
[]
[null,null,"Cativo","-",{"$f":"SUMIF($D$5:$D$20,$C21,E5:E19)-E23","v":297937461.93578792},{"$f":"SUMIF($D$5:$D$19,$C21,F5:F19)-F23","v":321383391.03942132},{"$f":"SUMIF($D$5:$D$19,$C21,G5:G19)-G23","v":345323942.72671223},{"$f":"SUMIF($D$5:$D$19,$C21,H5:H19)-H23","v":355227452.48545504},{"$f":"SUMIF($D$5:$D$19,$C21,I5:I19)-I23","v":363451645.42370522}]
[null,null,"Livre","-",{"$f":"SUMIF($D$5:$D$19,$C22,E5:E19)","v":171990000},{"$f":"SUMIF($D$5:$D$19,$C22,F5:F19)","v":229950000},{"$f":"SUMIF($D$5:$D$19,$C22,G5:G19)","v":229950000},{"$f":"SUMIF($D$5:$D$19,$C22,H5:H19)","v":275352000},{"$f":"SUMIF($D$5:$D$19,$C22,I5:I19)","v":319740000}]
[null,null,"Livre - INDUSTRIAL","-",0,0,1360000,5490000,5475000]

{"sheet":"Série - IPCA","index":7,"n_rows":461,"n_cols":16,"rows_kept":461,"cut":false,"hidden":false,"merged":[[146,0,146,7],[1,0,1,7],[4,3,4,7],[73,0,73,7],[74,0,74,7],[77,3,77,7],[296,3,296,7],[366,0,366,7],[369,3,369,7],[453,0,453,7],[147,0,147,7],[150,3,150,7],[219,0,219,7],[220,0,220,7],[223,3,223,7],[293,0,293,7]]}
[]
["SÉRIE HISTÓRICA DO IPCA"]
[null,null,null,null,null,null,null,"(continua)"]
[null,null,null,null,null,"    VARIAÇÃO"]
["ANO","MÊS","NÚMERO ÍNDICE","(%)"]
[null,null,"(DEZ 93 = 100)","NO",3,6,"NO",12]
[null,null,null,"MÊS","MESES","MESES","ANO","MESES"]
[]
[1994,"JAN",141.31,41.31,162.13,533.33000000000004,41.31,2693.84]
[null,"FEV",198.22,40.270000000000003,171.24,568.16999999999996,98.22,3035.71]
[null,"MAR",282.95999999999998,42.75,182.96,602.92999999999995,182.96,3417.39]
[null,"ABR",403.73,42.68,185.71,648.91999999999996,303.73,3828.49]
[null,"MAI",581.49,44.03,193.36,695.71,481.49,4331.1899999999996]
[null,"JUN",857.29,47.43,202.97,757.29,757.29,4922.6000000000004]
[null,"JUL",915.93,6.84,126.87,548.16999999999996,815.93,4005.08]
[null,"AGO",932.97,1.86,60.44,370.67,832.97,3044.89]
[null,"SET",947.24,1.53,10.49,234.76,847.24,2253.15]
[null,"OUT",972.06,2.62,6.13,140.77000000000001,872.06,1703.17]
[null,"NOV",999.37,2.81,7.12,71.86,899.37,1267.54]
[null,"DEZ",1016.46,1.71,7.31,18.57,916.46,916.46]
[]
[1995,"JAN",1033.74,1.7,6.35,12.86,1.7,631.54]
[null,"FEV",1044.28,1.02,4.49,11.93,2.74,426.83]
[null,"MAR",1060.47,1.55,4.33,11.95,4.33,274.77999999999997]
[null,"ABR",1086.24,2.4300000000000002,5.08,11.75,6.87,169.05]
[null,"MAI",1115.24,2.67,6.8,11.59,9.7200000000000006,91.79]
[null,"JUN",1140.44,2.2599999999999998,7.54,12.2,12.2,33.03]
[null,"JUL",1167.3499999999999,2.36,7.47,12.92,14.84,27.45]
[null,"AGO",1178.9100000000001,0.99,5.71,12.89,15.98,26.36]
[null,"SET",1190.58,0.99,4.4000000000000004,12.27,17.13,25.69]
[null,"OUT",1207.3699999999999,1.41,3.43,11.15,18.78,24.21]
[null,"NOV",1225.1199999999999,1.47,3.92,9.85,20.53,22.59]
[null,"DEZ",1244.23,1.56,4.51,9.1,22.41,22.41]
[]
[1996,"JAN",1260.9000000000001,1.34,4.43,8.01,1.34,21.97]
[null,"FEV",1273.8900000000001,1.03,3.98,8.06,2.38,21.99]
[null,"MAR",1278.3499999999999,0.35,2.74,7.37,2.74,20.55]
[null,"ABR",1294.46,1.26,2.66,7.21,4.04,19.170000000000002]
[null,"MAI",1310.25,1.22,2.85,6.95,5.31,17.489999999999998]
[null,"JUN",1325.84,1.19,3.71,6.56,6.56,16.260000000000002]
[null,"JUL",1340.56,1.1100000000000001,3.56,6.32,7.74,14.84]
[null,"AGO",1346.46,0.44,2.76,5.7,8.2200000000000006,14.21]
[null,"SET",1348.48,0.15,1.71,5.49,8.3800000000000008,13.26]
[null,"OUT",1352.53,0.3,0.89,4.49,8.6999999999999993,12.02]
[null,"NOV",1356.86,0.32,0.77,3.56,9.0500000000000007,10.75]
[null,"DEZ",1363.24,0.47,1.0900000000000001,2.82,9.56,9.56]
[]
[1997,"JAN",1379.33,1.18,1.98,2.89,1.18,9.39]
[null,"FEV",1386.23,0.5,2.16,2.95,1.69,8.82]
[null,"MAR",1393.3,0.51,2.21,3.32,2.21,8.99]
[null,"ABR",1405.56,0.88,1.9,3.92,3.1,8.58]
[null,"MAI",1411.32,0.41,1.81,4.01,3.53,7.71]
[null,"JUN",1418.94,0.54,1.84,4.09,4.09,7.02]
[null,"JUL",1422.06,0.22,1.17,3.1,4.3099999999999996,6.08]
[null,"AGO",1421.78,-0.02,0.74,2.56,4.29,5.59]
[null,"SET",1422.63,0.06,0.26,2.11,4.3600000000000003,5.5]
[null,"OUT",1425.9,0.23,0.27,1.45,4.5999999999999996,5.42]
[null,"NOV",1428.32,0.17,0.46,1.2,4.7699999999999996,5.27]
[null,"DEZ",1434.46,0.43,0.83,1.0900000000000001,5.22,5.22]
[]
[1998,"JAN",1444.64,0.71,1.31,1.59,0.71,4.7300000000000004]
[null,"FEV",1451.29,0.46,1.61,2.08,1.17,4.6900000000000004]
[null,"MAR",1456.22,0.34,1.52,2.36,1.52,4.5199999999999996]
[null,"ABR",1459.71,0.24,1.04,2.37,1.76,3.85]
[null,"MAI",1467.01,0.5,1.08,2.71,2.27,3.95]
[null,"JUN",1467.3,0.02,0.76,2.29,2.29,3.41]
[null,"JUL",1465.54,-0.12,0.4,1.45,2.17,3.06]
[null,"AGO",1458.07,-0.51,-0.61,0.47,1.65,2.5499999999999998]
[null,"SET",1454.86,-0.22,-0.85,-0.09,1.42,2.27]
[null,"OUT",1455.15,0.02,-0.71,-0.31,1.44,2.0499999999999998]
[null,"NOV",1453.4,-0.12,-0.32,-0.93,1.32,1.76]
[null,"DEZ",1458.2,0.33,0.23,-0.62,1.65,1.65]
[]
[" "]
["SÉRIE HISTÓRICA DO IPCA"]
[null,null,null,null,null,null,null,"(continuação)"]
[null,null,null,null,null,"    VARIAÇÃO"]
["ANO","MÊS","NÚMERO ÍNDICE","(%)"]
[null,null,"(DEZ 93 = 100)","NO",3,6,"NO",12]
[null,null,null,"MÊS","MESES","MESES","ANO","MESES"]
[]
[1999,"JAN",1468.41,0.7,0.91,0.2,0.7,1.65]
[null,"FEV",1483.83,1.05,2.09,1.77,1.76,2.2400000000000002]
[null,"MAR",1500.15,1.1000000000000001,2.88,3.11,2.88,3.02]
[null,"ABR",1508.55,0.56000000000000005,2.73,3.67,3.45,3.35]
[null,"MAI",1513.08,0.3,1.97,4.1100000000000003,3.76,3.14]
[null,"JUN",1515.95,0.19,1.05,3.96,3.96,3.32]
[null,"JUL",1532.47,1.0900000000000001,1.59,4.3600000000000003,5.09,4.57]
[null,"AGO",1541.05,0.56000000000000005,1.85,3.86,5.68,5.69]
[null,"SET",1545.83,0.31,1.97,3.05,6.01,6.25]
[null,"OUT",1564.23,1.19,2.0699999999999998,3.69,7.27,7.5]
[null,"NOV",1579.09,0.95,2.4700000000000002,4.3600000000000003,8.2899999999999991,8.65]
[null,"DEZ",1588.56,0.6,2.76,4.79,8.94,8.94]
[]
[2000,"JAN",1598.41,0.62,2.19,4.3,0.62,8.85]
[null,"FEV",1600.49,0.13,1.36,3.86,0.75,7.86]
[null,"MAR",1604.01,0.22,0.97,3.76,0.97,6.92]
[null,"ABR",1610.75,0.42,0.77,2.97,1.4,6.77]
[null,"MAI",1610.91,0.01,0.65,2.02,1.41,6.47]
[null,"JUN",1614.62,0.23,0.66,1.64,1.64,6.51]
[null,"JUL",1640.62,1.61,1.85,2.64,3.28,7.06]
[null,"AGO",1662.11,1.31,3.18,3.85,4.63,7.86]
[null,"SET",1665.93,0.23,3.18,3.86,4.87,7.77]
[null,"OUT",1668.26,0.14000000000000001,1.68,3.57,5.0199999999999996,6.65]
[null,"NOV",1673.6,0.32,0.69,3.89,5.35,5.99]
[null,"DEZ",1683.47,0.59,1.05,4.26,5.97,5.97]
[]
[2001,"JAN",1693.07,0.56999999999999995,1.49,3.2,0.56999999999999995,5.92]
[null,"FEV",1700.86,0.46,1.63,2.33,1.03,6.27]
[null,"MAR",1707.32,0.38,1.42,2.48,1.42,6.44]
[null,"ABR",1717.22,0.57999999999999996,1.43,2.93,2,6.61]
[null,"MAI",1724.26,0.41,1.38,3.03,2.42,7.04]
[null,"JUN",1733.23,0.52,1.52,2.96,2.96,7.35]
[null,"JUL",1756.28,1.33,2.27,3.73,4.32,7.05]
[null,"AGO",1768.57,0.7,2.57,3.98,5.0599999999999996,6.41]
[null,"SET",1773.52,0.28000000000000003,2.3199999999999998,3.88,5.35,6.46]
[null,"OUT",1788.24,0.83,1.82,4.1399999999999997,6.22,7.19]
[null,"NOV",1800.94,0.71,1.83,4.45,6.98,7.61]
[null,"DEZ",1812.65,0.65,2.21,4.58,7.67,7.67]
[]
[2002,"JAN",1822.08,0.52,1.89,3.75,0.52,7.62]
[null,"FEV",1828.64,0.36,1.54,3.4,0.88,7.51]
[null,"MAR",1839.61,0.6,1.49,3.73,1.49,7.75]
[null,"ABR",1854.33,0.8,1.77,3.7,2.2999999999999998,7.98]
[null,"MAI",1858.22,0.21,1.62,3.18,2.5099999999999998,7.77]
[null,"JUN",1866.02,0.42,1.44,2.94,2.94,7.66]
[null,"JUL",1888.23,1.19,1.83,3.63,4.17,7.51]
[null,"AGO",1900.5,0.65,2.2799999999999998,3.93,4.8499999999999996,7.46]
[null,"SET",1914.18,0.72,2.58,4.05,5.6,7.93]
[null,"OUT",1939.26,1.31,2.7,4.58,6.98,8.4499999999999993]
[null,"NOV",1997.83,3.02,5.12,7.51,10.220000000000001,10.93]
[null,"DEZ",2039.78,2.1,6.56,9.31,12.53,12.53]
[]
[2003,"JAN",2085.6799999999998,2.25,7.55,10.46,2.25,14.47]
[null,"FEV",2118.4299999999998,1.57,6.04,11.47,3.86,15.85]
[null,"MAR",2144.4899999999998,1.23,5.13,12.03,5.13,16.57]
[null,"ABR",2165.29,0.97,3.82,11.66,6.15,16.77]
[null,"MAI",2178.5,0.61,2.84,9.0399999999999991,6.8,17.239999999999998]
[null,"JUN",2175.23,-0.15,1.43,6.64,6.64,16.57]
[null,"JUL",2179.58,0.2,0.66,4.5,6.85,15.43]
[null,"AGO",2186.9899999999998,0.34,0.39,3.24,7.22,15.07]
[null,"SET",2204.0500000000002,0.78,1.32,2.78,8.0500000000000007,15.14]
[null,"OUT",2210.44,0.28999999999999998,1.42,2.09,8.3699999999999992,13.98]
[null,"NOV",2217.96,0.34,1.42,1.81,8.74,11.02]
[null,"DEZ",2229.4899999999998,0.52,1.1499999999999999,2.4900000000000002,9.3000000000000007,9.3000000000000007]
[]
[" "]
["SÉRIE HISTÓRICA DO IPCA"]
[null,null,null,null,null,null,null,"(continuação)"]
[null,null,null,null,null,"    VARIAÇÃO"]
["ANO","MÊS","NÚMERO ÍNDICE","(%)"]
[null,null,"(DEZ 93 = 100)","NO",3,6,"NO",12]
[null,null,null,"MÊS","MESES","MESES","ANO","MESES"]
[]
[2004,"JAN",2246.4299999999998,0.76,1.63,3.07,0.76,7.71]
[null,"FEV",2260.13,0.61,1.9,3.34,1.37,6.69]
[null,"MAR",2270.75,0.47,1.85,3.03,1.85,5.89]
[null,"ABR",2279.15,0.37,1.46,3.11,2.23,5.26]
[null,"MAI",2290.77,0.51,1.36,3.28,2.75,5.15]
[null,"JUN",2307.0300000000002,0.71,1.6,3.48,3.48,6.06]
[null,"JUL",2328.02,0.91,2.14,3.63,4.42,6.81]
[null,"AGO",2344.08,0.69,2.33,3.71,5.14,7.18]
[null,"SET",2351.8200000000002,0.33,1.94,3.57,5.49,6.7]
[null,"OUT",2362.17,0.44,1.47,3.64,5.95,6.86]
[null,"NOV",2378.4699999999998,0.69,1.47,3.83,6.68,7.24]
[null,"DEZ",2398.92,0.86,2,3.98,7.6,7.6]
[]
[2005,"JAN",2412.83,0.57999999999999996,2.14,3.64,0.57999999999999996,7.41]
[null,"FEV",2427.0700000000002,0.59,2.04,3.54,1.17,7.39]
[null,"MAR",2441.87,0.61,1.79,3.83,1.79,7.54]
[null,"ABR",2463.11,0.87,2.08,4.2699999999999996,2.68,8.07]
[null,"MAI",2475.1799999999998,0.49,1.98,4.07,3.18,8.0500000000000007]
[null,"JUN",2474.6799999999998,-0.02,1.34,3.16,3.16,7.27]
[null,"JUL",2480.87,0.25,0.72,2.82,3.42,6.57]
[null,"AGO",2485.09,0.17,0.4,2.39,3.59,6.02]
[null,"SET",2493.79,0.35,0.77,2.13,3.95,6.04]
[null,"OUT",2512.4899999999998,0.75,1.27,2,4.7300000000000004,6.36]
[null,"NOV",2526.31,0.55000000000000004,1.66,2.0699999999999998,5.31,6.22]
[null,"DEZ",2535.4,0.36,1.67,2.4500000000000002,5.69,5.69]
[]
[2006,"JAN",2550.36,0.59,1.51,2.8,0.59,5.7]
[null,"FEV",2560.8200000000002,0.41,1.37,3.05,1,5.51]
[null,"MAR",2571.83,0.43,1.44,3.13,1.44,5.32]
[null,"ABR",2577.23,0.21,1.05,2.58,1.65,4.63]
[null,"MAI",2579.81,0.1,0.74,2.12,1.75,4.2300000000000004]
[null,"JUN",2574.39,-0.21,0.1,1.54,1.54,4.03]
[null,"JUL",2579.2800000000002,0.19,0.08,1.1299999999999999,1.73,3.97]
[null,"AGO",2580.5700000000002,0.05,0.03,0.77,1.78,3.84]
[null,"SET",2585.9899999999998,0.21,0.45,0.55000000000000004,2,3.7]
[null,"OUT",2594.52,0.33,0.59,0.67,2.33,3.26]
[null,"NOV",2602.56,0.31,0.85,0.88,2.65,3.02]
[null,"DEZ",2615.0500000000002,0.48,1.1200000000000001,1.58,3.14,3.14]
[]
[2007,"JAN",2626.56,0.44,1.23,1.83,0.44,2.99]
[null,"FEV",2638.12,0.44,1.37,2.23,0.88,3.02]
[null,"MAR",2647.88,0.37,1.26,2.39,1.26,2.96]
[null,"ABR",2654.5,0.25,1.06,2.31,1.51,3]
[null,"MAI",2661.93,0.28000000000000003,0.9,2.2799999999999998,1.79,3.18]
[null,"JUN",2669.38,0.28000000000000003,0.81,2.08,2.08,3.69]
[null,"JUL",2675.79,0.24,0.8,1.87,2.3199999999999998,3.74]
[null,"AGO",2688.37,0.47,0.99,1.9,2.8,4.18]
[null,"SET",2693.21,0.18,0.89,1.71,2.99,4.1500000000000004]
[null,"OUT",2701.29,0.3,0.95,1.76,3.3,4.12]
[null,"NOV",2711.55,0.38,0.86,1.86,3.69,4.1900000000000004]
[null,"DEZ",2731.62,0.74,1.43,2.33,4.46,4.46]
[]
[2008,"JAN",2746.37,0.54,1.67,2.64,0.54,4.5599999999999996]
[null,"FEV",2759.83,0.49,1.78,2.66,1.03,4.6100000000000003]
[null,"MAR",2773.08,0.48,1.52,2.97,1.52,4.7300000000000004]
[null,"ABR",2788.33,0.55000000000000004,1.53,3.22,2.08,5.04]
[null,"MAI",2810.36,0.79,1.83,3.64,2.88,5.58]
[null,"JUN",2831.16,0.74,2.09,3.64,3.64,6.06]
[null,"JUL",2846.16,0.53,2.0699999999999998,3.63,4.1900000000000004,6.37]
[null,"AGO",2854.13,0.28000000000000003,1.56,3.42,4.4800000000000004,6.17]
[null,"SET",2861.55,0.26,1.07,3.19,4.76,6.25]
[null,"OUT",2874.43,0.45,0.99,3.09,5.23,6.41]
[null,"NOV",2884.78,0.36,1.07,2.65,5.61,6.39]
[null,"DEZ",2892.86,0.28000000000000003,1.0900000000000001,2.1800000000000002,5.9,5.9]
[]
[" "]
["SÉRIE HISTÓRICA DO IPCA"]
[null,null,null,null,null,null,null,"(continuação)"]
[null,null,null,null,null,"    VARIAÇÃO"]
["ANO","MÊS","NÚMERO ÍNDICE","(%)"]
[null,null,"(DEZ 93 = 100)","NO",3,6,"NO",12]
[null,null,null,"MÊS","MESES","MESES","ANO","MESES"]
[]
[2009,"JAN",2906.74,0.48,1.1200000000000001,2.13,0.48,5.84]
[null,"FEV",2922.73,0.55000000000000004,1.32,2.4,1.03,5.9]
[null,"MAR",2928.57,0.2,1.23,2.34,1.23,5.61]
[null,"ABR",2942.63,0.48,1.23,2.37,1.72,5.53]
[null,"MAI",2956.46,0.47,1.1499999999999999,2.48,2.2000000000000002,5.2]
[null,"JUN",2967.1,0.36,1.32,2.57,2.57,4.8]
[null,"JUL",2974.22,0.24,1.07,2.3199999999999998,2.81,4.5]
[null,"AGO",2978.68,0.15,0.75,1.91,2.97,4.3600000000000003]
[null,"SET",2985.83,0.24,0.63,1.96,3.21,4.34]
[null,"OUT",2994.19,0.28000000000000003,0.67,1.75,3.5,4.17]
[null,"NOV",3006.47,0.41,0.93,1.69,3.93,4.22]
[null,"DEZ",3017.59,0.37,1.06,1.7,4.3099999999999996,4.3099999999999996]
[]
[2010,"JAN",3040.22,0.75,1.54,2.2200000000000002,0.75,4.59]
[null,"FEV",3063.93,0.78,1.91,2.86,1.54,4.83]
[null,"MAR",3079.86,0.52,2.06,3.15,2.06,5.17]
[null,"ABR",3097.42,0.56999999999999995,1.88,3.45,2.65,5.26]
[null,"MAI",3110.74,0.43,1.53,3.47,3.09,5.22]
[null,"JUN",3110.74,0,1,3.09,3.09,4.84]
[null,"JUL",3111.05,0.01,0.44,2.33,3.1,4.5999999999999996]
[null,"AGO",3112.29,0.04,0.05,1.58,3.14,4.49]
[null,"SET",3126.29,0.45,0.5,1.51,3.6,4.7]
[null,"OUT",3149.74,0.75,1.24,1.69,4.38,5.2]
[null,"NOV",3175.88,0.83,2.04,2.09,5.25,5.63]
[null,"DEZ",3195.89,0.63,2.23,2.74,5.91,5.91]
[]
[2011,"JAN",3222.42,0.83,2.31,3.58,0.83,5.99]
[null,"FEV",3248.2,0.8,2.2799999999999998,4.37,1.64,6.01]
[null,"MAR",3273.86,0.79,2.44,4.72,2.44,6.3]
[null,"ABR",3299.07,0.77,2.38,4.74,3.23,6.51]
[null,"MAI",3314.58,0.47,2.04,4.37,3.71,6.55]
[null,"JUN",3319.55,0.15,1.4,3.87,3.87,6.71]
[null,"JUL",3324.86,0.16,0.78,3.18,4.04,6.87]
[null,"AGO",3337.16,0.37,0.68,2.74,4.42,7.23]
[null,"SET",3354.85,0.53,1.06,2.4700000000000002,4.97,7.31]
[null,"OUT",3369.28,0.43,1.34,2.13,5.43,6.97]
[null,"NOV",3386.8,0.52,1.49,2.1800000000000002,5.97,6.64]
[null,"DEZ",3403.73,0.5,1.46,2.54,6.5,6.5]
[]
[2012,"JAN",3422.79,0.56000000000000005,1.59,2.95,0.56000000000000005,6.22]
[null,"FEV",3438.19,0.45,1.52,3.03,1.01,5.85]
[null,"MAR",3445.41,0.21,1.22,2.7,1.22,5.24]
[null,"ABR",3467.46,0.64,1.31,2.91,1.87,5.0999999999999996]
[null,"MAI",3479.94,0.36,1.21,2.75,2.2400000000000002,4.99]
[null,"JUN",3482.72,0.08,1.08,2.3199999999999998,2.3199999999999998,4.92]
[null,"JUL",3497.7,0.43,0.87,2.19,2.76,5.2]
[null,"AGO",3512.04,0.41,0.92,2.15,3.18,5.24]
[null,"SET",3532.06,0.56999999999999995,1.42,2.5099999999999998,3.77,5.28]
[null,"OUT",3552.9,0.59,1.58,2.46,4.38,5.45]
[null,"NOV",3574.22,0.6,1.77,2.71,5.01,5.53]
[null,"DEZ",3602.46,0.79,1.99,3.44,5.84,5.84]
[]
[2013,"JAN",3633.44,0.86,2.27,3.88,0.86,6.15]
[null,"FEV",3655.24,0.6,2.27,4.08,1.47,6.31]
[null,"MAR",3672.42,0.47,1.94,3.97,1.94,6.59]
[null,"ABR",3692.62,0.55000000000000004,1.63,3.93,2.5,6.49]
[null,"MAI",3706.28,0.37,1.4,3.69,2.88,6.5]
[null,"JUN",3715.92,0.26,1.18,3.15,3.15,6.7]
[null,"JUL",3717.03,0.03,0.66,2.2999999999999998,3.18,6.27]
[null,"AGO",3725.95,0.24,0.53,1.93,3.43,6.09]
[null,"SET",3738.99,0.35,0.62,1.81,3.79,5.86]
[null,"OUT",3760.3,0.56999999999999995,1.1599999999999999,1.83,4.38,5.84]
[null,"NOV",3780.61,0.54,1.47,2.0099999999999998,4.95,5.77]
[null,"DEZ",3815.39,0.92,2.04,2.68,5.91,5.91]
[]
[]
["SÉRIE HISTÓRICA DO IPCA"]
[null,null,null,null,null,null,null,"(continuação)"]
[null,null,null,null,null,"    VARIAÇÃO"]
["ANO","MÊS","NÚMERO ÍNDICE","(%)"]
[null,null,"(DEZ 93 = 100)","NO",3,6,"NO",12]
[null,null,null,"MÊS","MESES","MESES","ANO","MESES"]
[]
[2014,"JAN",3836.37,0.55000000000000004,2.02,3.21,0.55000000000000004,5.59]
[null,"FEV",3862.84,0.69,2.1800000000000002,3.67,1.24,5.68]
[null,"MAR",3898.38,0.92,2.1800000000000002,4.26,2.1800000000000002,6.15]
[null,"ABR",3924.5,0.67,2.2999999999999998,4.37,2.86,6.28]
[null,"MAI",3942.55,0.46,2.06,4.28,3.33,6.37]
[null,"JUN",3958.32,0.4,1.54,3.75,3.75,6.52]
[null,"JUL",3958.72,0.01,0.87,3.19,3.76,6.5]
[null,"AGO",3968.62,0.25,0.66,2.74,4.0199999999999996,6.51]
[null,"SET",3991.24,0.56999999999999995,0.83,2.38,4.6100000000000003,6.75]
[null,"OUT",4008,0.42,1.24,2.13,5.05,6.59]
[null,"NOV",4028.44,0.51,1.51,2.1800000000000002,5.58,6.56]
[null,"DEZ",4059.86,0.78,1.72,2.57,6.41,6.41]
[]
[2015,"JAN",4110.2,1.24,2.5499999999999998,3.83,1.24,7.14]
[null,"FEV",4160.34,1.22,3.27,4.83,2.48,7.7]
[null,"MAR",4215.26,1.32,3.83,5.61,3.83,8.1300000000000008]
[null,"ABR",4245.1899999999996,0.71,3.28,5.92,4.5599999999999996,8.17]
[null,"MAI",4276.6000000000004,0.74,2.79,6.16,5.34,8.4700000000000006]
[null,"JUN",4310.3900000000003,0.79,2.2599999999999998,6.17,6.17,8.89]
[null,"JUL",4337.1099999999997,0.62,2.17,5.52,6.83,9.56]
[null,"AGO",4346.6499999999996,0.22,1.64,4.4800000000000004,7.06,9.5299999999999994]
[null,"SET",4370.12,0.54,1.39,3.67,7.64,9.49]
[null,"OUT",4405.95,0.82,1.59,3.79,8.52,9.93]
[null,"NOV",4450.45,1.01,2.39,4.07,9.6199999999999992,10.48]
[null,"DEZ",4493.17,0.96,2.82,4.24,10.67,10.67]
[]
[2016,"JAN",4550.2299999999996,1.27,3.27,4.91,1.27,10.71]
[null,"FEV",4591.18,0.9,3.16,5.63,2.1800000000000002,10.36]
[null,"MAR",4610.92,0.43,2.62,5.51,2.62,9.39]
[null,"ABR",4639.05,0.61,1.95,5.29,3.25,9.2799999999999994]
[null,"MAI",4675.2299999999996,0.78,1.83,5.05,4.05,9.32]
[null,"JUN",4691.59,0.35,1.75,4.42,4.42,8.84]
[null,"JUL",4715.99,0.52,1.66,3.64,4.96,8.74]
[null,"AGO",4736.74,0.44,1.32,3.17,5.42,8.9700000000000006]
[null,"SET",4740.53,0.08,1.04,2.81,5.51,8.48]
[null,"OUT",4752.8599999999997,0.26,0.78,2.4500000000000002,5.78,7.87]
[null,"NOV",4761.42,0.18,0.52,1.84,5.97,6.99]
[null,"DEZ",4775.7,0.3,0.74,1.79,6.29,6.29]
[]
[2017,"JAN",4793.8500000000004,0.38,0.86,1.65,0.38,5.35]
[null,"FEV",4809.67,0.33,1.01,1.54,0.71,4.76]
[null,"MAR",4821.6899999999996,0.25,0.96,1.71,0.96,4.57]
[null,"ABR",4828.4399999999996,0.14000000000000001,0.72,1.59,1.1000000000000001,4.08]
[null,"MAI",4843.41,0.31,0.7,1.72,1.42,3.6]
[null,"JUN",4832.2700000000004,-0.23,0.22,1.18,1.18,3]
[null,"JUL",4843.87,0.24,0.32,1.04,1.43,2.71]
[null,"AGO",4853.07,0.19,0.2,0.9,1.62,2.46]
[null,"SET",4860.83,0.16,0.59,0.81,1.78,2.54]
[null,"OUT",4881.25,0.42,0.77,1.0900000000000001,2.21,2.7]
[null,"NOV",4894.92,0.28000000000000003,0.86,1.06,2.5,2.8]
[null,"DEZ",4916.46,0.44,1.1399999999999999,1.74,2.95,2.95]
[]
[2018,"JAN",4930.72,0.28999999999999998,1.01,1.79,0.28999999999999998,2.86]
[null,"FEV",4946.5,0.32,1.05,1.93,0.61,2.84]
[null,"MAR",4950.95,0.09,0.7,1.85,0.7,2.68]
[null,"ABR",4961.84,0.22,0.63,1.65,0.92,2.76]
[null,"MAI",4981.6899999999996,0.4,0.71,1.77,1.33,2.86]
[null,"JUN",5044.46,1.26,1.89,2.6,2.6,4.3899999999999997]
[null,"JUL",5061.1099999999997,0.33,2,2.64,2.94,4.4800000000000004]
[null,"AGO",5056.5600000000004,-0.09,1.5,2.23,2.85,4.1900000000000004]
[null,"SET",5080.83,0.48,0.72,2.62,3.34,4.53]
[null,"OUT",5103.6899999999996,0.45,0.84,2.86,3.81,4.5599999999999996]
[null,"NOV",5092.97,-0.21,0.72,2.23,3.59,4.05]
[null,"DEZ",5100.6099999999997,0.15,0.39,1.1100000000000001,3.75,3.75]
[]
[]
["SÉRIE HISTÓRICA DO IPCA"]
[null,null,null,null,null,null,null,"(conclusão)"]
[null,null,null,null,null,"    VARIAÇÃO"]
["ANO","MÊS","NÚMERO ÍNDICE","(%)"]
[null,null,"(DEZ 93 = 100)","NO",3,6,"NO",12]
[null,null,null,"MÊS","MESES","MESES","ANO","MESES"]
[]
[2019,"JAN",5116.93,0.32,0.26,1.1000000000000001,0.32,3.78]
[null,"FEV",5138.93,0.43,0.9,1.63,0.75,3.89]
[null,"MAR",5177.47,0.75,1.51,1.9,1.51,4.58]
[null,"ABR",5206.9799999999996,0.56999999999999995,1.76,2.02,2.09,4.9400000000000004]
[null,"MAI",5213.75,0.13,1.46,2.37,2.2200000000000002,4.66]
[null,"JUN",5214.2700000000004,0.01,0.71,2.23,2.23,3.37]
[null,"JUL",5224.18,0.19,0.33,2.1,2.42,3.22]
[null,"AGO",5229.93,0.11,0.31,1.77,2.54,3.43]
[null,"SET",5227.84,-0.04,0.26,0.97,2.4900000000000002,2.89]
[null,"OUT",5233.07,0.1,0.17,0.5,2.6,2.54]
[null,"NOV",5259.76,0.51,0.56999999999999995,0.88,3.12,3.27]
[null,"DEZ",5320.25,1.1499999999999999,1.77,2.0299999999999998,4.3099999999999996,4.3099999999999996]
[]
[2020,"JAN",5331.42,0.21,1.88,2.0499999999999998,0.21,4.1900000000000004]
[null,"FEV",5344.75,0.25,1.62,2.2000000000000002,0.46,4.01]
[null,"MAR",5348.49,7.0000000000000007E-2,0.53,2.31,0.53,3.3]
[null,"ABR",5331.91,-0.31,0.01,1.89,0.22,2.4]
[null,"MAI",5311.65,-0.38,-0.62,0.99,-0.16,1.88]
[null,"JUN",5325.46,0.26,-0.43,0.1,0.1,2.13]
[null,"JUL",5344.63,0.36,0.24,0.25,0.46,2.31]
[null,"AGO",5357.46,0.24,0.86,0.24,0.7,2.44]
[null,"SET",5391.75,0.64,1.24,0.81,1.34,3.14]
[null,"OUT",5438.12,0.86,1.75,1.99,2.2200000000000002,3.92]
[null,"NOV",5486.52,0.89,2.41,3.29,3.13,4.3099999999999996]
[null,"DEZ",5560.59,1.35,3.13,4.42,4.5199999999999996,4.5199999999999996]
[]
[2021,"JAN",5574.49,0.25,2.5099999999999998,4.3,0.25,4.5599999999999996]
[null,"FEV",5622.43,0.86,2.48,4.95,1.1100000000000001,5.2]
[null,"MAR",5674.72,0.93,2.0499999999999998,5.25,2.0499999999999998,6.1]
[null,"ABR",5692.31,0.31,2.11,4.67,2.37,6.76]
[null,"MAI",5739.56,0.83,2.08,4.6100000000000003,3.22,8.06]
[null,"JUN",5769.98,0.53,1.68,3.77,3.77,8.35]
[null,"JUL",5825.37,0.96,2.34,4.5,4.76,8.99]
[null,"AGO",5876.05,0.87,2.38,4.51,5.67,9.68]
[null,"SET",5944.21,1.1599999999999999,3.02,4.75,6.9,10.25]
[null,"OUT",6018.51,1.25,3.32,5.73,8.24,10.67]
[null,"NOV",6075.69,0.95,3.4,5.86,9.26,10.74]
[null,"DEZ",6120.04,0.73,2.96,6.07,10.06,10.06]
[]
[2022,"JAN",6153.09,0.54,2.2400000000000002,5.63,0.54,10.38]
[null,"FEV",6215.24,1.01,2.2999999999999998,5.77,1.56,10.54]
[null,"MAR",6315.93,1.62,3.2,6.25,3.2,11.3]
[null,"ABR",6382.88,1.06,3.73,6.05,4.29,12.13]
[null,"MAI",6412.88,0.47,3.18,5.55,4.78,11.73]
[null,"JUN",6455.85,0.67,2.2200000000000002,5.49,5.49,11.89]
[null,"JUL",6411.95,-0.68,0.46,4.21,4.7699999999999996,10.07]
[null,"AGO",6388.87,-0.36,-0.37,2.79,4.3899999999999997,8.73]
[null,"SET",6370.34,-0.28999999999999998,-1.32,0.86,4.09,7.17]
[null,"OUT",6407.93,0.59,-0.06,0.39,4.7,6.47]
[null,"NOV",6434.2,0.41,0.71,0.33,5.13,5.9]
[null,"DEZ",6474.09,0.62,1.63,0.28000000000000003,5.79,5.79]
[]
[2023,"JAN",6508.4,0.53,1.57,1.5,0.53,5.77]
[null,"FEV",6563.07,0.84,2,2.73,1.37,5.6]
[null,"MAR",6609.67,0.71,2.09,3.76,2.09,4.6500000000000004]
[null,"ABR",6649.99,0.61,2.1800000000000002,3.78,2.72,4.18]
[null,"MAI",6665.28,0.23,1.56,3.59,2.95,3.94]
[null,"JUN",6659.95,-0.08,0.76,2.87,2.87,3.16]
[null,"JUL",6667.94,0.12,0.27,2.4500000000000002,2.99,3.99]
[null,"AGO",6683.28,0.23,0.27,1.83,3.23,4.6100000000000003]
[null,"SET",6700.66,0.26,0.61,1.38,3.5,5.19]
[null,"OUT",6716.74,0.24,0.73,1,3.75,4.82]
[null,"NOV",6735.55,0.28000000000000003,0.78,1.05,4.04,4.68]
[null,"DEZ",6773.27,0.56000000000000005,1.08,1.7,4.62,4.62]
[]
[2024,"JAN",6801.72,0.42,1.27,2.0099999999999998,0.42,4.51]
[null,"FEV",6858.17,0.83,1.82,2.62,1.25,4.5,null,null,null,null,null,null,null,{"$f":"C444/C411","v":1.1362630218103149}]
[null,"MAR",6869.14,0.16,1.42,2.5099999999999998,1.42,3.93,null,null,null,null,null,null,null,{"$f":"C444/C441","v":1.0123501841569686}]
[null,"ABR",6895.24,0.38,1.37,2.66,1.8,3.69,null,null,null,null,null,null,null,{"$f":"C444/C442","v":1.0085182160446917}]
[null,"MAI",6926.96,0.46,1,2.84,2.27,3.93,null,null,null,null,null,null,null,{"$f":"C444/C443","v":1.0039}]
[null,"JUN",{"$f":"C443*(1+D444/100)","v":6953.975144},0.39,null,null,null,null,"valor projetado com base no IPCA-15 de junho/2024, divulgado pelo IBGE em 26/06/2024*"]
[]
["Fonte: IBGE, Diretoria de Pesquisas, Coordenação de Índices de Preços, "]
["Sistema Nacional de Índices de Preços ao Consumidor."]
["https://www.ibge.gov.br/estatisticas/economicas/precos-e-custos/9256-indice-nacional-de-precos-ao-consumidor-amplo.html?=&t=downloads"]
["*https://www.ibge.gov.br/indicadores#ipca-15 - alteração efetuada pelo Conselho Diretor da Agepar na Reunião Extraordinária n° 18 e 19 de 2024."]
[]
[]
[]
[]
[]
[]
[]
[]
[]
[]
[]
[null,null,null,null,null," "]

{"sheet":"Classificação OPEX","index":8,"n_rows":1669,"n_cols":25,"rows_kept":1669,"cut":false,"hidden":true,"merged":[]}
[]
[null,"CUSTOS/DESPESAS COMERCIAIS/DESPESAS GERAIS E ADMINISTRATIVAS/OUTRAS RECEITAS E DESPESAS"]
[null,"CONTA DETALHADA","DESCRIÇÃO","ANO DE 2019","ANO DE 2020","ANO DE 2021","ANO DE 2022","ANO DE 2023","MÉDIA 5 ANOS","2019 a preços de jul de 2024","2020 a preços de jul de 2024","2021 a preços de jul de 2024","2022 a preços de jul de 2024","2023 a preços de jul de 2024","Média a preços de jul 2024","C/D","MOLÉCULA, TRIBUTOS S/ A RECEITA, DEPRECIAÇÃO, AMORTIZAÇÃO e DEMAIS CONTAS NÃO APLICÁVEIS AO OPEX&ODESP/ENCARGOS e Valores Negativos não aplicáveis","ELEGÍVEL/EFICIENTE","GLOSA","CC","CRITÉRIO","Grupo - Plano Negócios","CC Compagas - Plano Negócios","CC Descrição - Plano Negócios","concatenar"]
[null,null,null,36517787.359999999,23459626.140000001,42258081.159999996,69206041.870000005,45374757.140000001,{"$f":"AVERAGE(D4:H4)","v":43363258.734000005},{"$f":"D4*'Série - IPCA'!$C$444/'Série - IPCA'!$C$385","v":47731551.264567904},{"$f":"E4*'Série - IPCA'!$C$444/'Série - IPCA'!$C$398","v":29338192.002124358},{"$f":"F4*'Série - IPCA'!$C$444/'Série - IPCA'!$C$411","v":48016294.994767137},{"$f":"G4*'Série - IPCA'!$C$444/'Série - IPCA'!$C$424","v":74335867.276884213},{"$f":"H4*'Série - IPCA'!$C$444/'Série - IPCA'!$C$437","v":46585317.478351891},{"$f":"AVERAGE(J4:N4)","v":49201444.603339098},null,"S",null,"NÃO","OPEX",null,"Custos",9999,"RATEIO"]
[null,null,null,21410598.48,0,0,0,0,{"$f":"AVERAGE(D5:H5)","v":4282119.6960000005},{"$f":"D5*'Série - IPCA'!$C$444/'Série - IPCA'!$C$385","v":27985295.737622142},{"$f":"E5*'Série - IPCA'!$C$444/'Série - IPCA'!$C$398","v":0},{"$f":"F5*'Série - IPCA'!$C$444/'Série - IPCA'!$C$411","v":0},{"$f":"G5*'Série - IPCA'!$C$444/'Série - IPCA'!$C$424","v":0},{"$f":"H5*'Série - IPCA'!$C$444/'Série - IPCA'!$C$437","v":0},{"$f":"AVERAGE(J5:N5)","v":5597059.1475244286},null,"S",null,null,"OPEX",null,"Custos",9999,"RATEIO"]
[null,null,null,2087207.9,2236768.7999999998,3027361.54,2361654.27,179887.11,1978575.9239999999,{"$f":"D6*'Série - IPCA'!$C$444/'Série - IPCA'!$C$385","v":2728140.943933168},{"$f":"E6*'Série - IPCA'!$C$444/'Série - IPCA'!$C$398","v":2797263.3548013261},{"$f":"F6*'Série - IPCA'!$C$444/'Série - IPCA'!$C$411","v":3439878.9715527287},{"$f":"G6*'Série - IPCA'!$C$444/'Série - IPCA'!$C$424","v":2536709.4205211024},{"$f":"H6*'Série - IPCA'!$C$444/'Série - IPCA'!$C$437","v":184686.34672263081},2337335.8075061915,null,"S",null,null,"OPEX",null,"Custos",9999,"RATEIO"]
[null,null,null,192015161.28999999,160026471,263751763.99000001,473219888.51999998,347870769.35000002,287376810.83000004,{"$f":"D7*'Série - IPCA'!$C$444/'Série - IPCA'!$C$385","v":250978555.30883154},{"$f":"E7*'Série - IPCA'!$C$444/'Série - IPCA'!$C$398","v":200126263.88855082},{"$f":"F7*'Série - IPCA'!$C$444/'Série - IPCA'!$C$411","v":299691376.35907841},{"$f":"G7*'Série - IPCA'!$C$444/'Série - IPCA'!$C$424","v":508296817.37735045},{"$f":"H7*'Série - IPCA'!$C$444/'Série - IPCA'!$C$437","v":357151668.74848586},323248936.3364594,null,"S",null,null,"OPEX",null,"Custos",9999,"RATEIO"]
[null,null,null,48270309.289999999,45189847.990000002,32041846.850000001,83319540.010000005,44798697.939999998,50724048.415999994,{"$f":"D8*'Série - IPCA'!$C$444/'Série - IPCA'!$C$385","v":63092999.576307938},{"$f":"E8*'Série - IPCA'!$C$444/'Série - IPCA'!$C$398","v":56513621.699064016},{"$f":"F8*'Série - IPCA'!$C$444/'Série - IPCA'!$C$411","v":36407965.726164326},{"$f":"G8*'Série - IPCA'!$C$444/'Série - IPCA'!$C$424","v":89495513.692125618},{"$f":"H8*'Série - IPCA'!$C$444/'Série - IPCA'!$C$437","v":45993889.503640629},58300798.039460503,null,"S",null,null,"OPEX",null,"Custos",9999,"RATEIO"]
[null,null,null,198430846.44999999,14461745.33,0,0,0,42578518.355999999,{"$f":"D9*'Série - IPCA'!$C$444/'Série - IPCA'!$C$385","v":259364348.29494491},{"$f":"E9*'Série - IPCA'!$C$444/'Série - IPCA'!$C$398","v":18085601.988939676},{"$f":"F9*'Série - IPCA'!$C$444/'Série - IPCA'!$C$411","v":0},{"$f":"G9*'Série - IPCA'!$C$444/'Série - IPCA'!$C$424","v":0},{"$f":"H9*'Série - IPCA'!$C$444/'Série - IPCA'!$C$437","v":0},55489990.056776918,null,"S",null,null,"OPEX",null,"Custos",9999,"RATEIO"]
[null,null,null,88234524.260000005,90262805.719999999,143431834.03,273247913.23000002,204074594.69,159850334.38600001,{"$f":"D10*'Série - IPCA'!$C$444/'Série - IPCA'!$C$385","v":115329296.28245009},{"$f":"E10*'Série - IPCA'!$C$444/'Série - IPCA'!$C$398","v":112881062.51397443},{"$f":"F10*'Série - IPCA'!$C$444/'Série - IPCA'!$C$411","v":162976289.15872338},{"$f":"G10*'Série - IPCA'!$C$444/'Série - IPCA'!$C$424","v":293502128.75497389},{"$f":"H10*'Série - IPCA'!$C$444/'Série - IPCA'!$C$437","v":209519133.15077269},178841581.97217888,null,"S",null,null,"OPEX",null,"Custos",9999,"RATEIO"]
[null,null,null,255348.93,247026.72,223045.23,237768.44,222433.94,237124.652,{"$f":"D11*'Série - IPCA'!$C$444/'Série - IPCA'!$C$385","v":333760.65265109646},{"$f":"E11*'Série - IPCA'!$C$444/'Série - IPCA'!$C$398","v":308927.23088446504},{"$f":"F11*'Série - IPCA'!$C$444/'Série - IPCA'!$C$411","v":253438.04704017675},{"$f":"G11*'Série - IPCA'!$C$444/'Série - IPCA'!$C$424","v":255392.77671265849},{"$f":"H11*'Série - IPCA'!$C$444/'Série - IPCA'!$C$437","v":228368.29034454364},275977.39952658804,null,"S",null,null,"OPEX",null,"Custos",9999,"RATEIO"]
[null,null,null,5914821.2000000002,5253086.84,6091552.3300000001,13166789.960000001,9938294.6899999995,8072909.0039999988,{"$f":"D12*'Série - IPCA'!$C$444/'Série - IPCA'!$C$385","v":7731125.3429828025},{"$f":"E12*'Série - IPCA'!$C$444/'Série - IPCA'!$C$398","v":6569417.1508119656},{"$f":"F12*'Série - IPCA'!$C$444/'Série - IPCA'!$C$411","v":6921605.6580014657},{"$f":"G12*'Série - IPCA'!$C$444/'Série - IPCA'!$C$424","v":14142764.482438268},{"$f":"H12*'Série - IPCA'!$C$444/'Série - IPCA'!$C$437","v":10203440.029410785},9113670.5327290576,null,"S",null,null,"OPEX",null,"Custos",9999,"RATEIO"]
[null,null,null,14207307.529999999,13568711.189999999,21634616.120000001,40118446.259999998,29703887.949999999,23846593.809999999,{"$f":"D13*'Série - IPCA'!$C$444/'Série - IPCA'!$C$385","v":18570041.52563959},{"$f":"E13*'Série - IPCA'!$C$444/'Série - IPCA'!$C$398","v":16968789.346341785},{"$f":"F13*'Série - IPCA'!$C$444/'Série - IPCA'!$C$411","v":24582614.288217355},{"$f":"G13*'Série - IPCA'!$C$444/'Série - IPCA'!$C$424","v":43092184.091963463},{"$f":"H13*'Série - IPCA'!$C$444/'Série - IPCA'!$C$437","v":30496362.68515224},26741998.387462884,null,"S",null,null,"OPEX",null,"Custos",9999,"RATEIO"]
[null,null,null,8579680.5299999993,5397923.8799999999,9650388.3800000008,21057821.079999998,15858055.1,12108773.794,{"$f":"D14*'Série - IPCA'!$C$444/'Série - IPCA'!$C$385","v":11214301.047710303},{"$f":"E14*'Série - IPCA'!$C$444/'Série - IPCA'!$C$398","v":6750547.7819303414},{"$f":"F14*'Série - IPCA'!$C$444/'Série - IPCA'!$C$411","v":10965379.462301951},{"$f":"G14*'Série - IPCA'!$C$444/'Série - IPCA'!$C$424","v":22618710.023666527},{"$f":"H14*'Série - IPCA'!$C$444/'Série - IPCA'!$C$437","v":16281134.665764457},13566014.596274715,null,"S",null,null,"OPEX",null,"Custos",9999,"RATEIO"]
[null,null,null,245464.04,0,0,0,0,49092.808000000005,{"$f":"D15*'Série - IPCA'!$C$444/'Série - IPCA'!$C$385","v":320840.34263536899},{"$f":"E15*'Série - IPCA'!$C$444/'Série - IPCA'!$C$398","v":0},{"$f":"F15*'Série - IPCA'!$C$444/'Série - IPCA'!$C$411","v":0},{"$f":"G15*'Série - IPCA'!$C$444/'Série - IPCA'!$C$424","v":0},{"$f":"H15*'Série - IPCA'!$C$444/'Série - IPCA'!$C$437","v":0},64168.068527073796,null,"S",null,null,"OPEX",null,"Custos",9999,"RATEIO"]
[null,null,null,-5525033.75,1792148.06,3695131.95,4266922.46,4640195.1399999997,1773872.7719999999,{"$f":"D16*'Série - IPCA'!$C$444/'Série - IPCA'!$C$385","v":-7221643.2248975346},{"$f":"E16*'Série - IPCA'!$C$444/'Série - IPCA'!$C$398","v":2241228.550137273},{"$f":"F16*'Série - IPCA'!$C$444/'Série - IPCA'!$C$411","v":4198641.7954948414},{"$f":"G16*'Série - IPCA'!$C$444/'Série - IPCA'!$C$424","v":4583203.6206193203},{"$f":"H16*'Série - IPCA'!$C$444/'Série - IPCA'!$C$437","v":4763991.6416840898},1713084.4766075979,null,"S",null,null,"OPEX",null,"Custos",9999,"RATEIO"]
[null,null,null,0,0,-14266.97,0,0,-2853.3939999999998,{"$f":"D17*'Série - IPCA'!$C$444/'Série - IPCA'!$C$385","v":0},{"$f":"E17*'Série - IPCA'!$C$444/'Série - IPCA'!$C$398","v":0},{"$f":"F17*'Série - IPCA'!$C$444/'Série - IPCA'!$C$411","v":-16211.030444277108},{"$f":"G17*'Série - IPCA'!$C$444/'Série - IPCA'!$C$424","v":0},{"$f":"H17*'Série - IPCA'!$C$444/'Série - IPCA'!$C$437","v":0},-3242.2060888554215,null,"S","NÃO","SIM","OPEX","FIXO","DESPESAS_GERAIS",9999,"RATEIO"]
[null,null,null,-26610620.870000001,0,0,0,0,-5322124.1740000006,{"$f":"D18*'Série - IPCA'!$C$444/'Série - IPCA'!$C$385","v":-34782124.166418433},{"$f":"E18*'Série - IPCA'!$C$444/'Série - IPCA'!$C$398","v":0},{"$f":"F18*'Série - IPCA'!$C$444/'Série - IPCA'!$C$411","v":0},{"$f":"G18*'Série - IPCA'!$C$444/'Série - IPCA'!$C$424","v":0},{"$f":"H18*'Série - IPCA'!$C$444/'Série - IPCA'!$C$437","v":0},-6956424.833283687,null,"S","NÃO","SIM","OPEX","FIXO","DESPESAS_GERAIS",4100,"GERÊNCIA DE SERVIÇOS CORPORATIVOS"]
[null,null,null,-2380823.5,-1336577.2,-618963.06999999995,-709584.9,-1384620.81,-1286113.8960000002,{"$f":"D19*'Série - IPCA'!$C$444/'Série - IPCA'!$C$385","v":-3111919.0717073604},{"$f":"E19*'Série - IPCA'!$C$444/'Série - IPCA'!$C$398","v":-1671499.7197846121},{"$f":"F19*'Série - IPCA'!$C$444/'Série - IPCA'!$C$411","v":-703304.84830718953},{"$f":"G19*'Série - IPCA'!$C$444/'Série - IPCA'!$C$424","v":-762182.13790011033},{"$f":"H19*'Série - IPCA'!$C$444/'Série - IPCA'!$C$437","v":-1421561.3280742012},-1534093.4211546946,null,"S","NÃO ","SIM","OPEX","FIXO","PESSOAL",5100,"GERÊNCIA DE ENGENHARIA"]
[null,null,null,0,0,0,0,0,0,{"$f":"D20*'Série - IPCA'!$C$444/'Série - IPCA'!$C$385","v":0},{"$f":"E20*'Série - IPCA'!$C$444/'Série - IPCA'!$C$398","v":0},{"$f":"F20*'Série - IPCA'!$C$444/'Série - IPCA'!$C$411","v":0},{"$f":"G20*'Série - IPCA'!$C$444/'Série - IPCA'!$C$424","v":0},{"$f":"H20*'Série - IPCA'!$C$444/'Série - IPCA'!$C$437","v":0},0,null,"S","NÃO ","SIM","ENCARGOS DE GESTÃO","FIXO","PESSOAL",4100,"GERÊNCIA DE SERVIÇOS CORPORATIVOS"]
[null,null,null,0,9442.66,12580.72,15425.34,17255.8,10940.904,{"$f":"D21*'Série - IPCA'!$C$444/'Série - IPCA'!$C$385","v":0},{"$f":"E21*'Série - IPCA'!$C$444/'Série - IPCA'!$C$398","v":11808.822972605971},{"$f":"F21*'Série - IPCA'!$C$444/'Série - IPCA'!$C$411","v":14295.006923749466},{"$f":"G21*'Série - IPCA'!$C$444/'Série - IPCA'!$C$424","v":16568.727179842874},{"$f":"H21*'Série - IPCA'!$C$444/'Série - IPCA'!$C$437","v":17716.170223516143},12077.745459942891,null,"N","SIM","NÃO","OPEX","FUNCIONÁRIOS","PESSOAL",5100,"GERÊNCIA DE ENGENHARIA"]
[null,null,null,365541.06,311870.13,330156.42,267375.90000000002,263615.01,307711.70399999997,{"$f":"D22*'Série - IPCA'!$C$444/'Série - IPCA'!$C$385","v":477790.22514945967},{"$f":"E22*'Série - IPCA'!$C$444/'Série - IPCA'!$C$398","v":390019.24834883504},{"$f":"F22*'Série - IPCA'!$C$444/'Série - IPCA'!$C$411","v":375144.53145927552},{"$f":"G22*'Série - IPCA'!$C$444/'Série - IPCA'!$C$424","v":287194.85869128013},{"$f":"H22*'Série - IPCA'!$C$444/'Série - IPCA'!$C$437","v":270648.03663892206},360159.38005755452,null,"N","SIM","NÃO","OPEX","FUNCIONÁRIOS","PESSOAL",5200,"GERÊNCIA DE OPERAÇÕES"]
[null,null,null,0,0,44069.33,50645.19,53809.63,29704.829999999998,{"$f":"D23*'Série - IPCA'!$C$444/'Série - IPCA'!$C$385","v":0},{"$f":"E23*'Série - IPCA'!$C$444/'Série - IPCA'!$C$398","v":0},{"$f":"F23*'Série - IPCA'!$C$444/'Série - IPCA'!$C$411","v":50074.350074955968},{"$f":"G23*'Série - IPCA'!$C$444/'Série - IPCA'!$C$424","v":54399.211692015},{"$f":"H23*'Série - IPCA'!$C$444/'Série - IPCA'!$C$437","v":55245.225648444051},31943.757483083005,null,"N","SIM","NÃO","ENCARGOS DE COMERCIALIZAÇÃO","FUNCIONÁRIOS","PESSOAL",5300,"GERÊNCIA COMERCIAL"]
[null,null,null,0,32084.63,45095.360000000001,50523.29,52782.8,36097.216,{"$f":"D24*'Série - IPCA'!$C$444/'Série - IPCA'!$C$385","v":0},{"$f":"E24*'Série - IPCA'!$C$444/'Série - IPCA'!$C$398","v":40124.468720843775},{"$f":"F24*'Série - IPCA'!$C$444/'Série - IPCA'!$C$411","v":51240.190023224008},{"$f":"G24*'Série - IPCA'!$C$444/'Série - IPCA'!$C$424","v":54268.275982123167},{"$f":"H24*'Série - IPCA'!$C$444/'Série - IPCA'!$C$437","v":54191.000688105327},39964.787082859257,null,"N","SIM","NÃO","ENCARGOS DE GESTÃO","FUNCIONÁRIOS","PESSOAL",2410,"ASSESSORIA DE SEGURANÇA DO TRABALHO"]
[null,null,null,636676.74,591033.47,644404.1,675201.61,730188.92,655500.96799999999,{"$f":"D25*'Série - IPCA'!$C$444/'Série - IPCA'!$C$385","v":832185.37187593651},{"$f":"E25*'Série - IPCA'!$C$444/'Série - IPCA'!$C$398","v":739135.96572523226},{"$f":"F25*'Série - IPCA'!$C$444/'Série - IPCA'!$C$411","v":732212.54993295635},{"$f":"G25*'Série - IPCA'!$C$444/'Série - IPCA'!$C$424","v":725250.22252220486},{"$f":"H25*'Série - IPCA'!$C$444/'Série - IPCA'!$C$437","v":749669.7459431272},755690.77119989146,null,"N","SIM","NÃO","ENCARGOS DE GESTÃO","FIXO","DESPESAS_GERAIS",2300,"DIRETORIA COLEGIADA - DAF"]
[null,null,null,626678.47,629936.04,314956.23,601689.51,739646.83,582581.41599999997,{"$f":"D26*'Série - IPCA'!$C$444/'Série - IPCA'!$C$385","v":819116.86549691262},{"$f":"E26*'Série - IPCA'!$C$444/'Série - IPCA'!$C$398","v":787786.82917995937},{"$f":"F26*'Série - IPCA'!$C$444/'Série - IPCA'!$C$411","v":357873.11763778457},{"$f":"G26*'Série - IPCA'!$C$444/'Série - IPCA'!$C$424","v":646289.11506413098},{"$f":"H26*'Série - IPCA'!$C$444/'Série - IPCA'!$C$437","v":759379.98502324475},674089.18248040648,null,"N","SIM","NÃO","ENCARGOS DE GESTÃO","FIXO","DESPESAS_GERAIS",2400,"DIRETORIA COLEGIADA - DTC"]
[null,null,null,0,598.41,1250.54,1496.77,1740.2,1017.184,{"$f":"D27*'Série - IPCA'!$C$444/'Série - IPCA'!$C$385","v":0},{"$f":"E27*'Série - IPCA'!$C$444/'Série - IPCA'!$C$398","v":748.36092319718591},{"$f":"F27*'Série - IPCA'!$C$444/'Série - IPCA'!$C$411","v":1420.9423592946714},{"$f":"G27*'Série - IPCA'!$C$444/'Série - IPCA'!$C$424","v":1607.7165093912627},{"$f":"H27*'Série - IPCA'!$C$444/'Série - IPCA'!$C$437","v":1786.6270716491149},1112.7293727064468,null,"N","SIM","NÃO","OPEX","FUNCIONÁRIOS","DESPESAS_GERAIS",5100,"GERÊNCIA DE ENGENHARIA"]
[null,null,null,0,1026.75,1642.32,2450.13,2848.76,1593.5920000000001,{"$f":"D28*'Série - IPCA'!$C$444/'Série - IPCA'!$C$385","v":0},{"$f":"E28*'Série - IPCA'!$C$444/'Série - IPCA'!$C$398","v":1284.0353234282693},{"$f":"F28*'Série - IPCA'!$C$444/'Série - IPCA'!$C$411","v":1866.1074859795165},{"$f":"G28*'Série - IPCA'!$C$444/'Série - IPCA'!$C$424","v":2631.7433213885997},{"$f":"H28*'Série - IPCA'!$C$444/'Série - IPCA'!$C$437","v":2924.762519613339},1741.3297300819449,null,"N","SIM","NÃO","OPEX","FUNCIONÁRIOS","DESPESAS_GERAIS",5200,"GERÊNCIA DE OPERAÇÕES"]
[null,null,null,0,604.59,866.53,1292.76,1503,853.37599999999998,{"$f":"D29*'Série - IPCA'!$C$444/'Série - IPCA'!$C$385","v":0},{"$f":"E29*'Série - IPCA'!$C$444/'Série - IPCA'!$C$398","v":756.08952149159722},{"$f":"F29*'Série - IPCA'!$C$444/'Série - IPCA'!$C$411","v":984.60599628929219},{"$f":"G29*'Série - IPCA'!$C$444/'Série - IPCA'!$C$424","v":1388.5844817043692},{"$f":"H29*'Série - IPCA'!$C$444/'Série - IPCA'!$C$437","v":1543.0987752491781},934.47575494688738,null,"N","SIM","NÃO","ENCARGOS DE COMERCIALIZAÇÃO","FUNCIONÁRIOS","DESPESAS_GERAIS",5300,"GERÊNCIA COMERCIAL"]
[null,null,null,0,24.52,45.35,67.650000000000006,78.66,43.236000000000004,{"$f":"D30*'Série - IPCA'!$C$444/'Série - IPCA'!$C$385","v":0},{"$f":"E30*'Série - IPCA'!$C$444/'Série - IPCA'!$C$398","v":30.664276727987499},{"$f":"F30*'Série - IPCA'!$C$444/'Série - IPCA'!$C$411","v":51.529528039097784},{"$f":"G30*'Série - IPCA'!$C$444/'Série - IPCA'!$C$424","v":72.664485432176576},{"$f":"H30*'Série - IPCA'!$C$444/'Série - IPCA'!$C$437","v":80.758582608849181},47.123374561622214,null,"N","SIM","NÃO","ENCARGOS DE GESTÃO","FUNCIONÁRIOS","DESPESAS_GERAIS",1005,"AUDITORIA INTERNA"]
[null,null,null,0,61.61,91.41,136.37,158.53,89.583999999999989,{"$f":"D31*'Série - IPCA'!$C$444/'Série - IPCA'!$C$385","v":0},{"$f":"E31*'Série - IPCA'!$C$444/'Série - IPCA'!$C$398","v":77.048372316937588},{"$f":"F31*'Série - IPCA'!$C$444/'Série - IPCA'!$C$411","v":103.86580282368089},{"$f":"G31*'Série - IPCA'!$C$444/'Série - IPCA'!$C$424","v":146.47828349424861},{"$f":"H31*'Série - IPCA'!$C$444/'Série - IPCA'!$C$437","v":162.75944699950247},98.03038112687392,null,"N","SIM","NÃO","ENCARGOS DE GESTÃO","FUNCIONÁRIOS","DESPESAS_GERAIS",2110,"ASSESSORIA DA DIRETORIA EXECUTIVA"]
[null,null,null,0,73.77,136.76,204.02,237.19,130.34800000000001,{"$f":"D32*'Série - IPCA'!$C$444/'Série - IPCA'!$C$385","v":0},{"$f":"E32*'Série - IPCA'!$C$444/'Série - IPCA'!$C$398","v":92.255452456102674},{"$f":"F32*'Série - IPCA'!$C$444/'Série - IPCA'!$C$411","v":155.39533086277868},{"$f":"G32*'Série - IPCA'!$C$444/'Série - IPCA'!$C$424","v":219.14276892642519},{"$f":"H32*'Série - IPCA'!$C$444/'Série - IPCA'!$C$437","v":243.51802960835164},142.06231637073162,null,"N","SIM","NÃO","ENCARGOS DE GESTÃO","FUNCIONÁRIOS","DESPESAS_GERAIS",2120,"ASSESSORIA DA PRESIDÊNCIA"]
[null,null,null,0,24.46,45.36,67.650000000000006,78.66,43.225999999999999,{"$f":"D33*'Série - IPCA'!$C$444/'Série - IPCA'!$C$385","v":0},{"$f":"E33*'Série - IPCA'!$C$444/'Série - IPCA'!$C$398","v":30.589241793090302},{"$f":"F33*'Série - IPCA'!$C$444/'Série - IPCA'!$C$411","v":51.540890669315885},{"$f":"G33*'Série - IPCA'!$C$444/'Série - IPCA'!$C$424","v":72.664485432176576},{"$f":"H33*'Série - IPCA'!$C$444/'Série - IPCA'!$C$437","v":80.758582608849181},47.110640100686382,null,"N","SIM","NÃO","ENCARGOS DE GESTÃO","FUNCIONÁRIOS","DESPESAS_GERAIS",2310,"ASSESSORIA DAF"]
[null,null,null,0,28.09,0,0,0,5.6180000000000003,{"$f":"D34*'Série - IPCA'!$C$444/'Série - IPCA'!$C$385","v":0},{"$f":"E34*'Série - IPCA'!$C$444/'Série - IPCA'!$C$398","v":35.128855354370671},{"$f":"F34*'Série - IPCA'!$C$444/'Série - IPCA'!$C$411","v":0},{"$f":"G34*'Série - IPCA'!$C$444/'Série - IPCA'!$C$424","v":0},{"$f":"H34*'Série - IPCA'!$C$444/'Série - IPCA'!$C$437","v":0},7.0257710708741339,null,"N","SIM","NÃO","ENCARGOS DE GESTÃO","FUNCIONÁRIOS","DESPESAS_GERAIS",2200,"DIRETORIA COLEGIADA - PRESIDÊNCIA"]
[null,null,null,0,7.01,0,0,0,1.4019999999999999,{"$f":"D35*'Série - IPCA'!$C$444/'Série - IPCA'!$C$385","v":0},{"$f":"E35*'Série - IPCA'!$C$444/'Série - IPCA'!$C$398","v":8.7665815604890849},{"$f":"F35*'Série - IPCA'!$C$444/'Série - IPCA'!$C$411","v":0},{"$f":"G35*'Série - IPCA'!$C$444/'Série - IPCA'!$C$424","v":0},{"$f":"H35*'Série - IPCA'!$C$444/'Série - IPCA'!$C$437","v":0},1.753316312097817,null,"N","SIM","NÃO","ENCARGOS DE GESTÃO","FUNCIONÁRIOS","DESPESAS_GERAIS",2300,"DIRETORIA COLEGIADA - DAF"]
[null,null,null,0,7.01,0,0,0,1.4019999999999999,{"$f":"D36*'Série - IPCA'!$C$444/'Série - IPCA'!$C$385","v":0},{"$f":"E36*'Série - IPCA'!$C$444/'Série - IPCA'!$C$398","v":8.7665815604890849},{"$f":"F36*'Série - IPCA'!$C$444/'Série - IPCA'!$C$411","v":0},{"$f":"G36*'Série - IPCA'!$C$444/'Série - IPCA'!$C$424","v":0},{"$f":"H36*'Série - IPCA'!$C$444/'Série - IPCA'!$C$437","v":0},1.753316312097817,null,"N","SIM","NÃO","ENCARGOS DE GESTÃO","FUNCIONÁRIOS","DESPESAS_GERAIS",2400,"DIRETORIA COLEGIADA - DTC"]
[null,null,null,0,342.53,546.98,816.04,948.75,530.86,{"$f":"D37*'Série - IPCA'!$C$444/'Série - IPCA'!$C$385","v":0},{"$f":"E37*'Série - IPCA'!$C$444/'Série - IPCA'!$C$398","v":428.36193750560994},{"$f":"F37*'Série - IPCA'!$C$444/'Série - IPCA'!$C$411","v":621.51314766980613},{"$f":"G37*'Série - IPCA'!$C$444/'Série - IPCA'!$C$424","v":876.52811074757369},{"$f":"H37*'Série - IPCA'!$C$444/'Série - IPCA'!$C$437","v":974.06185164182136},580.09300951296223,null,"N","SIM","NÃO","ENCARGOS DE GESTÃO","FUNCIONÁRIOS","DESPESAS_GERAIS",3200,"GERÊNCIA DE PLANEJAMENTO E MEIO AMBIENTE"]
[null,null,null,0,119.33,182.1,271.67,315.83,177.786,{"$f":"D38*'Série - IPCA'!$C$444/'Série - IPCA'!$C$385","v":0},{"$f":"E38*'Série - IPCA'!$C$444/'Série - IPCA'!$C$398","v":149.2319796880403},{"$f":"F38*'Série - IPCA'!$C$444/'Série - IPCA'!$C$411","v":206.91349627165837},{"$f":"G38*'Série - IPCA'!$C$444/'Série - IPCA'!$C$424","v":291.80725435860177},{"$f":"H38*'Série - IPCA'!$C$444/'Série - IPCA'!$C$437","v":324.25607863403047},194.44176179046616,null,"N","SIM","NÃO","ENCARGOS DE GESTÃO","FUNCIONÁRIOS","DESPESAS_GERAIS",3300,"GERÊNCIA JURÍDICA"]
[null,null,null,0,122.84,182.1,271.67,315.83,178.488,{"$f":"D39*'Série - IPCA'!$C$444/'Série - IPCA'!$C$385","v":0},{"$f":"E39*'Série - IPCA'!$C$444/'Série - IPCA'!$C$398","v":153.62152337952628},{"$f":"F39*'Série - IPCA'!$C$444/'Série - IPCA'!$C$411","v":206.91349627165837},{"$f":"G39*'Série - IPCA'!$C$444/'Série - IPCA'!$C$424","v":291.80725435860177},{"$f":"H39*'Série - IPCA'!$C$444/'Série - IPCA'!$C$437","v":324.25607863403047},195.3196705287634,null,"N","SIM","NÃO","ENCARGOS DE GESTÃO","FUNCIONÁRIOS","DESPESAS_GERAIS",3500,"ASSESSORIA DE COMUNICAÇÃO INSTITUCIONAL"]
[null,null,null,0,182.98,319.56,476.72,554.25,306.702,{"$f":"D40*'Série - IPCA'!$C$444/'Série - IPCA'!$C$385","v":0},{"$f":"E40*'Série - IPCA'!$C$444/'Série - IPCA'!$C$398","v":228.83153979148253},{"$f":"F40*'Série - IPCA'!$C$444/'Série - IPCA'!$C$411","v":363.10421124970429},{"$f":"G40*'Série - IPCA'!$C$444/'Série - IPCA'!$C$424","v":512.05637095679549},{"$f":"H40*'Série - IPCA'!$C$444/'Série - IPCA'!$C$437","v":569.03692360735647},334.60580912106781,null,"N","SIM","NÃO","ENCARGOS DE GESTÃO","FUNCIONÁRIOS","DESPESAS_GERAIS",3600,"GERÊNCIA DE GOVERNANÇA, RISCO E COMPLIANCE"]
[null,null,null,0,537.78,866.55,1805.18,1503,942.50200000000007,{"$f":"D41*'Série - IPCA'!$C$444/'Série - IPCA'!$C$385","v":0},{"$f":"E41*'Série - IPCA'!$C$444/'Série - IPCA'!$C$398","v":672.53812148356917},{"$f":"F41*'Série - IPCA'!$C$444/'Série - IPCA'!$C$411","v":984.62872154972843},{"$f":"G41*'Série - IPCA'!$C$444/'Série - IPCA'!$C$424","v":1938.987077789453},{"$f":"H41*'Série - IPCA'!$C$444/'Série - IPCA'!$C$437","v":1543.0987752491781},1027.8505392143857,null,"N","SIM","NÃO","ENCARGOS DE GESTÃO","FUNCIONÁRIOS","DESPESAS_GERAIS",4100,"GERÊNCIA DE SERVIÇOS CORPORATIVOS"]
[null,null,null,0,259.99,410.23,612.02,711.55,398.75799999999998,{"$f":"D42*'Série - IPCA'!$C$444/'Série - IPCA'!$C$385","v":0},{"$f":"E42*'Série - IPCA'!$C$444/'Série - IPCA'!$C$398","v":325.13887873203385},{"$f":"F42*'Série - IPCA'!$C$444/'Série - IPCA'!$C$411","v":466.12917943724557},{"$f":"G42*'Série - IPCA'!$C$444/'Série - IPCA'!$C$424","v":657.3853418211487},{"$f":"H42*'Série - IPCA'!$C$444/'Série - IPCA'!$C$437","v":730.53355524188453},435.83739104646259,null,"N","SIM","NÃO","ENCARGOS DE GESTÃO","FUNCIONÁRIOS","DESPESAS_GERAIS",4200,"GERÊNCIA FINANCEIRA"]
[null,null,null,0,240.52,364.91,544.36,632.91999999999996,356.54200000000003,{"$f":"D43*'Série - IPCA'!$C$444/'Série - IPCA'!$C$385","v":0},{"$f":"E43*'Série - IPCA'!$C$444/'Série - IPCA'!$C$398","v":300.7900423578937},{"$f":"F43*'Série - IPCA'!$C$444/'Série - IPCA'!$C$411","v":414.63373928880202},{"$f":"G43*'Série - IPCA'!$C$444/'Série - IPCA'!$C$424","v":584.7101151494403},{"$f":"H43*'Série - IPCA'!$C$444/'Série - IPCA'!$C$437","v":649.80577300779078},389.98793396078537,null,"N","SIM","NÃO","ENCARGOS DE GESTÃO","FUNCIONÁRIOS","DESPESAS_GERAIS",4300,"GERÊNCIA DE TECNOLOGIA E SISTEMAS DE INFORMAÇÃO"]
[null,null,null,0,175.65,273.5,408.03,474.4,266.31599999999997,{"$f":"D44*'Série - IPCA'!$C$444/'Série - IPCA'!$C$385","v":0},{"$f":"E44*'Série - IPCA'!$C$444/'Série - IPCA'!$C$398","v":219.66477191154175},{"$f":"F44*'Série - IPCA'!$C$444/'Série - IPCA'!$C$411","v":310.76793646512118},{"$f":"G44*'Série - IPCA'!$C$444/'Série - IPCA'!$C$424","v":438.27479661331859},{"$f":"H44*'Série - IPCA'!$C$444/'Série - IPCA'!$C$437","v":487.05659279987356},291.15281955797099,null,"N","SIM","NÃO","ENCARGOS DE GESTÃO","FUNCIONÁRIOS","DESPESAS_GERAIS",4500,"GERÊNCIA CONTÁBIL"]
[null,null,null,-8309.86,0,0,0,0,-1661.9720000000002,{"$f":"D45*'Série - IPCA'!$C$444/'Série - IPCA'!$C$385","v":-10861.624902987613},{"$f":"E45*'Série - IPCA'!$C$444/'Série - IPCA'!$C$398","v":0},{"$f":"F45*'Série - IPCA'!$C$444/'Série - IPCA'!$C$411","v":0},{"$f":"G45*'Série - IPCA'!$C$444/'Série - IPCA'!$C$424","v":0},{"$f":"H45*'Série - IPCA'!$C$444/'Série - IPCA'!$C$437","v":0},-2172.3249805975224,null,"SIM","SIM","NÃO","ENCARGOS DE COMERCIALIZAÇÃO","FIXO","ALUGUÉIS",5300,"GERÊNCIA COMERCIAL"]
[null,null,null,-18440.77,0,0,0,0,-3688.154,{"$f":"D46*'Série - IPCA'!$C$444/'Série - IPCA'!$C$385","v":-24103.501943747171},{"$f":"E46*'Série - IPCA'!$C$444/'Série - IPCA'!$C$398","v":0},{"$f":"F46*'Série - IPCA'!$C$444/'Série - IPCA'!$C$411","v":0},{"$f":"G46*'Série - IPCA'!$C$444/'Série - IPCA'!$C$424","v":0},{"$f":"H46*'Série - IPCA'!$C$444/'Série - IPCA'!$C$437","v":0},-4820.7003887494338,null,"SIM","SIM","NÃO","ENCARGOS DE COMERCIALIZAÇÃO","FIXO","ALUGUÉIS",5400,"GERÊNCIA COMERCIAL (inativo)"]
[null,null,null,-9229.24,0,0,0,0,-1845.848,{"$f":"D47*'Série - IPCA'!$C$444/'Série - IPCA'!$C$385","v":-12063.325136602707},{"$f":"E47*'Série - IPCA'!$C$444/'Série - IPCA'!$C$398","v":0},{"$f":"F47*'Série - IPCA'!$C$444/'Série - IPCA'!$C$411","v":0},{"$f":"G47*'Série - IPCA'!$C$444/'Série - IPCA'!$C$424","v":0},{"$f":"H47*'Série - IPCA'!$C$444/'Série - IPCA'!$C$437","v":0},-2412.6650273205414,null,"SIM","SIM","NÃO","ENCARGOS DE COMERCIALIZAÇÃO","FIXO","ALUGUÉIS",5500,"GERÊNCIA COMERCIAL (inativo)"]
[null,null,null,-3235.52,0,0,0,0,-647.10400000000004,{"$f":"D48*'Série - IPCA'!$C$444/'Série - IPCA'!$C$385","v":-4229.0730055758431},{"$f":"E48*'Série - IPCA'!$C$444/'Série - IPCA'!$C$398","v":0},{"$f":"F48*'Série - IPCA'!$C$444/'Série - IPCA'!$C$411","v":0},{"$f":"G48*'Série - IPCA'!$C$444/'Série - IPCA'!$C$424","v":0},{"$f":"H48*'Série - IPCA'!$C$444/'Série - IPCA'!$C$437","v":0},-845.81460111516867,null,"SIM","SIM","NÃO","ENCARGOS DE GESTÃO","FIXO","ALUGUÉIS",2100,"SECRETARIA"]
[null,null,null,-7372.75,0,0,0,0,-1474.55,{"$f":"D49*'Série - IPCA'!$C$444/'Série - IPCA'!$C$385","v":-9636.7501983790244},{"$f":"E49*'Série - IPCA'!$C$444/'Série - IPCA'!$C$398","v":0},{"$f":"F49*'Série - IPCA'!$C$444/'Série - IPCA'!$C$411","v":0},{"$f":"G49*'Série - IPCA'!$C$444/'Série - IPCA'!$C$424","v":0},{"$f":"H49*'Série - IPCA'!$C$444/'Série - IPCA'!$C$437","v":0},-1927.350039675805,null,"SIM","SIM","NÃO","ENCARGOS DE GESTÃO","FIXO","ALUGUÉIS",2200,"DIRETORIA COLEGIADA - PRESIDÊNCIA"]
[null,null,null,-1838.76,0,0,0,0,-367.75200000000001,{"$f":"D50*'Série - IPCA'!$C$444/'Série - IPCA'!$C$385","v":-2403.400467230194},{"$f":"E50*'Série - IPCA'!$C$444/'Série - IPCA'!$C$398","v":0},{"$f":"F50*'Série - IPCA'!$C$444/'Série - IPCA'!$C$411","v":0},{"$f":"G50*'Série - IPCA'!$C$444/'Série - IPCA'!$C$424","v":0},{"$f":"H50*'Série - IPCA'!$C$444/'Série - IPCA'!$C$437","v":0},-480.68009344603877,null,"SIM","SIM","NÃO","ENCARGOS DE GESTÃO","FIXO","ALUGUÉIS",2300,"DIRETORIA COLEGIADA - DAF"]
[null,null,null,-1838.76,0,0,0,0,-367.75200000000001,{"$f":"D51*'Série - IPCA'!$C$444/'Série - IPCA'!$C$385","v":-2403.400467230194},{"$f":"E51*'Série - IPCA'!$C$444/'Série - IPCA'!$C$398","v":0},{"$f":"F51*'Série - IPCA'!$C$444/'Série - IPCA'!$C$411","v":0},{"$f":"G51*'Série - IPCA'!$C$444/'Série - IPCA'!$C$424","v":0},{"$f":"H51*'Série - IPCA'!$C$444/'Série - IPCA'!$C$437","v":0},-480.68009344603877,null,"SIM","SIM","NÃO","ENCARGOS DE GESTÃO","FIXO","ALUGUÉIS",2400,"DIRETORIA COLEGIADA - DTC"]
[null,null,null,-7832.47,0,0,0,0,-1566.4940000000001,{"$f":"D52*'Série - IPCA'!$C$444/'Série - IPCA'!$C$385","v":-10237.639527489437},{"$f":"E52*'Série - IPCA'!$C$444/'Série - IPCA'!$C$398","v":0},{"$f":"F52*'Série - IPCA'!$C$444/'Série - IPCA'!$C$411","v":0},{"$f":"G52*'Série - IPCA'!$C$444/'Série - IPCA'!$C$424","v":0},{"$f":"H52*'Série - IPCA'!$C$444/'Série - IPCA'!$C$437","v":0},-2047.5279054978873,null,"SIM","SIM","NÃO","ENCARGOS DE GESTÃO","FIXO","ALUGUÉIS",3100,"SMS"]
[null,null,null,-4614.6099999999997,0,0,0,0,-922.92199999999991,{"$f":"D53*'Série - IPCA'!$C$444/'Série - IPCA'!$C$385","v":-6031.6494975337318},{"$f":"E53*'Série - IPCA'!$C$444/'Série - IPCA'!$C$398","v":0},{"$f":"F53*'Série - IPCA'!$C$444/'Série - IPCA'!$C$411","v":0},{"$f":"G53*'Série - IPCA'!$C$444/'Série - IPCA'!$C$424","v":0},{"$f":"H53*'Série - IPCA'!$C$444/'Série - IPCA'!$C$437","v":0},-1206.3298995067464,null,"SIM","SIM","NÃO","ENCARGOS DE GESTÃO","FIXO","ALUGUÉIS",3200,"GERÊNCIA DE PLANEJAMENTO E MEIO AMBIENTE"]
[null,null,null,-5534.01,0,0,0,0,-1106.8020000000001,{"$f":"D54*'Série - IPCA'!$C$444/'Série - IPCA'!$C$385","v":-7233.3758726840733},{"$f":"E54*'Série - IPCA'!$C$444/'Série - IPCA'!$C$398","v":0},{"$f":"F54*'Série - IPCA'!$C$444/'Série - IPCA'!$C$411","v":0},{"$f":"G54*'Série - IPCA'!$C$444/'Série - IPCA'!$C$424","v":0},{"$f":"H54*'Série - IPCA'!$C$444/'Série - IPCA'!$C$437","v":0},-1446.6751745368147,null,"SIM","SIM","NÃO","ENCARGOS DE GESTÃO","FIXO","ALUGUÉIS",3300,"GERÊNCIA JURÍDICA"]
[null,null,null,-6453.39,0,0,0,0,-1290.6780000000001,{"$f":"D55*'Série - IPCA'!$C$444/'Série - IPCA'!$C$385","v":-8435.0761062991714},{"$f":"E55*'Série - IPCA'!$C$444/'Série - IPCA'!$C$398","v":0},{"$f":"F55*'Série - IPCA'!$C$444/'Série - IPCA'!$C$411","v":0},{"$f":"G55*'Série - IPCA'!$C$444/'Série - IPCA'!$C$424","v":0},{"$f":"H55*'Série - IPCA'!$C$444/'Série - IPCA'!$C$437","v":0},-1687.0152212598343,null,"SIM","SIM","NÃO","ENCARGOS DE GESTÃO","FIXO","ALUGUÉIS",3400,"MARKETING"]
[null,null,null,-2775.89,0,0,0,0,-555.178,{"$f":"D56*'Série - IPCA'!$C$444/'Série - IPCA'!$C$385","v":-3628.3013133740255},{"$f":"E56*'Série - IPCA'!$C$444/'Série - IPCA'!$C$398","v":0},{"$f":"F56*'Série - IPCA'!$C$444/'Série - IPCA'!$C$411","v":0},{"$f":"G56*'Série - IPCA'!$C$444/'Série - IPCA'!$C$424","v":0},{"$f":"H56*'Série - IPCA'!$C$444/'Série - IPCA'!$C$437","v":0},-725.66026267480515,null,"SIM","SIM","NÃO","ENCARGOS DE GESTÃO","FIXO","ALUGUÉIS",3600,"GERÊNCIA DE GOVERNANÇA, RISCO E COMPLIANCE"]
[null,null,null,-12786.45,0,0,0,0,-2557.29,{"$f":"D57*'Série - IPCA'!$C$444/'Série - IPCA'!$C$385","v":-16712.871665804956},{"$f":"E57*'Série - IPCA'!$C$444/'Série - IPCA'!$C$398","v":0},{"$f":"F57*'Série - IPCA'!$C$444/'Série - IPCA'!$C$411","v":0},{"$f":"G57*'Série - IPCA'!$C$444/'Série - IPCA'!$C$424","v":0},{"$f":"H57*'Série - IPCA'!$C$444/'Série - IPCA'!$C$437","v":0},-3342.574333160991,null,"SIM","SIM","NÃO","ENCARGOS DE GESTÃO","FIXO","ALUGUÉIS",4100,"GERÊNCIA DE SERVIÇOS CORPORATIVOS"]
[null,null,null,-10148.61,0,0,0,0,-2029.7220000000002,{"$f":"D58*'Série - IPCA'!$C$444/'Série - IPCA'!$C$385","v":-13265.012299450185},{"$f":"E58*'Série - IPCA'!$C$444/'Série - IPCA'!$C$398","v":0},{"$f":"F58*'Série - IPCA'!$C$444/'Série - IPCA'!$C$411","v":0},{"$f":"G58*'Série - IPCA'!$C$444/'Série - IPCA'!$C$424","v":0},{"$f":"H58*'Série - IPCA'!$C$444/'Série - IPCA'!$C$437","v":0},-2653.0024598900372,null,"SIM","SIM","NÃO","ENCARGOS DE GESTÃO","FIXO","ALUGUÉIS",4200,"GERÊNCIA FINANCEIRA"]
[null,null,null,-11456.97,0,0,0,0,-2291.3939999999998,{"$f":"D59*'Série - IPCA'!$C$444/'Série - IPCA'!$C$385","v":-14975.139252018922},{"$f":"E59*'Série - IPCA'!$C$444/'Série - IPCA'!$C$398","v":0},{"$f":"F59*'Série - IPCA'!$C$444/'Série - IPCA'!$C$411","v":0},{"$f":"G59*'Série - IPCA'!$C$444/'Série - IPCA'!$C$424","v":0},{"$f":"H59*'Série - IPCA'!$C$444/'Série - IPCA'!$C$437","v":0},-2995.0278504037842,null,"SIM","SIM","NÃO","ENCARGOS DE GESTÃO","FIXO","ALUGUÉIS",4300,"GERÊNCIA DE TECNOLOGIA E SISTEMAS DE INFORMAÇÃO"]
[null,null,null,-7372.77,0,0,0,0,-1474.5540000000001,{"$f":"D60*'Série - IPCA'!$C$444/'Série - IPCA'!$C$385","v":-9636.7763399142677},{"$f":"E60*'Série - IPCA'!$C$444/'Série - IPCA'!$C$398","v":0},{"$f":"F60*'Série - IPCA'!$C$444/'Série - IPCA'!$C$411","v":0},{"$f":"G60*'Série - IPCA'!$C$444/'Série - IPCA'!$C$424","v":0},{"$f":"H60*'Série - IPCA'!$C$444/'Série - IPCA'!$C$437","v":0},-1927.3552679828535,null,"SIM","SIM","NÃO","ENCARGOS DE GESTÃO","FIXO","ALUGUÉIS",4500,"GERÊNCIA CONTÁBIL"]
[null,null,null,-6453.39,0,0,0,0,-1290.6780000000001,{"$f":"D61*'Série - IPCA'!$C$444/'Série - IPCA'!$C$385","v":-8435.0761062991714},{"$f":"E61*'Série - IPCA'!$C$444/'Série - IPCA'!$C$398","v":0},{"$f":"F61*'Série - IPCA'!$C$444/'Série - IPCA'!$C$411","v":0},{"$f":"G61*'Série - IPCA'!$C$444/'Série - IPCA'!$C$424","v":0},{"$f":"H61*'Série - IPCA'!$C$444/'Série - IPCA'!$C$437","v":0},-1687.0152212598343,null,"SIM","SIM","NÃO","ENCARGOS DE GESTÃO","FIXO","ALUGUÉIS",4600,"GERÊNCIA DE PESSOAS E CULTURA"]
[null,null,null,0,0,0,1043.6500000000001,4245.71,1057.8720000000001,{"$f":"D62*'Série - IPCA'!$C$444/'Série - IPCA'!$C$385","v":0},{"$f":"E62*'Série - IPCA'!$C$444/'Série - IPCA'!$C$398","v":0},{"$f":"F62*'Série - IPCA'!$C$444/'Série - IPCA'!$C$411","v":0},{"$f":"G62*'Série - IPCA'!$C$444/'Série - IPCA'!$C$424","v":1121.0094637293582},{"$f":"H62*'Série - IPCA'!$C$444/'Série - IPCA'!$C$437","v":4358.9819701019205},1095.9982867662559,null,"N","SIM","NÃO","OPEX","FIXO","ALUGUÉIS",5100,"GERÊNCIA DE ENGENHARIA"]
[null,null,null,0,0,0,0,0,0,{"$f":"D63*'Série - IPCA'!$C$444/'Série - IPCA'!$C$385","v":0},{"$f":"E63*'Série - IPCA'!$C$444/'Série - IPCA'!$C$398","v":0},{"$f":"F63*'Série - IPCA'!$C$444/'Série - IPCA'!$C$411","v":0},{"$f":"G63*'Série - IPCA'!$C$444/'Série - IPCA'!$C$424","v":0},{"$f":"H63*'Série - IPCA'!$C$444/'Série - IPCA'!$C$437","v":0},0,null,"N","SIM","NÃO","OPEX","FIXO","ALUGUÉIS",5200,"GERÊNCIA DE OPERAÇÕES"]
[null,null,null,142,0,0,0,0,28.4,{"$f":"D64*'Série - IPCA'!$C$444/'Série - IPCA'!$C$385","v":185.60490022987642},{"$f":"E64*'Série - IPCA'!$C$444/'Série - IPCA'!$C$398","v":0},{"$f":"F64*'Série - IPCA'!$C$444/'Série - IPCA'!$C$411","v":0},{"$f":"G64*'Série - IPCA'!$C$444/'Série - IPCA'!$C$424","v":0},{"$f":"H64*'Série - IPCA'!$C$444/'Série - IPCA'!$C$437","v":0},37.120980045975287,null,"N","SIM","NÃO","ENCARGOS DE COMERCIALIZAÇÃO","FIXO","ALUGUÉIS",5300,"GERÊNCIA COMERCIAL"]
[null,null,null,0,0,0,0,663.4,132.68,{"$f":"D65*'Série - IPCA'!$C$444/'Série - IPCA'!$C$385","v":0},{"$f":"E65*'Série - IPCA'!$C$444/'Série - IPCA'!$C$398","v":0},{"$f":"F65*'Série - IPCA'!$C$444/'Série - IPCA'!$C$411","v":0},{"$f":"G65*'Série - IPCA'!$C$444/'Série - IPCA'!$C$424","v":0},{"$f":"H65*'Série - IPCA'!$C$444/'Série - IPCA'!$C$437","v":681.09895375935105},136.21979075187022,null,"N","SIM","NÃO","ENCARGOS DE GESTÃO","FIXO","ALUGUÉIS",2130,"ASSESSORIA DE RELAÇÕES INSTITUCIONAIS E NOVOS NEGÓCIOS"]
[null,null,null,0,0,0,425.17,307.89,146.61199999999999,{"$f":"D66*'Série - IPCA'!$C$444/'Série - IPCA'!$C$385","v":0},{"$f":"E66*'Série - IPCA'!$C$444/'Série - IPCA'!$C$398","v":0},{"$f":"F66*'Série - IPCA'!$C$444/'Série - IPCA'!$C$411","v":0},{"$f":"G66*'Série - IPCA'!$C$444/'Série - IPCA'!$C$424","v":456.68528117070969},{"$f":"H66*'Série - IPCA'!$C$444/'Série - IPCA'!$C$437","v":316.10424611541544},154.55790545722502,null,"N","SIM","NÃO","ENCARGOS DE GESTÃO","FIXO","ALUGUÉIS",2200,"DIRETORIA COLEGIADA - PRESIDÊNCIA"]
[null,null,null,0,0,0,0,219.41,43.881999999999998,{"$f":"D67*'Série - IPCA'!$C$444/'Série - IPCA'!$C$385","v":0},{"$f":"E67*'Série - IPCA'!$C$444/'Série - IPCA'!$C$398","v":0},{"$f":"F67*'Série - IPCA'!$C$444/'Série - IPCA'!$C$411","v":0},{"$f":"G67*'Série - IPCA'!$C$444/'Série - IPCA'!$C$424","v":0},{"$f":"H67*'Série - IPCA'!$C$444/'Série - IPCA'!$C$437","v":225.26367416994151},45.052734833988303,null,"N","SIM","NÃO","ENCARGOS DE GESTÃO","FIXO","ALUGUÉIS",2400,"DIRETORIA COLEGIADA - DTC"]
[null,null,null,155,0,0,0,0,31,{"$f":"D68*'Série - IPCA'!$C$444/'Série - IPCA'!$C$385","v":202.59689813824539},{"$f":"E68*'Série - IPCA'!$C$444/'Série - IPCA'!$C$398","v":0},{"$f":"F68*'Série - IPCA'!$C$444/'Série - IPCA'!$C$411","v":0},{"$f":"G68*'Série - IPCA'!$C$444/'Série - IPCA'!$C$424","v":0},{"$f":"H68*'Série - IPCA'!$C$444/'Série - IPCA'!$C$437","v":0},40.51937962764908,null,"N","SIM","NÃO","ENCARGOS DE GESTÃO","FIXO","ALUGUÉIS",3200,"GERÊNCIA DE PLANEJAMENTO E MEIO AMBIENTE"]
[null,null,null,0,0,0,0,1772.43,{"$f":"AVERAGE(D69:H69)","v":354.48599999999999},{"$f":"D69*'Série - IPCA'!$C$444/'Série - IPCA'!$C$385","v":0},{"$f":"E69*'Série - IPCA'!$C$444/'Série - IPCA'!$C$398","v":0},{"$f":"F69*'Série - IPCA'!$C$444/'Série - IPCA'!$C$411","v":0},{"$f":"G69*'Série - IPCA'!$C$444/'Série - IPCA'!$C$424","v":0},{"$f":"H69*'Série - IPCA'!$C$444/'Série - IPCA'!$C$437","v":1819.7169409280775},{"$f":"AVERAGE(J69:N69)","v":363.9433881856155},null,"N","SIM","NÃO","ENCARGOS DE GESTÃO","FIXO","ALUGUÉIS",4100,"GERÊNCIA DE SERVIÇOS CORPORATIVOS"]
[null,null,null,0,0,4500,0,0,900,{"$f":"D70*'Série - IPCA'!$C$444/'Série - IPCA'!$C$385","v":0},{"$f":"E70*'Série - IPCA'!$C$444/'Série - IPCA'!$C$398","v":0},{"$f":"F70*'Série - IPCA'!$C$444/'Série - IPCA'!$C$411","v":5113.1835981464174},{"$f":"G70*'Série - IPCA'!$C$444/'Série - IPCA'!$C$424","v":0},{"$f":"H70*'Série - IPCA'!$C$444/'Série - IPCA'!$C$437","v":0},1022.6367196292834,null,"N","SIM","NÃO","OPEX","EXTENSÃO","ALUGUÉIS",5200,"GERÊNCIA DE OPERAÇÕES"]
[null,null,null,83933.33,101756.18,109334.33,109290.97,113878.26,103638.61400000002,{"$f":"D71*'Série - IPCA'!$C$444/'Série - IPCA'!$C$385","v":109707.30521557249},{"$f":"E71*'Série - IPCA'!$C$444/'Série - IPCA'!$C$398","v":127254.47236145622},{"$f":"F71*'Série - IPCA'!$C$444/'Série - IPCA'!$C$411","v":124232.55619340617},{"$f":"G71*'Série - IPCA'!$C$444/'Série - IPCA'!$C$424","v":117392.0487425491},{"$f":"H71*'Série - IPCA'!$C$444/'Série - IPCA'!$C$437","v":116916.43615003821},119100.56373260445,null,"N","SIM","NÃO","ENCARGOS DE GESTÃO","FIXO","ALUGUÉIS",4300,"GERÊNCIA DE TECNOLOGIA E SISTEMAS DE INFORMAÇÃO"]
[null,null,null,2663.5,503.5,1797.35,498.3,128.80000000000001,1118.2900000000002,{"$f":"D72*'Série - IPCA'!$C$444/'Série - IPCA'!$C$385","v":3481.3989560723649},{"$f":"E72*'Série - IPCA'!$C$444/'Série - IPCA'!$C$398","v":629.66816201230438},{"$f":"F72*'Série - IPCA'!$C$444/'Série - IPCA'!$C$411","v":2042.2623422507695},{"$f":"G72*'Série - IPCA'!$C$444/'Série - IPCA'!$C$424","v":535.23596586627616},{"$f":"H72*'Série - IPCA'!$C$444/'Série - IPCA'!$C$437","v":132.23627561682909},1364.1603403637089,null,"N","NÃO","NÃO","OPEX","FIXO","DESPESAS_GERAIS",5100,"GERÊNCIA DE ENGENHARIA"]
[null,null,null,0,4769.84,0,604.20000000000005,0,1074.808,{"$f":"D73*'Série - IPCA'!$C$444/'Série - IPCA'!$C$385","v":0},{"$f":"E73*'Série - IPCA'!$C$444/'Série - IPCA'!$C$398","v":5965.0772311673691},{"$f":"F73*'Série - IPCA'!$C$444/'Série - IPCA'!$C$411","v":0},{"$f":"G73*'Série - IPCA'!$C$444/'Série - IPCA'!$C$424","v":648.98569250733317},{"$f":"H73*'Série - IPCA'!$C$444/'Série - IPCA'!$C$437","v":0},1322.8125847349406,null,"N","NÃO","NÃO","OPEX","FIXO","DESPESAS_GERAIS",5200,"GERÊNCIA DE OPERAÇÕES"]
[null,null,null,0,1795.49,0,0,0,359.09800000000001,{"$f":"D74*'Série - IPCA'!$C$444/'Série - IPCA'!$C$385","v":0},{"$f":"E74*'Série - IPCA'!$C$444/'Série - IPCA'!$C$398","v":2245.4079209761121},{"$f":"F74*'Série - IPCA'!$C$444/'Série - IPCA'!$C$411","v":0},{"$f":"G74*'Série - IPCA'!$C$444/'Série - IPCA'!$C$424","v":0},{"$f":"H74*'Série - IPCA'!$C$444/'Série - IPCA'!$C$437","v":0},449.08158419522243,null,"N","NÃO","NÃO","ENCARGOS DE COMERCIALIZAÇÃO","FIXO","DESPESAS_GERAIS",5300,"GERÊNCIA COMERCIAL"]
[null,null,null,725,1706.82,0,0,0,486.36399999999992,{"$f":"D75*'Série - IPCA'!$C$444/'Série - IPCA'!$C$385","v":947.63065258211543},{"$f":"E75*'Série - IPCA'!$C$444/'Série - IPCA'!$C$398","v":2134.5187930205389},{"$f":"F75*'Série - IPCA'!$C$444/'Série - IPCA'!$C$411","v":0},{"$f":"G75*'Série - IPCA'!$C$444/'Série - IPCA'!$C$424","v":0},{"$f":"H75*'Série - IPCA'!$C$444/'Série - IPCA'!$C$437","v":0},616.4298891205309,null,"N","NÃO","NÃO","ENCARGOS DE GESTÃO","FIXO","DESPESAS_GERAIS",2100,"SECRETARIA"]
[null,null,null,1504.8,2370.06,598.79999999999995,6733.26,6961.38,3633.66,{"$f":"D76*'Série - IPCA'!$C$444/'Série - IPCA'!$C$385","v":1966.8891117318171},{"$f":"E76*'Série - IPCA'!$C$444/'Série - IPCA'!$C$398","v":2963.9549633741453},{"$f":"F76*'Série - IPCA'!$C$444/'Série - IPCA'!$C$411","v":680.39429746001656},{"$f":"G76*'Série - IPCA'!$C$444/'Série - IPCA'!$C$424","v":7232.3558489439347},{"$f":"H76*'Série - IPCA'!$C$444/'Série - IPCA'!$C$437","v":7147.1037605083984},3998.1395964036624,null,"N","NÃO","NÃO","ENCARGOS DE GESTÃO","FIXO","DESPESAS_GERAIS",2200,"DIRETORIA COLEGIADA - PRESIDÊNCIA"]
[null,null,null,1163.27,1097.56,0,0,0,452.166,{"$f":"D77*'Série - IPCA'!$C$444/'Série - IPCA'!$C$385","v":1520.4831851437207},{"$f":"E77*'Série - IPCA'!$C$444/'Série - IPCA'!$C$398","v":1372.5890524294437},{"$f":"F77*'Série - IPCA'!$C$444/'Série - IPCA'!$C$411","v":0},{"$f":"G77*'Série - IPCA'!$C$444/'Série - IPCA'!$C$424","v":0},{"$f":"H77*'Série - IPCA'!$C$444/'Série - IPCA'!$C$437","v":0},578.61444751463284,null,"N","NÃO","NÃO","ENCARGOS DE GESTÃO","FIXO","DESPESAS_GERAIS",2300,"DIRETORIA COLEGIADA - DAF"]
[null,null,null,0,491.35,62.8,134.5,168,171.32999999999998,{"$f":"D78*'Série - IPCA'!$C$444/'Série - IPCA'!$C$385","v":0},{"$f":"E78*'Série - IPCA'!$C$444/'Série - IPCA'!$C$398","v":614.4735876956222},{"$f":"F78*'Série - IPCA'!$C$444/'Série - IPCA'!$C$411","v":71.357317769687782},{"$f":"G78*'Série - IPCA'!$C$444/'Série - IPCA'!$C$424","v":144.46967170181446},{"$f":"H78*'Série - IPCA'!$C$444/'Série - IPCA'!$C$437","v":172.48209863064665},200.55653515955424,null,"N","NÃO","NÃO","ENCARGOS DE GESTÃO","FIXO","DESPESAS_GERAIS",2410,"ASSESSORIA DE SEGURANÇA DO TRABALHO"]
[null,null,null,7463.72,0,2307.06,0,0,1954.1560000000002,{"$f":"D79*'Série - IPCA'!$C$444/'Série - IPCA'!$C$385","v":9755.6549714347402},{"$f":"E79*'Série - IPCA'!$C$444/'Série - IPCA'!$C$398","v":0},{"$f":"F79*'Série - IPCA'!$C$444/'Série - IPCA'!$C$411","v":2621.4269670977051},{"$f":"G79*'Série - IPCA'!$C$444/'Série - IPCA'!$C$424","v":0},{"$f":"H79*'Série - IPCA'!$C$444/'Série - IPCA'!$C$437","v":0},2475.4163877064889,null,"N","NÃO","NÃO","ENCARGOS DE GESTÃO","FIXO","DESPESAS_GERAIS",3100,"SMS"]
[null,null,null,1024.4100000000001,7593.5,7663.34,2797.97,874.05,3990.654,{"$f":"D80*'Série - IPCA'!$C$444/'Série - IPCA'!$C$385","v":1338.9825059470966},{"$f":"E80*'Série - IPCA'!$C$444/'Série - IPCA'!$C$398","v":9496.2963023643169},{"$f":"F80*'Série - IPCA'!$C$444/'Série - IPCA'!$C$411","v":8707.569865559859},{"$f":"G80*'Série - IPCA'!$C$444/'Série - IPCA'!$C$424","v":3005.3665972604144},{"$f":"H80*'Série - IPCA'!$C$444/'Série - IPCA'!$C$437","v":897.36891850069458},4689.1168379264764,null,"N","NÃO","NÃO","ENCARGOS DE GESTÃO","FIXO","DESPESAS_GERAIS",3200,"GERÊNCIA DE PLANEJAMENTO E MEIO AMBIENTE"]
[null,null,null,503.7,0,0,1197,0,340.14,{"$f":"D81*'Série - IPCA'!$C$444/'Série - IPCA'!$C$385","v":658.37456511118842},{"$f":"E81*'Série - IPCA'!$C$444/'Série - IPCA'!$C$398","v":0},{"$f":"F81*'Série - IPCA'!$C$444/'Série - IPCA'!$C$411","v":0},{"$f":"G81*'Série - IPCA'!$C$444/'Série - IPCA'!$C$424","v":1285.7263719484902},{"$f":"H81*'Série - IPCA'!$C$444/'Série - IPCA'!$C$437","v":0},388.82018741193571,null,"N","NÃO","NÃO","ENCARGOS DE GESTÃO","FIXO","DESPESAS_GERAIS",3300,"GERÊNCIA JURÍDICA"]
[null,null,null,0,850,1690,7371,23196,6621.4,{"$f":"D82*'Série - IPCA'!$C$444/'Série - IPCA'!$C$385","v":0},{"$f":"E82*'Série - IPCA'!$C$444/'Série - IPCA'!$C$398","v":1062.9949110436123},{"$f":"F82*'Série - IPCA'!$C$444/'Série - IPCA'!$C$411","v":1920.2845068594322},{"$f":"G82*'Série - IPCA'!$C$444/'Série - IPCA'!$C$424","v":7917.3676588407025},{"$f":"H82*'Série - IPCA'!$C$444/'Série - IPCA'!$C$437","v":23814.849760931422},6943.0993675350328,null,"N","NÃO","NÃO","ENCARGOS DE GESTÃO","FIXO","DESPESAS_GERAIS",3500,"ASSESSORIA DE COMUNICAÇÃO INSTITUCIONAL"]
[null,null,null,0,318.2,152,0,143.97,122.83399999999999,{"$f":"D83*'Série - IPCA'!$C$444/'Série - IPCA'!$C$385","v":0},{"$f":"E83*'Série - IPCA'!$C$444/'Série - IPCA'!$C$398","v":397.93527140479694},{"$f":"F83*'Série - IPCA'!$C$444/'Série - IPCA'!$C$411","v":172.71197931516787},{"$f":"G83*'Série - IPCA'!$C$444/'Série - IPCA'!$C$424","v":0},{"$f":"H83*'Série - IPCA'!$C$444/'Série - IPCA'!$C$437","v":147.81099845151309},143.69164983429559,null,"N","NÃO","NÃO","ENCARGOS DE GESTÃO","FIXO","DESPESAS_GERAIS",3600,"GERÊNCIA DE GOVERNANÇA, RISCO E COMPLIANCE"]
[null,null,null,0,0,1198.8,0,0,239.76,{"$f":"D84*'Série - IPCA'!$C$444/'Série - IPCA'!$C$385","v":0},{"$f":"E84*'Série - IPCA'!$C$444/'Série - IPCA'!$C$398","v":0},{"$f":"F84*'Série - IPCA'!$C$444/'Série - IPCA'!$C$411","v":1362.1521105462057},{"$f":"G84*'Série - IPCA'!$C$444/'Série - IPCA'!$C$424","v":0},{"$f":"H84*'Série - IPCA'!$C$444/'Série - IPCA'!$C$437","v":0},272.43042210924114,null,"N","NÃO","NÃO","ENCARGOS DE GESTÃO","FIXO","DESPESAS_GERAIS",3700,"GERÊNCIA DE REGULAÇÃO"]
[null,null,null,408.5,1199.57,145,114,2318.9,837.19400000000007,{"$f":"D85*'Série - IPCA'!$C$444/'Série - IPCA'!$C$385","v":533.94085735144029},{"$f":"E85*'Série - IPCA'!$C$444/'Série - IPCA'!$C$398","v":1500.16094757716},{"$f":"F85*'Série - IPCA'!$C$444/'Série - IPCA'!$C$411","v":164.75813816249567},{"$f":"G85*'Série - IPCA'!$C$444/'Série - IPCA'!$C$424","v":122.45013066176095},{"$f":"H85*'Série - IPCA'!$C$444/'Série - IPCA'!$C$437","v":2380.7663006821817},940.41527488700774,null,"N","NÃO","NÃO","ENCARGOS DE GESTÃO","FIXO","DESPESAS_GERAIS",4100,"GERÊNCIA DE SERVIÇOS CORPORATIVOS"]
[null,null,null,202577.78,203460.16,207979.92,197874.61,203325.1,203043.514,{"$f":"D86*'Série - IPCA'!$C$444/'Série - IPCA'!$C$385","v":264784.70877246378},{"$f":"E86*'Série - IPCA'!$C$444/'Série - IPCA'!$C$398","v":254443.66432955189},{"$f":"F86*'Série - IPCA'!$C$444/'Série - IPCA'!$C$411","v":236319.89237506757},{"$f":"G86*'Série - IPCA'!$C$444/'Série - IPCA'!$C$424","v":212541.85832583322},{"$f":"H86*'Série - IPCA'!$C$444/'Série - IPCA'!$C$437","v":208749.64257313148},235367.95327520958,null,"N","NÃO","NÃO","ENCARGOS DE GESTÃO","FIXO","DESPESAS_GERAIS",4200,"GERÊNCIA FINANCEIRA"]
[null,null,null,1968,25521.84,2182.4,2411.1999999999998,2801.02,6976.8919999999998,{"$f":"D87*'Série - IPCA'!$C$444/'Série - IPCA'!$C$385","v":2572.3270679746252},{"$f":"E87*'Série - IPCA'!$C$444/'Série - IPCA'!$C$398","v":31917.160047610945},{"$f":"F87*'Série - IPCA'!$C$444/'Série - IPCA'!$C$411","v":2479.7804187988313},{"$f":"G87*'Série - IPCA'!$C$444/'Série - IPCA'!$C$424","v":2589.9276758915612},{"$f":"H87*'Série - IPCA'!$C$444/'Série - IPCA'!$C$437","v":2875.7488565857966},8486.9888133723525,null,"N","NÃO","NÃO","ENCARGOS DE GESTÃO","FIXO","DESPESAS_GERAIS",4500,"GERÊNCIA CONTÁBIL"]
[null,null,null,121577.82,242474.09,314555.82,312636.7,371129.55,272474.79599999997,{"$f":"D88*'Série - IPCA'!$C$444/'Série - IPCA'!$C$385","v":158911.54331877377},{"$f":"E88*'Série - IPCA'!$C$444/'Série - IPCA'!$C$398","v":303233.79262344801},{"$f":"F88*'Série - IPCA'!$C$444/'Série - IPCA'!$C$411","v":357418.14656122151},{"$f":"G88*'Série - IPCA'!$C$444/'Série - IPCA'!$C$424","v":335810.5681110681},{"$f":"H88*'Série - IPCA'!$C$444/'Série - IPCA'!$C$437","v":381030.97409433033},307281.00494176836,null,"N","NÃO","NÃO","ENCARGOS DE COMERCIALIZAÇÃO","FUNCIONÁRIOS","PESSOAL",5300,"GERÊNCIA COMERCIAL"]
[null,null,null,0,15311.76,15870.08,16864.36,21135.56,13836.351999999999,{"$f":"D89*'Série - IPCA'!$C$444/'Série - IPCA'!$C$385","v":0},{"$f":"E89*'Série - IPCA'!$C$444/'Série - IPCA'!$C$398","v":19148.61524602487},{"$f":"F89*'Série - IPCA'!$C$444/'Série - IPCA'!$C$411","v":18032.585057171444},{"$f":"G89*'Série - IPCA'!$C$444/'Série - IPCA'!$C$424","v":18114.413030938376},{"$f":"H89*'Série - IPCA'!$C$444/'Série - IPCA'!$C$437","v":21699.438955559224},15399.010457938781,null,"N","NÃO","NÃO","ENCARGOS DE GESTÃO","FUNCIONÁRIOS","PESSOAL",1005,"AUDITORIA INTERNA"]
[null,null,null,0,0,28660.560000000001,27686.880000000001,27763.25,16822.137999999999,{"$f":"D90*'Série - IPCA'!$C$444/'Série - IPCA'!$C$385","v":0},{"$f":"E90*'Série - IPCA'!$C$444/'Série - IPCA'!$C$398","v":0},{"$f":"F90*'Série - IPCA'!$C$444/'Série - IPCA'!$C$411","v":32565.934512375843},{"$f":"G90*'Série - IPCA'!$C$444/'Série - IPCA'!$C$424","v":29739.140996635932},{"$f":"H90*'Série - IPCA'!$C$444/'Série - IPCA'!$C$437","v":28503.950147662505},18161.805131334855,null,"N","NÃO","NÃO","ENCARGOS DE GESTÃO","FUNCIONÁRIOS","PESSOAL",1010,"GOVERNANÇA SOCIETÁRIA"]
[null,null,null,0,0,0,0,0,0,{"$f":"D91*'Série - IPCA'!$C$444/'Série - IPCA'!$C$385","v":0},{"$f":"E91*'Série - IPCA'!$C$444/'Série - IPCA'!$C$398","v":0},{"$f":"F91*'Série - IPCA'!$C$444/'Série - IPCA'!$C$411","v":0},{"$f":"G91*'Série - IPCA'!$C$444/'Série - IPCA'!$C$424","v":0},{"$f":"H91*'Série - IPCA'!$C$444/'Série - IPCA'!$C$437","v":0},0,null,"N","NÃO","NÃO","ENCARGOS DE GESTÃO","FUNCIONÁRIOS","PESSOAL",2100,"SECRETARIA"]
[null,null,null,6683.8,24478.25,22755.56,18186.66,13994.89,17219.832000000002,{"$f":"D92*'Série - IPCA'!$C$444/'Série - IPCA'!$C$385","v":8736.2396630735766},{"$f":"E92*'Série - IPCA'!$C$444/'Série - IPCA'!$C$398","v":30612.064919121531},{"$f":"F92*'Série - IPCA'!$C$444/'Série - IPCA'!$C$411","v":25856.301368585933},{"$f":"G92*'Série - IPCA'!$C$444/'Série - IPCA'!$C$424","v":19534.727134219487},{"$f":"H92*'Série - IPCA'!$C$444/'Série - IPCA'!$C$437","v":14368.261888720535},19821.518994744212,null,"N","NÃO","NÃO","ENCARGOS DE GESTÃO","FUNCIONÁRIOS","PESSOAL",2110,"ASSESSORIA DA DIRETORIA EXECUTIVA"]
[null,null,null,8033.63,31355.16,29473.11,29836.38,35343.86,26808.428000000004,{"$f":"D93*'Série - IPCA'!$C$444/'Série - IPCA'!$C$385","v":10500.571088970015},{"$f":"E93*'Série - IPCA'!$C$444/'Série - IPCA'!$C$398","v":39212.206488186152},{"$f":"F93*'Série - IPCA'!$C$444/'Série - IPCA'!$C$411","v":33489.205030747813},{"$f":"G93*'Série - IPCA'!$C$444/'Série - IPCA'!$C$424","v":32047.970433982031},{"$f":"H93*'Série - IPCA'!$C$444/'Série - IPCA'!$C$437","v":36286.804443498608},30307.351497076925,null,"N","NÃO","NÃO","ENCARGOS DE GESTÃO","FUNCIONÁRIOS","PESSOAL",2120,"ASSESSORIA DA PRESIDÊNCIA"]
[null,null,null,0,1198,14986.94,16381.2,18773.04,10267.835999999999,{"$f":"D94*'Série - IPCA'!$C$444/'Série - IPCA'!$C$385","v":0},{"$f":"E94*'Série - IPCA'!$C$444/'Série - IPCA'!$C$398","v":1498.19753344735},{"$f":"F94*'Série - IPCA'!$C$444/'Série - IPCA'!$C$411","v":17029.105732089884},{"$f":"G94*'Série - IPCA'!$C$444/'Série - IPCA'!$C$424","v":17595.439301723145},{"$f":"H94*'Série - IPCA'!$C$444/'Série - IPCA'!$C$437","v":19273.888909982586},11079.326295448593,null,"N","NÃO","NÃO","ENCARGOS DE GESTÃO","FUNCIONÁRIOS","PESSOAL",2130,"ASSESSORIA DE RELAÇÕES INSTITUCIONAIS E NOVOS NEGÓCIOS"]
[null,null,null,17679.34,406.52,0,0,350,3687.172,{"$f":"D95*'Série - IPCA'!$C$444/'Série - IPCA'!$C$385","v":23108.254484718756},{"$f":"E95*'Série - IPCA'!$C$444/'Série - IPCA'!$C$398","v":508.38669557346975},{"$f":"F95*'Série - IPCA'!$C$444/'Série - IPCA'!$C$411","v":0},{"$f":"G95*'Série - IPCA'!$C$444/'Série - IPCA'!$C$424","v":0},{"$f":"H95*'Série - IPCA'!$C$444/'Série - IPCA'!$C$437","v":359.33770548051382},4795.1957771545476,null,"N","NÃO","NÃO","ENCARGOS DE GESTÃO","FUNCIONÁRIOS","PESSOAL",2200,"DIRETORIA COLEGIADA - PRESIDÊNCIA"]
[null,null,null,-100.27,12951.45,13543.82,0,0,5279,{"$f":"D96*'Série - IPCA'!$C$444/'Série - IPCA'!$C$385","v":-131.06058694401202},{"$f":"E96*'Série - IPCA'!$C$444/'Série - IPCA'!$C$398","v":16196.853459571521},{"$f":"F96*'Série - IPCA'!$C$444/'Série - IPCA'!$C$411","v":15389.34184005498},{"$f":"G96*'Série - IPCA'!$C$444/'Série - IPCA'!$C$424","v":0},{"$f":"H96*'Série - IPCA'!$C$444/'Série - IPCA'!$C$437","v":0},6291.0269425364986,null,"N","NÃO","NÃO","ENCARGOS DE GESTÃO","FUNCIONÁRIOS","PESSOAL",2300,"DIRETORIA COLEGIADA - DAF"]
[null,null,null,0,1522.82,827.6,483.16,928.08,752.33199999999999,{"$f":"D97*'Série - IPCA'!$C$444/'Série - IPCA'!$C$385","v":0},{"$f":"E97*'Série - IPCA'!$C$444/'Série - IPCA'!$C$398","v":1904.4116593358044},{"$f":"F97*'Série - IPCA'!$C$444/'Série - IPCA'!$C$411","v":940.37127685021676},{"$f":"G97*'Série - IPCA'!$C$444/'Série - IPCA'!$C$424","v":518.97372921523186},{"$f":"H97*'Série - IPCA'!$C$444/'Série - IPCA'!$C$437","v":952.84039343530071},863.31941176731073,null,"N","NÃO","NÃO","ENCARGOS DE GESTÃO","FUNCIONÁRIOS","PESSOAL",2310,"ASSESSORIA DAF"]
[null,null,null,9185.2800000000007,101.38,0,0,0,1857.3319999999999,{"$f":"D98*'Série - IPCA'!$C$444/'Série - IPCA'!$C$385","v":12005.866042137179},{"$f":"E98*'Série - IPCA'!$C$444/'Série - IPCA'!$C$398","v":126.78402833129577},{"$f":"F98*'Série - IPCA'!$C$444/'Série - IPCA'!$C$411","v":0},{"$f":"G98*'Série - IPCA'!$C$444/'Série - IPCA'!$C$424","v":0},{"$f":"H98*'Série - IPCA'!$C$444/'Série - IPCA'!$C$437","v":0},2426.5300140936952,null,"N","NÃO","NÃO","ENCARGOS DE GESTÃO","FUNCIONÁRIOS","PESSOAL",2400,"DIRETORIA COLEGIADA - DTC"]
[null,null,null,16886.04,52759.89,56098.14,63422.400000000001,81619.320000000007,54157.15800000001,{"$f":"D99*'Série - IPCA'!$C$444/'Série - IPCA'!$C$385","v":22071.350489279597},{"$f":"E99*'Série - IPCA'!$C$444/'Série - IPCA'!$C$398","v":65980.581855553843},{"$f":"F99*'Série - IPCA'!$C$444/'Série - IPCA'!$C$411","v":63742.242074338108},{"$f":"G99*'Série - IPCA'!$C$444/'Série - IPCA'!$C$424","v":68123.51900774095},{"$f":"H99*'Série - IPCA'!$C$444/'Série - IPCA'!$C$437","v":83796.854776228036},60742.90964062811,null,"N","NÃO","NÃO","ENCARGOS DE GESTÃO","FUNCIONÁRIOS","PESSOAL",2410,"ASSESSORIA DE SEGURANÇA DO TRABALHO"]
[null,null,null,44723.85,25738.2,0,0,0,14092.41,{"$f":"D100*'Série - IPCA'!$C$444/'Série - IPCA'!$C$385","v":58457.505050323649},{"$f":"E100*'Série - IPCA'!$C$444/'Série - IPCA'!$C$398","v":32187.736022850237},{"$f":"F100*'Série - IPCA'!$C$444/'Série - IPCA'!$C$411","v":0},{"$f":"G100*'Série - IPCA'!$C$444/'Série - IPCA'!$C$424","v":0},{"$f":"H100*'Série - IPCA'!$C$444/'Série - IPCA'!$C$437","v":0},18129.048214634775,null,"N","NÃO","NÃO","ENCARGOS DE GESTÃO","FUNCIONÁRIOS","PESSOAL",3100,"SMS"]
[null,null,null,48299.61,68778.929999999993,87196.68,85542.71,103982.48,78760.081999999995,{"$f":"D101*'Série - IPCA'!$C$444/'Série - IPCA'!$C$385","v":63131.29785346437},{"$f":"E101*'Série - IPCA'!$C$444/'Série - IPCA'!$C$398","v":86013.708914146846},{"$f":"F101*'Série - IPCA'!$C$444/'Série - IPCA'!$C$411","v":99078.363108627047},{"$f":"G101*'Série - IPCA'!$C$444/'Série - IPCA'!$C$424","v":91883.473830360759},{"$f":"H101*'Série - IPCA'!$C$444/'Série - IPCA'!$C$437","v":106756.64506678119},89372.697754676046,null,"N","NÃO","NÃO","ENCARGOS DE GESTÃO","FUNCIONÁRIOS","PESSOAL",3200,"GERÊNCIA DE PLANEJAMENTO E MEIO AMBIENTE"]
[null,null,null,44280.58,53379.14,44911.92,43104.74,51386.54,47412.584000000003,{"$f":"D102*'Série - IPCA'!$C$444/'Série - IPCA'!$C$385","v":57878.117133951135},{"$f":"E102*'Série - IPCA'!$C$444/'Série - IPCA'!$C$398","v":66755.004912805322},{"$f":"F102*'Série - IPCA'!$C$444/'Série - IPCA'!$C$411","v":51031.753934503118},{"$f":"G102*'Série - IPCA'!$C$444/'Série - IPCA'!$C$424","v":46299.833729309066},{"$f":"H102*'Série - IPCA'!$C$444/'Série - IPCA'!$C$437","v":52757.489646236128},54944.439871360955,null,"N","NÃO","NÃO","ENCARGOS DE GESTÃO","FUNCIONÁRIOS","PESSOAL",3300,"GERÊNCIA JURÍDICA"]
[null,null,null,12426.91,46270.66,43123.27,41365.9,39277.11,36492.769999999997,{"$f":"D103*'Série - IPCA'!$C$444/'Série - IPCA'!$C$385","v":16242.925286729955},{"$f":"E103*'Série - IPCA'!$C$444/'Série - IPCA'!$C$398","v":57865.266012504981},{"$f":"F103*'Série - IPCA'!$C$444/'Série - IPCA'!$C$411","v":48999.377080542094},{"$f":"G103*'Série - IPCA'!$C$444/'Série - IPCA'!$C$424","v":44432.104034573131},{"$f":"H103*'Série - IPCA'!$C$444/'Série - IPCA'!$C$437","v":40324.990243730696},41572.93253161617,null,"N","NÃO","NÃO","ENCARGOS DE GESTÃO","FUNCIONÁRIOS","PESSOAL",3500,"ASSESSORIA DE COMUNICAÇÃO INSTITUCIONAL"]
[null,null,null,32031.33,62079.56,43154.35,56769.32,63406.06,51488.123999999996,{"$f":"D104*'Série - IPCA'!$C$444/'Série - IPCA'!$C$385","v":41867.40710479048},{"$f":"E104*'Série - IPCA'!$C$444/'Série - IPCA'!$C$398","v":77635.595717443051},{"$f":"F104*'Série - IPCA'!$C$444/'Série - IPCA'!$C$411","v":49034.692135259967},{"$f":"G104*'Série - IPCA'!$C$444/'Série - IPCA'!$C$424","v":60977.286417362455},{"$f":"H104*'Série - IPCA'!$C$444/'Série - IPCA'!$C$437","v":65097.680325599395},58922.532340091071,null,"N","NÃO","NÃO","ENCARGOS DE GESTÃO","FUNCIONÁRIOS","PESSOAL",3600,"GERÊNCIA DE GOVERNANÇA, RISCO E COMPLIANCE"]
[null,null,null,0,820.97,9851.64,10728.36,12294.83,6739.1600000000008,{"$f":"D105*'Série - IPCA'!$C$444/'Série - IPCA'!$C$385","v":0},{"$f":"E105*'Série - IPCA'!$C$444/'Série - IPCA'!$C$398","v":1026.6905083758522},{"$f":"F105*'Série - IPCA'!$C$444/'Série - IPCA'!$C$411","v":11194.05423618737},{"$f":"G105*'Série - IPCA'!$C$444/'Série - IPCA'!$C$424","v":11523.588454266752},{"$f":"H105*'Série - IPCA'!$C$444/'Série - IPCA'!$C$437","v":12622.845718494245},7273.4357834648445,null,"N","NÃO","NÃO","ENCARGOS DE GESTÃO","FUNCIONÁRIOS","PESSOAL",3700,"GERÊNCIA DE REGULAÇÃO"]
[null,null,null,88931.199999999997,160993,325653.38,67392.56,155947.4,159783.50800000003,{"$f":"D106*'Série - IPCA'!$C$444/'Série - IPCA'!$C$385","v":116239.90495298019},{"$f":"E106*'Série - IPCA'!$C$444/'Série - IPCA'!$C$398","v":201334.987898405},{"$f":"F106*'Série - IPCA'!$C$444/'Série - IPCA'!$C$411","v":370027.89362154284},{"$f":"G106*'Série - IPCA'!$C$444/'Série - IPCA'!$C$424","v":72387.962961671627},{"$f":"H106*'Série - IPCA'!$C$444/'Série - IPCA'!$C$437","v":160107.94540471968},184019.73896786387,null,"N","NÃO","NÃO","ENCARGOS DE GESTÃO","FUNCIONÁRIOS","PESSOAL",4100,"GERÊNCIA DE SERVIÇOS CORPORATIVOS"]
[null,null,null,82070.899999999994,98209.95,82854.98,87867.520000000004,105099.44,91220.55799999999,{"$f":"D107*'Série - IPCA'!$C$444/'Série - IPCA'!$C$385","v":107272.96624138142},{"$f":"E107*'Série - IPCA'!$C$444/'Série - IPCA'!$C$398","v":122819.62007511483},{"$f":"F107*'Série - IPCA'!$C$444/'Série - IPCA'!$C$411","v":94145.049946833213},{"$f":"G107*'Série - IPCA'!$C$444/'Série - IPCA'!$C$424","v":94380.607937937675},{"$f":"H107*'Série - IPCA'!$C$444/'Série - IPCA'!$C$437","v":107903.40461967695},105304.32976418882,null,"N","NÃO","NÃO","ENCARGOS DE GESTÃO","FUNCIONÁRIOS","PESSOAL",4200,"GERÊNCIA FINANCEIRA"]
[null,null,null,87597.41,110015.4,98017.89,82418.77,87174.1,93044.714000000007,{"$f":"D108*'Série - IPCA'!$C$444/'Série - IPCA'!$C$385","v":114496.53903834915},{"$f":"E108*'Série - IPCA'!$C$444/'Série - IPCA'!$C$398","v":137583.30627814992},{"$f":"F108*'Série - IPCA'!$C$444/'Série - IPCA'!$C$411","v":111374.10388287106},{"$f":"G108*'Série - IPCA'!$C$444/'Série - IPCA'!$C$424","v":88527.975048084423},{"$f":"H108*'Série - IPCA'!$C$444/'Série - IPCA'!$C$437","v":89499.831632368179},108296.35117596453,null,"N","NÃO","NÃO","ENCARGOS DE GESTÃO","FUNCIONÁRIOS","PESSOAL",4300,"GERÊNCIA DE TECNOLOGIA E SISTEMAS DE INFORMAÇÃO"]
[null,null,null,58456.08,70440.66,71666.850000000006,79970.460000000006,92956.99,74698.208000000013,{"$f":"D109*'Série - IPCA'!$C$444/'Série - IPCA'!$C$385","v":76406.58377626531},{"$f":"E109*'Série - IPCA'!$C$444/'Série - IPCA'!$C$398","v":88091.83895359216},{"$f":"F109*'Série - IPCA'!$C$444/'Série - IPCA'!$C$411","v":81432.391544626575},{"$f":"G109*'Série - IPCA'!$C$444/'Série - IPCA'!$C$424","v":85898.186632290599},{"$f":"H109*'Série - IPCA'!$C$444/'Série - IPCA'!$C$437","v":95437.004271357349},85453.201035626393,null,"N","NÃO","NÃO","ENCARGOS DE GESTÃO","FUNCIONÁRIOS","PESSOAL",4500,"GERÊNCIA CONTÁBIL"]
[null,null,null,51661.61,0,0,0,9636.06,12259.534,{"$f":"D110*'Série - IPCA'!$C$444/'Série - IPCA'!$C$385","v":67525.689927921034},{"$f":"E110*'Série - IPCA'!$C$444/'Série - IPCA'!$C$398","v":0},{"$f":"F110*'Série - IPCA'!$C$444/'Série - IPCA'!$C$411","v":0},{"$f":"G110*'Série - IPCA'!$C$444/'Série - IPCA'!$C$424","v":0},{"$f":"H110*'Série - IPCA'!$C$444/'Série - IPCA'!$C$437","v":9893.1419722073133},15483.766380025671,null,"N","NÃO","NÃO","ENCARGOS DE GESTÃO","FUNCIONÁRIOS","PESSOAL",4600,"GERÊNCIA DE PESSOAS E CULTURA"]
[null,null,null,263536.53999999998,291931.44,140077.92000000001,129079.07,168788.42,198682.67800000001,{"$f":"D111*'Série - IPCA'!$C$444/'Série - IPCA'!$C$385","v":344462.48741990729},{"$f":"E111*'Série - IPCA'!$C$444/'Série - IPCA'!$C$398","v":365084.27658074547},{"$f":"F111*'Série - IPCA'!$C$444/'Série - IPCA'!$C$411","v":159165.36066810356},{"$f":"G111*'Série - IPCA'!$C$444/'Série - IPCA'!$C$424","v":138646.92094033849},{"$f":"H111*'Série - IPCA'!$C$444/'Série - IPCA'!$C$437","v":173291.55301280363},236130.11972437971,null,"N","NÃO","NÃO","OPEX","FUNCIONÁRIOS","PESSOAL",5100,"GERÊNCIA DE ENGENHARIA"]
[null,null,null,415267.13,515047,486137.1,509385.22,579861.13,501139.516,{"$f":"D112*'Série - IPCA'!$C$444/'Série - IPCA'!$C$385","v":542786.01572110655},{"$f":"E112*'Série - IPCA'!$C$444/'Série - IPCA'!$C$398","v":644108.63523326977},{"$f":"F112*'Série - IPCA'!$C$444/'Série - IPCA'!$C$411","v":552379.61026010325},{"$f":"G112*'Série - IPCA'!$C$444/'Série - IPCA'!$C$424","v":547142.86619447242},{"$f":"H112*'Série - IPCA'!$C$444/'Série - IPCA'!$C$437","v":595331.33700439404},576349.69288266939,null,"N","NÃO","NÃO","OPEX","FUNCIONÁRIOS","PESSOAL",5200,"GERÊNCIA DE OPERAÇÕES"]
[null,null,null,70393.17,0,0,0,0,14078.634,{"$f":"D113*'Série - IPCA'!$C$444/'Série - IPCA'!$C$385","v":92009.276723343166},{"$f":"E113*'Série - IPCA'!$C$444/'Série - IPCA'!$C$398","v":0},{"$f":"F113*'Série - IPCA'!$C$444/'Série - IPCA'!$C$411","v":0},{"$f":"G113*'Série - IPCA'!$C$444/'Série - IPCA'!$C$424","v":0},{"$f":"H113*'Série - IPCA'!$C$444/'Série - IPCA'!$C$437","v":0},18401.855344668635,null,"N","NÃO","NÃO","ENCARGOS DE COMERCIALIZAÇÃO","FUNCIONÁRIOS","PESSOAL",5400,"GERÊNCIA COMERCIAL (inativo)"]
[null,null,null,40807.800000000003,0,0,0,0,8161.56,{"$f":"D114*'Série - IPCA'!$C$444/'Série - IPCA'!$C$385","v":53338.927095779938},{"$f":"E114*'Série - IPCA'!$C$444/'Série - IPCA'!$C$398","v":0},{"$f":"F114*'Série - IPCA'!$C$444/'Série - IPCA'!$C$411","v":0},{"$f":"G114*'Série - IPCA'!$C$444/'Série - IPCA'!$C$424","v":0},{"$f":"H114*'Série - IPCA'!$C$444/'Série - IPCA'!$C$437","v":0},10667.785419155987,null,"N","NÃO","NÃO","ENCARGOS DE COMERCIALIZAÇÃO","FUNCIONÁRIOS","PESSOAL",5500,"GERÊNCIA COMERCIAL (inativo)"]
[null,null,null,27467.15,0,0,0,0,5493.43,{"$f":"D115*'Série - IPCA'!$C$444/'Série - IPCA'!$C$385","v":35901.673488373592},{"$f":"E115*'Série - IPCA'!$C$444/'Série - IPCA'!$C$398","v":0},{"$f":"F115*'Série - IPCA'!$C$444/'Série - IPCA'!$C$411","v":0},{"$f":"G115*'Série - IPCA'!$C$444/'Série - IPCA'!$C$424","v":0},{"$f":"H115*'Série - IPCA'!$C$444/'Série - IPCA'!$C$437","v":0},7180.334697674718,null,"N","NÃO","NÃO","ENCARGOS DE GESTÃO","FUNCIONÁRIOS","PESSOAL",2100,"SECRETARIA"]
[null,null,null,43743.13,0,0,0,0,8748.6260000000002,{"$f":"D116*'Série - IPCA'!$C$444/'Série - IPCA'!$C$385","v":57175.628728116288},{"$f":"E116*'Série - IPCA'!$C$444/'Série - IPCA'!$C$398","v":0},{"$f":"F116*'Série - IPCA'!$C$444/'Série - IPCA'!$C$411","v":0},{"$f":"G116*'Série - IPCA'!$C$444/'Série - IPCA'!$C$424","v":0},{"$f":"H116*'Série - IPCA'!$C$444/'Série - IPCA'!$C$437","v":0},11435.125745623258,null,"N","NÃO","NÃO","ENCARGOS DE GESTÃO","FUNCIONÁRIOS","PESSOAL",3400,"MARKETING"]
[null,null,null,67412.740000000005,0,0,0,0,13482.548000000001,{"$f":"D117*'Série - IPCA'!$C$444/'Série - IPCA'!$C$385","v":88113.625929032394},{"$f":"E117*'Série - IPCA'!$C$444/'Série - IPCA'!$C$398","v":0},{"$f":"F117*'Série - IPCA'!$C$444/'Série - IPCA'!$C$411","v":0},{"$f":"G117*'Série - IPCA'!$C$444/'Série - IPCA'!$C$424","v":0},{"$f":"H117*'Série - IPCA'!$C$444/'Série - IPCA'!$C$437","v":0},17622.725185806477,null,"N","SIM","NÃO","ENCARGOS DE COMERCIALIZAÇÃO","FIXO","DESPESAS_INSTITUCIONAIS",5400,"GERÊNCIA COMERCIAL (inativo)"]
[null,null,null,33738.699999999997,0,0,0,0,6747.74,{"$f":"D118*'Série - IPCA'!$C$444/'Série - IPCA'!$C$385","v":44099.070756237546},{"$f":"E118*'Série - IPCA'!$C$444/'Série - IPCA'!$C$398","v":0},{"$f":"F118*'Série - IPCA'!$C$444/'Série - IPCA'!$C$411","v":0},{"$f":"G118*'Série - IPCA'!$C$444/'Série - IPCA'!$C$424","v":0},{"$f":"H118*'Série - IPCA'!$C$444/'Série - IPCA'!$C$437","v":0},8819.8141512475086,null,"N","SIM","NÃO","ENCARGOS DE COMERCIALIZAÇÃO","FIXO","DESPESAS_INSTITUCIONAIS",5500,"GERÊNCIA COMERCIAL (inativo)"]
[null,null,null,11827.97,0,0,0,0,2365.5940000000001,{"$f":"D119*'Série - IPCA'!$C$444/'Série - IPCA'!$C$385","v":15460.06473078853},{"$f":"E119*'Série - IPCA'!$C$444/'Série - IPCA'!$C$398","v":0},{"$f":"F119*'Série - IPCA'!$C$444/'Série - IPCA'!$C$411","v":0},{"$f":"G119*'Série - IPCA'!$C$444/'Série - IPCA'!$C$424","v":0},{"$f":"H119*'Série - IPCA'!$C$444/'Série - IPCA'!$C$437","v":0},3092.0129461577062,null,"N","SIM","NÃO","ENCARGOS DE GESTÃO","FIXO","DESPESAS_INSTITUCIONAIS",2100,"SECRETARIA"]
[null,null,null,26952.18,0,0,0,0,5390.4359999999997,{"$f":"D120*'Série - IPCA'!$C$444/'Série - IPCA'!$C$385","v":35228.568168152611},{"$f":"E120*'Série - IPCA'!$C$444/'Série - IPCA'!$C$398","v":0},{"$f":"F120*'Série - IPCA'!$C$444/'Série - IPCA'!$C$411","v":0},{"$f":"G120*'Série - IPCA'!$C$444/'Série - IPCA'!$C$424","v":0},{"$f":"H120*'Série - IPCA'!$C$444/'Série - IPCA'!$C$437","v":0},7045.7136336305221,null,"N","SIM","NÃO","ENCARGOS DE GESTÃO","FIXO","DESPESAS_INSTITUCIONAIS",2200,"DIRETORIA COLEGIADA - PRESIDÊNCIA"]
[null,null,null,9221.8799999999992,0,0,0,0,1844.3759999999997,{"$f":"D121*'Série - IPCA'!$C$444/'Série - IPCA'!$C$385","v":12053.705051633046},{"$f":"E121*'Série - IPCA'!$C$444/'Série - IPCA'!$C$398","v":0},{"$f":"F121*'Série - IPCA'!$C$444/'Série - IPCA'!$C$411","v":0},{"$f":"G121*'Série - IPCA'!$C$444/'Série - IPCA'!$C$424","v":0},{"$f":"H121*'Série - IPCA'!$C$444/'Série - IPCA'!$C$437","v":0},2410.7410103266093,null,"N","SIM","NÃO","ENCARGOS DE GESTÃO","FIXO","DESPESAS_INSTITUCIONAIS",2300,"DIRETORIA COLEGIADA - DAF"]
[null,null,null,6721.88,0,0,0,0,1344.376,{"$f":"D122*'Série - IPCA'!$C$444/'Série - IPCA'!$C$385","v":8786.0131461774763},{"$f":"E122*'Série - IPCA'!$C$444/'Série - IPCA'!$C$398","v":0},{"$f":"F122*'Série - IPCA'!$C$444/'Série - IPCA'!$C$411","v":0},{"$f":"G122*'Série - IPCA'!$C$444/'Série - IPCA'!$C$424","v":0},{"$f":"H122*'Série - IPCA'!$C$444/'Série - IPCA'!$C$437","v":0},1757.2026292354954,null,"N","SIM","NÃO","ENCARGOS DE GESTÃO","FIXO","DESPESAS_INSTITUCIONAIS",2400,"DIRETORIA COLEGIADA - DTC"]
[null,null,null,28632.65,0,0,0,0,5726.5300000000007,{"$f":"D123*'Série - IPCA'!$C$444/'Série - IPCA'!$C$385","v":37425.071454696983},{"$f":"E123*'Série - IPCA'!$C$444/'Série - IPCA'!$C$398","v":0},{"$f":"F123*'Série - IPCA'!$C$444/'Série - IPCA'!$C$411","v":0},{"$f":"G123*'Série - IPCA'!$C$444/'Série - IPCA'!$C$424","v":0},{"$f":"H123*'Série - IPCA'!$C$444/'Série - IPCA'!$C$437","v":0},7485.0142909393962,null,"N","SIM","NÃO","ENCARGOS DE GESTÃO","FIXO","DESPESAS_INSTITUCIONAIS",3100,"SMS"]
[null,null,null,16869.34,0,0,0,0,3373.8679999999999,{"$f":"D124*'Série - IPCA'!$C$444/'Série - IPCA'!$C$385","v":22049.522307351148},{"$f":"E124*'Série - IPCA'!$C$444/'Série - IPCA'!$C$398","v":0},{"$f":"F124*'Série - IPCA'!$C$444/'Série - IPCA'!$C$411","v":0},{"$f":"G124*'Série - IPCA'!$C$444/'Série - IPCA'!$C$424","v":0},{"$f":"H124*'Série - IPCA'!$C$444/'Série - IPCA'!$C$437","v":0},4409.9044614702298,null,"N","SIM","NÃO","ENCARGOS DE GESTÃO","FIXO","DESPESAS_INSTITUCIONAIS",3200,"GERÊNCIA DE PLANEJAMENTO E MEIO AMBIENTE"]
[null,null,null,47471.4,21113.67,2691.94,2691.94,3216.69,15437.128000000002,{"$f":"D125*'Série - IPCA'!$C$444/'Série - IPCA'!$C$385","v":62048.763808257427},{"$f":"E125*'Série - IPCA'!$C$444/'Série - IPCA'!$C$398","v":26404.380898181393},{"$f":"F125*'Série - IPCA'!$C$444/'Série - IPCA'!$C$411","v":3058.7518789320593},{"$f":"G125*'Série - IPCA'!$C$444/'Série - IPCA'!$C$424","v":2891.4772345054453},{"$f":"H125*'Série - IPCA'!$C$444/'Série - IPCA'!$C$437","v":3302.5085824060402},19541.176480456474,null,"S",null,null,"OPEX",null,"SERVIÇOS",5100,"GERÊNCIA DE ENGENHARIA"]
[null,null,null,27.8,0,0,0,0,5.5600000000000005,{"$f":"D126*'Série - IPCA'!$C$444/'Série - IPCA'!$C$385","v":36.336733988665948},{"$f":"E126*'Série - IPCA'!$C$444/'Série - IPCA'!$C$398","v":0},{"$f":"F126*'Série - IPCA'!$C$444/'Série - IPCA'!$C$411","v":0},{"$f":"G126*'Série - IPCA'!$C$444/'Série - IPCA'!$C$424","v":0},{"$f":"H126*'Série - IPCA'!$C$444/'Série - IPCA'!$C$437","v":0},7.2673467977331896,null,"S","NÃO",null,"OPEX",null,"DESPESAS GERAIS",5100,"GERÊNCIA DE ENGENHARIA"]
[null,null,null,25536845.82,28098186.460000001,28142776.170000002,30437686.469999999,27452997.899999999,27933698.563999999,{"$f":"D127*'Série - IPCA'!$C$444/'Série - IPCA'!$C$385","v":33378617.750752371},{"$f":"E127*'Série - IPCA'!$C$444/'Série - IPCA'!$C$398","v":35139093.195922978},{"$f":"F127*'Série - IPCA'!$C$444/'Série - IPCA'!$C$411","v":31977595.893055525},{"$f":"G127*'Série - IPCA'!$C$444/'Série - IPCA'!$C$424","v":32693848.116607133},{"$f":"H127*'Série - IPCA'!$C$444/'Série - IPCA'!$C$437","v":28185420.782706752},32274915.14780895,null,"S",null,null,"OPEX",null,"SERVIÇOS",5200,"GERÊNCIA DE OPERAÇÕES"]
[null,null,null,2353554.54,0,0,0,0,470710.908,{"$f":"D128*'Série - IPCA'!$C$444/'Série - IPCA'!$C$385","v":3076276.4477624837},{"$f":"E128*'Série - IPCA'!$C$444/'Série - IPCA'!$C$398","v":0},{"$f":"F128*'Série - IPCA'!$C$444/'Série - IPCA'!$C$411","v":0},{"$f":"G128*'Série - IPCA'!$C$444/'Série - IPCA'!$C$424","v":0},{"$f":"H128*'Série - IPCA'!$C$444/'Série - IPCA'!$C$437","v":0},615255.28955249675,null,"S","NÃO",null,"OPEX",null,"DESPESAS GERAIS",5200,"GERÊNCIA DE OPERAÇÕES"]
[null,null,null,268.36,0,0,0,0,53.672000000000004,{"$f":"D129*'Série - IPCA'!$C$444/'Série - IPCA'!$C$385","v":350.76711989922279},{"$f":"E129*'Série - IPCA'!$C$444/'Série - IPCA'!$C$398","v":0},{"$f":"F129*'Série - IPCA'!$C$444/'Série - IPCA'!$C$411","v":0},{"$f":"G129*'Série - IPCA'!$C$444/'Série - IPCA'!$C$424","v":0},{"$f":"H129*'Série - IPCA'!$C$444/'Série - IPCA'!$C$437","v":0},70.153423979844561,null,"S","NÃO",null,"OPEX",null,"DESPESAS GERAIS",5200,"GERÊNCIA DE OPERAÇÕES"]
[null,null,null,20230.310000000001,0,0,0,0,4046.0620000000004,{"$f":"D130*'Série - IPCA'!$C$444/'Série - IPCA'!$C$385","v":26442.568092742757},{"$f":"E130*'Série - IPCA'!$C$444/'Série - IPCA'!$C$398","v":0},{"$f":"F130*'Série - IPCA'!$C$444/'Série - IPCA'!$C$411","v":0},{"$f":"G130*'Série - IPCA'!$C$444/'Série - IPCA'!$C$424","v":0},{"$f":"H130*'Série - IPCA'!$C$444/'Série - IPCA'!$C$437","v":0},5288.5136185485517,null,"N","SIM","NÃO","ENCARGOS DE GESTÃO","FIXO","DESPESAS_INSTITUCIONAIS",3300,"GERÊNCIA JURÍDICA"]
[null,null,null,23591.25,0,0,0,0,4718.25,{"$f":"D131*'Série - IPCA'!$C$444/'Série - IPCA'!$C$385","v":30835.574665831493},{"$f":"E131*'Série - IPCA'!$C$444/'Série - IPCA'!$C$398","v":0},{"$f":"F131*'Série - IPCA'!$C$444/'Série - IPCA'!$C$411","v":0},{"$f":"G131*'Série - IPCA'!$C$444/'Série - IPCA'!$C$424","v":0},{"$f":"H131*'Série - IPCA'!$C$444/'Série - IPCA'!$C$437","v":0},6167.1149331662982,null,"N","SIM","NÃO","ENCARGOS DE GESTÃO","FIXO","DESPESAS_INSTITUCIONAIS",3400,"MARKETING"]
[null,null,null,10147.450000000001,0,0,0,0,2029.4900000000002,{"$f":"D132*'Série - IPCA'!$C$444/'Série - IPCA'!$C$385","v":13263.496090406054},{"$f":"E132*'Série - IPCA'!$C$444/'Série - IPCA'!$C$398","v":0},{"$f":"F132*'Série - IPCA'!$C$444/'Série - IPCA'!$C$411","v":0},{"$f":"G132*'Série - IPCA'!$C$444/'Série - IPCA'!$C$424","v":0},{"$f":"H132*'Série - IPCA'!$C$444/'Série - IPCA'!$C$437","v":0},2652.6992180812108,null,"N","SIM","NÃO","ENCARGOS DE GESTÃO","FIXO","DESPESAS_INSTITUCIONAIS",3600,"GERÊNCIA DE GOVERNANÇA, RISCO E COMPLIANCE"]
[null,null,null,53821.53,0,0,0,0,{"$f":"AVERAGE(D133:H133)","v":10764.306},{"$f":"D133*'Série - IPCA'!$C$444/'Série - IPCA'!$C$385","v":70348.871168093669},{"$f":"E133*'Série - IPCA'!$C$444/'Série - IPCA'!$C$398","v":0},{"$f":"F133*'Série - IPCA'!$C$444/'Série - IPCA'!$C$411","v":0},{"$f":"G133*'Série - IPCA'!$C$444/'Série - IPCA'!$C$424","v":0},{"$f":"H133*'Série - IPCA'!$C$444/'Série - IPCA'!$C$437","v":0},{"$f":"AVERAGE(J133:N133)","v":14069.774233618733},null,"N","SIM","NÃO","ENCARGOS DE GESTÃO","FIXO","DESPESAS_INSTITUCIONAIS",4100,"GERÊNCIA DE SERVIÇOS CORPORATIVOS"]
[null,null,null,37099.65,0,0,0,0,7419.93,{"$f":"D134*'Série - IPCA'!$C$444/'Série - IPCA'!$C$385","v":48492.090400093904},{"$f":"E134*'Série - IPCA'!$C$444/'Série - IPCA'!$C$398","v":0},{"$f":"F134*'Série - IPCA'!$C$444/'Série - IPCA'!$C$411","v":0},{"$f":"G134*'Série - IPCA'!$C$444/'Série - IPCA'!$C$424","v":0},{"$f":"H134*'Série - IPCA'!$C$444/'Série - IPCA'!$C$437","v":0},9698.4180800187805,null,"N","SIM","NÃO","ENCARGOS DE GESTÃO","FIXO","DESPESAS_INSTITUCIONAIS",4200,"GERÊNCIA FINANCEIRA"]
[null,null,null,41882.550000000003,0,0,0,0,8376.51,{"$f":"D135*'Série - IPCA'!$C$444/'Série - IPCA'!$C$385","v":54743.707845935292},{"$f":"E135*'Série - IPCA'!$C$444/'Série - IPCA'!$C$398","v":0},{"$f":"F135*'Série - IPCA'!$C$444/'Série - IPCA'!$C$411","v":0},{"$f":"G135*'Série - IPCA'!$C$444/'Série - IPCA'!$C$424","v":0},{"$f":"H135*'Série - IPCA'!$C$444/'Série - IPCA'!$C$437","v":0},10948.741569187059,null,"N","SIM","NÃO","ENCARGOS DE GESTÃO","FIXO","DESPESAS_INSTITUCIONAIS",4300,"GERÊNCIA DE TECNOLOGIA E SISTEMAS DE INFORMAÇÃO"]
[null,null,null,26952.17,0,0,0,0,5390.4339999999993,{"$f":"D136*'Série - IPCA'!$C$444/'Série - IPCA'!$C$385","v":35228.555097384982},{"$f":"E136*'Série - IPCA'!$C$444/'Série - IPCA'!$C$398","v":0},{"$f":"F136*'Série - IPCA'!$C$444/'Série - IPCA'!$C$411","v":0},{"$f":"G136*'Série - IPCA'!$C$444/'Série - IPCA'!$C$424","v":0},{"$f":"H136*'Série - IPCA'!$C$444/'Série - IPCA'!$C$437","v":0},7045.7110194769966,null,"N","SIM","NÃO","ENCARGOS DE GESTÃO","FIXO","DESPESAS_INSTITUCIONAIS",4500,"GERÊNCIA CONTÁBIL"]
[null,null,null,23591.25,0,0,0,0,4718.25,{"$f":"D137*'Série - IPCA'!$C$444/'Série - IPCA'!$C$385","v":30835.574665831493},{"$f":"E137*'Série - IPCA'!$C$444/'Série - IPCA'!$C$398","v":0},{"$f":"F137*'Série - IPCA'!$C$444/'Série - IPCA'!$C$411","v":0},{"$f":"G137*'Série - IPCA'!$C$444/'Série - IPCA'!$C$424","v":0},{"$f":"H137*'Série - IPCA'!$C$444/'Série - IPCA'!$C$437","v":0},6167.1149331662982,null,"N","SIM","NÃO","ENCARGOS DE GESTÃO","FIXO","DESPESAS_INSTITUCIONAIS",4600,"GERÊNCIA DE PESSOAS E CULTURA"]
[null,null,null,140248.29999999999,0,0,0,0,28049.659999999996,{"$f":"D138*'Série - IPCA'!$C$444/'Série - IPCA'!$C$385","v":183315.29386556178},{"$f":"E138*'Série - IPCA'!$C$444/'Série - IPCA'!$C$398","v":0},{"$f":"F138*'Série - IPCA'!$C$444/'Série - IPCA'!$C$411","v":0},{"$f":"G138*'Série - IPCA'!$C$444/'Série - IPCA'!$C$424","v":0},{"$f":"H138*'Série - IPCA'!$C$444/'Série - IPCA'!$C$437","v":0},36663.058773112352,null,"N","NÃO ","NÃO","ENCARGOS DE GESTÃO","FIXO","DESPESAS_GERAIS",2100,"SECRETARIA"]
[null,null,null,8735.68,7097.74,19241.87,15607.89,11749.14,12486.464,{"$f":"D139*'Série - IPCA'!$C$444/'Série - IPCA'!$C$385","v":11418.204329860049},{"$f":"E139*'Série - IPCA'!$C$444/'Série - IPCA'!$C$398","v":8876.3076469537518},{"$f":"F139*'Série - IPCA'!$C$444/'Série - IPCA'!$C$411","v":21863.825351481242},{"$f":"G139*'Série - IPCA'!$C$444/'Série - IPCA'!$C$424","v":16764.808507494668},{"$f":"H139*'Série - IPCA'!$C$444/'Série - IPCA'!$C$437","v":12062.597168483782},14197.148600854702,null,"N","SIM","NÃO","ENCARGOS DE COMERCIALIZAÇÃO","FUNCIONÁRIOS","PESSOAL",5300,"GERÊNCIA COMERCIAL"]
[null,null,null,65517.599999999999,63333.68,44514.07,37091.61,37141.379999999997,49519.668000000005,{"$f":"D140*'Série - IPCA'!$C$444/'Série - IPCA'!$C$385","v":85636.532473950356},{"$f":"E140*'Série - IPCA'!$C$444/'Série - IPCA'!$C$398","v":79203.975926664236},{"$f":"F140*'Série - IPCA'!$C$444/'Série - IPCA'!$C$411","v":50579.69169127589},{"$f":"G140*'Série - IPCA'!$C$444/'Série - IPCA'!$C$424","v":39840.986762763852},{"$f":"H140*'Série - IPCA'!$C$444/'Série - IPCA'!$C$437","v":38132.280764513845},58678.69352383363,null,"N","SIM","NÃO","OPEX","FUNCIONÁRIOS","PESSOAL",5100,"GERÊNCIA DE ENGENHARIA"]
[null,null,null,80259.06,70431.42,75319.72,101440.35,86217.48,82733.606,{"$f":"D141*'Série - IPCA'!$C$444/'Série - IPCA'!$C$385","v":104904.75228058918},{"$f":"E141*'Série - IPCA'!$C$444/'Série - IPCA'!$C$398","v":88080.283573617999},{"$f":"F141*'Série - IPCA'!$C$444/'Série - IPCA'!$C$411","v":85583.012649106822},{"$f":"G141*'Série - IPCA'!$C$444/'Série - IPCA'!$C$424","v":108959.50975328741},{"$f":"H141*'Série - IPCA'!$C$444/'Série - IPCA'!$C$437","v":88517.689815748832},95209.049614470059,null,"N","SIM","NÃO","OPEX","FUNCIONÁRIOS","PESSOAL",5200,"GERÊNCIA DE OPERAÇÕES"]
[null,null,null,8735.68,0,0,0,0,1747.136,{"$f":"D142*'Série - IPCA'!$C$444/'Série - IPCA'!$C$385","v":11418.204329860049},{"$f":"E142*'Série - IPCA'!$C$444/'Série - IPCA'!$C$398","v":0},{"$f":"F142*'Série - IPCA'!$C$444/'Série - IPCA'!$C$411","v":0},{"$f":"G142*'Série - IPCA'!$C$444/'Série - IPCA'!$C$424","v":0},{"$f":"H142*'Série - IPCA'!$C$444/'Série - IPCA'!$C$437","v":0},2283.64086597201,null,"N","SIM","NÃO","ENCARGOS DE COMERCIALIZAÇÃO","FUNCIONÁRIOS","PESSOAL",5500,"GERÊNCIA COMERCIAL (inativo)"]
[null,null,null,0,12011.56,7687.91,6977.61,7556.76,6846.7680000000009,{"$f":"D143*'Série - IPCA'!$C$444/'Série - IPCA'!$C$385","v":0},{"$f":"E143*'Série - IPCA'!$C$444/'Série - IPCA'!$C$398","v":15021.443710229425},{"$f":"F143*'Série - IPCA'!$C$444/'Série - IPCA'!$C$411","v":8735.4878480057378},{"$f":"G143*'Série - IPCA'!$C$444/'Série - IPCA'!$C$424","v":7494.818036901841},{"$f":"H143*'Série - IPCA'!$C$444/'Série - IPCA'!$C$437","v":7758.3679979055078},7802.0235186085019,null,"N","SIM","NÃO","ENCARGOS DE GESTÃO","FUNCIONÁRIOS","PESSOAL",1005,"AUDITORIA INTERNA"]
[null,null,null,0,0,1106.69,0,0,221.33800000000002,{"$f":"D144*'Série - IPCA'!$C$444/'Série - IPCA'!$C$385","v":0},{"$f":"E144*'Série - IPCA'!$C$444/'Série - IPCA'!$C$398","v":0},{"$f":"F144*'Série - IPCA'!$C$444/'Série - IPCA'!$C$411","v":1257.4909236072574},{"$f":"G144*'Série - IPCA'!$C$444/'Série - IPCA'!$C$424","v":0},{"$f":"H144*'Série - IPCA'!$C$444/'Série - IPCA'!$C$437","v":0},251.49818472145148,null,"N","SIM","NÃO","ENCARGOS DE GESTÃO","FUNCIONÁRIOS","PESSOAL",1010,"GOVERNANÇA SOCIETÁRIA"]
[null,null,null,17471.36,0,0,0,0,3494.2719999999999,{"$f":"D145*'Série - IPCA'!$C$444/'Série - IPCA'!$C$385","v":22836.408659720099},{"$f":"E145*'Série - IPCA'!$C$444/'Série - IPCA'!$C$398","v":0},{"$f":"F145*'Série - IPCA'!$C$444/'Série - IPCA'!$C$411","v":0},{"$f":"G145*'Série - IPCA'!$C$444/'Série - IPCA'!$C$424","v":0},{"$f":"H145*'Série - IPCA'!$C$444/'Série - IPCA'!$C$437","v":0},4567.2817319440201,null,"N","SIM","NÃO","ENCARGOS DE GESTÃO","FUNCIONÁRIOS","PESSOAL",2100,"SECRETARIA"]
[null,null,null,4367.84,9281.66,6595.95,3305.34,0,4710.1580000000004,{"$f":"D146*'Série - IPCA'!$C$444/'Série - IPCA'!$C$385","v":5709.1021649300246},{"$f":"E146*'Série - IPCA'!$C$444/'Série - IPCA'!$C$398","v":11607.479230631829},{"$f":"F146*'Série - IPCA'!$C$444/'Série - IPCA'!$C$411","v":7494.7340787097464},{"$f":"G146*'Série - IPCA'!$C$444/'Série - IPCA'!$C$424","v":3550.3448673819735},{"$f":"H146*'Série - IPCA'!$C$444/'Série - IPCA'!$C$437","v":0},5672.3320683307147,null,"N","SIM","NÃO","ENCARGOS DE GESTÃO","FUNCIONÁRIOS","PESSOAL",2110,"ASSESSORIA DA DIRETORIA EXECUTIVA"]
[null,null,null,0,0,0,0,6965.1,1393.02,{"$f":"D147*'Série - IPCA'!$C$444/'Série - IPCA'!$C$385","v":0},{"$f":"E147*'Série - IPCA'!$C$444/'Série - IPCA'!$C$398","v":0},{"$f":"F147*'Série - IPCA'!$C$444/'Série - IPCA'!$C$411","v":0},{"$f":"G147*'Série - IPCA'!$C$444/'Série - IPCA'!$C$424","v":0},{"$f":"H147*'Série - IPCA'!$C$444/'Série - IPCA'!$C$437","v":7150.923006978076},1430.1846013956151,null,"N","SIM","NÃO","ENCARGOS DE GESTÃO","FUNCIONÁRIOS","PESSOAL",2140,"ASSESSORIA DTC"]
[null,null,null,0,5459.8,6045.06,0,0,2300.9720000000002,{"$f":"D148*'Série - IPCA'!$C$444/'Série - IPCA'!$C$385","v":0},{"$f":"E148*'Série - IPCA'!$C$444/'Série - IPCA'!$C$398","v":6827.9289591951929},{"$f":"F148*'Série - IPCA'!$C$444/'Série - IPCA'!$C$411","v":6868.7781426246629},{"$f":"G148*'Série - IPCA'!$C$444/'Série - IPCA'!$C$424","v":0},{"$f":"H148*'Série - IPCA'!$C$444/'Série - IPCA'!$C$437","v":0},2739.3414203639709,null,"N","SIM","NÃO","ENCARGOS DE GESTÃO","FUNCIONÁRIOS","PESSOAL",2300,"DIRETORIA COLEGIADA - DAF"]
[null,null,null,8735.68,0,0,0,0,1747.136,{"$f":"D149*'Série - IPCA'!$C$444/'Série - IPCA'!$C$385","v":11418.204329860049},{"$f":"E149*'Série - IPCA'!$C$444/'Série - IPCA'!$C$398","v":0},{"$f":"F149*'Série - IPCA'!$C$444/'Série - IPCA'!$C$411","v":0},{"$f":"G149*'Série - IPCA'!$C$444/'Série - IPCA'!$C$424","v":0},{"$f":"H149*'Série - IPCA'!$C$444/'Série - IPCA'!$C$437","v":0},2283.64086597201,null,"N","SIM","NÃO","ENCARGOS DE GESTÃO","FUNCIONÁRIOS","PESSOAL",2400,"DIRETORIA COLEGIADA - DTC"]
[null,null,null,6551.76,12557.54,13191.9,10405.26,6914.34,9924.16,{"$f":"D150*'Série - IPCA'!$C$444/'Série - IPCA'!$C$385","v":8563.6532473950356},{"$f":"E150*'Série - IPCA'!$C$444/'Série - IPCA'!$C$398","v":15704.236606148945},{"$f":"F150*'Série - IPCA'!$C$444/'Série - IPCA'!$C$411","v":14989.468157419493},{"$f":"G150*'Série - IPCA'!$C$444/'Série - IPCA'!$C$424","v":11176.539004996446},{"$f":"H150*'Série - IPCA'!$C$444/'Série - IPCA'!$C$437","v":7098.8087728918181},11506.541157770347,null,"N","SIM","NÃO","ENCARGOS DE GESTÃO","FUNCIONÁRIOS","PESSOAL",2410,"ASSESSORIA DE SEGURANÇA DO TRABALHO"]
[null,null,null,15287.44,0,0,0,0,3057.4880000000003,{"$f":"D151*'Série - IPCA'!$C$444/'Série - IPCA'!$C$385","v":19981.857577255087},{"$f":"E151*'Série - IPCA'!$C$444/'Série - IPCA'!$C$398","v":0},{"$f":"F151*'Série - IPCA'!$C$444/'Série - IPCA'!$C$411","v":0},{"$f":"G151*'Série - IPCA'!$C$444/'Série - IPCA'!$C$424","v":0},{"$f":"H151*'Série - IPCA'!$C$444/'Série - IPCA'!$C$437","v":0},3996.3715154510173,null,"N","SIM","NÃO","ENCARGOS DE GESTÃO","FUNCIONÁRIOS","PESSOAL",3100,"SMS"]
[null,null,null,26207.040000000001,29482.92,21425.79,29644.65,30176.28,27387.335999999999,{"$f":"D152*'Série - IPCA'!$C$444/'Série - IPCA'!$C$385","v":34254.612989580142},{"$f":"E152*'Série - IPCA'!$C$444/'Série - IPCA'!$C$398","v":36870.816379654039},{"$f":"F152*'Série - IPCA'!$C$444/'Série - IPCA'!$C$411","v":24345.33289007323},{"$f":"G152*'Série - IPCA'!$C$444/'Série - IPCA'!$C$424","v":31842.028648440104},{"$f":"H152*'Série - IPCA'!$C$444/'Série - IPCA'!$C$437","v":30981.357757535767},31658.829733056657,null,"N","SIM","NÃO","ENCARGOS DE GESTÃO","FUNCIONÁRIOS","PESSOAL",3200,"GERÊNCIA DE PLANEJAMENTO E MEIO AMBIENTE"]
[null,null,null,19655.28,20747.240000000002,17013.759999999998,13955.22,8740.08,16022.316000000001,{"$f":"D153*'Série - IPCA'!$C$444/'Série - IPCA'!$C$385","v":25690.959742185103},{"$f":"E153*'Série - IPCA'!$C$444/'Série - IPCA'!$C$398","v":25946.130044941736},{"$f":"F153*'Série - IPCA'!$C$444/'Série - IPCA'!$C$411","v":19332.106349955462},{"$f":"G153*'Série - IPCA'!$C$444/'Série - IPCA'!$C$424","v":14989.636073803682},{"$f":"H153*'Série - IPCA'!$C$444/'Série - IPCA'!$C$437","v":8973.2579797603685},18986.418038129268,null,"N","SIM","NÃO","ENCARGOS DE GESTÃO","FUNCIONÁRIOS","PESSOAL",3300,"GERÊNCIA JURÍDICA"]
[null,null,null,8735.68,0,0,0,0,1747.136,{"$f":"D154*'Série - IPCA'!$C$444/'Série - IPCA'!$C$385","v":11418.204329860049},{"$f":"E154*'Série - IPCA'!$C$444/'Série - IPCA'!$C$398","v":0},{"$f":"F154*'Série - IPCA'!$C$444/'Série - IPCA'!$C$411","v":0},{"$f":"G154*'Série - IPCA'!$C$444/'Série - IPCA'!$C$424","v":0},{"$f":"H154*'Série - IPCA'!$C$444/'Série - IPCA'!$C$437","v":0},2283.64086597201,null,"N","SIM","NÃO","ENCARGOS DE GESTÃO","FUNCIONÁRIOS","PESSOAL",3400,"MARKETING"]
[null,null,null,2183.92,6551.76,6595.95,0,0,3066.326,{"$f":"D155*'Série - IPCA'!$C$444/'Série - IPCA'!$C$385","v":2854.5510824650123},{"$f":"E155*'Série - IPCA'!$C$444/'Série - IPCA'!$C$398","v":8193.5147510342322},{"$f":"F155*'Série - IPCA'!$C$444/'Série - IPCA'!$C$411","v":7494.7340787097464},{"$f":"G155*'Série - IPCA'!$C$444/'Série - IPCA'!$C$424","v":0},{"$f":"H155*'Série - IPCA'!$C$444/'Série - IPCA'!$C$437","v":0},3708.5599824417977,null,"N","SIM","NÃO","ENCARGOS DE GESTÃO","FUNCIONÁRIOS","PESSOAL",3500,"ASSESSORIA DE COMUNICAÇÃO INSTITUCIONAL"]
[null,null,null,2183.92,6551.76,1637.94,3672.27,7556.76,4320.5300000000007,{"$f":"D156*'Série - IPCA'!$C$444/'Série - IPCA'!$C$385","v":2854.5510824650123},{"$f":"E156*'Série - IPCA'!$C$444/'Série - IPCA'!$C$398","v":8193.5147510342322},{"$f":"F156*'Série - IPCA'!$C$444/'Série - IPCA'!$C$411","v":1861.1306539439872},{"$f":"G156*'Série - IPCA'!$C$444/'Série - IPCA'!$C$424","v":3944.4731695198675},{"$f":"H156*'Série - IPCA'!$C$444/'Série - IPCA'!$C$437","v":7758.3679979055078},4922.4075309737218,null,"N","SIM","NÃO","ENCARGOS DE GESTÃO","FUNCIONÁRIOS","PESSOAL",3600,"GERÊNCIA DE GOVERNANÇA, RISCO E COMPLIANCE"]
[null,null,null,11465.58,25661.06,14283.86,8630.2800000000007,7556.76,13519.507999999998,{"$f":"D157*'Série - IPCA'!$C$444/'Série - IPCA'!$C$385","v":14986.393182941312},{"$f":"E157*'Série - IPCA'!$C$444/'Série - IPCA'!$C$398","v":32091.266108217413},{"$f":"F157*'Série - IPCA'!$C$444/'Série - IPCA'!$C$411","v":16230.221926715487},{"$f":"G157*'Série - IPCA'!$C$444/'Série - IPCA'!$C$424","v":9269.9904705928275},{"$f":"H157*'Série - IPCA'!$C$444/'Série - IPCA'!$C$437","v":7758.3679979055078},16067.247937274509,null,"N","SIM","NÃO","ENCARGOS DE GESTÃO","FUNCIONÁRIOS","PESSOAL",4100,"GERÊNCIA DE SERVIÇOS CORPORATIVOS"]
[null,null,null,2729.9,6005.78,0,0,642.41999999999996,1875.6200000000001,{"$f":"D158*'Série - IPCA'!$C$444/'Série - IPCA'!$C$385","v":3568.1888530812648},{"$f":"E158*'Série - IPCA'!$C$444/'Série - IPCA'!$C$398","v":7510.7218551147125},{"$f":"F158*'Série - IPCA'!$C$444/'Série - IPCA'!$C$411","v":0},{"$f":"G158*'Série - IPCA'!$C$444/'Série - IPCA'!$C$424","v":0},{"$f":"H158*'Série - IPCA'!$C$444/'Série - IPCA'!$C$437","v":659.55922501369048},2347.6939866419334,null,"N","SIM","NÃO","ENCARGOS DE GESTÃO","FUNCIONÁRIOS","PESSOAL",4200,"GERÊNCIA FINANCEIRA"]
[null,null,null,21293.22,19655.28,13732.97,6977.61,7556.76,13843.168,{"$f":"D159*'Série - IPCA'!$C$444/'Série - IPCA'!$C$385","v":27831.873054033869},{"$f":"E159*'Série - IPCA'!$C$444/'Série - IPCA'!$C$398","v":24580.544253102693},{"$f":"F159*'Série - IPCA'!$C$444/'Série - IPCA'!$C$411","v":15604.2659906304},{"$f":"G159*'Série - IPCA'!$C$444/'Série - IPCA'!$C$424","v":7494.818036901841},{"$f":"H159*'Série - IPCA'!$C$444/'Série - IPCA'!$C$437","v":7758.3679979055078},16653.973866514862,null,"N","SIM","NÃO","ENCARGOS DE GESTÃO","FUNCIONÁRIOS","PESSOAL",4300,"GERÊNCIA DE TECNOLOGIA E SISTEMAS DE INFORMAÇÃO"]
[null,null,null,1661582.16,0,0,0,0,332316.43199999997,{"$f":"D160*'Série - IPCA'!$C$444/'Série - IPCA'!$C$385","v":2171815.4297925532},{"$f":"E160*'Série - IPCA'!$C$444/'Série - IPCA'!$C$398","v":0},{"$f":"F160*'Série - IPCA'!$C$444/'Série - IPCA'!$C$411","v":0},{"$f":"G160*'Série - IPCA'!$C$444/'Série - IPCA'!$C$424","v":0},{"$f":"H160*'Série - IPCA'!$C$444/'Série - IPCA'!$C$437","v":0},434363.08595851064,null,"S",null,null,"OPEX",null,"SERVIÇOS",4100,"GERÊNCIA DE SERVIÇOS CORPORATIVOS"]
[null,null,null,364849.65,0,0,0,0,72969.930000000008,{"$f":"D161*'Série - IPCA'!$C$444/'Série - IPCA'!$C$385","v":476886.49920531927},{"$f":"E161*'Série - IPCA'!$C$444/'Série - IPCA'!$C$398","v":0},{"$f":"F161*'Série - IPCA'!$C$444/'Série - IPCA'!$C$411","v":0},{"$f":"G161*'Série - IPCA'!$C$444/'Série - IPCA'!$C$424","v":0},{"$f":"H161*'Série - IPCA'!$C$444/'Série - IPCA'!$C$437","v":0},95377.299841063854,null,"S",null,null,"OPEX",null,"SERVIÇOS",4100,"GERÊNCIA DE SERVIÇOS CORPORATIVOS"]
[null,null,null,16925.38,13103.52,6595.95,6977.61,7556.76,10231.844000000001,{"$f":"D162*'Série - IPCA'!$C$444/'Série - IPCA'!$C$385","v":22122.770889103846},{"$f":"E162*'Série - IPCA'!$C$444/'Série - IPCA'!$C$398","v":16387.029502068464},{"$f":"F162*'Série - IPCA'!$C$444/'Série - IPCA'!$C$411","v":7494.7340787097464},{"$f":"G162*'Série - IPCA'!$C$444/'Série - IPCA'!$C$424","v":7494.818036901841},{"$f":"H162*'Série - IPCA'!$C$444/'Série - IPCA'!$C$437","v":7758.3679979055078},12251.544100937881,null,"N","SIM","NÃO","ENCARGOS DE GESTÃO","FUNCIONÁRIOS","PESSOAL",4500,"GERÊNCIA CONTÁBIL"]
[null,null,null,50412.69,17786.8,1064.8499999999999,42185.440000000002,22924.95,26874.946000000004,{"$f":"D163*'Série - IPCA'!$C$444/'Série - IPCA'!$C$385","v":65893.255618096402},{"$f":"E163*'Série - IPCA'!$C$444/'Série - IPCA'!$C$398","v":22243.856333824144},{"$f":"F163*'Série - IPCA'!$C$444/'Série - IPCA'!$C$411","v":1209.9496787747137},{"$f":"G163*'Série - IPCA'!$C$444/'Série - IPCA'!$C$424","v":45312.391579156814},{"$f":"H163*'Série - IPCA'!$C$444/'Série - IPCA'!$C$437","v":23536.56837501573},31639.204316973563,null,"N","SIM","NÃO","OPEX","FIXO","TRIBUTOS_E_TAXAS_FISCAIS",5100,"GERÊNCIA DE ENGENHARIA"]
[null,null,null,42330.46,37263.919999999998,1670.58,86048.11,36685.11,40799.635999999999,{"$f":"D164*'Série - IPCA'!$C$444/'Série - IPCA'!$C$385","v":55329.160598484319},{"$f":"E164*'Série - IPCA'!$C$444/'Série - IPCA'!$C$398","v":46601.596853572097},{"$f":"F164*'Série - IPCA'!$C$444/'Série - IPCA'!$C$411","v":1898.218278975876},{"$f":"G164*'Série - IPCA'!$C$444/'Série - IPCA'!$C$424","v":92426.336076294567},{"$f":"H164*'Série - IPCA'!$C$444/'Série - IPCA'!$C$437","v":37663.837864857865},46783.829934436944,null,"N","SIM","NÃO","OPEX","FIXO","TRIBUTOS_E_TAXAS_FISCAIS",5200,"GERÊNCIA DE OPERAÇÕES"]
[null,null,null,5459.8,0,0,0,642.41999999999996,1220.444,{"$f":"D165*'Série - IPCA'!$C$444/'Série - IPCA'!$C$385","v":7136.3777061625296},{"$f":"E165*'Série - IPCA'!$C$444/'Série - IPCA'!$C$398","v":0},{"$f":"F165*'Série - IPCA'!$C$444/'Série - IPCA'!$C$411","v":0},{"$f":"G165*'Série - IPCA'!$C$444/'Série - IPCA'!$C$424","v":0},{"$f":"H165*'Série - IPCA'!$C$444/'Série - IPCA'!$C$437","v":659.55922501369048},1559.187386235244,null,"N","SIM","NÃO","ENCARGOS DE GESTÃO","FUNCIONÁRIOS","PESSOAL",4600,"GERÊNCIA DE PESSOAS E CULTURA"]
[null,null,null,1490.83,0,0,0,0,298.166,{"$f":"D166*'Série - IPCA'!$C$444/'Série - IPCA'!$C$385","v":1948.6292493641313},{"$f":"E166*'Série - IPCA'!$C$444/'Série - IPCA'!$C$398","v":0},{"$f":"F166*'Série - IPCA'!$C$444/'Série - IPCA'!$C$411","v":0},{"$f":"G166*'Série - IPCA'!$C$444/'Série - IPCA'!$C$424","v":0},{"$f":"H166*'Série - IPCA'!$C$444/'Série - IPCA'!$C$437","v":0},389.72584987282625,null,"N","SIM","NÃO","OPEX","FUNCIONÁRIOS","PESSOAL",5200,"GERÊNCIA DE OPERAÇÕES"]
[null,null,null,24008.14,0,0,0,0,4801.6279999999997,{"$f":"D167*'Série - IPCA'!$C$444/'Série - IPCA'!$C$385","v":31380.48189721764},{"$f":"E167*'Série - IPCA'!$C$444/'Série - IPCA'!$C$398","v":0},{"$f":"F167*'Série - IPCA'!$C$444/'Série - IPCA'!$C$411","v":0},{"$f":"G167*'Série - IPCA'!$C$444/'Série - IPCA'!$C$424","v":0},{"$f":"H167*'Série - IPCA'!$C$444/'Série - IPCA'!$C$437","v":0},6276.0963794435283,null,"N","SIM","NÃO","OPEX","FUNCIONÁRIOS","PESSOAL",5300,"GERÊNCIA COMERCIAL"]
[null,null,null,1663.3,0,0,0,0,332.65999999999997,{"$f":"D168*'Série - IPCA'!$C$444/'Série - IPCA'!$C$385","v":2174.0607785377001},{"$f":"E168*'Série - IPCA'!$C$444/'Série - IPCA'!$C$398","v":0},{"$f":"F168*'Série - IPCA'!$C$444/'Série - IPCA'!$C$411","v":0},{"$f":"G168*'Série - IPCA'!$C$444/'Série - IPCA'!$C$424","v":0},{"$f":"H168*'Série - IPCA'!$C$444/'Série - IPCA'!$C$437","v":0},434.81215570754,null,"N","SIM","NÃO","ENCARGOS DE GESTÃO","FUNCIONÁRIOS","PESSOAL",4300,"GERÊNCIA DE TECNOLOGIA E SISTEMAS DE INFORMAÇÃO"]
[null,null,null,23608.32,0,0,0,0,4721.6639999999998,{"$f":"D169*'Série - IPCA'!$C$444/'Série - IPCA'!$C$385","v":30857.886466161945},{"$f":"E169*'Série - IPCA'!$C$444/'Série - IPCA'!$C$398","v":0},{"$f":"F169*'Série - IPCA'!$C$444/'Série - IPCA'!$C$411","v":0},{"$f":"G169*'Série - IPCA'!$C$444/'Série - IPCA'!$C$424","v":0},{"$f":"H169*'Série - IPCA'!$C$444/'Série - IPCA'!$C$437","v":0},6171.5772932323889,null,"N","SIM","NÃO","ENCARGOS DE COMERCIALIZAÇÃO","FUNCIONÁRIOS","PESSOAL",5400,"GERÊNCIA COMERCIAL (inativo)"]
[null,null,null,14749.36,0,0,0,0,2949.8720000000003,{"$f":"D170*'Série - IPCA'!$C$444/'Série - IPCA'!$C$385","v":19278.545713060073},{"$f":"E170*'Série - IPCA'!$C$444/'Série - IPCA'!$C$398","v":0},{"$f":"F170*'Série - IPCA'!$C$444/'Série - IPCA'!$C$411","v":0},{"$f":"G170*'Série - IPCA'!$C$444/'Série - IPCA'!$C$424","v":0},{"$f":"H170*'Série - IPCA'!$C$444/'Série - IPCA'!$C$437","v":0},3855.7091426120146,null,"N","SIM","NÃO","ENCARGOS DE COMERCIALIZAÇÃO","FUNCIONÁRIOS","PESSOAL",5500,"GERÊNCIA COMERCIAL (inativo)"]
[null,null,null,7869.44,0,0,0,0,1573.8879999999999,{"$f":"D171*'Série - IPCA'!$C$444/'Série - IPCA'!$C$385","v":10285.962155387315},{"$f":"E171*'Série - IPCA'!$C$444/'Série - IPCA'!$C$398","v":0},{"$f":"F171*'Série - IPCA'!$C$444/'Série - IPCA'!$C$411","v":0},{"$f":"G171*'Série - IPCA'!$C$444/'Série - IPCA'!$C$424","v":0},{"$f":"H171*'Série - IPCA'!$C$444/'Série - IPCA'!$C$437","v":0},2057.192431077463,null,"N","SIM","NÃO","ENCARGOS DE GESTÃO","FUNCIONÁRIOS","PESSOAL",2100,"SECRETARIA"]
[null,null,null,5410.24,0,0,0,0,1082.048,{"$f":"D172*'Série - IPCA'!$C$444/'Série - IPCA'!$C$385","v":7071.598981828779},{"$f":"E172*'Série - IPCA'!$C$444/'Série - IPCA'!$C$398","v":0},{"$f":"F172*'Série - IPCA'!$C$444/'Série - IPCA'!$C$411","v":0},{"$f":"G172*'Série - IPCA'!$C$444/'Série - IPCA'!$C$424","v":0},{"$f":"H172*'Série - IPCA'!$C$444/'Série - IPCA'!$C$437","v":0},1414.3197963657558,null,"N","SIM","NÃO","ENCARGOS DE GESTÃO","FUNCIONÁRIOS","PESSOAL",2200,"DIRETORIA COLEGIADA - PRESIDÊNCIA"]
[null,null,null,15738.88,0,0,0,0,3147.7759999999998,{"$f":"D173*'Série - IPCA'!$C$444/'Série - IPCA'!$C$385","v":20571.92431077463},{"$f":"E173*'Série - IPCA'!$C$444/'Série - IPCA'!$C$398","v":0},{"$f":"F173*'Série - IPCA'!$C$444/'Série - IPCA'!$C$411","v":0},{"$f":"G173*'Série - IPCA'!$C$444/'Série - IPCA'!$C$424","v":0},{"$f":"H173*'Série - IPCA'!$C$444/'Série - IPCA'!$C$437","v":0},4114.3848621549259,null,"N","SIM","NÃO","ENCARGOS DE GESTÃO","FUNCIONÁRIOS","PESSOAL",3400,"MARKETING"]
[null,null,null,0,0,0,0,73,14.6,{"$f":"D174*'Série - IPCA'!$C$444/'Série - IPCA'!$C$385","v":0},{"$f":"E174*'Série - IPCA'!$C$444/'Série - IPCA'!$C$398","v":0},{"$f":"F174*'Série - IPCA'!$C$444/'Série - IPCA'!$C$411","v":0},{"$f":"G174*'Série - IPCA'!$C$444/'Série - IPCA'!$C$424","v":0},{"$f":"H174*'Série - IPCA'!$C$444/'Série - IPCA'!$C$437","v":74.947578571650027},14.989515714330006,null,"N","SIM","NÃO","OPEX","FIXO","DESPESAS_GERAIS",5100,"GERÊNCIA DE ENGENHARIA"]
[null,null,null,0,189,0,0,0,37.799999999999997,{"$f":"D175*'Série - IPCA'!$C$444/'Série - IPCA'!$C$385","v":0},{"$f":"E175*'Série - IPCA'!$C$444/'Série - IPCA'!$C$398","v":236.36004492616789},{"$f":"F175*'Série - IPCA'!$C$444/'Série - IPCA'!$C$411","v":0},{"$f":"G175*'Série - IPCA'!$C$444/'Série - IPCA'!$C$424","v":0},{"$f":"H175*'Série - IPCA'!$C$444/'Série - IPCA'!$C$437","v":0},47.272008985233576,null,"N","SIM","NÃO","ENCARGOS DE COMERCIALIZAÇÃO","FIXO","DESPESAS_GERAIS",5300,"GERÊNCIA COMERCIAL"]
[null,null,null,0,0,0,0,484.01,96.801999999999992,{"$f":"D176*'Série - IPCA'!$C$444/'Série - IPCA'!$C$385","v":0},{"$f":"E176*'Série - IPCA'!$C$444/'Série - IPCA'!$C$398","v":0},{"$f":"F176*'Série - IPCA'!$C$444/'Série - IPCA'!$C$411","v":0},{"$f":"G176*'Série - IPCA'!$C$444/'Série - IPCA'!$C$424","v":0},{"$f":"H176*'Série - IPCA'!$C$444/'Série - IPCA'!$C$437","v":496.92297951321001},99.384595902642005,null,"N","SIM","NÃO","ENCARGOS DE GESTÃO","FIXO","DESPESAS_GERAIS",2110,"ASSESSORIA DA DIRETORIA EXECUTIVA"]
[null,null,null,0,0,0,480,0,96,{"$f":"D177*'Série - IPCA'!$C$444/'Série - IPCA'!$C$385","v":0},{"$f":"E177*'Série - IPCA'!$C$444/'Série - IPCA'!$C$398","v":0},{"$f":"F177*'Série - IPCA'!$C$444/'Série - IPCA'!$C$411","v":0},{"$f":"G177*'Série - IPCA'!$C$444/'Série - IPCA'!$C$424","v":515.57949752320405},{"$f":"H177*'Série - IPCA'!$C$444/'Série - IPCA'!$C$437","v":0},103.11589950464081,null,"N","SIM","NÃO","ENCARGOS DE GESTÃO","FIXO","DESPESAS_GERAIS",2400,"DIRETORIA COLEGIADA - DTC"]
[null,null,null,0,0,359,0,0,71.8,{"$f":"D178*'Série - IPCA'!$C$444/'Série - IPCA'!$C$385","v":0},{"$f":"E178*'Série - IPCA'!$C$444/'Série - IPCA'!$C$398","v":0},{"$f":"F178*'Série - IPCA'!$C$444/'Série - IPCA'!$C$411","v":407.91842482990307},{"$f":"G178*'Série - IPCA'!$C$444/'Série - IPCA'!$C$424","v":0},{"$f":"H178*'Série - IPCA'!$C$444/'Série - IPCA'!$C$437","v":0},81.583684965980609,null,"N","SIM","NÃO","ENCARGOS DE GESTÃO","FIXO","DESPESAS_GERAIS",2410,"ASSESSORIA DE SEGURANÇA DO TRABALHO"]
[null,null,null,0,0,0,900,2768.8,733.76,{"$f":"D179*'Série - IPCA'!$C$444/'Série - IPCA'!$C$385","v":0},{"$f":"E179*'Série - IPCA'!$C$444/'Série - IPCA'!$C$398","v":0},{"$f":"F179*'Série - IPCA'!$C$444/'Série - IPCA'!$C$411","v":0},{"$f":"G179*'Série - IPCA'!$C$444/'Série - IPCA'!$C$424","v":966.71155785600752},{"$f":"H179*'Série - IPCA'!$C$444/'Série - IPCA'!$C$437","v":2842.6692540984191},761.87616239088527,null,"N","SIM","NÃO","ENCARGOS DE GESTÃO","FIXO","DESPESAS_GERAIS",2200,"DIRETORIA COLEGIADA - PRESIDÊNCIA"]
[null,null,null,0,1152,0,0,0,230.4,{"$f":"D180*'Série - IPCA'!$C$444/'Série - IPCA'!$C$385","v":0},{"$f":"E180*'Série - IPCA'!$C$444/'Série - IPCA'!$C$398","v":1440.6707500261662},{"$f":"F180*'Série - IPCA'!$C$444/'Série - IPCA'!$C$411","v":0},{"$f":"G180*'Série - IPCA'!$C$444/'Série - IPCA'!$C$424","v":0},{"$f":"H180*'Série - IPCA'!$C$444/'Série - IPCA'!$C$437","v":0},288.13415000523321,null,"N","SIM","NÃO","ENCARGOS DE GESTÃO","FIXO","DESPESAS_GERAIS",2310,"ASSESSORIA DAF"]
[null,null,null,0,0,0,30.45,0,6.09,{"$f":"D181*'Série - IPCA'!$C$444/'Série - IPCA'!$C$385","v":0},{"$f":"E181*'Série - IPCA'!$C$444/'Série - IPCA'!$C$398","v":0},{"$f":"F181*'Série - IPCA'!$C$444/'Série - IPCA'!$C$411","v":0},{"$f":"G181*'Série - IPCA'!$C$444/'Série - IPCA'!$C$424","v":32.707074374128254},{"$f":"H181*'Série - IPCA'!$C$444/'Série - IPCA'!$C$437","v":0},6.5414148748256506,null,"N","SIM","NÃO","ENCARGOS DE GESTÃO","FIXO","DESPESAS_GERAIS",3300,"GERÊNCIA JURÍDICA"]
[null,null,null,3464.75,2162.66,0,6125.8,23638.33,7078.308,{"$f":"D182*'Série - IPCA'!$C$444/'Série - IPCA'!$C$385","v":4528.694211770875},{"$f":"E182*'Série - IPCA'!$C$444/'Série - IPCA'!$C$398","v":2704.584205079504},{"$f":"F182*'Série - IPCA'!$C$444/'Série - IPCA'!$C$411","v":0},{"$f":"G182*'Série - IPCA'!$C$444/'Série - IPCA'!$C$424","v":6579.8685123492569},{"$f":"H182*'Série - IPCA'!$C$444/'Série - IPCA'!$C$437","v":24268.980753117699},7616.4255364634682,null,"N","SIM","NÃO","ENCARGOS DE GESTÃO","FIXO","DESPESAS_GERAIS",4100,"GERÊNCIA DE SERVIÇOS CORPORATIVOS"]
[null,null,null,538.46,0,0,0,0,107.69200000000001,{"$f":"D183*'Série - IPCA'!$C$444/'Série - IPCA'!$C$385","v":703.80855336464265},{"$f":"E183*'Série - IPCA'!$C$444/'Série - IPCA'!$C$398","v":0},{"$f":"F183*'Série - IPCA'!$C$444/'Série - IPCA'!$C$411","v":0},{"$f":"G183*'Série - IPCA'!$C$444/'Série - IPCA'!$C$424","v":0},{"$f":"H183*'Série - IPCA'!$C$444/'Série - IPCA'!$C$437","v":0},140.76171067292853,null,"N","SIM","NÃO","ENCARGOS DE GESTÃO","FIXO","DESPESAS_GERAIS",4300,"GERÊNCIA DE TECNOLOGIA E SISTEMAS DE INFORMAÇÃO"]
[null,null,null,21617.86,19363.38,15466.77,23049.91,38589.58,23617.500000000004,{"$f":"D184*'Série - IPCA'!$C$444/'Série - IPCA'!$C$385","v":28256.202454108705},{"$f":"E184*'Série - IPCA'!$C$444/'Série - IPCA'!$C$398","v":24215.499294827838},{"$f":"F184*'Série - IPCA'!$C$444/'Série - IPCA'!$C$411","v":17574.318817845127},{"$f":"G184*'Série - IPCA'!$C$444/'Série - IPCA'!$C$424","v":24758.460449489743},{"$f":"H184*'Série - IPCA'!$C$444/'Série - IPCA'!$C$437","v":39619.11752187636},26884.719707629549,null,"N","SIM","NÃO","OPEX","FUNCIONÁRIOS","PESSOAL",5100,"GERÊNCIA DE ENGENHARIA"]
[null,null,null,0,1525.42,55085.33,72472.88,69065.41,39629.808000000005,{"$f":"D185*'Série - IPCA'!$C$444/'Série - IPCA'!$C$385","v":0},{"$f":"E185*'Série - IPCA'!$C$444/'Série - IPCA'!$C$398","v":1907.6631731813495},{"$f":"F185*'Série - IPCA'!$C$444/'Série - IPCA'!$C$411","v":62591.423523218393},{"$f":"G185*'Série - IPCA'!$C$444/'Série - IPCA'!$C$424","v":77844.85636345722},{"$f":"H185*'Série - IPCA'!$C$444/'Série - IPCA'!$C$437","v":70908.017021345528},42650.392016240497,null,"N","SIM","NÃO","OPEX","FUNCIONÁRIOS","PESSOAL",5200,"GERÊNCIA DE OPERAÇÕES"]
[null,null,null,6944.94,20133.560000000001,16679.900000000001,25521.279999999999,70067.31,27869.397999999997,{"$f":"D186*'Série - IPCA'!$C$444/'Série - IPCA'!$C$385","v":9077.5696887498434},{"$f":"E186*'Série - IPCA'!$C$444/'Série - IPCA'!$C$398","v":25178.672730813214},{"$f":"F186*'Série - IPCA'!$C$444/'Série - IPCA'!$C$411","v":18952.753577493873},{"$f":"G186*'Série - IPCA'!$C$444/'Série - IPCA'!$C$424","v":27413.018163643745},{"$f":"H186*'Série - IPCA'!$C$444/'Série - IPCA'!$C$437","v":71936.646870262455},30511.732206192624,null,"N","SIM","NÃO","ENCARGOS DE COMERCIALIZAÇÃO","FUNCIONÁRIOS","PESSOAL",5300,"GERÊNCIA COMERCIAL"]
[null,null,null,0,0,3097.65,11900.58,26764.9,8352.6260000000002,{"$f":"D187*'Série - IPCA'!$C$444/'Série - IPCA'!$C$385","v":0},{"$f":"E187*'Série - IPCA'!$C$444/'Série - IPCA'!$C$398","v":0},{"$f":"F187*'Série - IPCA'!$C$444/'Série - IPCA'!$C$411","v":3519.7451495107225},{"$f":"G187*'Série - IPCA'!$C$444/'Série - IPCA'!$C$424","v":12782.698034655607},{"$f":"H187*'Série - IPCA'!$C$444/'Série - IPCA'!$C$437","v":27478.9650097583},8756.2816387849252,null,"N","SIM","NÃO","ENCARGOS DE GESTÃO","FUNCIONÁRIOS","PESSOAL",1010,"GOVERNANÇA SOCIETÁRIA"]
[null,null,null,20028.400000000001,7613.89,0,0,0,5528.4580000000005,{"$f":"D188*'Série - IPCA'!$C$444/'Série - IPCA'!$C$385","v":26178.656223690541},{"$f":"E188*'Série - IPCA'!$C$444/'Série - IPCA'!$C$398","v":9521.7956744068815},{"$f":"F188*'Série - IPCA'!$C$444/'Série - IPCA'!$C$411","v":0},{"$f":"G188*'Série - IPCA'!$C$444/'Série - IPCA'!$C$424","v":0},{"$f":"H188*'Série - IPCA'!$C$444/'Série - IPCA'!$C$437","v":0},7140.0903796194852,null,"N","SIM","NÃO","ENCARGOS DE GESTÃO","FUNCIONÁRIOS","PESSOAL",2100,"SECRETARIA"]
[null,null,null,0,0,0,22229.5,53339.17,15113.734,{"$f":"D189*'Série - IPCA'!$C$444/'Série - IPCA'!$C$385","v":0},{"$f":"E189*'Série - IPCA'!$C$444/'Série - IPCA'!$C$398","v":0},{"$f":"F189*'Série - IPCA'!$C$444/'Série - IPCA'!$C$411","v":0},{"$f":"G189*'Série - IPCA'!$C$444/'Série - IPCA'!$C$424","v":23877.238417066801},{"$f":"H189*'Série - IPCA'!$C$444/'Série - IPCA'!$C$437","v":54762.214171528736},15727.890517719108,null,"N","SIM","NÃO","ENCARGOS DE GESTÃO","FUNCIONÁRIOS","PESSOAL",2110,"ASSESSORIA DA DIRETORIA EXECUTIVA"]
[null,null,null,403.96,0,0,5632.74,26629.8,6533.3,{"$f":"D190*'Série - IPCA'!$C$444/'Série - IPCA'!$C$385","v":528.00672885113295},{"$f":"E190*'Série - IPCA'!$C$444/'Série - IPCA'!$C$398","v":0},{"$f":"F190*'Série - IPCA'!$C$444/'Série - IPCA'!$C$411","v":0},{"$f":"G190*'Série - IPCA'!$C$444/'Série - IPCA'!$C$424","v":6050.260955997609},{"$f":"H190*'Série - IPCA'!$C$444/'Série - IPCA'!$C$437","v":27340.26065544282},6783.7056680583119,null,"N","SIM","NÃO","ENCARGOS DE GESTÃO","FUNCIONÁRIOS","PESSOAL",2410,"ASSESSORIA DE SEGURANÇA DO TRABALHO"]
[null,null,null,32793.72,0,11192,14495.29,0,11696.202000000001,{"$f":"D191*'Série - IPCA'!$C$444/'Série - IPCA'!$C$385","v":42863.909357510587},{"$f":"E191*'Série - IPCA'!$C$444/'Série - IPCA'!$C$398","v":0},{"$f":"F191*'Série - IPCA'!$C$444/'Série - IPCA'!$C$411","v":12717.055740101045},{"$f":"G191*'Série - IPCA'!$C$444/'Série - IPCA'!$C$424","v":15569.73819719401},{"$f":"H191*'Série - IPCA'!$C$444/'Série - IPCA'!$C$437","v":0},14230.140658961129,null,"N","SIM","NÃO","ENCARGOS DE GESTÃO","FUNCIONÁRIOS","PESSOAL",3100,"SMS"]
[null,null,null,0,0,6071.7,23080.71,26638.1,11158.101999999999,{"$f":"D192*'Série - IPCA'!$C$444/'Série - IPCA'!$C$385","v":0},{"$f":"E192*'Série - IPCA'!$C$444/'Série - IPCA'!$C$398","v":0},{"$f":"F192*'Série - IPCA'!$C$444/'Série - IPCA'!$C$411","v":6899.0481895256889},{"$f":"G192*'Série - IPCA'!$C$444/'Série - IPCA'!$C$424","v":24791.54346724748},{"$f":"H192*'Série - IPCA'!$C$444/'Série - IPCA'!$C$437","v":27348.782092458496},11807.874749846333,null,"N","SIM","NÃO","ENCARGOS DE GESTÃO","FUNCIONÁRIOS","PESSOAL",3200,"GERÊNCIA DE PLANEJAMENTO E MEIO AMBIENTE"]
[null,null,null,0,2103.5300000000002,18860.21,24065.42,24806.74,13967.179999999998,{"$f":"D193*'Série - IPCA'!$C$444/'Série - IPCA'!$C$385","v":0},{"$f":"E193*'Série - IPCA'!$C$444/'Série - IPCA'!$C$398","v":2630.6372767383173},{"$f":"F193*'Série - IPCA'!$C$444/'Série - IPCA'!$C$411","v":21430.159206577118},{"$f":"G193*'Série - IPCA'!$C$444/'Série - IPCA'!$C$424","v":25849.244065176801},{"$f":"H193*'Série - IPCA'!$C$444/'Série - IPCA'!$C$437","v":25468.562948719089},15075.720699442265,null,"N","SIM","NÃO","ENCARGOS DE GESTÃO","FUNCIONÁRIOS","PESSOAL",3300,"GERÊNCIA JURÍDICA"]
[null,null,null,9527.9500000000007,0,19764.55,10285.74,1789.26,8273.5,{"$f":"D194*'Série - IPCA'!$C$444/'Série - IPCA'!$C$385","v":12453.762036234162},{"$f":"E194*'Série - IPCA'!$C$444/'Série - IPCA'!$C$398","v":0},{"$f":"F194*'Série - IPCA'!$C$444/'Série - IPCA'!$C$411","v":22457.727307721059},{"$f":"G194*'Série - IPCA'!$C$444/'Série - IPCA'!$C$424","v":11048.159710113167},{"$f":"H194*'Série - IPCA'!$C$444/'Série - IPCA'!$C$437","v":1836.9959511658976},9559.3290010468572,null,"N","SIM","NÃO","ENCARGOS DE GESTÃO","FUNCIONÁRIOS","PESSOAL",3400,"MARKETING"]
[null,null,null,0,14779.94,0,10461.65,24986.48,10045.614,{"$f":"D195*'Série - IPCA'!$C$444/'Série - IPCA'!$C$385","v":0},{"$f":"E195*'Série - IPCA'!$C$444/'Série - IPCA'!$C$398","v":18483.530594741093},{"$f":"F195*'Série - IPCA'!$C$444/'Série - IPCA'!$C$411","v":0},{"$f":"G195*'Série - IPCA'!$C$444/'Série - IPCA'!$C$424","v":11237.108854715891},{"$f":"H195*'Série - IPCA'!$C$444/'Série - IPCA'!$C$437","v":25653.098260670711},11074.74754202554,null,"N","SIM","NÃO","ENCARGOS DE GESTÃO","FUNCIONÁRIOS","PESSOAL",3500,"ASSESSORIA DE COMUNICAÇÃO INSTITUCIONAL"]
[null,null,null,22494.25,8398.85,16284.16,2957.7,0,10026.991999999998,{"$f":"D196*'Série - IPCA'!$C$444/'Série - IPCA'!$C$385","v":29401.711457717589},{"$f":"E196*'Série - IPCA'!$C$444/'Série - IPCA'!$C$398","v":10503.452716021933},{"$f":"F196*'Série - IPCA'!$C$444/'Série - IPCA'!$C$411","v":18503.08884924266},{"$f":"G196*'Série - IPCA'!$C$444/'Série - IPCA'!$C$424","v":3176.9364163007926},{"$f":"H196*'Série - IPCA'!$C$444/'Série - IPCA'!$C$437","v":0},12317.037887856595,null,"N","SIM","NÃO","ENCARGOS DE GESTÃO","FUNCIONÁRIOS","PESSOAL",3600,"GERÊNCIA DE GOVERNANÇA, RISCO E COMPLIANCE"]
[null,null,null,0,0,10216.36,12144.5,28431.8,{"$f":"AVERAGE(D197:H197)","v":10158.532000000001},{"$f":"D197*'Série - IPCA'!$C$444/'Série - IPCA'!$C$385","v":0},{"$f":"E197*'Série - IPCA'!$C$444/'Série - IPCA'!$C$398","v":0},{"$f":"F197*'Série - IPCA'!$C$444/'Série - IPCA'!$C$411","v":11608.47208550203},{"$f":"G197*'Série - IPCA'!$C$444/'Série - IPCA'!$C$424","v":13044.698349313649},{"$f":"H197*'Série - IPCA'!$C$444/'Série - IPCA'!$C$437","v":29190.336499088207},{"$f":"AVERAGE(J197:N197)","v":10768.701386780778},null,"N","SIM","NÃO","ENCARGOS DE GESTÃO","FUNCIONÁRIOS","PESSOAL",3700,"GERÊNCIA DE REGULAÇÃO"]
[null,null,null,10354.81,16357.37,21767.94,20720.03,26759.82,19191.993999999999,{"$f":"D198*'Série - IPCA'!$C$444/'Série - IPCA'!$C$385","v":13534.531527812158},{"$f":"E198*'Série - IPCA'!$C$444/'Série - IPCA'!$C$398","v":20456.236550655827},{"$f":"F198*'Série - IPCA'!$C$444/'Série - IPCA'!$C$411","v":24734.105282985623},{"$f":"G198*'Série - IPCA'!$C$444/'Série - IPCA'!$C$424","v":22255.880533470234},{"$f":"H198*'Série - IPCA'!$C$444/'Série - IPCA'!$C$437","v":27473.749479633039},21690.900674911376,null,"N","SIM","NÃO","ENCARGOS DE GESTÃO","FUNCIONÁRIOS","PESSOAL",4100,"GERÊNCIA DE SERVIÇOS CORPORATIVOS"]
[null,null,null,17813.169999999998,17698.400000000001,23069.71,55218.96,50161.31,32792.31,{"$f":"D199*'Série - IPCA'!$C$444/'Série - IPCA'!$C$385","v":23283.180567801603},{"$f":"E199*'Série - IPCA'!$C$444/'Série - IPCA'!$C$398","v":22133.304863075609},{"$f":"F199*'Série - IPCA'!$C$444/'Série - IPCA'!$C$411","v":26213.258396887642},{"$f":"G199*'Série - IPCA'!$C$444/'Série - IPCA'!$C$424","v":59312.007605320628},{"$f":"H199*'Série - IPCA'!$C$444/'Série - IPCA'!$C$437","v":51499.571540847865},36488.264594786669,null,"N","SIM","NÃO","ENCARGOS DE GESTÃO","FUNCIONÁRIOS","PESSOAL",4200,"GERÊNCIA FINANCEIRA"]
[null,null,null,61790.61,25514.12,36249.47,44534.16,48419.41,43301.553999999996,{"$f":"D200*'Série - IPCA'!$C$444/'Série - IPCA'!$C$385","v":80765.070452064814},{"$f":"E200*'Série - IPCA'!$C$444/'Série - IPCA'!$C$398","v":31907.505552654169},{"$f":"F200*'Série - IPCA'!$C$444/'Série - IPCA'!$C$411","v":41188.932321222361},{"$f":"G200*'Série - IPCA'!$C$444/'Série - IPCA'!$C$424","v":47835.20799045411},{"$f":"H200*'Série - IPCA'!$C$444/'Série - IPCA'!$C$437","v":49711.199114629278},50281.583086204941,null,"N","SIM","NÃO","ENCARGOS DE GESTÃO","FUNCIONÁRIOS","PESSOAL",4300,"GERÊNCIA DE TECNOLOGIA E SISTEMAS DE INFORMAÇÃO"]
[null,null,null,41935.699999999997,11559.13,19351.5,23261.42,26908.15,24603.18,{"$f":"D201*'Série - IPCA'!$C$444/'Série - IPCA'!$C$385","v":54813.178975845265},{"$f":"E201*'Série - IPCA'!$C$444/'Série - IPCA'!$C$398","v":14455.642783637117},{"$f":"F201*'Série - IPCA'!$C$444/'Série - IPCA'!$C$411","v":21988.39386656231},{"$f":"G201*'Série - IPCA'!$C$444/'Série - IPCA'!$C$424","v":24985.648406825432},{"$f":"H201*'Série - IPCA'!$C$444/'Série - IPCA'!$C$437","v":27626.036799215679},28773.780166417164,null,"N","SIM","NÃO","ENCARGOS DE GESTÃO","FUNCIONÁRIOS","PESSOAL",4500,"GERÊNCIA CONTÁBIL"]
[null,null,null,21116.37,3414.75,0,0,0,4906.2240000000002,{"$f":"D202*'Série - IPCA'!$C$444/'Série - IPCA'!$C$385","v":27600.716528641937},{"$f":"E202*'Série - IPCA'!$C$444/'Série - IPCA'!$C$398","v":4270.4257323366764},{"$f":"F202*'Série - IPCA'!$C$444/'Série - IPCA'!$C$411","v":0},{"$f":"G202*'Série - IPCA'!$C$444/'Série - IPCA'!$C$424","v":0},{"$f":"H202*'Série - IPCA'!$C$444/'Série - IPCA'!$C$437","v":0},6374.2284521957226,null,"N","SIM","NÃO","ENCARGOS DE GESTÃO","FUNCIONÁRIOS","PESSOAL",4600,"GERÊNCIA DE PESSOAS E CULTURA"]
[null,null,null,572,0,0,0,0,114.4,{"$f":"D203*'Série - IPCA'!$C$444/'Série - IPCA'!$C$385","v":747.64790796823456},{"$f":"E203*'Série - IPCA'!$C$444/'Série - IPCA'!$C$398","v":0},{"$f":"F203*'Série - IPCA'!$C$444/'Série - IPCA'!$C$411","v":0},{"$f":"G203*'Série - IPCA'!$C$444/'Série - IPCA'!$C$424","v":0},{"$f":"H203*'Série - IPCA'!$C$444/'Série - IPCA'!$C$437","v":0},149.52958159364692,null,"N","SIM","NÃO","ENCARGOS DE GESTÃO","FUNCIONÁRIOS","PESSOAL",4100,"GERÊNCIA DE SERVIÇOS CORPORATIVOS"]
[null,null,null,40860.01,0,0,0,0,8172.0020000000004,{"$f":"D204*'Série - IPCA'!$C$444/'Série - IPCA'!$C$385","v":53407.169573533465},{"$f":"E204*'Série - IPCA'!$C$444/'Série - IPCA'!$C$398","v":0},{"$f":"F204*'Série - IPCA'!$C$444/'Série - IPCA'!$C$411","v":0},{"$f":"G204*'Série - IPCA'!$C$444/'Série - IPCA'!$C$424","v":0},{"$f":"H204*'Série - IPCA'!$C$444/'Série - IPCA'!$C$437","v":0},10681.433914706693,null,"N","SIM","NÃO","ENCARGOS DE GESTÃO","FUNCIONÁRIOS","PESSOAL",4600,"GERÊNCIA DE PESSOAS E CULTURA"]
[null,null,null,495.9,0,0,0,0,99.179999999999993,{"$f":"D205*'Série - IPCA'!$C$444/'Série - IPCA'!$C$385","v":648.17936636616696},{"$f":"E205*'Série - IPCA'!$C$444/'Série - IPCA'!$C$398","v":0},{"$f":"F205*'Série - IPCA'!$C$444/'Série - IPCA'!$C$411","v":0},{"$f":"G205*'Série - IPCA'!$C$444/'Série - IPCA'!$C$424","v":0},{"$f":"H205*'Série - IPCA'!$C$444/'Série - IPCA'!$C$437","v":0},129.63587327323339,null,"N","SIM","NÃO","ENCARGOS DE GESTÃO","FUNCIONÁRIOS","PESSOAL",3100,"SMS"]
[null,null,null,0,0,0,0,90527.03,18105.405999999999,{"$f":"D206*'Série - IPCA'!$C$444/'Série - IPCA'!$C$385","v":0},{"$f":"E206*'Série - IPCA'!$C$444/'Série - IPCA'!$C$398","v":0},{"$f":"F206*'Série - IPCA'!$C$444/'Série - IPCA'!$C$411","v":0},{"$f":"G206*'Série - IPCA'!$C$444/'Série - IPCA'!$C$424","v":0},{"$f":"H206*'Série - IPCA'!$C$444/'Série - IPCA'!$C$437","v":92942.214983330399},18588.442996666079,null,"N","NÃO","SIM","ENCARGOS DE COMERCIALIZAÇÃO","FIXO","DESPESAS_INSTITUCIONAIS",5300,"GERÊNCIA COMERCIAL"]
[null,null,null,0,547213.4,1285804.7,1508772.7,1099774.1000000001,888312.9800000001,{"$f":"D207*'Série - IPCA'!$C$444/'Série - IPCA'!$C$385","v":0},{"$f":"E207*'Série - IPCA'!$C$444/'Série - IPCA'!$C$398","v":684335.36406455608},{"$f":"F207*'Série - IPCA'!$C$444/'Série - IPCA'!$C$411","v":1461012.3338799055},{"$f":"G207*'Série - IPCA'!$C$444/'Série - IPCA'!$C$424","v":1620608.8969640161},{"$f":"H207*'Série - IPCA'!$C$444/'Série - IPCA'!$C$437","v":1129115.1475454206},979014.34849077964,null,"N","NÃO","SIM","ENCARGOS DE GESTÃO","FIXO","DESPESAS_INSTITUCIONAIS",3500,"ASSESSORIA DE COMUNICAÇÃO INSTITUCIONAL"]
[null,null,null,0,7824.18,0,160,3442.5,2285.3360000000002,{"$f":"D208*'Série - IPCA'!$C$444/'Série - IPCA'!$C$385","v":0},{"$f":"E208*'Série - IPCA'!$C$444/'Série - IPCA'!$C$398","v":9784.7806153990714},{"$f":"F208*'Série - IPCA'!$C$444/'Série - IPCA'!$C$411","v":0},{"$f":"G208*'Série - IPCA'!$C$444/'Série - IPCA'!$C$424","v":171.85983250773467},{"$f":"H208*'Série - IPCA'!$C$444/'Série - IPCA'!$C$437","v":3534.3430031904822},2698.1966902194577,null,"N","NÃO","SIM","ENCARGOS DE GESTÃO","FIXO","DESPESAS_INSTITUCIONAIS",4100,"GERÊNCIA DE SERVIÇOS CORPORATIVOS"]
[null,null,null,453.91,0,0,0,0,90.782000000000011,{"$f":"D209*'Série - IPCA'!$C$444/'Série - IPCA'!$C$385","v":593.29521312213524},{"$f":"E209*'Série - IPCA'!$C$444/'Série - IPCA'!$C$398","v":0},{"$f":"F209*'Série - IPCA'!$C$444/'Série - IPCA'!$C$411","v":0},{"$f":"G209*'Série - IPCA'!$C$444/'Série - IPCA'!$C$424","v":0},{"$f":"H209*'Série - IPCA'!$C$444/'Série - IPCA'!$C$437","v":0},118.65904262442704,null,"N","SIM","NÃO","ENCARGOS DE COMERCIALIZAÇÃO","FIXO","VEÍCULOS",5400,"GERÊNCIA COMERCIAL (inativo)"]
[null,null,null,115.99,0,0,0,0,23.198,{"$f":"D210*'Série - IPCA'!$C$444/'Série - IPCA'!$C$385","v":151.60783364551665},{"$f":"E210*'Série - IPCA'!$C$444/'Série - IPCA'!$C$398","v":0},{"$f":"F210*'Série - IPCA'!$C$444/'Série - IPCA'!$C$411","v":0},{"$f":"G210*'Série - IPCA'!$C$444/'Série - IPCA'!$C$424","v":0},{"$f":"H210*'Série - IPCA'!$C$444/'Série - IPCA'!$C$437","v":0},30.321566729103331,null,"N","SIM","NÃO","ENCARGOS DE GESTÃO","FIXO","VEÍCULOS",4200,"GERÊNCIA FINANCEIRA"]
[null,null,null,0,0,0,550,555.41,221.08199999999997,{"$f":"D211*'Série - IPCA'!$C$444/'Série - IPCA'!$C$385","v":0},{"$f":"E211*'Série - IPCA'!$C$444/'Série - IPCA'!$C$398","v":0},{"$f":"F211*'Série - IPCA'!$C$444/'Série - IPCA'!$C$411","v":0},{"$f":"G211*'Série - IPCA'!$C$444/'Série - IPCA'!$C$424","v":590.76817424533795},{"$f":"H211*'Série - IPCA'!$C$444/'Série - IPCA'!$C$437","v":570.22787143123469},232.1992091353145,null,"N","NÃO","SIM","ENCARGOS DE GESTÃO","FIXO","DESPESAS_INSTITUCIONAIS",2200,"DIRETORIA COLEGIADA - PRESIDÊNCIA"]
[null,null,null,0,0,0,224310.18,313868.68,107635.772,{"$f":"D212*'Série - IPCA'!$C$444/'Série - IPCA'!$C$385","v":0},{"$f":"E212*'Série - IPCA'!$C$444/'Série - IPCA'!$C$398","v":0},{"$f":"F212*'Série - IPCA'!$C$444/'Série - IPCA'!$C$411","v":0},{"$f":"G212*'Série - IPCA'!$C$444/'Série - IPCA'!$C$424","v":240936.93727862387},{"$f":"H212*'Série - IPCA'!$C$444/'Série - IPCA'!$C$437","v":322242.43226685037},112635.87390909484,null,"N","NÃO","SIM","ENCARGOS DE GESTÃO","FIXO","DESPESAS_INSTITUCIONAIS",3500,"ASSESSORIA DE COMUNICAÇÃO INSTITUCIONAL"]
[null,null,null,0,0,0,340,0,68,{"$f":"D213*'Série - IPCA'!$C$444/'Série - IPCA'!$C$385","v":0},{"$f":"E213*'Série - IPCA'!$C$444/'Série - IPCA'!$C$398","v":0},{"$f":"F213*'Série - IPCA'!$C$444/'Série - IPCA'!$C$411","v":0},{"$f":"G213*'Série - IPCA'!$C$444/'Série - IPCA'!$C$424","v":365.20214407893616},{"$f":"H213*'Série - IPCA'!$C$444/'Série - IPCA'!$C$437","v":0},73.040428815787237,null,"N","NÃO","SIM","ENCARGOS DE GESTÃO","FIXO","DESPESAS_INSTITUCIONAIS",4100,"GERÊNCIA DE SERVIÇOS CORPORATIVOS"]
[null,null,null,8416.0400000000009,9227.23,15684.81,19209.22,30330.55,16573.57,{"$f":"D214*'Série - IPCA'!$C$444/'Série - IPCA'!$C$385","v":11000.410313596121},{"$f":"E214*'Série - IPCA'!$C$444/'Série - IPCA'!$C$398","v":11539.410038857588},{"$f":"F214*'Série - IPCA'!$C$444/'Série - IPCA'!$C$411","v":17822.069607120648},{"$f":"G214*'Série - IPCA'!$C$444/'Série - IPCA'!$C$424","v":20633.08332377642},{"$f":"H214*'Série - IPCA'!$C$444/'Série - IPCA'!$C$437","v":31139.743551319993},18426.943366934152,null,"N","SIM","NÃO","OPEX","FIXO","DESPESAS_GERAIS",5100,"GERÊNCIA DE ENGENHARIA"]
[null,null,null,20722.490000000002,18679.39,25676.04,31445.41,49650.9,29234.846000000001,{"$f":"D215*'Série - IPCA'!$C$444/'Série - IPCA'!$C$385","v":27085.885133553609},{"$f":"E215*'Série - IPCA'!$C$444/'Série - IPCA'!$C$398","v":23360.113542822281},{"$f":"F215*'Série - IPCA'!$C$444/'Série - IPCA'!$C$411","v":29174.734798522521},{"$f":"G215*'Série - IPCA'!$C$444/'Série - IPCA'!$C$424","v":33776.26809835653},{"$f":"H215*'Série - IPCA'!$C$444/'Série - IPCA'!$C$437","v":50975.544231549837},32874.509160960952,null,"N","SIM","NÃO","OPEX","FIXO","DESPESAS_GERAIS",5200,"GERÊNCIA DE OPERAÇÕES"]
[null,null,null,15183.09,0,0,0,0,3036.6179999999999,{"$f":"D216*'Série - IPCA'!$C$444/'Série - IPCA'!$C$385","v":19845.46411712137},{"$f":"E216*'Série - IPCA'!$C$444/'Série - IPCA'!$C$398","v":0},{"$f":"F216*'Série - IPCA'!$C$444/'Série - IPCA'!$C$411","v":0},{"$f":"G216*'Série - IPCA'!$C$444/'Série - IPCA'!$C$424","v":0},{"$f":"H216*'Série - IPCA'!$C$444/'Série - IPCA'!$C$437","v":0},3969.0928234242738,null,"N","SIM","NÃO","ENCARGOS DE COMERCIALIZAÇÃO","FIXO","DESPESAS_GERAIS",5300,"GERÊNCIA COMERCIAL"]
[null,null,null,4664.55,50718.78,13546.94,16590.990000000002,26196.5,22343.552000000003,{"$f":"D217*'Série - IPCA'!$C$444/'Série - IPCA'!$C$385","v":6096.9249110371129},{"$f":"E217*'Série - IPCA'!$C$444/'Série - IPCA'!$C$398","v":63428.005922753568},{"$f":"F217*'Série - IPCA'!$C$444/'Série - IPCA'!$C$411","v":15392.88698068303},{"$f":"G217*'Série - IPCA'!$C$444/'Série - IPCA'!$C$424","v":17820.779765859384},{"$f":"H217*'Série - IPCA'!$C$444/'Série - IPCA'!$C$437","v":26895.400576057942},25926.799631278209,null,"N","SIM","NÃO","ENCARGOS DE COMERCIALIZAÇÃO","FIXO","DESPESAS_GERAIS",5300,"GERÊNCIA COMERCIAL"]
[null,null,null,0,201.97,708.98,868.29,1370.99,630.04600000000005,{"$f":"D218*'Série - IPCA'!$C$444/'Série - IPCA'!$C$385","v":0},{"$f":"E218*'Série - IPCA'!$C$444/'Série - IPCA'!$C$398","v":252.58009668644516},{"$f":"F218*'Série - IPCA'!$C$444/'Série - IPCA'!$C$411","v":805.58775720307722},{"$f":"G218*'Série - IPCA'!$C$444/'Série - IPCA'!$C$424","v":932.65108730088082},{"$f":"H218*'Série - IPCA'!$C$444/'Série - IPCA'!$C$437","v":1407.5668595335133},679.67716014478333,null,"N","SIM","NÃO","ENCARGOS DE GESTÃO","FIXO","DESPESAS_GERAIS",1005,"AUDITORIA INTERNA"]
[null,null,null,0,1434.07,1428.86,1749.93,2763.08,1475.1879999999999,{"$f":"D219*'Série - IPCA'!$C$444/'Série - IPCA'!$C$385","v":0},{"$f":"E219*'Série - IPCA'!$C$444/'Série - IPCA'!$C$398","v":1793.422484800368},{"$f":"F219*'Série - IPCA'!$C$444/'Série - IPCA'!$C$411","v":1623.5607813438864},{"$f":"G219*'Série - IPCA'!$C$444/'Série - IPCA'!$C$424","v":1879.6417293766258},{"$f":"H219*'Série - IPCA'!$C$444/'Série - IPCA'!$C$437","v":2836.7966493117092},1626.684328966518,null,"N","SIM","NÃO","ENCARGOS DE GESTÃO","FIXO","DESPESAS_GERAIS",2110,"ASSESSORIA DA DIRETORIA EXECUTIVA"]
[null,null,null,0,609,2137.86,2618.2399999999998,4134.0600000000004,1899.8319999999999,{"$f":"D220*'Série - IPCA'!$C$444/'Série - IPCA'!$C$385","v":0},{"$f":"E220*'Série - IPCA'!$C$444/'Série - IPCA'!$C$398","v":761.60458920654105},{"$f":"F220*'Série - IPCA'!$C$444/'Série - IPCA'!$C$411","v":2429.1712638074},{"$f":"G220*'Série - IPCA'!$C$444/'Série - IPCA'!$C$424","v":2812.3142991565701},{"$f":"H220*'Série - IPCA'!$C$444/'Série - IPCA'!$C$437","v":4244.3532420536376},2049.4886788448298,null,"N","SIM","NÃO","ENCARGOS DE GESTÃO","FIXO","DESPESAS_GERAIS",2120,"ASSESSORIA DA PRESIDÊNCIA"]
[null,null,null,4138.55,2340.31,0,0,0,1295.7720000000002,{"$f":"D221*'Série - IPCA'!$C$444/'Série - IPCA'!$C$385","v":5409.4025341292609},{"$f":"E221*'Série - IPCA'!$C$444/'Série - IPCA'!$C$398","v":2926.7501414876192},{"$f":"F221*'Série - IPCA'!$C$444/'Série - IPCA'!$C$411","v":0},{"$f":"G221*'Série - IPCA'!$C$444/'Série - IPCA'!$C$424","v":0},{"$f":"H221*'Série - IPCA'!$C$444/'Série - IPCA'!$C$437","v":0},1667.2305351233761,null,"N","SIM","NÃO","ENCARGOS DE GESTÃO","FIXO","DESPESAS_GERAIS",2200,"DIRETORIA COLEGIADA - PRESIDÊNCIA"]
[null,null,null,1032.17,583.69000000000005,0,0,0,323.17200000000003,{"$f":"D222*'Série - IPCA'!$C$444/'Série - IPCA'!$C$385","v":1349.1254216216307},{"$f":"E222*'Série - IPCA'!$C$444/'Série - IPCA'!$C$398","v":729.95235250240717},{"$f":"F222*'Série - IPCA'!$C$444/'Série - IPCA'!$C$411","v":0},{"$f":"G222*'Série - IPCA'!$C$444/'Série - IPCA'!$C$424","v":0},{"$f":"H222*'Série - IPCA'!$C$444/'Série - IPCA'!$C$437","v":0},415.81555482480763,null,"N","SIM","NÃO","ENCARGOS DE GESTÃO","FIXO","DESPESAS_GERAIS",2300,"DIRETORIA COLEGIADA - DAF"]
[null,null,null,0,201.95,708.97,868.29,1370.99,630.04,{"$f":"D223*'Série - IPCA'!$C$444/'Série - IPCA'!$C$385","v":0},{"$f":"E223*'Série - IPCA'!$C$444/'Série - IPCA'!$C$398","v":252.5550850414794},{"$f":"F223*'Série - IPCA'!$C$444/'Série - IPCA'!$C$411","v":805.57639457285904},{"$f":"G223*'Série - IPCA'!$C$444/'Série - IPCA'!$C$424","v":932.65108730088082},{"$f":"H223*'Série - IPCA'!$C$444/'Série - IPCA'!$C$437","v":1407.5668595335133},679.6698852897465,null,"N","SIM","NÃO","ENCARGOS DE GESTÃO","FIXO","DESPESAS_GERAIS",2310,"ASSESSORIA DAF"]
[null,null,null,1032.17,583.69000000000005,0,0,0,323.17200000000003,{"$f":"D224*'Série - IPCA'!$C$444/'Série - IPCA'!$C$385","v":1349.1254216216307},{"$f":"E224*'Série - IPCA'!$C$444/'Série - IPCA'!$C$398","v":729.95235250240717},{"$f":"F224*'Série - IPCA'!$C$444/'Série - IPCA'!$C$411","v":0},{"$f":"G224*'Série - IPCA'!$C$444/'Série - IPCA'!$C$424","v":0},{"$f":"H224*'Série - IPCA'!$C$444/'Série - IPCA'!$C$437","v":0},415.81555482480763,null,"N","SIM","NÃO","ENCARGOS DE GESTÃO","FIXO","DESPESAS_GERAIS",2400,"DIRETORIA COLEGIADA - DTC"]
[null,null,null,2590.3200000000002,6387,8551.3799999999992,10472.9,16536.25,8907.57,{"$f":"D225*'Série - IPCA'!$C$444/'Série - IPCA'!$C$385","v":3385.7470786158701},{"$f":"E225*'Série - IPCA'!$C$444/'Série - IPCA'!$C$398","v":7987.4688198065305},{"$f":"F225*'Série - IPCA'!$C$444/'Série - IPCA'!$C$411","v":9716.616879448291},{"$f":"G225*'Série - IPCA'!$C$444/'Série - IPCA'!$C$424","v":11249.192749189089},{"$f":"H225*'Série - IPCA'!$C$444/'Série - IPCA'!$C$437","v":16977.423235006132},9863.2897524131822,null,"N","SIM","NÃO","ENCARGOS DE GESTÃO","FIXO","DESPESAS_GERAIS",3200,"GERÊNCIA DE PLANEJAMENTO E MEIO AMBIENTE"]
[null,null,null,3106.4,2567.61,2846.82,3486.5,5505.06,3502.4780000000001,{"$f":"D226*'Série - IPCA'!$C$444/'Série - IPCA'!$C$385","v":4060.3032540428735},{"$f":"E226*'Série - IPCA'!$C$444/'Série - IPCA'!$C$398","v":3211.0074865231641},{"$f":"F226*'Série - IPCA'!$C$444/'Série - IPCA'!$C$411","v":3234.7362957500409},{"$f":"G226*'Série - IPCA'!$C$444/'Série - IPCA'!$C$424","v":3744.933162738856},{"$f":"H226*'Série - IPCA'!$C$444/'Série - IPCA'!$C$437","v":5651.9303683787357},3980.5821134867342,null,"N","SIM","NÃO","ENCARGOS DE GESTÃO","FIXO","DESPESAS_GERAIS",3300,"GERÊNCIA JURÍDICA"]
[null,null,null,169675.64,0,0,0,0,33935.128000000004,{"$f":"D227*'Série - IPCA'!$C$444/'Série - IPCA'!$C$385","v":221779.08615239742},{"$f":"E227*'Série - IPCA'!$C$444/'Série - IPCA'!$C$398","v":0},{"$f":"F227*'Série - IPCA'!$C$444/'Série - IPCA'!$C$411","v":0},{"$f":"G227*'Série - IPCA'!$C$444/'Série - IPCA'!$C$424","v":0},{"$f":"H227*'Série - IPCA'!$C$444/'Série - IPCA'!$C$437","v":0},44355.817230479486,null,"N","SIM","NÃO","ENCARGOS DE GESTÃO","FIXO","DESPESAS_GERAIS",3400,"MARKETING"]
[null,null,null,0,38711.440000000002,2846.82,3486.5,5505.06,10109.964,{"$f":"D228*'Série - IPCA'!$C$444/'Série - IPCA'!$C$385","v":0},{"$f":"E228*'Série - IPCA'!$C$444/'Série - IPCA'!$C$398","v":48411.839669611923},{"$f":"F228*'Série - IPCA'!$C$444/'Série - IPCA'!$C$411","v":3234.7362957500409},{"$f":"G228*'Série - IPCA'!$C$444/'Série - IPCA'!$C$424","v":3744.933162738856},{"$f":"H228*'Série - IPCA'!$C$444/'Série - IPCA'!$C$437","v":5651.9303683787357},12208.68789929591,null,"N","SIM","NÃO","ENCARGOS DE GESTÃO","FIXO","DESPESAS_GERAIS",3500,"ASSESSORIA DE COMUNICAÇÃO INSTITUCIONAL"]
[null,null,null,1558.15,1766.49,4995.5600000000004,6118.09,9660.23,4819.7039999999997,{"$f":"D229*'Série - IPCA'!$C$444/'Série - IPCA'!$C$385","v":2036.6216569942389},{"$f":"E229*'Série - IPCA'!$C$444/'Série - IPCA'!$C$398","v":2209.1410357758009},{"$f":"F229*'Série - IPCA'!$C$444/'Série - IPCA'!$C$411","v":5676.2701012347379},{"$f":"G229*'Série - IPCA'!$C$444/'Série - IPCA'!$C$424","v":6571.5870166702907},{"$f":"H229*'Série - IPCA'!$C$444/'Série - IPCA'!$C$437","v":9917.9568074686413},5282.3153236287426,null,"N","SIM","NÃO","ENCARGOS DE GESTÃO","FIXO","DESPESAS_GERAIS",3600,"GERÊNCIA DE GOVERNANÇA, RISCO E COMPLIANCE"]
[null,null,null,212.5,15553.09,13546.94,19891.580000000002,29503.25,15741.472,{"$f":"D230*'Série - IPCA'!$C$444/'Série - IPCA'!$C$385","v":277.75381196372348},{"$f":"E230*'Série - IPCA'!$C$444/'Série - IPCA'!$C$398","v":19450.418260003877},{"$f":"F230*'Série - IPCA'!$C$444/'Série - IPCA'!$C$411","v":15392.88698068303},{"$f":"G230*'Série - IPCA'!$C$444/'Série - IPCA'!$C$424","v":21366.022544463784},{"$f":"H230*'Série - IPCA'!$C$444/'Série - IPCA'!$C$437","v":30290.371883479911},17355.490696118864,null,"N","SIM","NÃO","ENCARGOS DE GESTÃO","FIXO","DESPESAS_GERAIS",4100,"GERÊNCIA DE SERVIÇOS CORPORATIVOS"]
[null,null,null,5696.7,5048.42,6413.55,7854.66,12402.19,7483.1039999999994,{"$f":"D231*'Série - IPCA'!$C$444/'Série - IPCA'!$C$385","v":7446.0241911234998},{"$f":"E231*'Série - IPCA'!$C$444/'Série - IPCA'!$C$398","v":6313.4644338950511},{"$f":"F231*'Série - IPCA'!$C$444/'Série - IPCA'!$C$411","v":7287.479703531546},{"$f":"G231*'Série - IPCA'!$C$444/'Série - IPCA'!$C$424","v":8436.87845003252},{"$f":"H231*'Série - IPCA'!$C$444/'Série - IPCA'!$C$437","v":12733.069992952498},8443.3833543070232,null,"N","SIM","NÃO","ENCARGOS DE GESTÃO","FIXO","DESPESAS_GERAIS",4200,"GERÊNCIA FINANCEIRA"]
[null,null,null,83628.66,82476.929999999993,82875.429999999993,91091.27,88692.07,85752.872000000003,{"$f":"D232*'Série - IPCA'!$C$444/'Série - IPCA'!$C$385","v":109309.07813843842},{"$f":"E232*'Série - IPCA'!$C$444/'Série - IPCA'!$C$398","v":103144.18455117673},{"$f":"F232*'Série - IPCA'!$C$444/'Série - IPCA'!$C$411","v":94168.286525629228},{"$f":"G232*'Série - IPCA'!$C$444/'Série - IPCA'!$C$424","v":97843.315031980223},{"$f":"H232*'Série - IPCA'!$C$444/'Série - IPCA'!$C$437","v":91058.299794620325},99104.632808368973,null,"N","SIM","NÃO","ENCARGOS DE GESTÃO","FIXO","DESPESAS_GERAIS",4300,"GERÊNCIA DE TECNOLOGIA E SISTEMAS DE INFORMAÇÃO"]
[null,null,null,4138.54,3558.29,4275.68,5236.45,8268.17,5095.4259999999995,{"$f":"D233*'Série - IPCA'!$C$444/'Série - IPCA'!$C$385","v":5409.3894633616392},{"$f":"E233*'Série - IPCA'!$C$444/'Série - IPCA'!$C$398","v":4449.9343082557352},{"$f":"F233*'Série - IPCA'!$C$444/'Série - IPCA'!$C$411","v":4858.2970770939282},{"$f":"G233*'Série - IPCA'!$C$444/'Série - IPCA'!$C$424","v":5624.5963745945446},{"$f":"H233*'Série - IPCA'!$C$444/'Série - IPCA'!$C$437","v":8488.7578180651999},5766.1950082742096,null,"N","SIM","NÃO","ENCARGOS DE GESTÃO","FIXO","DESPESAS_GERAIS",4500,"GERÊNCIA CONTÁBIL"]
[null,null,null,0,645085.21,909411.28,771434.4,707596.3,606705.43800000008,{"$f":"D234*'Série - IPCA'!$C$444/'Série - IPCA'!$C$385","v":0},{"$f":"E234*'Série - IPCA'!$C$444/'Série - IPCA'!$C$398","v":806732.11225823523},{"$f":"F234*'Série - IPCA'!$C$444/'Série - IPCA'!$C$411","v":1033330.4090811864},{"$f":"G234*'Série - IPCA'!$C$444/'Série - IPCA'!$C$424","v":828616.16734190495},{"$f":"H234*'Série - IPCA'!$C$444/'Série - IPCA'!$C$437","v":726474.373852861},679030.61250683758,null,"N","SIM","NÃO","ENCARGOS DE COMERCIALIZAÇÃO","FIXO","SERVIÇOS",5300,"GERÊNCIA COMERCIAL"]
[null,null,null,688657.89,125935.37,0,0,0,162918.652,{"$f":"D235*'Série - IPCA'!$C$444/'Série - IPCA'!$C$385","v":900128.72511244519},{"$f":"E235*'Série - IPCA'!$C$444/'Série - IPCA'!$C$398","v":157492.53815340516},{"$f":"F235*'Série - IPCA'!$C$444/'Série - IPCA'!$C$411","v":0},{"$f":"G235*'Série - IPCA'!$C$444/'Série - IPCA'!$C$424","v":0},{"$f":"H235*'Série - IPCA'!$C$444/'Série - IPCA'!$C$437","v":0},211524.25265317006,null,"N","SIM","NÃO","ENCARGOS DE COMERCIALIZAÇÃO","FIXO","SERVIÇOS",5500,"GERÊNCIA COMERCIAL (inativo)"]
[null,null,null,0,35913.94,137215.75,118896.73,229820.55,104369.394,{"$f":"D236*'Série - IPCA'!$C$444/'Série - IPCA'!$C$385","v":0},{"$f":"E236*'Série - IPCA'!$C$444/'Série - IPCA'!$C$398","v":44913.335830030155},{"$f":"F236*'Série - IPCA'!$C$444/'Série - IPCA'!$C$411","v":155913.18273496872},{"$f":"G236*'Série - IPCA'!$C$444/'Série - IPCA'!$C$424","v":127709.82564698346},{"$f":"H236*'Série - IPCA'!$C$444/'Série - IPCA'!$C$437","v":235951.96888362771},112897.662619122,null,"N","SIM","NÃO","ENCARGOS DE GESTÃO","FIXO","SERVIÇOS",3500,"ASSESSORIA DE COMUNICAÇÃO INSTITUCIONAL"]
[null,null,null,0,0,0,102065.04,452657.91999999998,110944.59199999999,{"$f":"D237*'Série - IPCA'!$C$444/'Série - IPCA'!$C$385","v":0},{"$f":"E237*'Série - IPCA'!$C$444/'Série - IPCA'!$C$398","v":0},{"$f":"F237*'Série - IPCA'!$C$444/'Série - IPCA'!$C$411","v":0},{"$f":"G237*'Série - IPCA'!$C$444/'Série - IPCA'!$C$424","v":109630.50424559524},{"$f":"H237*'Série - IPCA'!$C$444/'Série - IPCA'!$C$437","v":464734.4524010914},114872.99132933732,null,"N","SIM","NÃO","ENCARGOS DE GESTÃO","FIXO","SERVIÇOS",5200,"GERÊNCIA DE OPERAÇÕES"]
[null,null,null,24680.45,33927.57,51060.639999999999,53024.75,55047.68,43548.218000000001,{"$f":"D238*'Série - IPCA'!$C$444/'Série - IPCA'!$C$385","v":32259.242675200378},{"$f":"E238*'Série - IPCA'!$C$444/'Série - IPCA'!$C$398","v":42429.216769501094},{"$f":"F238*'Série - IPCA'!$C$444/'Série - IPCA'!$C$411","v":58018.317101968642},{"$f":"G238*'Série - IPCA'!$C$444/'Série - IPCA'!$C$424","v":56955.154086028153},{"$f":"H238*'Série - IPCA'!$C$444/'Série - IPCA'!$C$437","v":56516.305780644492},49235.647282668557,null,"N","SIM","NÃO","OPEX","FIXO","ALUGUÉIS",5100,"GERÊNCIA DE ENGENHARIA"]
[null,null,null,51412.85,63982.11,83586.039999999994,86801.3,90112.639999999999,75178.987999999998,{"$f":"D239*'Série - IPCA'!$C$444/'Série - IPCA'!$C$385","v":67200.541512560565},{"$f":"E239*'Série - IPCA'!$C$444/'Série - IPCA'!$C$398","v":80014.89097392073},{"$f":"F239*'Série - IPCA'!$C$444/'Série - IPCA'!$C$411","v":94975.726391557866},{"$f":"G239*'Série - IPCA'!$C$444/'Série - IPCA'!$C$424","v":93235.35549658518},{"$f":"H239*'Série - IPCA'!$C$444/'Série - IPCA'!$C$437","v":92516.76940683306},85588.656756291486,null,"N","SIM","NÃO","OPEX","FIXO","ALUGUÉIS",5200,"GERÊNCIA DE OPERAÇÕES"]
[null,null,null,16444.13,66018.67,44101.09,45797.46,47544.67,43981.204000000005,{"$f":"D240*'Série - IPCA'!$C$444/'Série - IPCA'!$C$385","v":21493.740197303647},{"$f":"E240*'Série - IPCA'!$C$444/'Série - IPCA'!$C$398","v":82561.776757491287},{"$f":"F240*'Série - IPCA'!$C$444/'Série - IPCA'!$C$411","v":50110.437788528659},{"$f":"G240*'Série - IPCA'!$C$444/'Série - IPCA'!$C$424","v":49192.148780497992},{"$f":"H240*'Série - IPCA'!$C$444/'Série - IPCA'!$C$437","v":48813.121787509197},50434.245062266149,null,"N","SIM","NÃO","ENCARGOS DE COMERCIALIZAÇÃO","FIXO","ALUGUÉIS",5300,"GERÊNCIA COMERCIAL"]
[null,null,null,0,4584.37,4651.57,4830.4799999999996,5014.78,3816.2399999999993,{"$f":"D241*'Série - IPCA'!$C$444/'Série - IPCA'!$C$385","v":0},{"$f":"E241*'Série - IPCA'!$C$444/'Série - IPCA'!$C$398","v":5733.1317415776521},{"$f":"F241*'Série - IPCA'!$C$444/'Série - IPCA'!$C$411","v":5285.4069843622065},{"$f":"G241*'Série - IPCA'!$C$444/'Série - IPCA'!$C$424","v":5188.5342733247635},{"$f":"H241*'Série - IPCA'!$C$444/'Série - IPCA'!$C$437","v":5148.570110541631},4271.1286219612502,null,"N","SIM","NÃO","ENCARGOS DE GESTÃO","FIXO","ALUGUÉIS",2110,"ASSESSORIA DA DIRETORIA EXECUTIVA"]
[null,null,null,0,763.33,2308.0100000000002,2396.81,2488.2399999999998,1591.2779999999998,{"$f":"D242*'Série - IPCA'!$C$444/'Série - IPCA'!$C$385","v":0},{"$f":"E242*'Série - IPCA'!$C$444/'Série - IPCA'!$C$398","v":954.6069475846125},{"$f":"F242*'Série - IPCA'!$C$444/'Série - IPCA'!$C$411","v":2622.5064169684256},{"$f":"G242*'Série - IPCA'!$C$444/'Série - IPCA'!$C$424","v":2574.471032205397},{"$f":"H242*'Série - IPCA'!$C$444/'Série - IPCA'!$C$437","v":2554.624149385239},1741.2417092287349,null,"N","SIM","NÃO","ENCARGOS DE GESTÃO","FIXO","ALUGUÉIS",1005,"AUDITORIA INTERNA"]
[null,null,null,0,2301.77,7094.21,7227.3,7503.03,4825.2619999999997,{"$f":"D243*'Série - IPCA'!$C$444/'Série - IPCA'!$C$385","v":0},{"$f":"E243*'Série - IPCA'!$C$444/'Série - IPCA'!$C$398","v":2878.5527016386536},{"$f":"F243*'Série - IPCA'!$C$444/'Série - IPCA'!$C$411","v":8060.8884919569537},{"$f":"G243*'Série - IPCA'!$C$444/'Série - IPCA'!$C$424","v":7763.0160467696933},{"$f":"H243*'Série - IPCA'!$C$444/'Série - IPCA'!$C$437","v":7703.2045267184558},5281.1323534167514,null,"N","SIM","NÃO","ENCARGOS DE GESTÃO","FIXO","ALUGUÉIS",2120,"ASSESSORIA DA PRESIDÊNCIA"]
[null,null,null,0,763.33,2308.0300000000002,2396.81,2488.2399999999998,1591.2819999999999,{"$f":"D244*'Série - IPCA'!$C$444/'Série - IPCA'!$C$385","v":0},{"$f":"E244*'Série - IPCA'!$C$444/'Série - IPCA'!$C$398","v":954.6069475846125},{"$f":"F244*'Série - IPCA'!$C$444/'Série - IPCA'!$C$411","v":2622.5291422288615},{"$f":"G244*'Série - IPCA'!$C$444/'Série - IPCA'!$C$424","v":2574.471032205397},{"$f":"H244*'Série - IPCA'!$C$444/'Série - IPCA'!$C$437","v":2554.624149385239},1741.2462542808221,null,"N","SIM","NÃO","ENCARGOS DE GESTÃO","FIXO","ALUGUÉIS",2310,"ASSESSORIA DAF"]
[null,null,null,2051.96,2322.5700000000002,0,0,0,874.90600000000018,{"$f":"D245*'Série - IPCA'!$C$444/'Série - IPCA'!$C$385","v":2682.0692329274452},{"$f":"E245*'Série - IPCA'!$C$444/'Série - IPCA'!$C$398","v":2904.5648124030149},{"$f":"F245*'Série - IPCA'!$C$444/'Série - IPCA'!$C$411","v":0},{"$f":"G245*'Série - IPCA'!$C$444/'Série - IPCA'!$C$424","v":0},{"$f":"H245*'Série - IPCA'!$C$444/'Série - IPCA'!$C$437","v":0},1117.326809066092,null,"N","SIM","NÃO","ENCARGOS DE GESTÃO","FIXO","ALUGUÉIS",2200,"DIRETORIA COLEGIADA - PRESIDÊNCIA"]
[null,null,null,2051.96,1504.3,0,0,0,711.25200000000007,{"$f":"D246*'Série - IPCA'!$C$444/'Série - IPCA'!$C$385","v":2682.0692329274452},{"$f":"E246*'Série - IPCA'!$C$444/'Série - IPCA'!$C$398","v":1881.2508760975363},{"$f":"F246*'Série - IPCA'!$C$444/'Série - IPCA'!$C$411","v":0},{"$f":"G246*'Série - IPCA'!$C$444/'Série - IPCA'!$C$424","v":0},{"$f":"H246*'Série - IPCA'!$C$444/'Série - IPCA'!$C$437","v":0},912.66402180499631,null,"N","SIM","NÃO","ENCARGOS DE GESTÃO","FIXO","ALUGUÉIS",2300,"DIRETORIA COLEGIADA - DAF"]
[null,null,null,2051.96,1504.3,0,0,0,711.25200000000007,{"$f":"D247*'Série - IPCA'!$C$444/'Série - IPCA'!$C$385","v":2682.0692329274452},{"$f":"E247*'Série - IPCA'!$C$444/'Série - IPCA'!$C$398","v":1881.2508760975363},{"$f":"F247*'Série - IPCA'!$C$444/'Série - IPCA'!$C$411","v":0},{"$f":"G247*'Série - IPCA'!$C$444/'Série - IPCA'!$C$424","v":0},{"$f":"H247*'Série - IPCA'!$C$444/'Série - IPCA'!$C$437","v":0},912.66402180499631,null,"N","SIM","NÃO","ENCARGOS DE GESTÃO","FIXO","ALUGUÉIS",2400,"DIRETORIA COLEGIADA - DTC"]
[null,null,null,8236.31,20941.060000000001,27838.35,28909.17,30012.06,23187.39,{"$f":"D248*'Série - IPCA'!$C$444/'Série - IPCA'!$C$385","v":10765.489407129107},{"$f":"E248*'Série - IPCA'!$C$444/'Série - IPCA'!$C$398","v":26188.517896304642},{"$f":"F248*'Série - IPCA'!$C$444/'Série - IPCA'!$C$411","v":31631.687693213182},{"$f":"G248*'Série - IPCA'!$C$444/'Série - IPCA'!$C$424","v":31052.031963360172},{"$f":"H248*'Série - IPCA'!$C$444/'Série - IPCA'!$C$437","v":30812.756506124315},26090.096693226282,null,"N","SIM","NÃO","ENCARGOS DE GESTÃO","FIXO","ALUGUÉIS",3200,"GERÊNCIA DE PLANEJAMENTO E MEIO AMBIENTE"]
[null,null,null,7381.33,8316.64,9267.61,9624.1,9991.2900000000009,8916.1939999999995,{"$f":"D249*'Série - IPCA'!$C$444/'Série - IPCA'!$C$385","v":9647.9649169985478},{"$f":"E249*'Série - IPCA'!$C$444/'Série - IPCA'!$C$398","v":10400.642349390291},{"$f":"F249*'Série - IPCA'!$C$444/'Série - IPCA'!$C$411","v":10530.442543559493},{"$f":"G249*'Série - IPCA'!$C$444/'Série - IPCA'!$C$424","v":10337.476337735559},{"$f":"H249*'Série - IPCA'!$C$444/'Série - IPCA'!$C$437","v":10257.849209686865},10234.875071474151,null,"N","SIM","NÃO","ENCARGOS DE GESTÃO","FIXO","ALUGUÉIS",3300,"GERÊNCIA JURÍDICA"]
[null,null,null,0,12663.36,9267.61,9624.1,9991.2900000000009,8309.2720000000008,{"$f":"D250*'Série - IPCA'!$C$444/'Série - IPCA'!$C$385","v":0},{"$f":"E250*'Série - IPCA'!$C$444/'Série - IPCA'!$C$398","v":15836.573219662632},{"$f":"F250*'Série - IPCA'!$C$444/'Série - IPCA'!$C$411","v":10530.442543559493},{"$f":"G250*'Série - IPCA'!$C$444/'Série - IPCA'!$C$424","v":10337.476337735559},{"$f":"H250*'Série - IPCA'!$C$444/'Série - IPCA'!$C$437","v":10257.849209686865},9392.4682621289085,null,"N","SIM","NÃO","ENCARGOS DE GESTÃO","FIXO","ALUGUÉIS",3500,"ASSESSORIA DE COMUNICAÇÃO INSTITUCIONAL"]
[null,null,null,0,5789.05,16262.72,16888.27,17532.57,11294.522000000001,{"$f":"D251*'Série - IPCA'!$C$444/'Série - IPCA'!$C$385","v":0},{"$f":"E251*'Série - IPCA'!$C$444/'Série - IPCA'!$C$398","v":7239.6831644435579},{"$f":"F251*'Série - IPCA'!$C$444/'Série - IPCA'!$C$411","v":18478.727370055043},{"$f":"G251*'Série - IPCA'!$C$444/'Série - IPCA'!$C$424","v":18140.095334658752},{"$f":"H251*'Série - IPCA'!$C$444/'Série - IPCA'!$C$437","v":18000.324214218548},12371.766016675179,null,"N","SIM","NÃO","ENCARGOS DE GESTÃO","FIXO","ALUGUÉIS",3600,"GERÊNCIA DE GOVERNANÇA, RISCO E COMPLIANCE"]
[null,null,null,13708.19,34187.5,44101.08,45797.46,47544.67,37067.780000000006,{"$f":"D252*'Série - IPCA'!$C$444/'Série - IPCA'!$C$385","v":17917.656600578801},{"$f":"E252*'Série - IPCA'!$C$444/'Série - IPCA'!$C$398","v":42754.28061329823},{"$f":"F252*'Série - IPCA'!$C$444/'Série - IPCA'!$C$411","v":50110.426425898448},{"$f":"G252*'Série - IPCA'!$C$444/'Série - IPCA'!$C$424","v":49192.148780497992},{"$f":"H252*'Série - IPCA'!$C$444/'Série - IPCA'!$C$437","v":48813.121787509197},41757.526841556537,null,"N","SIM","NÃO","ENCARGOS DE GESTÃO","FIXO","ALUGUÉIS",4100,"GERÊNCIA DE SERVIÇOS CORPORATIVOS"]
[null,null,null,20576.54,20764.310000000001,20878.759999999998,21681.9,22509.06,21282.114000000001,{"$f":"D253*'Série - IPCA'!$C$444/'Série - IPCA'!$C$385","v":26895.117280113111},{"$f":"E253*'Série - IPCA'!$C$444/'Série - IPCA'!$C$398","v":25967.477483919985},{"$f":"F253*'Série - IPCA'!$C$444/'Série - IPCA'!$C$411","v":23723.762929252331},{"$f":"G253*'Série - IPCA'!$C$444/'Série - IPCA'!$C$424","v":23289.048140309082},{"$f":"H253*'Série - IPCA'!$C$444/'Série - IPCA'!$C$437","v":23109.582779780612},24596.997722675027,null,"N","SIM","NÃO","ENCARGOS DE GESTÃO","FIXO","ALUGUÉIS",4200,"GERÊNCIA FINANCEIRA"]
[null,null,null,20576.54,20194.41,18570.73,19285.07,20020.8,19729.510000000002,{"$f":"D254*'Série - IPCA'!$C$444/'Série - IPCA'!$C$385","v":26895.117280113111},{"$f":"E254*'Série - IPCA'!$C$444/'Série - IPCA'!$C$398","v":25254.770660621449},{"$f":"F254*'Série - IPCA'!$C$444/'Série - IPCA'!$C$411","v":21101.23378702347},{"$f":"G254*'Série - IPCA'!$C$444/'Série - IPCA'!$C$424","v":20714.555625624616},{"$f":"H254*'Série - IPCA'!$C$444/'Série - IPCA'!$C$437","v":20554.938096812202},22904.123090038971,null,"N","SIM","NÃO","ENCARGOS DE GESTÃO","FIXO","ALUGUÉIS",4300,"GERÊNCIA DE TECNOLOGIA E SISTEMAS DE INFORMAÇÃO"]
[null,null,null,14195.37,14219.98,13919.17,14454.59,15006.04,14359.029999999999,{"$f":"D255*'Série - IPCA'!$C$444/'Série - IPCA'!$C$385","v":18554.438257578739},{"$f":"E255*'Série - IPCA'!$C$444/'Série - IPCA'!$C$398","v":17783.25455899052},{"$f":"F255*'Série - IPCA'!$C$444/'Série - IPCA'!$C$411","v":15815.838165291481},{"$f":"G255*'Série - IPCA'!$C$444/'Série - IPCA'!$C$424","v":15526.021352299853},{"$f":"H255*'Série - IPCA'!$C$444/'Série - IPCA'!$C$437","v":15406.388519853743},16617.18817080287,null,"N","SIM","NÃO","ENCARGOS DE GESTÃO","FIXO","ALUGUÉIS",4500,"GERÊNCIA CONTÁBIL"]
[null,null,null,49360.89,0,0,0,0,9872.1779999999999,{"$f":"D256*'Série - IPCA'!$C$444/'Série - IPCA'!$C$385","v":64518.472279633126},{"$f":"E256*'Série - IPCA'!$C$444/'Série - IPCA'!$C$398","v":0},{"$f":"F256*'Série - IPCA'!$C$444/'Série - IPCA'!$C$411","v":0},{"$f":"G256*'Série - IPCA'!$C$444/'Série - IPCA'!$C$424","v":0},{"$f":"H256*'Série - IPCA'!$C$444/'Série - IPCA'!$C$437","v":0},12903.694455926625,null,"N","SIM","NÃO","ENCARGOS DE COMERCIALIZAÇÃO","FIXO","ALUGUÉIS",5400,"GERÊNCIA COMERCIAL (inativo)"]
[null,null,null,10969.6,0,0,0,0,2193.92,{"$f":"D257*'Série - IPCA'!$C$444/'Série - IPCA'!$C$385","v":14338.10925043417},{"$f":"E257*'Série - IPCA'!$C$444/'Série - IPCA'!$C$398","v":0},{"$f":"F257*'Série - IPCA'!$C$444/'Série - IPCA'!$C$411","v":0},{"$f":"G257*'Série - IPCA'!$C$444/'Série - IPCA'!$C$424","v":0},{"$f":"H257*'Série - IPCA'!$C$444/'Série - IPCA'!$C$437","v":0},2867.621850086834,null,"N","SIM","NÃO","ENCARGOS DE COMERCIALIZAÇÃO","FIXO","ALUGUÉIS",5500,"GERÊNCIA COMERCIAL (inativo)"]
[null,null,null,4274.8999999999996,0,0,0,0,854.9799999999999,{"$f":"D258*'Série - IPCA'!$C$444/'Série - IPCA'!$C$385","v":5587.6224506528069},{"$f":"E258*'Série - IPCA'!$C$444/'Série - IPCA'!$C$398","v":0},{"$f":"F258*'Série - IPCA'!$C$444/'Série - IPCA'!$C$411","v":0},{"$f":"G258*'Série - IPCA'!$C$444/'Série - IPCA'!$C$424","v":0},{"$f":"H258*'Série - IPCA'!$C$444/'Série - IPCA'!$C$437","v":0},1117.5244901305614,null,"N","SIM","NÃO","ENCARGOS DE GESTÃO","FIXO","ALUGUÉIS",2100,"SECRETARIA"]
[null,null,null,8236.31,0,0,0,0,1647.2619999999999,{"$f":"D259*'Série - IPCA'!$C$444/'Série - IPCA'!$C$385","v":10765.489407129107},{"$f":"E259*'Série - IPCA'!$C$444/'Série - IPCA'!$C$398","v":0},{"$f":"F259*'Série - IPCA'!$C$444/'Série - IPCA'!$C$411","v":0},{"$f":"G259*'Série - IPCA'!$C$444/'Série - IPCA'!$C$424","v":0},{"$f":"H259*'Série - IPCA'!$C$444/'Série - IPCA'!$C$437","v":0},2153.0978814258215,null,"N","SIM","NÃO","ENCARGOS DE GESTÃO","FIXO","ALUGUÉIS",3100,"SMS"]
[null,null,null,14392.17,0,0,0,0,2878.4340000000002,{"$f":"D260*'Série - IPCA'!$C$444/'Série - IPCA'!$C$385","v":18811.670964376201},{"$f":"E260*'Série - IPCA'!$C$444/'Série - IPCA'!$C$398","v":0},{"$f":"F260*'Série - IPCA'!$C$444/'Série - IPCA'!$C$411","v":0},{"$f":"G260*'Série - IPCA'!$C$444/'Série - IPCA'!$C$424","v":0},{"$f":"H260*'Série - IPCA'!$C$444/'Série - IPCA'!$C$437","v":0},3762.3341928752402,null,"N","SIM","NÃO","ENCARGOS DE GESTÃO","FIXO","ALUGUÉIS",3400,"MARKETING"]
[null,null,null,14392.17,0,0,0,0,{"$f":"AVERAGE(D261:H261)","v":2878.4340000000002},{"$f":"D261*'Série - IPCA'!$C$444/'Série - IPCA'!$C$385","v":18811.670964376201},{"$f":"E261*'Série - IPCA'!$C$444/'Série - IPCA'!$C$398","v":0},{"$f":"F261*'Série - IPCA'!$C$444/'Série - IPCA'!$C$411","v":0},{"$f":"G261*'Série - IPCA'!$C$444/'Série - IPCA'!$C$424","v":0},{"$f":"H261*'Série - IPCA'!$C$444/'Série - IPCA'!$C$437","v":0},{"$f":"AVERAGE(J261:N261)","v":3762.3341928752402},null,"N","SIM","NÃO","ENCARGOS DE GESTÃO","FIXO","ALUGUÉIS",4600,"GERÊNCIA DE PESSOAS E CULTURA"]
[null,null,null,11244.6,20215.98,12286.3,4365.7299999999996,9163.5499999999993,11455.232,{"$f":"D262*'Série - IPCA'!$C$444/'Série - IPCA'!$C$385","v":14697.555360034285},{"$f":"E262*'Série - IPCA'!$C$444/'Série - IPCA'!$C$398","v":25281.74571971699},{"$f":"F262*'Série - IPCA'!$C$444/'Série - IPCA'!$C$411","v":13960.468364868073},{"$f":"G262*'Série - IPCA'!$C$444/'Série - IPCA'!$C$424","v":4689.3351660874532},{"$f":"H262*'Série - IPCA'!$C$444/'Série - IPCA'!$C$437","v":9408.0258030170353},13607.426082744767,null,"N","SIM","NÃO","OPEX","EXTENSÃO","MATERIAIS_MANUTENÇÃO",5100,"GERÊNCIA DE ENGENHARIA"]
[null,null,null,5251.24,5299.52,37029.199999999997,5085.7,6609.81,11855.093999999999,{"$f":"D263*'Série - IPCA'!$C$444/'Série - IPCA'!$C$385","v":6863.773776641804},{"$f":"E263*'Série - IPCA'!$C$444/'Série - IPCA'!$C$398","v":6627.4856364398165},{"$f":"F263*'Série - IPCA'!$C$444/'Série - IPCA'!$C$411","v":42074.910687218515},{"$f":"G263*'Série - IPCA'!$C$444/'Série - IPCA'!$C$424","v":5462.6721886536634},{"$f":"H263*'Série - IPCA'!$C$444/'Série - IPCA'!$C$437","v":6786.1541687490144},13562.999291540564,null,"N","SIM","NÃO","OPEX","EXTENSÃO","MATERIAIS_MANUTENÇÃO",5200,"GERÊNCIA DE OPERAÇÕES"]
[null,null,null,32308.28,13481.93,0,0,53.52,9168.7459999999992,{"$f":"D264*'Série - IPCA'!$C$444/'Série - IPCA'!$C$385","v":42229.402014076841},{"$f":"E264*'Série - IPCA'!$C$444/'Série - IPCA'!$C$398","v":16860.262330642599},{"$f":"F264*'Série - IPCA'!$C$444/'Série - IPCA'!$C$411","v":0},{"$f":"G264*'Série - IPCA'!$C$444/'Série - IPCA'!$C$424","v":0},{"$f":"H264*'Série - IPCA'!$C$444/'Série - IPCA'!$C$437","v":54.947868563763144},11828.92244265664,null,"N","SIM","NÃO","OPEX","EXTENSÃO","MATERIAIS_MANUTENÇÃO",5100,"GERÊNCIA DE ENGENHARIA"]
[null,null,null,1703.86,3444.55,300.39999999999998,0,126,1114.962,{"$f":"D265*'Série - IPCA'!$C$444/'Série - IPCA'!$C$385","v":2227.0758120118112},{"$f":"E265*'Série - IPCA'!$C$444/'Série - IPCA'!$C$398","v":4307.6930833356173},{"$f":"F265*'Série - IPCA'!$C$444/'Série - IPCA'!$C$411","v":341.33341175181857},{"$f":"G265*'Série - IPCA'!$C$444/'Série - IPCA'!$C$424","v":0},{"$f":"H265*'Série - IPCA'!$C$444/'Série - IPCA'!$C$437","v":129.36157397298496},1401.0927762144463,null,"N","SIM","NÃO","OPEX","EXTENSÃO","MATERIAIS_MANUTENÇÃO",5200,"GERÊNCIA DE OPERAÇÕES"]
[null,null,null,516.62,2740.01,25093.41,13119.21,6703.35,9634.52,{"$f":"D266*'Série - IPCA'!$C$444/'Série - IPCA'!$C$385","v":675.26199687858286},{"$f":"E266*'Série - IPCA'!$C$444/'Série - IPCA'!$C$398","v":3426.6078661277743},{"$f":"F266*'Série - IPCA'!$C$444/'Série - IPCA'!$C$411","v":28512.713874125173},{"$f":"G266*'Série - IPCA'!$C$444/'Série - IPCA'!$C$424","v":14091.657707711236},{"$f":"H266*'Série - IPCA'!$C$444/'Série - IPCA'!$C$437","v":6882.1897372365784},10717.68623641587,null,"N","SIM","NÃO","ENCARGOS DE COMERCIALIZAÇÃO","NÚMERO DE CLIENTES","MATERIAIS_MANUTENÇÃO",5300,"GERÊNCIA COMERCIAL"]
[null,null,null,2498.31,5934.99,187.2,7,13438.91,4413.2820000000002,{"$f":"D267*'Série - IPCA'!$C$444/'Série - IPCA'!$C$385","v":3265.4829457274827},{"$f":"E267*'Série - IPCA'!$C$444/'Série - IPCA'!$C$398","v":7422.1931377585033},{"$f":"F267*'Série - IPCA'!$C$444/'Série - IPCA'!$C$411","v":212.70843768289097},{"$f":"G267*'Série - IPCA'!$C$444/'Série - IPCA'!$C$424","v":7.5188676722133927},{"$f":"H267*'Série - IPCA'!$C$444/'Série - IPCA'!$C$437","v":13797.448810168948},4941.070439802008,null,"N","SIM","NÃO","ENCARGOS DE COMERCIALIZAÇÃO","NÚMERO DE CLIENTES","MATERIAIS_MANUTENÇÃO",5300,"GERÊNCIA COMERCIAL"]
[null,null,null,26654.44,0,0,0,0,5330.8879999999999,{"$f":"D268*'Série - IPCA'!$C$444/'Série - IPCA'!$C$385","v":34839.39913298047},{"$f":"E268*'Série - IPCA'!$C$444/'Série - IPCA'!$C$398","v":0},{"$f":"F268*'Série - IPCA'!$C$444/'Série - IPCA'!$C$411","v":0},{"$f":"G268*'Série - IPCA'!$C$444/'Série - IPCA'!$C$424","v":0},{"$f":"H268*'Série - IPCA'!$C$444/'Série - IPCA'!$C$437","v":0},6967.8798265960941,null,"N","SIM","NÃO","ENCARGOS DE COMERCIALIZAÇÃO","NÚMERO DE CLIENTES","MATERIAIS_MANUTENÇÃO",5400,"GERÊNCIA COMERCIAL (inativo)"]
[null,null,null,0,1522.71,1783.42,1630.58,1630.56,1313.4540000000002,{"$f":"D269*'Série - IPCA'!$C$444/'Série - IPCA'!$C$385","v":0},{"$f":"E269*'Série - IPCA'!$C$444/'Série - IPCA'!$C$398","v":1904.2740952884928},{"$f":"F269*'Série - IPCA'!$C$444/'Série - IPCA'!$C$411","v":2026.434198356952},{"$f":"G269*'Série - IPCA'!$C$444/'Série - IPCA'!$C$424","v":1751.4450355653873},{"$f":"H269*'Série - IPCA'!$C$444/'Série - IPCA'!$C$437","v":1674.0619687094475},1471.243059584056,null,"S","NÃO ",null,"ENCARGOS DE COMERCIALIZAÇÃO","VOLUME","DESPESAS GERAIS",5300,"GERÊNCIA COMERCIAL"]
[null,null,null,3289.31,0,0,0,0,657.86199999999997,{"$f":"D270*'Série - IPCA'!$C$444/'Série - IPCA'!$C$385","v":4299.3806646136254},{"$f":"E270*'Série - IPCA'!$C$444/'Série - IPCA'!$C$398","v":0},{"$f":"F270*'Série - IPCA'!$C$444/'Série - IPCA'!$C$411","v":0},{"$f":"G270*'Série - IPCA'!$C$444/'Série - IPCA'!$C$424","v":0},{"$f":"H270*'Série - IPCA'!$C$444/'Série - IPCA'!$C$437","v":0},859.87613292272511,null,"S","NÃO",null,"ENCARGOS DE COMERCIALIZAÇÃO","VOLUME","DESPESAS GERAIS",5400,"GERÊNCIA COMERCIAL (inativo)"]
[null,null,null,549.04999999999995,204.95,0,0,0,150.80000000000001,{"$f":"D271*'Série - IPCA'!$C$444/'Série - IPCA'!$C$385","v":717.65049627615235},{"$f":"E271*'Série - IPCA'!$C$444/'Série - IPCA'!$C$398","v":256.30683178633916},{"$f":"F271*'Série - IPCA'!$C$444/'Série - IPCA'!$C$411","v":0},{"$f":"G271*'Série - IPCA'!$C$444/'Série - IPCA'!$C$424","v":0},{"$f":"H271*'Série - IPCA'!$C$444/'Série - IPCA'!$C$437","v":0},194.79146561249831,null,"S","NÃO",null,"ENCARGOS DE COMERCIALIZAÇÃO","VOLUME","DESPESAS GERAIS",5500,"GERÊNCIA COMERCIAL (inativo)"]
[null,null,null,47.77,106.3,308.61,0,0,92.536000000000001,{"$f":"D272*'Série - IPCA'!$C$444/'Série - IPCA'!$C$385","v":62.439056929445051},{"$f":"E272*'Série - IPCA'!$C$444/'Série - IPCA'!$C$398","v":132.93689299286586},{"$f":"F272*'Série - IPCA'!$C$444/'Série - IPCA'!$C$411","v":350.66213116088136},{"$f":"G272*'Série - IPCA'!$C$444/'Série - IPCA'!$C$424","v":0},{"$f":"H272*'Série - IPCA'!$C$444/'Série - IPCA'!$C$437","v":0},109.20761621663846,null,"N","SIM","NÃO","ENCARGOS DE GESTÃO","FIXO","MATERIAIS_MANUTENÇÃO",1001,"CONSELHO DE ADMINISTRAÇÃO"]
[null,null,null,1510.53,669.57,0,0,0,436.02,{"$f":"D273*'Série - IPCA'!$C$444/'Série - IPCA'!$C$385","v":1974.3786615791214},{"$f":"E273*'Série - IPCA'!$C$444/'Série - IPCA'!$C$398","v":837.3523559852606},{"$f":"F273*'Série - IPCA'!$C$444/'Série - IPCA'!$C$411","v":0},{"$f":"G273*'Série - IPCA'!$C$444/'Série - IPCA'!$C$424","v":0},{"$f":"H273*'Série - IPCA'!$C$444/'Série - IPCA'!$C$437","v":0},562.3462035128764,null,"N","SIM","NÃO","ENCARGOS DE GESTÃO","FIXO","MATERIAIS_MANUTENÇÃO",1002,"CONSELHO FISCAL"]
[null,null,null,0,0,0,132.28,1004.91,227.43800000000002,{"$f":"D274*'Série - IPCA'!$C$444/'Série - IPCA'!$C$385","v":0},{"$f":"E274*'Série - IPCA'!$C$444/'Série - IPCA'!$C$398","v":0},{"$f":"F274*'Série - IPCA'!$C$444/'Série - IPCA'!$C$411","v":0},{"$f":"G274*'Série - IPCA'!$C$444/'Série - IPCA'!$C$424","v":142.08511652576965},{"$f":"H274*'Série - IPCA'!$C$444/'Série - IPCA'!$C$437","v":1031.720153184066},234.76105394196711,null,"N","SIM","SIM","ENCARGOS DE GESTÃO","FIXO","MATERIAIS_MANUTENÇÃO",1004,"COMITÊ DE AUDITORIA ESTATUTÁRIA"]
[null,null,null,0,0,0,20.8,71.84,18.527999999999999,{"$f":"D275*'Série - IPCA'!$C$444/'Série - IPCA'!$C$385","v":0},{"$f":"E275*'Série - IPCA'!$C$444/'Série - IPCA'!$C$398","v":0},{"$f":"F275*'Série - IPCA'!$C$444/'Série - IPCA'!$C$411","v":0},{"$f":"G275*'Série - IPCA'!$C$444/'Série - IPCA'!$C$424","v":22.341778226005509},{"$f":"H275*'Série - IPCA'!$C$444/'Série - IPCA'!$C$437","v":73.756630747771752},19.219681794755452,null,"N","SIM","NÃO","ENCARGOS DE GESTÃO","FIXO","MATERIAIS_MANUTENÇÃO",1005,"AUDITORIA INTERNA"]
[null,null,null,0,0,879.52,0,1872,550.30399999999997,{"$f":"D276*'Série - IPCA'!$C$444/'Série - IPCA'!$C$385","v":0},{"$f":"E276*'Série - IPCA'!$C$444/'Série - IPCA'!$C$398","v":0},{"$f":"F276*'Série - IPCA'!$C$444/'Série - IPCA'!$C$411","v":999.36605294260823},{"$f":"G276*'Série - IPCA'!$C$444/'Série - IPCA'!$C$424","v":0},{"$f":"H276*'Série - IPCA'!$C$444/'Série - IPCA'!$C$437","v":1921.9433847414909},584.26188753681981,null,"N","SIM","NÃO","ENCARGOS DE GESTÃO","FIXO","MATERIAIS_MANUTENÇÃO",1010,"GOVERNANÇA SOCIETÁRIA"]
[null,null,null,0,0,405.97,1691.16,0,419.42600000000004,{"$f":"D277*'Série - IPCA'!$C$444/'Série - IPCA'!$C$385","v":0},{"$f":"E277*'Série - IPCA'!$C$444/'Série - IPCA'!$C$398","v":0},{"$f":"F277*'Série - IPCA'!$C$444/'Série - IPCA'!$C$411","v":461.28869896433361},{"$f":"G277*'Série - IPCA'!$C$444/'Série - IPCA'!$C$424","v":1816.5154646486287},{"$f":"H277*'Série - IPCA'!$C$444/'Série - IPCA'!$C$437","v":0},455.56083272259247,null,"N","SIM","NÃO","ENCARGOS DE GESTÃO","FIXO","MATERIAIS_MANUTENÇÃO",2100,"SECRETARIA"]
[null,null,null,0,0,0,226.67,4056,856.53399999999999,{"$f":"D278*'Série - IPCA'!$C$444/'Série - IPCA'!$C$385","v":0},{"$f":"E278*'Série - IPCA'!$C$444/'Série - IPCA'!$C$398","v":0},{"$f":"F278*'Série - IPCA'!$C$444/'Série - IPCA'!$C$411","v":0},{"$f":"G278*'Série - IPCA'!$C$444/'Série - IPCA'!$C$424","v":243.47167646580132},{"$f":"H278*'Série - IPCA'!$C$444/'Série - IPCA'!$C$437","v":4164.2106669398972},881.5364686811397,null,"N","SIM","NÃO","ENCARGOS DE GESTÃO","FIXO","MATERIAIS_MANUTENÇÃO",2110,"ASSESSORIA DA DIRETORIA EXECUTIVA"]
[null,null,null,0,0,818.28,1950.06,1282.99,810.26599999999996,{"$f":"D279*'Série - IPCA'!$C$444/'Série - IPCA'!$C$385","v":0},{"$f":"E279*'Série - IPCA'!$C$444/'Série - IPCA'!$C$398","v":0},{"$f":"F279*'Série - IPCA'!$C$444/'Série - IPCA'!$C$411","v":929.78130548694446},{"$f":"G279*'Série - IPCA'!$C$444/'Série - IPCA'!$C$424","v":2094.6061561252068},{"$f":"H279*'Série - IPCA'!$C$444/'Série - IPCA'!$C$437","v":1317.219093584127},868.32131103925565,null,"N","SIM","NÃO","ENCARGOS DE GESTÃO","FIXO","MATERIAIS_MANUTENÇÃO",2120,"ASSESSORIA DA PRESIDÊNCIA"]
[null,null,null,0,0,330,1672.99,333.72,467.34199999999998,{"$f":"D280*'Série - IPCA'!$C$444/'Série - IPCA'!$C$385","v":0},{"$f":"E280*'Série - IPCA'!$C$444/'Série - IPCA'!$C$398","v":0},{"$f":"F280*'Série - IPCA'!$C$444/'Série - IPCA'!$C$411","v":374.96679719740393},{"$f":"G280*'Série - IPCA'!$C$444/'Série - IPCA'!$C$424","v":1796.998632419469},{"$f":"H280*'Série - IPCA'!$C$444/'Série - IPCA'!$C$437","v":342.62336877987735},502.91775967935001,null,"N","SIM","NÃO","ENCARGOS DE GESTÃO","FIXO","MATERIAIS_MANUTENÇÃO",2130,"ASSESSORIA DE RELAÇÕES INSTITUCIONAIS E NOVOS NEGÓCIOS"]
[null,null,null,6503.09,3764.24,347.76,782.7,3024.14,2884.386,{"$f":"D281*'Série - IPCA'!$C$444/'Série - IPCA'!$C$385","v":8500.0378213796284},{"$f":"E281*'Série - IPCA'!$C$444/'Série - IPCA'!$C$398","v":4707.4917222903605},{"$f":"F281*'Série - IPCA'!$C$444/'Série - IPCA'!$C$411","v":395.14682846475517},{"$f":"G281*'Série - IPCA'!$C$444/'Série - IPCA'!$C$424","v":840.71681814877456},{"$f":"H281*'Série - IPCA'!$C$444/'Série - IPCA'!$C$437","v":3104.8215104338315},3509.6429401434698,null,"N","SIM","NÃO","ENCARGOS DE GESTÃO","FIXO","MATERIAIS_MANUTENÇÃO",2200,"DIRETORIA COLEGIADA - PRESIDÊNCIA"]
[null,null,null,958.39,0,0,259.7,1089.99,461.61599999999999,{"$f":"D282*'Série - IPCA'!$C$444/'Série - IPCA'!$C$385","v":1252.6892981078256},{"$f":"E282*'Série - IPCA'!$C$444/'Série - IPCA'!$C$398","v":0},{"$f":"F282*'Série - IPCA'!$C$444/'Série - IPCA'!$C$411","v":0},{"$f":"G282*'Série - IPCA'!$C$444/'Série - IPCA'!$C$424","v":278.94999063911683},{"$f":"H282*'Série - IPCA'!$C$444/'Série - IPCA'!$C$437","v":1119.0700159905864},530.14186094750573,null,"N","SIM","NÃO","ENCARGOS DE GESTÃO","FIXO","MATERIAIS_MANUTENÇÃO",2300,"DIRETORIA COLEGIADA - DAF"]
[null,null,null,0,1528,5051.87,286,209.42,1415.058,{"$f":"D283*'Série - IPCA'!$C$444/'Série - IPCA'!$C$385","v":0},{"$f":"E283*'Série - IPCA'!$C$444/'Série - IPCA'!$C$398","v":1910.8896753819288},{"$f":"F283*'Série - IPCA'!$C$444/'Série - IPCA'!$C$411","v":5740.2530719928764},{"$f":"G283*'Série - IPCA'!$C$444/'Série - IPCA'!$C$424","v":307.19945060757573},{"$f":"H283*'Série - IPCA'!$C$444/'Série - IPCA'!$C$437","v":215.00714937636914},1634.6698694717502,null,"N","SIM","NÃO","ENCARGOS DE GESTÃO","FIXO","MATERIAIS_MANUTENÇÃO",2310,"ASSESSORIA DAF"]
[null,null,null,882.38,288.25,0,878.31,3613.93,1132.5740000000001,{"$f":"D284*'Série - IPCA'!$C$444/'Série - IPCA'!$C$385","v":1153.3383934143546},{"$f":"E284*'Série - IPCA'!$C$444/'Série - IPCA'!$C$398","v":360.48033306861322},{"$f":"F284*'Série - IPCA'!$C$444/'Série - IPCA'!$C$411","v":0},{"$f":"G284*'Série - IPCA'!$C$444/'Série - IPCA'!$C$424","v":943.41380931167771},{"$f":"H284*'Série - IPCA'!$C$444/'Série - IPCA'!$C$437","v":3710.3466113348377},1233.5158294258968,null,"N","SIM","NÃO","ENCARGOS DE GESTÃO","FIXO","MATERIAIS_MANUTENÇÃO",2400,"DIRETORIA COLEGIADA - DTC"]
[null,null,null,0,44.48,11501.76,638,2116.8000000000002,2860.2080000000001,{"$f":"D285*'Série - IPCA'!$C$444/'Série - IPCA'!$C$385","v":0},{"$f":"E285*'Série - IPCA'!$C$444/'Série - IPCA'!$C$398","v":55.625898403788085},{"$f":"F285*'Série - IPCA'!$C$444/'Série - IPCA'!$C$411","v":13069.02457373701},{"$f":"G285*'Série - IPCA'!$C$444/'Série - IPCA'!$C$424","v":685.29108212459198},{"$f":"H285*'Série - IPCA'!$C$444/'Série - IPCA'!$C$437","v":2173.274442746148},3196.6431994023073,null,"N","SIM","NÃO","ENCARGOS DE GESTÃO","FIXO","MATERIAIS_MANUTENÇÃO",2410,"ASSESSORIA DE SEGURANÇA DO TRABALHO"]
[null,null,null,221.06,0,137,0,265.10000000000002,124.63200000000002,{"$f":"D286*'Série - IPCA'!$C$444/'Série - IPCA'!$C$385","v":288.94238904800341},{"$f":"E286*'Série - IPCA'!$C$444/'Série - IPCA'!$C$398","v":0},{"$f":"F286*'Série - IPCA'!$C$444/'Série - IPCA'!$C$411","v":155.66803398801315},{"$f":"G286*'Série - IPCA'!$C$444/'Série - IPCA'!$C$424","v":0},{"$f":"H286*'Série - IPCA'!$C$444/'Série - IPCA'!$C$437","v":272.17264492252633},143.35661359170859,null,"N","SIM","NÃO","ENCARGOS DE GESTÃO","FIXO","MATERIAIS_MANUTENÇÃO",3100,"SMS"]
[null,null,null,3251.71,475.52,4802.21,1552.2,2166.16,2449.5600000000004,{"$f":"D287*'Série - IPCA'!$C$444/'Série - IPCA'!$C$385","v":4250.2345783555729},{"$f":"E287*'Série - IPCA'!$C$444/'Série - IPCA'!$C$398","v":594.67687070524528},{"$f":"F287*'Série - IPCA'!$C$444/'Série - IPCA'!$C$411","v":5456.5736459677128},{"$f":"G287*'Série - IPCA'!$C$444/'Série - IPCA'!$C$424","v":1667.2552001156612},{"$f":"H287*'Série - IPCA'!$C$444/'Série - IPCA'!$C$437","v":2223.951326010485},2838.5383242309354,null,"N","SIM","NÃO","ENCARGOS DE GESTÃO","FIXO","MATERIAIS_MANUTENÇÃO",3200,"GERÊNCIA DE PLANEJAMENTO E MEIO AMBIENTE"]
[null,null,null,1568.17,2053.08,20511.740000000002,533.13,2089.61,5351.1460000000006,{"$f":"D288*'Série - IPCA'!$C$444/'Série - IPCA'!$C$385","v":2049.7185661513049},{"$f":"E288*'Série - IPCA'!$C$444/'Série - IPCA'!$C$398","v":2567.5454023122584},{"$f":"F288*'Série - IPCA'!$C$444/'Série - IPCA'!$C$411","v":23306.73167498751},{"$f":"G288*'Série - IPCA'!$C$444/'Série - IPCA'!$C$424","v":572.64770315530359},{"$f":"H288*'Série - IPCA'!$C$444/'Série - IPCA'!$C$437","v":2145.3590364261045},6128.4004766064963,null,"N","SIM","NÃO","ENCARGOS DE GESTÃO","FIXO","MATERIAIS_MANUTENÇÃO",3300,"GERÊNCIA JURÍDICA"]
[null,null,null,0,506.56,5095.75,1950.46,3046.68,2119.8900000000003,{"$f":"D289*'Série - IPCA'!$C$444/'Série - IPCA'!$C$385","v":0},{"$f":"E289*'Série - IPCA'!$C$444/'Série - IPCA'!$C$398","v":633.4949436920615},{"$f":"F289*'Série - IPCA'!$C$444/'Série - IPCA'!$C$411","v":5790.1122933899123},{"$f":"G289*'Série - IPCA'!$C$444/'Série - IPCA'!$C$424","v":2095.0358057064759},{"$f":"H289*'Série - IPCA'!$C$444/'Série - IPCA'!$C$437","v":3127.9628586667768},2329.3211802910455,null,"N","SIM","NÃO","ENCARGOS DE GESTÃO","FIXO","MATERIAIS_MANUTENÇÃO",3500,"ASSESSORIA DE COMUNICAÇÃO INSTITUCIONAL"]
[null,null,null,154.79,116.54,0,86,296.60000000000002,130.786,{"$f":"D290*'Série - IPCA'!$C$444/'Série - IPCA'!$C$385","v":202.32241201818712},{"$f":"E290*'Série - IPCA'!$C$444/'Série - IPCA'!$C$398","v":145.74285521532067},{"$f":"F290*'Série - IPCA'!$C$444/'Série - IPCA'!$C$411","v":0},{"$f":"G290*'Série - IPCA'!$C$444/'Série - IPCA'!$C$424","v":92.374659972907381},{"$f":"H290*'Série - IPCA'!$C$444/'Série - IPCA'!$C$437","v":304.5130384157726},148.99059312443757,null,"N","SIM","NÃO","ENCARGOS DE GESTÃO","FIXO","MATERIAIS_MANUTENÇÃO",3600,"GERÊNCIA DE GOVERNANÇA, RISCO E COMPLIANCE"]
[null,null,null,0,0,141.19999999999999,197.84,2526.08,573.024,{"$f":"D291*'Série - IPCA'!$C$444/'Série - IPCA'!$C$385","v":0},{"$f":"E291*'Série - IPCA'!$C$444/'Série - IPCA'!$C$398","v":0},{"$f":"F291*'Série - IPCA'!$C$444/'Série - IPCA'!$C$411","v":160.44033867961645},{"$f":"G291*'Série - IPCA'!$C$444/'Série - IPCA'!$C$424","v":212.50468289581391},{"$f":"H291*'Série - IPCA'!$C$444/'Série - IPCA'!$C$437","v":2593.4736887434751},593.28374206378112,null,"N","SIM","NÃO","ENCARGOS DE GESTÃO","FIXO","MATERIAIS_MANUTENÇÃO",3700,"GERÊNCIA DE REGULAÇÃO"]
[null,null,null,0,55558.09,213547.88,18821.22,2728.9,58131.217999999993,{"$f":"D292*'Série - IPCA'!$C$444/'Série - IPCA'!$C$385","v":0},{"$f":"E292*'Série - IPCA'!$C$444/'Série - IPCA'!$C$398","v":69479.961102709407},{"$f":"F292*'Série - IPCA'!$C$444/'Série - IPCA'!$C$411","v":242646.55942998652},{"$f":"G292*'Série - IPCA'!$C$444/'Série - IPCA'!$C$424","v":20216.323229945163},{"$f":"H292*'Série - IPCA'!$C$444/'Série - IPCA'!$C$437","v":2801.7047556736406},67028.909703662939,null,"N","SIM","NÃO","ENCARGOS DE GESTÃO","FIXO","MATERIAIS_MANUTENÇÃO",4100,"GERÊNCIA DE SERVIÇOS CORPORATIVOS"]
[null,null,null,989.21,2150.56,10229.02,253.44,4938.87,3712.2200000000003,{"$f":"D293*'Série - IPCA'!$C$444/'Série - IPCA'!$C$385","v":1292.973403918282},{"$f":"E293*'Série - IPCA'!$C$444/'Série - IPCA'!$C$398","v":2689.4521598752362},{"$f":"F293*'Série - IPCA'!$C$444/'Série - IPCA'!$C$411","v":11622.857175358149},{"$f":"G293*'Série - IPCA'!$C$444/'Série - IPCA'!$C$424","v":272.22597469225173},{"$f":"H293*'Série - IPCA'!$C$444/'Série - IPCA'!$C$437","v":5070.6348956187003},4189.6287218925236,null,"N","SIM","NÃO","ENCARGOS DE GESTÃO","FIXO","MATERIAIS_MANUTENÇÃO",4200,"GERÊNCIA FINANCEIRA"]
[null,null,null,1076.8900000000001,5725.26,30421.05,1700.08,4401.5600000000004,8664.9679999999989,{"$f":"D294*'Série - IPCA'!$C$444/'Série - IPCA'!$C$385","v":1407.57789442642},{"$f":"E294*'Série - IPCA'!$C$444/'Série - IPCA'!$C$398","v":7159.9085228253543},{"$f":"F294*'Série - IPCA'!$C$444/'Série - IPCA'!$C$411","v":34566.314199642678},{"$f":"G294*'Série - IPCA'!$C$444/'Série - IPCA'!$C$424","v":1826.0966503109348},{"$f":"H294*'Série - IPCA'!$C$444/'Série - IPCA'!$C$437","v":4518.9899169566015},9895.777436832399,null,"N","SIM","NÃO","ENCARGOS DE GESTÃO","FIXO","MATERIAIS_MANUTENÇÃO",4300,"GERÊNCIA DE TECNOLOGIA E SISTEMAS DE INFORMAÇÃO"]
[null,null,null,544.57000000000005,407.42,13077.13,185.36,2382.7600000000002,3319.4479999999994,{"$f":"D295*'Série - IPCA'!$C$444/'Série - IPCA'!$C$385","v":711.79479238157614},{"$f":"E295*'Série - IPCA'!$C$444/'Série - IPCA'!$C$398","v":509.51221959692771},{"$f":"F295*'Série - IPCA'!$C$444/'Série - IPCA'!$C$411","v":14859.059250406324},{"$f":"G295*'Série - IPCA'!$C$444/'Série - IPCA'!$C$424","v":199.09961596021063},{"$f":"H295*'Série - IPCA'!$C$444/'Série - IPCA'!$C$437","v":2446.3300317449975},3745.1591820180074,null,"N","SIM","NÃO","ENCARGOS DE GESTÃO","FIXO","MATERIAIS_MANUTENÇÃO",4500,"GERÊNCIA CONTÁBIL"]
[null,null,null,242.98,47.26,0,0,0,58.048000000000002,{"$f":"D296*'Série - IPCA'!$C$444/'Série - IPCA'!$C$385","v":317.59351167503786},{"$f":"E296*'Série - IPCA'!$C$444/'Série - IPCA'!$C$398","v":59.102517054024837},{"$f":"F296*'Série - IPCA'!$C$444/'Série - IPCA'!$C$411","v":0},{"$f":"G296*'Série - IPCA'!$C$444/'Série - IPCA'!$C$424","v":0},{"$f":"H296*'Série - IPCA'!$C$444/'Série - IPCA'!$C$437","v":0},75.339205745812535,null,"N","SIM","NÃO","ENCARGOS DE GESTÃO","FIXO","MATERIAIS_MANUTENÇÃO",1001,"CONSELHO DE ADMINISTRAÇÃO"]
[null,null,null,0,0,0,113.46,0,22.692,{"$f":"D297*'Série - IPCA'!$C$444/'Série - IPCA'!$C$385","v":0},{"$f":"E297*'Série - IPCA'!$C$444/'Série - IPCA'!$C$398","v":0},{"$f":"F297*'Série - IPCA'!$C$444/'Série - IPCA'!$C$411","v":0},{"$f":"G297*'Série - IPCA'!$C$444/'Série - IPCA'!$C$424","v":121.87010372704735},{"$f":"H297*'Série - IPCA'!$C$444/'Série - IPCA'!$C$437","v":0},24.374020745409471,null,"N","SIM","SIM","ENCARGOS DE GESTÃO","FIXO","MATERIAIS_MANUTENÇÃO",1004,"COMITÊ DE AUDITORIA ESTATUTÁRIA"]
[null,null,null,0,0,0,0,55.76,11.151999999999999,{"$f":"D298*'Série - IPCA'!$C$444/'Série - IPCA'!$C$385","v":0},{"$f":"E298*'Série - IPCA'!$C$444/'Série - IPCA'!$C$398","v":0},{"$f":"F298*'Série - IPCA'!$C$444/'Série - IPCA'!$C$411","v":0},{"$f":"G298*'Série - IPCA'!$C$444/'Série - IPCA'!$C$424","v":0},{"$f":"H298*'Série - IPCA'!$C$444/'Série - IPCA'!$C$437","v":57.247629878838424},11.449525975767685,null,"N","SIM","NÃO","ENCARGOS DE GESTÃO","FIXO","MATERIAIS_MANUTENÇÃO",1005,"AUDITORIA INTERNA"]
[null,null,null,573,62.56,0,259.91000000000003,0,179.09399999999999,{"$f":"D299*'Série - IPCA'!$C$444/'Série - IPCA'!$C$385","v":748.95498473041675},{"$f":"E299*'Série - IPCA'!$C$444/'Série - IPCA'!$C$398","v":78.236425452809854},{"$f":"F299*'Série - IPCA'!$C$444/'Série - IPCA'!$C$411","v":0},{"$f":"G299*'Série - IPCA'!$C$444/'Série - IPCA'!$C$424","v":279.17555666928325},{"$f":"H299*'Série - IPCA'!$C$444/'Série - IPCA'!$C$437","v":0},221.27339337050199,null,"N","SIM","NÃO","ENCARGOS DE GESTÃO","FIXO","MATERIAIS_MANUTENÇÃO",2100,"SECRETARIA"]
[null,null,null,0,0,0,0,1030.99,206.19800000000001,{"$f":"D300*'Série - IPCA'!$C$444/'Série - IPCA'!$C$385","v":0},{"$f":"E300*'Série - IPCA'!$C$444/'Série - IPCA'!$C$398","v":0},{"$f":"F300*'Série - IPCA'!$C$444/'Série - IPCA'!$C$411","v":0},{"$f":"G300*'Série - IPCA'!$C$444/'Série - IPCA'!$C$424","v":0},{"$f":"H300*'Série - IPCA'!$C$444/'Série - IPCA'!$C$437","v":1058.4959456381571},211.69918912763143,null,"N","SIM","NÃO","ENCARGOS DE GESTÃO","FIXO","MATERIAIS_MANUTENÇÃO",2120,"ASSESSORIA DA PRESIDÊNCIA"]
[null,null,null,0,0,0,213.5,0,42.7,{"$f":"D301*'Série - IPCA'!$C$444/'Série - IPCA'!$C$385","v":0},{"$f":"E301*'Série - IPCA'!$C$444/'Série - IPCA'!$C$398","v":0},{"$f":"F301*'Série - IPCA'!$C$444/'Série - IPCA'!$C$411","v":0},{"$f":"G301*'Série - IPCA'!$C$444/'Série - IPCA'!$C$424","v":229.32546400250845},{"$f":"H301*'Série - IPCA'!$C$444/'Série - IPCA'!$C$437","v":0},45.865092800501692,null,"N","SIM","NÃO","ENCARGOS DE GESTÃO","FIXO","MATERIAIS_MANUTENÇÃO",2130,"ASSESSORIA DE RELAÇÕES INSTITUCIONAIS E NOVOS NEGÓCIOS"]
[null,null,null,0,0,0,0,134.96,26.992000000000001,{"$f":"D302*'Série - IPCA'!$C$444/'Série - IPCA'!$C$385","v":0},{"$f":"E302*'Série - IPCA'!$C$444/'Série - IPCA'!$C$398","v":0},{"$f":"F302*'Série - IPCA'!$C$444/'Série - IPCA'!$C$411","v":0},{"$f":"G302*'Série - IPCA'!$C$444/'Série - IPCA'!$C$424","v":0},{"$f":"H302*'Série - IPCA'!$C$444/'Série - IPCA'!$C$437","v":138.56061923328613},27.712123846657228,null,"N","SIM","NÃO","ENCARGOS DE GESTÃO","FIXO","MATERIAIS_MANUTENÇÃO",2140,"ASSESSORIA DTC"]
[null,null,null,1416.42,676.3,0,40,1990.16,824.57600000000002,{"$f":"D303*'Série - IPCA'!$C$444/'Série - IPCA'!$C$385","v":1851.3696674901516},{"$f":"E303*'Série - IPCA'!$C$444/'Série - IPCA'!$C$398","v":845.76877451622931},{"$f":"F303*'Série - IPCA'!$C$444/'Série - IPCA'!$C$411","v":0},{"$f":"G303*'Série - IPCA'!$C$444/'Série - IPCA'!$C$424","v":42.964958126933666},{"$f":"H303*'Série - IPCA'!$C$444/'Série - IPCA'!$C$437","v":2043.2557941117125},956.67183884900555,null,"N","SIM","NÃO","ENCARGOS DE GESTÃO","FIXO","MATERIAIS_MANUTENÇÃO",2200,"DIRETORIA COLEGIADA - PRESIDÊNCIA"]
[null,null,null,364.99,253.13,0,0,420.65,207.75399999999999,{"$f":"D304*'Série - IPCA'!$C$444/'Série - IPCA'!$C$385","v":477.06994742889151},{"$f":"E304*'Série - IPCA'!$C$444/'Série - IPCA'!$C$398","v":316.55988450878772},{"$f":"F304*'Série - IPCA'!$C$444/'Série - IPCA'!$C$411","v":0},{"$f":"G304*'Série - IPCA'!$C$444/'Série - IPCA'!$C$424","v":0},{"$f":"H304*'Série - IPCA'!$C$444/'Série - IPCA'!$C$437","v":431.87258802965181},245.10048399346618,null,"N","SIM","NÃO","ENCARGOS DE GESTÃO","FIXO","MATERIAIS_MANUTENÇÃO",2300,"DIRETORIA COLEGIADA - DAF"]
[null,null,null,0,889.83,0,179.97,0,213.95999999999998,{"$f":"D305*'Série - IPCA'!$C$444/'Série - IPCA'!$C$385","v":0},{"$f":"E305*'Série - IPCA'!$C$444/'Série - IPCA'!$C$398","v":1112.8056019928677},{"$f":"F305*'Série - IPCA'!$C$444/'Série - IPCA'!$C$411","v":0},{"$f":"G305*'Série - IPCA'!$C$444/'Série - IPCA'!$C$424","v":193.3100878526063},{"$f":"H305*'Série - IPCA'!$C$444/'Série - IPCA'!$C$437","v":0},261.22313796909481,null,"N","SIM","NÃO","ENCARGOS DE GESTÃO","FIXO","MATERIAIS_MANUTENÇÃO",2310,"ASSESSORIA DAF"]
[null,null,null,186.15,312.45999999999998,0,0,140.5,127.822,{"$f":"D306*'Série - IPCA'!$C$444/'Série - IPCA'!$C$385","v":243.31233928022178},{"$f":"E306*'Série - IPCA'!$C$444/'Série - IPCA'!$C$398","v":390.75692929963179},{"$f":"F306*'Série - IPCA'!$C$444/'Série - IPCA'!$C$411","v":0},{"$f":"G306*'Série - IPCA'!$C$444/'Série - IPCA'!$C$424","v":0},{"$f":"H306*'Série - IPCA'!$C$444/'Série - IPCA'!$C$437","v":144.2484217714634},155.6635380702634,null,"N","SIM","NÃO","ENCARGOS DE GESTÃO","FIXO","MATERIAIS_MANUTENÇÃO",2400,"DIRETORIA COLEGIADA - DTC"]
[null,null,null,0,0,0,0,113.04,22.608000000000001,{"$f":"D307*'Série - IPCA'!$C$444/'Série - IPCA'!$C$385","v":0},{"$f":"E307*'Série - IPCA'!$C$444/'Série - IPCA'!$C$398","v":0},{"$f":"F307*'Série - IPCA'!$C$444/'Série - IPCA'!$C$411","v":0},{"$f":"G307*'Série - IPCA'!$C$444/'Série - IPCA'!$C$424","v":0},{"$f":"H307*'Série - IPCA'!$C$444/'Série - IPCA'!$C$437","v":116.05581207862082},23.211162415724164,null,"N","SIM","NÃO","ENCARGOS DE GESTÃO","FIXO","MATERIAIS_MANUTENÇÃO",2410,"ASSESSORIA DE SEGURANÇA DO TRABALHO"]
[null,null,null,696.74,0,0,0,0,139.34800000000001,{"$f":"D308*'Série - IPCA'!$C$444/'Série - IPCA'!$C$385","v":910.69266328284573},{"$f":"E308*'Série - IPCA'!$C$444/'Série - IPCA'!$C$398","v":0},{"$f":"F308*'Série - IPCA'!$C$444/'Série - IPCA'!$C$411","v":0},{"$f":"G308*'Série - IPCA'!$C$444/'Série - IPCA'!$C$424","v":0},{"$f":"H308*'Série - IPCA'!$C$444/'Série - IPCA'!$C$437","v":0},182.13853265656914,null,"N","SIM","NÃO","ENCARGOS DE GESTÃO","FIXO","MATERIAIS_MANUTENÇÃO",3100,"SMS"]
[null,null,null,953.7,447.15,0,69.959999999999994,1544.08,602.97799999999995,{"$f":"D309*'Série - IPCA'!$C$444/'Série - IPCA'!$C$385","v":1246.5591080931911},{"$f":"E309*'Série - IPCA'!$C$444/'Série - IPCA'!$C$398","v":559.19785232135428},{"$f":"F309*'Série - IPCA'!$C$444/'Série - IPCA'!$C$411","v":0},{"$f":"G309*'Série - IPCA'!$C$444/'Série - IPCA'!$C$424","v":75.145711764006975},{"$f":"H309*'Série - IPCA'!$C$444/'Série - IPCA'!$C$437","v":1585.274755081005},693.23548545191147,null,"N","SIM","NÃO","ENCARGOS DE GESTÃO","FIXO","MATERIAIS_MANUTENÇÃO",3200,"GERÊNCIA DE PLANEJAMENTO E MEIO AMBIENTE"]
[null,null,null,2320.5300000000002,1951.28,0,0,108.72,876.10600000000011,{"$f":"D310*'Série - IPCA'!$C$444/'Série - IPCA'!$C$385","v":3033.1108389467263},{"$f":"E310*'Série - IPCA'!$C$444/'Série - IPCA'!$C$398","v":2440.2361294366819},{"$f":"F310*'Série - IPCA'!$C$444/'Série - IPCA'!$C$411","v":0},{"$f":"G310*'Série - IPCA'!$C$444/'Série - IPCA'!$C$424","v":0},{"$f":"H310*'Série - IPCA'!$C$444/'Série - IPCA'!$C$437","v":111.62055811383274},1116.9935052994483,null,"N","SIM","NÃO","ENCARGOS DE GESTÃO","FIXO","MATERIAIS_MANUTENÇÃO",3300,"GERÊNCIA JURÍDICA"]
[null,null,null,2722.17,0,0,0,0,544.43399999999997,{"$f":"D311*'Série - IPCA'!$C$444/'Série - IPCA'!$C$385","v":3558.0851497095964},{"$f":"E311*'Série - IPCA'!$C$444/'Série - IPCA'!$C$398","v":0},{"$f":"F311*'Série - IPCA'!$C$444/'Série - IPCA'!$C$411","v":0},{"$f":"G311*'Série - IPCA'!$C$444/'Série - IPCA'!$C$424","v":0},{"$f":"H311*'Série - IPCA'!$C$444/'Série - IPCA'!$C$437","v":0},711.61702994191933,null,"N","SIM","NÃO","ENCARGOS DE GESTÃO","FIXO","MATERIAIS_MANUTENÇÃO",3400,"MARKETING"]
[null,null,null,0,299.72000000000003,0,0,2859.14,631.77199999999993,{"$f":"D312*'Série - IPCA'!$C$444/'Série - IPCA'!$C$385","v":0},{"$f":"E312*'Série - IPCA'!$C$444/'Série - IPCA'!$C$398","v":374.82451145646058},{"$f":"F312*'Série - IPCA'!$C$444/'Série - IPCA'!$C$411","v":0},{"$f":"G312*'Série - IPCA'!$C$444/'Série - IPCA'!$C$424","v":0},{"$f":"H312*'Série - IPCA'!$C$444/'Série - IPCA'!$C$437","v":2935.4194492787324},662.04879214703863,null,"N","SIM","NÃO","ENCARGOS DE GESTÃO","FIXO","MATERIAIS_MANUTENÇÃO",3500,"ASSESSORIA DE COMUNICAÇÃO INSTITUCIONAL"]
[null,null,null,1549.14,234.46,0,0,295.2,415.76000000000005,{"$f":"D313*'Série - IPCA'!$C$444/'Série - IPCA'!$C$385","v":2024.8448953669772},{"$f":"E313*'Série - IPCA'!$C$444/'Série - IPCA'!$C$398","v":293.21151393327688},{"$f":"F313*'Série - IPCA'!$C$444/'Série - IPCA'!$C$411","v":0},{"$f":"G313*'Série - IPCA'!$C$444/'Série - IPCA'!$C$424","v":0},{"$f":"H313*'Série - IPCA'!$C$444/'Série - IPCA'!$C$437","v":303.07568759385049},524.22641937882088,null,"N","SIM","NÃO","ENCARGOS DE GESTÃO","FIXO","MATERIAIS_MANUTENÇÃO",3600,"GERÊNCIA DE GOVERNANÇA, RISCO E COMPLIANCE"]
[null,null,null,0,0,0,0,117.12,23.423999999999999,{"$f":"D314*'Série - IPCA'!$C$444/'Série - IPCA'!$C$385","v":0},{"$f":"E314*'Série - IPCA'!$C$444/'Série - IPCA'!$C$398","v":0},{"$f":"F314*'Série - IPCA'!$C$444/'Série - IPCA'!$C$411","v":0},{"$f":"G314*'Série - IPCA'!$C$444/'Série - IPCA'!$C$424","v":0},{"$f":"H314*'Série - IPCA'!$C$444/'Série - IPCA'!$C$437","v":120.24466304536509},24.048932609073017,null,"N","SIM","NÃO","ENCARGOS DE GESTÃO","FIXO","MATERIAIS_MANUTENÇÃO",3700,"GERÊNCIA DE REGULAÇÃO"]
[null,null,null,34231.160000000003,50181.68,0,446,24068.01,21785.37,{"$f":"D315*'Série - IPCA'!$C$444/'Série - IPCA'!$C$385","v":44742.75377854181},{"$f":"E315*'Série - IPCA'!$C$444/'Série - IPCA'!$C$398","v":62756.318197198845},{"$f":"F315*'Série - IPCA'!$C$444/'Série - IPCA'!$C$411","v":0},{"$f":"G315*'Série - IPCA'!$C$444/'Série - IPCA'!$C$424","v":479.05928311531045},{"$f":"H315*'Série - IPCA'!$C$444/'Série - IPCA'!$C$437","v":24710.124253948743},26537.651102560943,null,"N","SIM","NÃO","ENCARGOS DE GESTÃO","FIXO","MATERIAIS_MANUTENÇÃO",4100,"GERÊNCIA DE SERVIÇOS CORPORATIVOS"]
[null,null,null,587.74,1735.89,0,0,234.72,511.66999999999996,{"$f":"D316*'Série - IPCA'!$C$444/'Série - IPCA'!$C$385","v":768.22129620498288},{"$f":"E316*'Série - IPCA'!$C$444/'Série - IPCA'!$C$398","v":2170.8732189782309},{"$f":"F316*'Série - IPCA'!$C$444/'Série - IPCA'!$C$411","v":0},{"$f":"G316*'Série - IPCA'!$C$444/'Série - IPCA'!$C$424","v":0},{"$f":"H316*'Série - IPCA'!$C$444/'Série - IPCA'!$C$437","v":240.98213208681773},636.01532945400629,null,"N","SIM","NÃO","ENCARGOS DE GESTÃO","FIXO","MATERIAIS_MANUTENÇÃO",4200,"GERÊNCIA FINANCEIRA"]
[null,null,null,2202.75,2193.81,0,0,3751.28,1629.568,{"$f":"D317*'Série - IPCA'!$C$444/'Série - IPCA'!$C$385","v":2879.1633378969036},{"$f":"E317*'Série - IPCA'!$C$444/'Série - IPCA'!$C$398","v":2743.5398421136315},{"$f":"F317*'Série - IPCA'!$C$444/'Série - IPCA'!$C$411","v":0},{"$f":"G317*'Série - IPCA'!$C$444/'Série - IPCA'!$C$424","v":0},{"$f":"H317*'Série - IPCA'!$C$444/'Série - IPCA'!$C$437","v":3851.3609937569772},1894.8128347535026,null,"N","SIM","NÃO","ENCARGOS DE GESTÃO","FIXO","MATERIAIS_MANUTENÇÃO",4300,"GERÊNCIA DE TECNOLOGIA E SISTEMAS DE INFORMAÇÃO"]
[null,null,null,917.99,0,0,0,80.64,199.726,{"$f":"D318*'Série - IPCA'!$C$444/'Série - IPCA'!$C$385","v":1199.8833969156638},{"$f":"E318*'Série - IPCA'!$C$444/'Série - IPCA'!$C$398","v":0},{"$f":"F318*'Série - IPCA'!$C$444/'Série - IPCA'!$C$411","v":0},{"$f":"G318*'Série - IPCA'!$C$444/'Série - IPCA'!$C$424","v":0},{"$f":"H318*'Série - IPCA'!$C$444/'Série - IPCA'!$C$437","v":82.791407342710386},256.53496085167478,null,"N","SIM","NÃO","ENCARGOS DE GESTÃO","FIXO","MATERIAIS_MANUTENÇÃO",4500,"GERÊNCIA CONTÁBIL"]
[null,null,null,624.52,29.58,0,0,0,130.82,{"$f":"D319*'Série - IPCA'!$C$444/'Série - IPCA'!$C$385","v":816.2955795180452},{"$f":"E319*'Série - IPCA'!$C$444/'Série - IPCA'!$C$398","v":36.992222904317707},{"$f":"F319*'Série - IPCA'!$C$444/'Série - IPCA'!$C$411","v":0},{"$f":"G319*'Série - IPCA'!$C$444/'Série - IPCA'!$C$424","v":0},{"$f":"H319*'Série - IPCA'!$C$444/'Série - IPCA'!$C$437","v":0},170.65756048447258,null,"N","SIM","NÃO","ENCARGOS DE GESTÃO","FIXO","MATERIAIS_MANUTENÇÃO",4600,"GERÊNCIA DE PESSOAS E CULTURA"]
[null,null,null,150.44,355.12,-2.94,0,-117622.15,-23423.905999999999,{"$f":"D320*'Série - IPCA'!$C$444/'Série - IPCA'!$C$385","v":196.63662810269443},{"$f":"E320*'Série - IPCA'!$C$444/'Série - IPCA'!$C$398","v":444.10676801153835},{"$f":"F320*'Série - IPCA'!$C$444/'Série - IPCA'!$C$411","v":-3.3406132841223264},{"$f":"G320*'Série - IPCA'!$C$444/'Série - IPCA'!$C$424","v":0},{"$f":"H320*'Série - IPCA'!$C$444/'Série - IPCA'!$C$437","v":-120760.20998481376},-24024.56144039673,null,"N","SIM","NÃO","OPEX","NÚMERO DE CLIENTES","SERVIÇOS",5100,"GERÊNCIA DE ENGENHARIA"]
[null,null,null,0,635596,477024.68,387933.45,-993566.47,101397.53199999998,{"$f":"D321*'Série - IPCA'!$C$444/'Série - IPCA'!$C$385","v":0},{"$f":"E321*'Série - IPCA'!$C$444/'Série - IPCA'!$C$398","v":794865.07468197145},{"$f":"F321*'Série - IPCA'!$C$444/'Série - IPCA'!$C$411","v":542025.5043748985},{"$f":"G321*'Série - IPCA'!$C$444/'Série - IPCA'!$C$424","v":416688.61088217294},{"$f":"H321*'Série - IPCA'!$C$444/'Série - IPCA'!$C$437","v":-1020073.9873490679},146701.04051799502,null,"N","SIM","NÃO","OPEX","NÚMERO DE CLIENTES","SERVIÇOS",5200,"GERÊNCIA DE OPERAÇÕES"]
[null,null,null,0,7714.39,383.61,0,0,1619.6,{"$f":"D322*'Série - IPCA'!$C$444/'Série - IPCA'!$C$385","v":0},{"$f":"E322*'Série - IPCA'!$C$444/'Série - IPCA'!$C$398","v":9647.4791903596852},{"$f":"F322*'Série - IPCA'!$C$444/'Série - IPCA'!$C$411","v":435.88185779665491},{"$f":"G322*'Série - IPCA'!$C$444/'Série - IPCA'!$C$424","v":0},{"$f":"H322*'Série - IPCA'!$C$444/'Série - IPCA'!$C$437","v":0},2016.6722096312683,null,"N","SIM","NÃO","ENCARGOS DE COMERCIALIZAÇÃO","NÚMERO DE CLIENTES","SERVIÇOS",5300,"GERÊNCIA COMERCIAL"]
[null,null,null,231665.19,0,0,0,0,46333.038,{"$f":"D323*'Série - IPCA'!$C$444/'Série - IPCA'!$C$385","v":302804.18645553075},{"$f":"E323*'Série - IPCA'!$C$444/'Série - IPCA'!$C$398","v":0},{"$f":"F323*'Série - IPCA'!$C$444/'Série - IPCA'!$C$411","v":0},{"$f":"G323*'Série - IPCA'!$C$444/'Série - IPCA'!$C$424","v":0},{"$f":"H323*'Série - IPCA'!$C$444/'Série - IPCA'!$C$437","v":0},60560.837291106152,null,"N","SIM","NÃO","ENCARGOS DE COMERCIALIZAÇÃO","NÚMERO DE CLIENTES","SERVIÇOS",5400,"GERÊNCIA COMERCIAL (inativo)"]
[null,null,null,9149.2999999999993,36249.699999999997,807.41,36535.74,19316.650000000001,20411.759999999998,{"$f":"D324*'Série - IPCA'!$C$444/'Série - IPCA'!$C$385","v":11958.83742023386},{"$f":"E324*'Série - IPCA'!$C$444/'Série - IPCA'!$C$398","v":45333.231325714856},{"$f":"F324*'Série - IPCA'!$C$444/'Série - IPCA'!$C$411","v":917.4301264398664},{"$f":"G324*'Série - IPCA'!$C$444/'Série - IPCA'!$C$424","v":39243.91348091339},{"$f":"H324*'Série - IPCA'!$C$444/'Série - IPCA'!$C$437","v":19832.001967343338},23457.082864129065,null,"N","SIM","NÃO","ENCARGOS DE COMERCIALIZAÇÃO","FIXO","TRIBUTOS_E_TAXAS_FISCAIS",5300,"GERÊNCIA COMERCIAL"]
[null,null,null,20303.650000000001,0,0,0,0,{"$f":"AVERAGE(D325:H325)","v":4060.7300000000005},{"$f":"D325*'Série - IPCA'!$C$444/'Série - IPCA'!$C$385","v":26538.429102481197},{"$f":"E325*'Série - IPCA'!$C$444/'Série - IPCA'!$C$398","v":0},{"$f":"F325*'Série - IPCA'!$C$444/'Série - IPCA'!$C$411","v":0},{"$f":"G325*'Série - IPCA'!$C$444/'Série - IPCA'!$C$424","v":0},{"$f":"H325*'Série - IPCA'!$C$444/'Série - IPCA'!$C$437","v":0},{"$f":"AVERAGE(J325:N325)","v":5307.6858204962391},null,"N","SIM","NÃO","ENCARGOS DE COMERCIALIZAÇÃO","FIXO","TRIBUTOS_E_TAXAS_FISCAIS",5400,"GERÊNCIA COMERCIAL (inativo)"]
[null,null,null,10161.540000000001,0,0,0,0,2032.3080000000002,{"$f":"D326*'Série - IPCA'!$C$444/'Série - IPCA'!$C$385","v":13281.912801985201},{"$f":"E326*'Série - IPCA'!$C$444/'Série - IPCA'!$C$398","v":0},{"$f":"F326*'Série - IPCA'!$C$444/'Série - IPCA'!$C$411","v":0},{"$f":"G326*'Série - IPCA'!$C$444/'Série - IPCA'!$C$424","v":0},{"$f":"H326*'Série - IPCA'!$C$444/'Série - IPCA'!$C$437","v":0},2656.3825603970404,null,"N","SIM","NÃO","ENCARGOS DE COMERCIALIZAÇÃO","FIXO","TRIBUTOS_E_TAXAS_FISCAIS",5500,"GERÊNCIA COMERCIAL (inativo)"]
[null,null,null,6118.84,3727.33,0,0,0,1969.2339999999999,{"$f":"D327*'Série - IPCA'!$C$444/'Série - IPCA'!$C$385","v":7997.7935755111057},{"$f":"E327*'Série - IPCA'!$C$444/'Série - IPCA'!$C$398","v":4661.3327315061033},{"$f":"F327*'Série - IPCA'!$C$444/'Série - IPCA'!$C$411","v":0},{"$f":"G327*'Série - IPCA'!$C$444/'Série - IPCA'!$C$424","v":0},{"$f":"H327*'Série - IPCA'!$C$444/'Série - IPCA'!$C$437","v":0},2531.8252614034418,null,"N","SIM","NÃO","ENCARGOS DE COMERCIALIZAÇÃO","NÚMERO DE CLIENTES","SERVIÇOS",5500,"GERÊNCIA COMERCIAL (inativo)"]
[null,null,null,-296.35000000000002,4448,2695,0,0,1369.33,{"$f":"D328*'Série - IPCA'!$C$444/'Série - IPCA'!$C$385","v":-387.35219847270338},{"$f":"E328*'Série - IPCA'!$C$444/'Série - IPCA'!$C$398","v":5562.5898403788087},{"$f":"F328*'Série - IPCA'!$C$444/'Série - IPCA'!$C$411","v":3062.2288437787988},{"$f":"G328*'Série - IPCA'!$C$444/'Série - IPCA'!$C$424","v":0},{"$f":"H328*'Série - IPCA'!$C$444/'Série - IPCA'!$C$437","v":0},1647.493297136981,null,"N","SIM","NÃO","ENCARGOS DE GESTÃO","NÚMERO DE CLIENTES","SERVIÇOS",4100,"GERÊNCIA DE SERVIÇOS CORPORATIVOS"]
[null,null,null,543.5,1858.42,188.62,245.19,174.56,602.05799999999999,{"$f":"D329*'Série - IPCA'!$C$444/'Série - IPCA'!$C$385","v":710.39622024604103},{"$f":"E329*'Série - IPCA'!$C$444/'Série - IPCA'!$C$398","v":2324.1070618607882},{"$f":"F329*'Série - IPCA'!$C$444/'Série - IPCA'!$C$411","v":214.3219311738616},{"$f":"G329*'Série - IPCA'!$C$444/'Série - IPCA'!$C$424","v":263.36445207857167},{"$f":"H329*'Série - IPCA'!$C$444/'Série - IPCA'!$C$437","v":179.21711391050997},738.28135585395444,null,"N","SIM","NÃO","OPEX","FUNCIONÁRIOS","DESPESAS_GERAIS",5100,"GERÊNCIA DE ENGENHARIA"]
[null,null,null,4525.13,6756.96,9327.94,17128.98,13422,10232.201999999999,{"$f":"D330*'Série - IPCA'!$C$444/'Série - IPCA'!$C$385","v":5914.692268853667},{"$f":"E330*'Série - IPCA'!$C$444/'Série - IPCA'!$C$398","v":8450.1342283826434},{"$f":"F330*'Série - IPCA'!$C$444/'Série - IPCA'!$C$411","v":10598.993291665309},{"$f":"G330*'Série - IPCA'!$C$444/'Série - IPCA'!$C$424","v":18398.647711427107},{"$f":"H330*'Série - IPCA'!$C$444/'Série - IPCA'!$C$437","v":13780.087665598448},11428.511033185434,null,"N","SIM","NÃO","OPEX","FUNCIONÁRIOS","DESPESAS_GERAIS",5200,"GERÊNCIA DE OPERAÇÕES"]
[null,null,null,389,726.42,190.09,211.78,945.57,492.572,{"$f":"D331*'Série - IPCA'!$C$444/'Série - IPCA'!$C$385","v":508.45286048888676},{"$f":"E331*'Série - IPCA'!$C$444/'Série - IPCA'!$C$398","v":908.44795680035372},{"$f":"F331*'Série - IPCA'!$C$444/'Série - IPCA'!$C$411","v":215.99223781592278},{"$f":"G331*'Série - IPCA'!$C$444/'Série - IPCA'!$C$424","v":227.47797080305031},{"$f":"H331*'Série - IPCA'!$C$444/'Série - IPCA'!$C$437","v":970.79701191774132},566.23360756519094,null,"N","SIM","NÃO","ENCARGOS DE COMERCIALIZAÇÃO","FUNCIONÁRIOS","DESPESAS_GERAIS",5300,"GERÊNCIA COMERCIAL"]
[null,null,null,7065.21,0,0,0,0,1413.0419999999999,{"$f":"D332*'Série - IPCA'!$C$444/'Série - IPCA'!$C$385","v":9234.7718109375019},{"$f":"E332*'Série - IPCA'!$C$444/'Série - IPCA'!$C$398","v":0},{"$f":"F332*'Série - IPCA'!$C$444/'Série - IPCA'!$C$411","v":0},{"$f":"G332*'Série - IPCA'!$C$444/'Série - IPCA'!$C$424","v":0},{"$f":"H332*'Série - IPCA'!$C$444/'Série - IPCA'!$C$437","v":0},1846.9543621875005,null,"N","SIM","NÃO","ENCARGOS DE COMERCIALIZAÇÃO","FUNCIONÁRIOS","DESPESAS_GERAIS",5400,"GERÊNCIA COMERCIAL (inativo)"]
[null,null,null,0,40,0,0,0,8,{"$f":"D333*'Série - IPCA'!$C$444/'Série - IPCA'!$C$385","v":0},{"$f":"E333*'Série - IPCA'!$C$444/'Série - IPCA'!$C$398","v":50.023289931464099},{"$f":"F333*'Série - IPCA'!$C$444/'Série - IPCA'!$C$411","v":0},{"$f":"G333*'Série - IPCA'!$C$444/'Série - IPCA'!$C$424","v":0},{"$f":"H333*'Série - IPCA'!$C$444/'Série - IPCA'!$C$437","v":0},10.00465798629282,null,"N","SIM","NÃO","ENCARGOS DE GESTÃO","FUNCIONÁRIOS","DESPESAS_GERAIS",1001,"CONSELHO DE ADMINISTRAÇÃO"]
[null,null,null,0,8,0,0,0,1.6,{"$f":"D334*'Série - IPCA'!$C$444/'Série - IPCA'!$C$385","v":0},{"$f":"E334*'Série - IPCA'!$C$444/'Série - IPCA'!$C$398","v":10.004657986292822},{"$f":"F334*'Série - IPCA'!$C$444/'Série - IPCA'!$C$411","v":0},{"$f":"G334*'Série - IPCA'!$C$444/'Série - IPCA'!$C$424","v":0},{"$f":"H334*'Série - IPCA'!$C$444/'Série - IPCA'!$C$437","v":0},2.0009315972585644,null,"N","SIM","SIM","ENCARGOS DE GESTÃO","FUNCIONÁRIOS","DESPESAS_GERAIS",1004,"COMITÊ DE AUDITORIA ESTATUTÁRIA"]
[null,null,null,0,38.020000000000003,8.51,11.08,7.9,13.102,{"$f":"D335*'Série - IPCA'!$C$444/'Série - IPCA'!$C$385","v":0},{"$f":"E335*'Série - IPCA'!$C$444/'Série - IPCA'!$C$398","v":47.54713707985664},{"$f":"F335*'Série - IPCA'!$C$444/'Série - IPCA'!$C$411","v":9.6695983156057803},{"$f":"G335*'Série - IPCA'!$C$444/'Série - IPCA'!$C$424","v":11.901293401160626},{"$f":"H335*'Série - IPCA'!$C$444/'Série - IPCA'!$C$437","v":8.1107653522744556},15.445758829779502,null,"N","SIM","NÃO","ENCARGOS DE GESTÃO","FUNCIONÁRIOS","DESPESAS_GERAIS",1005,"AUDITORIA INTERNA"]
[null,null,null,0,68,0,0,0,13.6,{"$f":"D336*'Série - IPCA'!$C$444/'Série - IPCA'!$C$385","v":0},{"$f":"E336*'Série - IPCA'!$C$444/'Série - IPCA'!$C$398","v":85.039592883488979},{"$f":"F336*'Série - IPCA'!$C$444/'Série - IPCA'!$C$411","v":0},{"$f":"G336*'Série - IPCA'!$C$444/'Série - IPCA'!$C$424","v":0},{"$f":"H336*'Série - IPCA'!$C$444/'Série - IPCA'!$C$437","v":0},17.007918576697797,null,"N","SIM","NÃO","ENCARGOS DE GESTÃO","FUNCIONÁRIOS","DESPESAS_GERAIS",2100,"SECRETARIA"]
[null,null,null,0,76.62,17.190000000000001,147.34,89.67,66.164000000000001,{"$f":"D337*'Série - IPCA'!$C$444/'Série - IPCA'!$C$385","v":0},{"$f":"E337*'Série - IPCA'!$C$444/'Série - IPCA'!$C$398","v":95.819611863719501},{"$f":"F337*'Série - IPCA'!$C$444/'Série - IPCA'!$C$411","v":19.532361344919316},{"$f":"G337*'Série - IPCA'!$C$444/'Série - IPCA'!$C$424","v":158.26142326056018},{"$f":"H337*'Série - IPCA'!$C$444/'Série - IPCA'!$C$437","v":92.062320144107645},73.135143322661321,null,"N","SIM","NÃO","ENCARGOS DE GESTÃO","FUNCIONÁRIOS","DESPESAS_GERAIS",2110,"ASSESSORIA DA DIRETORIA EXECUTIVA"]
[null,null,null,0,114.63,25.71,33.42,23.79,39.51,{"$f":"D338*'Série - IPCA'!$C$444/'Série - IPCA'!$C$385","v":0},{"$f":"E338*'Série - IPCA'!$C$444/'Série - IPCA'!$C$398","v":143.35424312109328},{"$f":"F338*'Série - IPCA'!$C$444/'Série - IPCA'!$C$411","v":29.2133222907432},{"$f":"G338*'Série - IPCA'!$C$444/'Série - IPCA'!$C$424","v":35.89722251505308},{"$f":"H338*'Série - IPCA'!$C$444/'Série - IPCA'!$C$437","v":24.424697181089783},46.577897021595867,null,"N","SIM","NÃO","ENCARGOS DE GESTÃO","FUNCIONÁRIOS","DESPESAS_GERAIS",2120,"ASSESSORIA DA PRESIDÊNCIA"]
[null,null,null,0,376.67,107.6,0,0,96.853999999999999,{"$f":"D339*'Série - IPCA'!$C$444/'Série - IPCA'!$C$385","v":0},{"$f":"E339*'Série - IPCA'!$C$444/'Série - IPCA'!$C$398","v":471.05681546211463},{"$f":"F339*'Série - IPCA'!$C$444/'Série - IPCA'!$C$411","v":122.2619011467899},{"$f":"G339*'Série - IPCA'!$C$444/'Série - IPCA'!$C$424","v":0},{"$f":"H339*'Série - IPCA'!$C$444/'Série - IPCA'!$C$437","v":0},118.66374332178091,null,"N","SIM","NÃO","ENCARGOS DE GESTÃO","FUNCIONÁRIOS","DESPESAS_GERAIS",2200,"DIRETORIA COLEGIADA - PRESIDÊNCIA"]
[null,null,null,0,757,0,0,0,151.4,{"$f":"D340*'Série - IPCA'!$C$444/'Série - IPCA'!$C$385","v":0},{"$f":"E340*'Série - IPCA'!$C$444/'Série - IPCA'!$C$398","v":946.69076195295827},{"$f":"F340*'Série - IPCA'!$C$444/'Série - IPCA'!$C$411","v":0},{"$f":"G340*'Série - IPCA'!$C$444/'Série - IPCA'!$C$424","v":0},{"$f":"H340*'Série - IPCA'!$C$444/'Série - IPCA'!$C$437","v":0},189.33815239059166,null,"N","SIM","NÃO","ENCARGOS DE GESTÃO","FUNCIONÁRIOS","DESPESAS_GERAIS",2300,"DIRETORIA COLEGIADA - DAF"]
[null,null,null,0,86.01,8.5299999999999994,11.08,7.9,22.704000000000001,{"$f":"D341*'Série - IPCA'!$C$444/'Série - IPCA'!$C$385","v":0},{"$f":"E341*'Série - IPCA'!$C$444/'Série - IPCA'!$C$398","v":107.56257917513069},{"$f":"F341*'Série - IPCA'!$C$444/'Série - IPCA'!$C$411","v":9.6923235760419857},{"$f":"G341*'Série - IPCA'!$C$444/'Série - IPCA'!$C$424","v":11.901293401160626},{"$f":"H341*'Série - IPCA'!$C$444/'Série - IPCA'!$C$437","v":8.1107653522744556},27.453392300921553,null,"N","SIM","NÃO","ENCARGOS DE GESTÃO","FUNCIONÁRIOS","DESPESAS_GERAIS",2310,"ASSESSORIA DAF"]
[null,null,null,0,595,0,0,0,119,{"$f":"D342*'Série - IPCA'!$C$444/'Série - IPCA'!$C$385","v":0},{"$f":"E342*'Série - IPCA'!$C$444/'Série - IPCA'!$C$398","v":744.09643773052858},{"$f":"F342*'Série - IPCA'!$C$444/'Série - IPCA'!$C$411","v":0},{"$f":"G342*'Série - IPCA'!$C$444/'Série - IPCA'!$C$424","v":0},{"$f":"H342*'Série - IPCA'!$C$444/'Série - IPCA'!$C$437","v":0},148.81928754610573,null,"N","SIM","NÃO","ENCARGOS DE GESTÃO","FUNCIONÁRIOS","DESPESAS_GERAIS",2400,"DIRETORIA COLEGIADA - DTC"]
[null,null,null,0,413,0,0,0,82.6,{"$f":"D343*'Série - IPCA'!$C$444/'Série - IPCA'!$C$385","v":0},{"$f":"E343*'Série - IPCA'!$C$444/'Série - IPCA'!$C$398","v":516.4904685423669},{"$f":"F343*'Série - IPCA'!$C$444/'Série - IPCA'!$C$411","v":0},{"$f":"G343*'Série - IPCA'!$C$444/'Série - IPCA'!$C$424","v":0},{"$f":"H343*'Série - IPCA'!$C$444/'Série - IPCA'!$C$437","v":0},103.29809370847337,null,"N","SIM","NÃO","ENCARGOS DE GESTÃO","FUNCIONÁRIOS","DESPESAS_GERAIS",2410,"ASSESSORIA DE SEGURANÇA DO TRABALHO"]
[null,null,null,0,0,0,0,0,0,{"$f":"D344*'Série - IPCA'!$C$444/'Série - IPCA'!$C$385","v":0},{"$f":"E344*'Série - IPCA'!$C$444/'Série - IPCA'!$C$398","v":0},{"$f":"F344*'Série - IPCA'!$C$444/'Série - IPCA'!$C$411","v":0},{"$f":"G344*'Série - IPCA'!$C$444/'Série - IPCA'!$C$424","v":0},{"$f":"H344*'Série - IPCA'!$C$444/'Série - IPCA'!$C$437","v":0},0,null,"N","SIM","NÃO","ENCARGOS DE GESTÃO","FUNCIONÁRIOS","DESPESAS_GERAIS",3100,"SMS"]
[null,null,null,0,1293.04,102.83,133.68,95.17,324.94400000000002,{"$f":"D345*'Série - IPCA'!$C$444/'Série - IPCA'!$C$385","v":0},{"$f":"E345*'Série - IPCA'!$C$444/'Série - IPCA'!$C$398","v":1617.0528703245088},{"$f":"F345*'Série - IPCA'!$C$444/'Série - IPCA'!$C$411","v":116.84192653275468},{"$f":"G345*'Série - IPCA'!$C$444/'Série - IPCA'!$C$424","v":143.58889006021232},{"$f":"H345*'Série - IPCA'!$C$444/'Série - IPCA'!$C$437","v":97.709055515944286},395.03854848668408,null,"N","SIM","NÃO","ENCARGOS DE GESTÃO","FUNCIONÁRIOS","DESPESAS_GERAIS",3200,"GERÊNCIA DE PLANEJAMENTO E MEIO AMBIENTE"]
[null,null,null,0,160.65,34.229999999999997,44.51,31.68,54.213999999999999,{"$f":"D346*'Série - IPCA'!$C$444/'Série - IPCA'!$C$385","v":0},{"$f":"E346*'Série - IPCA'!$C$444/'Série - IPCA'!$C$398","v":200.90603818724273},{"$f":"F346*'Série - IPCA'!$C$444/'Série - IPCA'!$C$411","v":38.894283236567077},{"$f":"G346*'Série - IPCA'!$C$444/'Série - IPCA'!$C$424","v":47.809257155745435},{"$f":"H346*'Série - IPCA'!$C$444/'Série - IPCA'!$C$437","v":32.525195741779079},64.02695486426687,null,"N","SIM","NÃO","ENCARGOS DE GESTÃO","FUNCIONÁRIOS","DESPESAS_GERAIS",3300,"GERÊNCIA JURÍDICA"]
[null,null,null,0,0,0,0,0,0,{"$f":"D347*'Série - IPCA'!$C$444/'Série - IPCA'!$C$385","v":0},{"$f":"E347*'Série - IPCA'!$C$444/'Série - IPCA'!$C$398","v":0},{"$f":"F347*'Série - IPCA'!$C$444/'Série - IPCA'!$C$411","v":0},{"$f":"G347*'Série - IPCA'!$C$444/'Série - IPCA'!$C$424","v":0},{"$f":"H347*'Série - IPCA'!$C$444/'Série - IPCA'!$C$437","v":0},0,null,"N","SIM","NÃO","ENCARGOS DE GESTÃO","FUNCIONÁRIOS","DESPESAS_GERAIS",3400,"MARKETING"]
[null,null,null,0,330.86,34.229999999999997,44.51,31.68,88.256,{"$f":"D348*'Série - IPCA'!$C$444/'Série - IPCA'!$C$385","v":0},{"$f":"E348*'Série - IPCA'!$C$444/'Série - IPCA'!$C$398","v":413.76764266810534},{"$f":"F348*'Série - IPCA'!$C$444/'Série - IPCA'!$C$411","v":38.894283236567077},{"$f":"G348*'Série - IPCA'!$C$444/'Série - IPCA'!$C$424","v":47.809257155745435},{"$f":"H348*'Série - IPCA'!$C$444/'Série - IPCA'!$C$437","v":32.525195741779079},106.5992757604394,null,"N","SIM","NÃO","ENCARGOS DE GESTÃO","FUNCIONÁRIOS","DESPESAS_GERAIS",3500,"ASSESSORIA DE COMUNICAÇÃO INSTITUCIONAL"]
[null,null,null,0,439.87,60.08,78.09,55.6,126.72799999999999,{"$f":"D349*'Série - IPCA'!$C$444/'Série - IPCA'!$C$385","v":0},{"$f":"E349*'Série - IPCA'!$C$444/'Série - IPCA'!$C$398","v":550.09361355382794},{"$f":"F349*'Série - IPCA'!$C$444/'Série - IPCA'!$C$411","v":68.266682350363723},{"$f":"G349*'Série - IPCA'!$C$444/'Série - IPCA'!$C$424","v":83.878339503306265},{"$f":"H349*'Série - IPCA'!$C$444/'Série - IPCA'!$C$437","v":57.083361213475911},151.86439932419475,null,"N","SIM","NÃO","ENCARGOS DE GESTÃO","FUNCIONÁRIOS","DESPESAS_GERAIS",3600,"GERÊNCIA DE GOVERNANÇA, RISCO E COMPLIANCE"]
[null,null,null,0,29608.27,15311.96,32078.02,46161.03,24631.856,{"$f":"D350*'Série - IPCA'!$C$444/'Série - IPCA'!$C$385","v":0},{"$f":"E350*'Série - IPCA'!$C$444/'Série - IPCA'!$C$398","v":37027.576864476767},{"$f":"F350*'Série - IPCA'!$C$444/'Série - IPCA'!$C$411","v":17398.413939438669},{"$f":"G350*'Série - IPCA'!$C$444/'Série - IPCA'!$C$424","v":34455.769652373521},{"$f":"H350*'Série - IPCA'!$C$444/'Série - IPCA'!$C$437","v":47392.567436620469},27254.865578581888,null,"N","SIM","NÃO","ENCARGOS DE GESTÃO","FUNCIONÁRIOS","DESPESAS_GERAIS",4100,"GERÊNCIA DE SERVIÇOS CORPORATIVOS"]
[null,null,null,0,351.9,77.13,100.26,71.38,120.13399999999999,{"$f":"D351*'Série - IPCA'!$C$444/'Série - IPCA'!$C$385","v":0},{"$f":"E351*'Série - IPCA'!$C$444/'Série - IPCA'!$C$398","v":440.07989317205551},{"$f":"F351*'Série - IPCA'!$C$444/'Série - IPCA'!$C$411","v":87.639966872229593},{"$f":"G351*'Série - IPCA'!$C$444/'Série - IPCA'!$C$424","v":107.69166754515923},{"$f":"H351*'Série - IPCA'!$C$444/'Série - IPCA'!$C$437","v":73.284358334854502},141.73917718485976,null,"N","SIM","NÃO","ENCARGOS DE GESTÃO","FUNCIONÁRIOS","DESPESAS_GERAIS",4200,"GERÊNCIA FINANCEIRA"]
[null,null,null,0,870.2,68.61,89.17,63.48,218.292,{"$f":"D352*'Série - IPCA'!$C$444/'Série - IPCA'!$C$385","v":0},{"$f":"E352*'Série - IPCA'!$C$444/'Série - IPCA'!$C$398","v":1088.2566724590017},{"$f":"F352*'Série - IPCA'!$C$444/'Série - IPCA'!$C$411","v":77.959005926405709},{"$f":"G352*'Série - IPCA'!$C$444/'Série - IPCA'!$C$424","v":95.779632904466879},{"$f":"H352*'Série - IPCA'!$C$444/'Série - IPCA'!$C$437","v":65.173592982580047},265.43378085449086,null,"N","SIM","NÃO","ENCARGOS DE GESTÃO","FUNCIONÁRIOS","DESPESAS_GERAIS",4300,"GERÊNCIA DE TECNOLOGIA E SISTEMAS DE INFORMAÇÃO"]
[null,null,null,0,760.27,51.42,66.84,47.58,185.22200000000001,{"$f":"D353*'Série - IPCA'!$C$444/'Série - IPCA'!$C$385","v":0},{"$f":"E353*'Série - IPCA'!$C$444/'Série - IPCA'!$C$398","v":950.78016590485538},{"$f":"F353*'Série - IPCA'!$C$444/'Série - IPCA'!$C$411","v":58.4266445814864},{"$f":"G353*'Série - IPCA'!$C$444/'Série - IPCA'!$C$424","v":71.794445030106161},{"$f":"H353*'Série - IPCA'!$C$444/'Série - IPCA'!$C$437","v":48.849394362179567},225.97012997572546,null,"N","SIM","NÃO","ENCARGOS DE GESTÃO","FUNCIONÁRIOS","DESPESAS_GERAIS",4500,"GERÊNCIA CONTÁBIL"]
[null,null,null,3000.84,0,0,0,0,600.16800000000001,{"$f":"D354*'Série - IPCA'!$C$444/'Série - IPCA'!$C$385","v":3922.3282310269183},{"$f":"E354*'Série - IPCA'!$C$444/'Série - IPCA'!$C$398","v":0},{"$f":"F354*'Série - IPCA'!$C$444/'Série - IPCA'!$C$411","v":0},{"$f":"G354*'Série - IPCA'!$C$444/'Série - IPCA'!$C$424","v":0},{"$f":"H354*'Série - IPCA'!$C$444/'Série - IPCA'!$C$437","v":0},784.46564620538368,null,"N","SIM","NÃO","ENCARGOS DE GESTÃO","FUNCIONÁRIOS","DESPESAS_GERAIS",3100,"SMS"]
[null,null,null,2472.4899999999998,0,0,0,0,494.49799999999993,{"$f":"D355*'Série - IPCA'!$C$444/'Série - IPCA'!$C$385","v":3231.7342237279372},{"$f":"E355*'Série - IPCA'!$C$444/'Série - IPCA'!$C$398","v":0},{"$f":"F355*'Série - IPCA'!$C$444/'Série - IPCA'!$C$411","v":0},{"$f":"G355*'Série - IPCA'!$C$444/'Série - IPCA'!$C$424","v":0},{"$f":"H355*'Série - IPCA'!$C$444/'Série - IPCA'!$C$437","v":0},646.34684474558742,null,"N","SIM","NÃO","ENCARGOS DE GESTÃO","FUNCIONÁRIOS","DESPESAS_GERAIS",3400,"MARKETING"]
[null,null,null,2472.46,0,0,0,0,494.49200000000002,{"$f":"D356*'Série - IPCA'!$C$444/'Série - IPCA'!$C$385","v":3231.6950114250722},{"$f":"E356*'Série - IPCA'!$C$444/'Série - IPCA'!$C$398","v":0},{"$f":"F356*'Série - IPCA'!$C$444/'Série - IPCA'!$C$411","v":0},{"$f":"G356*'Série - IPCA'!$C$444/'Série - IPCA'!$C$424","v":0},{"$f":"H356*'Série - IPCA'!$C$444/'Série - IPCA'!$C$437","v":0},646.33900228501443,null,"N","SIM","NÃO","ENCARGOS DE GESTÃO","FUNCIONÁRIOS","DESPESAS_GERAIS",4600,"GERÊNCIA DE PESSOAS E CULTURA"]
[null,null,null,0,0,0,0,20,4,{"$f":"D357*'Série - IPCA'!$C$444/'Série - IPCA'!$C$385","v":0},{"$f":"E357*'Série - IPCA'!$C$444/'Série - IPCA'!$C$398","v":0},{"$f":"F357*'Série - IPCA'!$C$444/'Série - IPCA'!$C$411","v":0},{"$f":"G357*'Série - IPCA'!$C$444/'Série - IPCA'!$C$424","v":0},{"$f":"H357*'Série - IPCA'!$C$444/'Série - IPCA'!$C$437","v":20.533583170315072},4.1067166340630141,null,"N","SIM","NÃO","ENCARGOS DE COMERCIALIZAÇÃO","FIXO","DESPESAS_GERAIS",5300,"GERÊNCIA COMERCIAL"]
[null,null,null,0,0,0,0,441.18,88.236000000000004,{"$f":"D358*'Série - IPCA'!$C$444/'Série - IPCA'!$C$385","v":0},{"$f":"E358*'Série - IPCA'!$C$444/'Série - IPCA'!$C$398","v":0},{"$f":"F358*'Série - IPCA'!$C$444/'Série - IPCA'!$C$411","v":0},{"$f":"G358*'Série - IPCA'!$C$444/'Série - IPCA'!$C$424","v":0},{"$f":"H358*'Série - IPCA'!$C$444/'Série - IPCA'!$C$437","v":452.95031115398024},90.59006223079605,null,"N","SIM","NÃO","OPEX","FIXO","DESPESAS_GERAIS",5200,"GERÊNCIA DE OPERAÇÕES"]
[null,null,null,2532.38,545.94000000000005,0,154.34,645.44000000000005,775.62000000000012,{"$f":"D359*'Série - IPCA'!$C$444/'Série - IPCA'!$C$385","v":3310.0150510150311},{"$f":"E359*'Série - IPCA'!$C$444/'Série - IPCA'!$C$398","v":682.74287262958796},{"$f":"F359*'Série - IPCA'!$C$444/'Série - IPCA'!$C$411","v":0},{"$f":"G359*'Série - IPCA'!$C$444/'Série - IPCA'!$C$424","v":165.78029093277354},{"$f":"H359*'Série - IPCA'!$C$444/'Série - IPCA'!$C$437","v":662.65979607240808},964.2396021299603,null,"N","SIM","NÃO","OPEX","FIXO","DESPESAS_GERAIS",5100,"GERÊNCIA DE ENGENHARIA"]
[null,null,null,30,9,0,0,0,7.8,{"$f":"D360*'Série - IPCA'!$C$444/'Série - IPCA'!$C$385","v":39.212302865466853},{"$f":"E360*'Série - IPCA'!$C$444/'Série - IPCA'!$C$398","v":11.255240234579423},{"$f":"F360*'Série - IPCA'!$C$444/'Série - IPCA'!$C$411","v":0},{"$f":"G360*'Série - IPCA'!$C$444/'Série - IPCA'!$C$424","v":0},{"$f":"H360*'Série - IPCA'!$C$444/'Série - IPCA'!$C$437","v":0},10.093508620009256,null,"N","SIM","NÃO","ENCARGOS DE GESTÃO","FIXO","DESPESAS_GERAIS",2100,"SECRETARIA"]
[null,null,null,0,0,70,0,0,14,{"$f":"D361*'Série - IPCA'!$C$444/'Série - IPCA'!$C$385","v":0},{"$f":"E361*'Série - IPCA'!$C$444/'Série - IPCA'!$C$398","v":0},{"$f":"F361*'Série - IPCA'!$C$444/'Série - IPCA'!$C$411","v":79.538411526722044},{"$f":"G361*'Série - IPCA'!$C$444/'Série - IPCA'!$C$424","v":0},{"$f":"H361*'Série - IPCA'!$C$444/'Série - IPCA'!$C$437","v":0},15.907682305344409,null,"N","SIM","NÃO","ENCARGOS DE GESTÃO","FIXO","DESPESAS_GERAIS",2310,"ASSESSORIA DAF"]
[null,null,null,0,0,0,0,35,7,{"$f":"D362*'Série - IPCA'!$C$444/'Série - IPCA'!$C$385","v":0},{"$f":"E362*'Série - IPCA'!$C$444/'Série - IPCA'!$C$398","v":0},{"$f":"F362*'Série - IPCA'!$C$444/'Série - IPCA'!$C$411","v":0},{"$f":"G362*'Série - IPCA'!$C$444/'Série - IPCA'!$C$424","v":0},{"$f":"H362*'Série - IPCA'!$C$444/'Série - IPCA'!$C$437","v":35.933770548051378},7.1867541096102752,null,"N","SIM","NÃO","ENCARGOS DE GESTÃO","FIXO","DESPESAS_GERAIS",3500,"ASSESSORIA DE COMUNICAÇÃO INSTITUCIONAL"]
[null,null,null,0,0,0,0,2632.8,526.56000000000006,{"$f":"D363*'Série - IPCA'!$C$444/'Série - IPCA'!$C$385","v":0},{"$f":"E363*'Série - IPCA'!$C$444/'Série - IPCA'!$C$398","v":0},{"$f":"F363*'Série - IPCA'!$C$444/'Série - IPCA'!$C$411","v":0},{"$f":"G363*'Série - IPCA'!$C$444/'Série - IPCA'!$C$424","v":0},{"$f":"H363*'Série - IPCA'!$C$444/'Série - IPCA'!$C$437","v":2703.0408885402767},540.60817770805534,null,"N","SIM","NÃO","ENCARGOS DE GESTÃO","FIXO","DESPESAS_GERAIS",3600,"GERÊNCIA DE GOVERNANÇA, RISCO E COMPLIANCE"]
[null,null,null,0,0,116.18,0,0,23.236000000000001,{"$f":"D364*'Série - IPCA'!$C$444/'Série - IPCA'!$C$385","v":0},{"$f":"E364*'Série - IPCA'!$C$444/'Série - IPCA'!$C$398","v":0},{"$f":"F364*'Série - IPCA'!$C$444/'Série - IPCA'!$C$411","v":132.01103787392242},{"$f":"G364*'Série - IPCA'!$C$444/'Série - IPCA'!$C$424","v":0},{"$f":"H364*'Série - IPCA'!$C$444/'Série - IPCA'!$C$437","v":0},26.402207574784484,null,"N","SIM","NÃO","ENCARGOS DE GESTÃO","FIXO","DESPESAS_GERAIS",3700,"GERÊNCIA DE REGULAÇÃO"]
[null,null,null,82.47,125.36,24.26,0,0,46.417999999999992,{"$f":"D365*'Série - IPCA'!$C$444/'Série - IPCA'!$C$385","v":107.79462057716836},{"$f":"E365*'Série - IPCA'!$C$444/'Série - IPCA'!$C$398","v":156.77299064520849},{"$f":"F365*'Série - IPCA'!$C$444/'Série - IPCA'!$C$411","v":27.56574090911824},{"$f":"G365*'Série - IPCA'!$C$444/'Série - IPCA'!$C$424","v":0},{"$f":"H365*'Série - IPCA'!$C$444/'Série - IPCA'!$C$437","v":0},58.426670426299019,null,"N","SIM","NÃO","OPEX","FIXO","DESPESAS_GERAIS",5100,"GERÊNCIA DE ENGENHARIA"]
[null,null,null,72.89,12.13,73.14,0,0,31.631999999999998,{"$f":"D366*'Série - IPCA'!$C$444/'Série - IPCA'!$C$385","v":95.272825195462616},{"$f":"E366*'Série - IPCA'!$C$444/'Série - IPCA'!$C$398","v":15.16956267171649},{"$f":"F366*'Série - IPCA'!$C$444/'Série - IPCA'!$C$411","v":83.106277415206435},{"$f":"G366*'Série - IPCA'!$C$444/'Série - IPCA'!$C$424","v":0},{"$f":"H366*'Série - IPCA'!$C$444/'Série - IPCA'!$C$437","v":0},38.709733056477106,null,"N","SIM","NÃO","OPEX","FIXO","DESPESAS_GERAIS",5200,"GERÊNCIA DE OPERAÇÕES"]
[null,null,null,3120.77,-8320.17,1118.1600000000001,559.53,1076.78,-488.98600000000005,{"$f":"D367*'Série - IPCA'!$C$444/'Série - IPCA'!$C$385","v":4079.0859471154326},{"$f":"E367*'Série - IPCA'!$C$444/'Série - IPCA'!$C$398","v":-10405.056904726744},{"$f":"F367*'Série - IPCA'!$C$444/'Série - IPCA'!$C$411","v":1270.5238604674219},{"$f":"G367*'Série - IPCA'!$C$444/'Série - IPCA'!$C$424","v":601.00457551907982},{"$f":"H367*'Série - IPCA'!$C$444/'Série - IPCA'!$C$437","v":1105.5075843065933},-669.7869874636433,null,"N","SIM","NÃO","ENCARGOS DE COMERCIALIZAÇÃO","FIXO","DESPESAS_GERAIS",5300,"GERÊNCIA COMERCIAL"]
[null,null,null,2883.4,0,0,0,0,576.68000000000006,{"$f":"D368*'Série - IPCA'!$C$444/'Série - IPCA'!$C$385","v":3768.825136076237},{"$f":"E368*'Série - IPCA'!$C$444/'Série - IPCA'!$C$398","v":0},{"$f":"F368*'Série - IPCA'!$C$444/'Série - IPCA'!$C$411","v":0},{"$f":"G368*'Série - IPCA'!$C$444/'Série - IPCA'!$C$424","v":0},{"$f":"H368*'Série - IPCA'!$C$444/'Série - IPCA'!$C$437","v":0},753.76502721524741,null,"N","SIM","NÃO","ENCARGOS DE COMERCIALIZAÇÃO","FIXO","DESPESAS_GERAIS",5400,"GERÊNCIA COMERCIAL (inativo)"]
[null,null,null,0,48.24,0,0,0,9.6479999999999997,{"$f":"D369*'Série - IPCA'!$C$444/'Série - IPCA'!$C$385","v":0},{"$f":"E369*'Série - IPCA'!$C$444/'Série - IPCA'!$C$398","v":60.328087657345712},{"$f":"F369*'Série - IPCA'!$C$444/'Série - IPCA'!$C$411","v":0},{"$f":"G369*'Série - IPCA'!$C$444/'Série - IPCA'!$C$424","v":0},{"$f":"H369*'Série - IPCA'!$C$444/'Série - IPCA'!$C$437","v":0},12.065617531469142,null,"N","SIM","NÃO","ENCARGOS DE COMERCIALIZAÇÃO","FIXO","DESPESAS_GERAIS",5500,"GERÊNCIA COMERCIAL (inativo)"]
[null,null,null,1095.3800000000001,24.26,0,0,0,223.92800000000003,{"$f":"D370*'Série - IPCA'!$C$444/'Série - IPCA'!$C$385","v":1431.7457437591693},{"$f":"E370*'Série - IPCA'!$C$444/'Série - IPCA'!$C$398","v":30.339125343432979},{"$f":"F370*'Série - IPCA'!$C$444/'Série - IPCA'!$C$411","v":0},{"$f":"G370*'Série - IPCA'!$C$444/'Série - IPCA'!$C$424","v":0},{"$f":"H370*'Série - IPCA'!$C$444/'Série - IPCA'!$C$437","v":0},292.41697382052041,null,"N","SIM","NÃO","ENCARGOS DE GESTÃO","FIXO","DESPESAS_GERAIS",2100,"SECRETARIA"]
[null,null,null,0,0,24.12,48.24,0,14.472,{"$f":"D371*'Série - IPCA'!$C$444/'Série - IPCA'!$C$385","v":0},{"$f":"E371*'Série - IPCA'!$C$444/'Série - IPCA'!$C$398","v":0},{"$f":"F371*'Série - IPCA'!$C$444/'Série - IPCA'!$C$411","v":27.406664086064797},{"$f":"G371*'Série - IPCA'!$C$444/'Série - IPCA'!$C$424","v":51.815739501082007},{"$f":"H371*'Série - IPCA'!$C$444/'Série - IPCA'!$C$437","v":0},15.844480717429359,null,"N","SIM","NÃO","ENCARGOS DE GESTÃO","FIXO","DESPESAS_GERAIS",2110,"ASSESSORIA DA DIRETORIA EXECUTIVA"]
[null,null,null,0,48.24,0,0,0,9.6479999999999997,{"$f":"D372*'Série - IPCA'!$C$444/'Série - IPCA'!$C$385","v":0},{"$f":"E372*'Série - IPCA'!$C$444/'Série - IPCA'!$C$398","v":60.328087657345712},{"$f":"F372*'Série - IPCA'!$C$444/'Série - IPCA'!$C$411","v":0},{"$f":"G372*'Série - IPCA'!$C$444/'Série - IPCA'!$C$424","v":0},{"$f":"H372*'Série - IPCA'!$C$444/'Série - IPCA'!$C$437","v":0},12.065617531469142,null,"N","SIM","NÃO","ENCARGOS DE GESTÃO","FIXO","DESPESAS_GERAIS",2120,"ASSESSORIA DA PRESIDÊNCIA"]
[null,null,null,464.77,651.94000000000005,0,0,33.909999999999997,230.12400000000002,{"$f":"D373*'Série - IPCA'!$C$444/'Série - IPCA'!$C$385","v":607.49006675943417},{"$f":"E373*'Série - IPCA'!$C$444/'Série - IPCA'!$C$398","v":815.30459094796777},{"$f":"F373*'Série - IPCA'!$C$444/'Série - IPCA'!$C$411","v":0},{"$f":"G373*'Série - IPCA'!$C$444/'Série - IPCA'!$C$424","v":0},{"$f":"H373*'Série - IPCA'!$C$444/'Série - IPCA'!$C$437","v":34.814690265269206},291.52186959453422,null,"N","SIM","NÃO","ENCARGOS DE GESTÃO","FIXO","DESPESAS_GERAIS",2200,"DIRETORIA COLEGIADA - PRESIDÊNCIA"]
[null,null,null,12.13,0,0,0,0,2.4260000000000002,{"$f":"D374*'Série - IPCA'!$C$444/'Série - IPCA'!$C$385","v":15.854841125270429},{"$f":"E374*'Série - IPCA'!$C$444/'Série - IPCA'!$C$398","v":0},{"$f":"F374*'Série - IPCA'!$C$444/'Série - IPCA'!$C$411","v":0},{"$f":"G374*'Série - IPCA'!$C$444/'Série - IPCA'!$C$424","v":0},{"$f":"H374*'Série - IPCA'!$C$444/'Série - IPCA'!$C$437","v":0},3.1709682250540858,null,"N","SIM","NÃO","ENCARGOS DE GESTÃO","FIXO","DESPESAS_GERAIS",2300,"DIRETORIA COLEGIADA - DAF"]
[null,null,null,0,0,24.12,0,0,4.8239999999999998,{"$f":"D375*'Série - IPCA'!$C$444/'Série - IPCA'!$C$385","v":0},{"$f":"E375*'Série - IPCA'!$C$444/'Série - IPCA'!$C$398","v":0},{"$f":"F375*'Série - IPCA'!$C$444/'Série - IPCA'!$C$411","v":27.406664086064797},{"$f":"G375*'Série - IPCA'!$C$444/'Série - IPCA'!$C$424","v":0},{"$f":"H375*'Série - IPCA'!$C$444/'Série - IPCA'!$C$437","v":0},5.4813328172129596,null,"N","SIM","NÃO","ENCARGOS DE GESTÃO","FIXO","DESPESAS_GERAIS",2400,"DIRETORIA COLEGIADA - DTC"]
[null,null,null,0,0,0,24.12,0,4.8239999999999998,{"$f":"D376*'Série - IPCA'!$C$444/'Série - IPCA'!$C$385","v":0},{"$f":"E376*'Série - IPCA'!$C$444/'Série - IPCA'!$C$398","v":0},{"$f":"F376*'Série - IPCA'!$C$444/'Série - IPCA'!$C$411","v":0},{"$f":"G376*'Série - IPCA'!$C$444/'Série - IPCA'!$C$424","v":25.907869750541003},{"$f":"H376*'Série - IPCA'!$C$444/'Série - IPCA'!$C$437","v":0},5.1815739501082003,null,"N","SIM","NÃO","ENCARGOS DE GESTÃO","FIXO","DESPESAS_GERAIS",2410,"ASSESSORIA DE SEGURANÇA DO TRABALHO"]
[null,null,null,163.66,0,0,0,0,32.731999999999999,{"$f":"D377*'Série - IPCA'!$C$444/'Série - IPCA'!$C$385","v":213.91618289874347},{"$f":"E377*'Série - IPCA'!$C$444/'Série - IPCA'!$C$398","v":0},{"$f":"F377*'Série - IPCA'!$C$444/'Série - IPCA'!$C$411","v":0},{"$f":"G377*'Série - IPCA'!$C$444/'Série - IPCA'!$C$424","v":0},{"$f":"H377*'Série - IPCA'!$C$444/'Série - IPCA'!$C$437","v":0},42.783236579748696,null,"N","SIM","NÃO","ENCARGOS DE GESTÃO","FIXO","DESPESAS_GERAIS",3100,"SMS"]
[null,null,null,168.43,313.56,464.69,48.24,13,201.584,{"$f":"D378*'Série - IPCA'!$C$444/'Série - IPCA'!$C$385","v":220.15093905435273},{"$f":"E378*'Série - IPCA'!$C$444/'Série - IPCA'!$C$398","v":392.13256977274716},{"$f":"F378*'Série - IPCA'!$C$444/'Série - IPCA'!$C$411","v":528.01006360503527},{"$f":"G378*'Série - IPCA'!$C$444/'Série - IPCA'!$C$424","v":51.815739501082007},{"$f":"H378*'Série - IPCA'!$C$444/'Série - IPCA'!$C$437","v":13.346829060704799},241.09122819878434,null,"N","SIM","NÃO","ENCARGOS DE GESTÃO","FIXO","DESPESAS_GERAIS",3200,"GERÊNCIA DE PLANEJAMENTO E MEIO AMBIENTE"]
[null,null,null,308.14,302.41000000000003,381.46,114.39,24.12,226.10399999999998,{"$f":"D379*'Série - IPCA'!$C$444/'Série - IPCA'!$C$385","v":402.76263349883175},{"$f":"E379*'Série - IPCA'!$C$444/'Série - IPCA'!$C$398","v":378.18857770435159},{"$f":"F379*'Série - IPCA'!$C$444/'Série - IPCA'!$C$411","v":433.4388922997627},{"$f":"G379*'Série - IPCA'!$C$444/'Série - IPCA'!$C$424","v":122.86903900349856},{"$f":"H379*'Série - IPCA'!$C$444/'Série - IPCA'!$C$437","v":24.76350130339998},272.40452876196889,null,"N","SIM","NÃO","ENCARGOS DE GESTÃO","FIXO","DESPESAS_GERAIS",3300,"GERÊNCIA JURÍDICA"]
[null,null,null,547.22,36.25,0,0,0,116.694,{"$f":"D380*'Série - IPCA'!$C$444/'Série - IPCA'!$C$385","v":715.25854580135899},{"$f":"E380*'Série - IPCA'!$C$444/'Série - IPCA'!$C$398","v":45.333606500389344},{"$f":"F380*'Série - IPCA'!$C$444/'Série - IPCA'!$C$411","v":0},{"$f":"G380*'Série - IPCA'!$C$444/'Série - IPCA'!$C$424","v":0},{"$f":"H380*'Série - IPCA'!$C$444/'Série - IPCA'!$C$437","v":0},152.11843046034966,null,"N","SIM","NÃO","ENCARGOS DE GESTÃO","FIXO","DESPESAS_GERAIS",3400,"MARKETING"]
[null,null,null,0,535.96,213.79,67.239999999999995,315.94,226.58600000000001,{"$f":"D381*'Série - IPCA'!$C$444/'Série - IPCA'!$C$385","v":0},{"$f":"E381*'Série - IPCA'!$C$444/'Série - IPCA'!$C$398","v":670.26206179168764},{"$f":"F381*'Série - IPCA'!$C$444/'Série - IPCA'!$C$411","v":242.92167143282722},{"$f":"G381*'Série - IPCA'!$C$444/'Série - IPCA'!$C$424","v":72.224094611375492},{"$f":"H381*'Série - IPCA'!$C$444/'Série - IPCA'!$C$437","v":324.36901334146722},261.9553682354715,null,"N","SIM","NÃO","ENCARGOS DE GESTÃO","FIXO","DESPESAS_GERAIS",3500,"ASSESSORIA DE COMUNICAÇÃO INSTITUCIONAL"]
[null,null,null,265.32,821.06,506.52,229.35,164.3,397.30999999999995,{"$f":"D382*'Série - IPCA'!$C$444/'Série - IPCA'!$C$385","v":346.7936065421888},{"$f":"E382*'Série - IPCA'!$C$444/'Série - IPCA'!$C$398","v":1026.803060778198},{"$f":"F382*'Série - IPCA'!$C$444/'Série - IPCA'!$C$411","v":575.53994580736071},{"$f":"G382*'Série - IPCA'!$C$444/'Série - IPCA'!$C$424","v":246.35032866030593},{"$f":"H382*'Série - IPCA'!$C$444/'Série - IPCA'!$C$437","v":168.68338574413835},472.83406550643838,null,"N","SIM","NÃO","ENCARGOS DE GESTÃO","FIXO","DESPESAS_GERAIS",3600,"GERÊNCIA DE GOVERNANÇA, RISCO E COMPLIANCE"]
[null,null,null,507895.98,179852.06,206069.48,166862.51999999999,143412.92000000001,240818.592,{"$f":"D383*'Série - IPCA'!$C$444/'Série - IPCA'!$C$385","v":663859.03306376969},{"$f":"E383*'Série - IPCA'!$C$444/'Série - IPCA'!$C$398","v":224919.79355377695},{"$f":"F383*'Série - IPCA'!$C$444/'Série - IPCA'!$C$411","v":234149.13004768026},{"$f":"G383*'Série - IPCA'!$C$444/'Série - IPCA'!$C$424","v":179231.02961886578},{"$f":"H383*'Série - IPCA'!$C$444/'Série - IPCA'!$C$437","v":147239.05602588711},289879.60846199596,null,"N","SIM","NÃO","ENCARGOS DE GESTÃO","NÚMERO DE CLIENTES","DESPESAS_GERAIS",4100,"GERÊNCIA DE SERVIÇOS CORPORATIVOS"]
[null,null,null,42068.19,48247.61,40556.83,46363.98,50551.18,45557.558000000005,{"$f":"D384*'Série - IPCA'!$C$444/'Série - IPCA'!$C$385","v":54986.353576066795},{"$f":"E384*'Série - IPCA'!$C$444/'Série - IPCA'!$C$398","v":60337.60458825517},{"$f":"F384*'Série - IPCA'!$C$444/'Série - IPCA'!$C$411","v":46083.226210847235},{"$f":"G384*'Série - IPCA'!$C$444/'Série - IPCA'!$C$424","v":49800.661482449752},{"$f":"H384*'Série - IPCA'!$C$444/'Série - IPCA'!$C$437","v":51899.842944378397},52621.537760399471,null,"N","SIM","NÃO","ENCARGOS DE GESTÃO","NÚMERO DE CLIENTES","DESPESAS_GERAIS",4200,"GERÊNCIA FINANCEIRA"]
[null,null,null,166.69,144.86000000000001,24.12,18.399999999999999,0,70.813999999999993,{"$f":"D385*'Série - IPCA'!$C$444/'Série - IPCA'!$C$385","v":217.87662548815564},{"$f":"E385*'Série - IPCA'!$C$444/'Série - IPCA'!$C$398","v":181.15934448679729},{"$f":"F385*'Série - IPCA'!$C$444/'Série - IPCA'!$C$411","v":27.406664086064797},{"$f":"G385*'Série - IPCA'!$C$444/'Série - IPCA'!$C$424","v":19.763880738389485},{"$f":"H385*'Série - IPCA'!$C$444/'Série - IPCA'!$C$437","v":0},89.241302959881438,null,"N","SIM","NÃO","ENCARGOS DE GESTÃO","FIXO","DESPESAS_GERAIS",4300,"GERÊNCIA DE TECNOLOGIA E SISTEMAS DE INFORMAÇÃO"]
[null,null,null,0,1316.49,0,0,0,263.298,{"$f":"D386*'Série - IPCA'!$C$444/'Série - IPCA'!$C$385","v":0},{"$f":"E386*'Série - IPCA'!$C$444/'Série - IPCA'!$C$398","v":1646.3790240468295},{"$f":"F386*'Série - IPCA'!$C$444/'Série - IPCA'!$C$411","v":0},{"$f":"G386*'Série - IPCA'!$C$444/'Série - IPCA'!$C$424","v":0},{"$f":"H386*'Série - IPCA'!$C$444/'Série - IPCA'!$C$437","v":0},329.27580480936592,null,"N","SIM","NÃO","ENCARGOS DE GESTÃO","FIXO","DESPESAS_GERAIS",4500,"GERÊNCIA CONTÁBIL"]
[null,null,null,54.2,0,24.12,0,0,15.664000000000001,{"$f":"D387*'Série - IPCA'!$C$444/'Série - IPCA'!$C$385","v":70.843560510276774},{"$f":"E387*'Série - IPCA'!$C$444/'Série - IPCA'!$C$398","v":0},{"$f":"F387*'Série - IPCA'!$C$444/'Série - IPCA'!$C$411","v":27.406664086064797},{"$f":"G387*'Série - IPCA'!$C$444/'Série - IPCA'!$C$424","v":0},{"$f":"H387*'Série - IPCA'!$C$444/'Série - IPCA'!$C$437","v":0},19.650044919268314,null,"N","SIM","NÃO","ENCARGOS DE GESTÃO","FIXO","DESPESAS_GERAIS",4600,"GERÊNCIA DE PESSOAS E CULTURA"]
[null,null,null,27394.16,33370.92,70720.63,113430.89,105307.52,70044.824000000008,{"$f":"D388*'Série - IPCA'!$C$444/'Série - IPCA'!$C$385","v":35806.269955501906},{"$f":"E388*'Série - IPCA'!$C$444/'Série - IPCA'!$C$398","v":41733.080160992351},{"$f":"F388*'Série - IPCA'!$C$444/'Série - IPCA'!$C$411","v":80357.236748129217},{"$f":"G388*'Série - IPCA'!$C$444/'Série - IPCA'!$C$424","v":121838.83597877047},{"$f":"H388*'Série - IPCA'!$C$444/'Série - IPCA'!$C$437","v":108117.03601898091},77570.491772474968,null,"N","SIM","NÃO","OPEX","FIXO","DESPESAS_SEGUROS",5100,"GERÊNCIA DE ENGENHARIA"]
[null,null,null,67451.66,68828.83,115769.42,185685.93,172388.01,{"$f":"AVERAGE(D389:H389)","v":122024.76999999999},{"$f":"D389*'Série - IPCA'!$C$444/'Série - IPCA'!$C$385","v":88164.497356616528},{"$f":"E389*'Série - IPCA'!$C$444/'Série - IPCA'!$C$398","v":86076.112968336369},{"$f":"F389*'Série - IPCA'!$C$444/'Série - IPCA'!$C$411","v":131544.51100242752},{"$f":"G389*'Série - IPCA'!$C$444/'Série - IPCA'!$C$424","v":199449.70518026841},{"$f":"H389*'Série - IPCA'!$C$444/'Série - IPCA'!$C$437","v":176987.17704500537},{"$f":"AVERAGE(J389:N389)","v":136444.40071053084},null,"N","SIM","NÃO","OPEX","FIXO","DESPESAS_SEGUROS",5200,"GERÊNCIA DE OPERAÇÕES"]
[null,null,null,40940.03,0,0,0,0,8188.0059999999994,{"$f":"D390*'Série - IPCA'!$C$444/'Série - IPCA'!$C$385","v":53511.761856043282},{"$f":"E390*'Série - IPCA'!$C$444/'Série - IPCA'!$C$398","v":0},{"$f":"F390*'Série - IPCA'!$C$444/'Série - IPCA'!$C$411","v":0},{"$f":"G390*'Série - IPCA'!$C$444/'Série - IPCA'!$C$424","v":0},{"$f":"H390*'Série - IPCA'!$C$444/'Série - IPCA'!$C$437","v":0},10702.352371208657,null,"S","NÃO","SIM","ENCARGOS DE GESTÃO","FIXO","MATERIAIS_MANUTENÇÃO",9999,"RATEIO"]
[null,null,null,177676.67,185134.24,115368.27,222889.67,317027.43,203619.25599999999,{"$f":"D391*'Série - IPCA'!$C$444/'Série - IPCA'!$C$385","v":232237.04653892026},{"$f":"E391*'Série - IPCA'!$C$444/'Série - IPCA'!$C$398","v":231525.59409403146},{"$f":"F391*'Série - IPCA'!$C$444/'Série - IPCA'!$C$411","v":131088.69909122831},{"$f":"G391*'Série - IPCA'!$C$444/'Série - IPCA'!$C$424","v":239411.1334619016},{"$f":"H391*'Série - IPCA'!$C$444/'Série - IPCA'!$C$437","v":325485.45505881199},231949.58564897874,null,"N","SIM","NÃO","OPEX","VOLUME","CUSTO_ODORIZAÇAO",5200,"GERÊNCIA DE OPERAÇÕES"]
[null,null,null,0,0,0,78.13,8,17.225999999999999,{"$f":"D392*'Série - IPCA'!$C$444/'Série - IPCA'!$C$385","v":0},{"$f":"E392*'Série - IPCA'!$C$444/'Série - IPCA'!$C$398","v":0},{"$f":"F392*'Série - IPCA'!$C$444/'Série - IPCA'!$C$411","v":0},{"$f":"G392*'Série - IPCA'!$C$444/'Série - IPCA'!$C$424","v":83.921304461433195},{"$f":"H392*'Série - IPCA'!$C$444/'Série - IPCA'!$C$437","v":8.21343326812603},18.426947545911844,null,"N","NÃO","SIM","OPEX","FIXO","DESPESAS_GERAIS",5100,"GERÊNCIA DE ENGENHARIA"]
[null,null,null,0,0,0,16,32,9.6,{"$f":"D393*'Série - IPCA'!$C$444/'Série - IPCA'!$C$385","v":0},{"$f":"E393*'Série - IPCA'!$C$444/'Série - IPCA'!$C$398","v":0},{"$f":"F393*'Série - IPCA'!$C$444/'Série - IPCA'!$C$411","v":0},{"$f":"G393*'Série - IPCA'!$C$444/'Série - IPCA'!$C$424","v":17.185983250773468},{"$f":"H393*'Série - IPCA'!$C$444/'Série - IPCA'!$C$437","v":32.85373307250412},10.007943264655518,null,"N","NÃO","SIM","OPEX","FIXO","DESPESAS_GERAIS",5200,"GERÊNCIA DE OPERAÇÕES"]
[null,null,null,250512.82,161496.81,109675.08,139415.92000000001,130551.1,158330.34599999999,{"$f":"D394*'Série - IPCA'!$C$444/'Série - IPCA'!$C$385","v":327439.4856507394},{"$f":"E394*'Série - IPCA'!$C$444/'Série - IPCA'!$C$398","v":201965.04374091429},{"$f":"F394*'Série - IPCA'!$C$444/'Série - IPCA'!$C$411","v":124619.73781808805},{"$f":"G394*'Série - IPCA'!$C$444/'Série - IPCA'!$C$424","v":149749.97912569836},{"$f":"H394*'Série - IPCA'!$C$444/'Série - IPCA'!$C$437","v":134034.09349130603},187561.66796534922,null,"N","SIM","NÃO","OPEX","FUNCIONÁRIOS","PESSOAL",5100,"GERÊNCIA DE ENGENHARIA"]
[null,null,null,416943.34,378701.53,399857.43,429706.16,355455.05,396132.70199999999,{"$f":"D395*'Série - IPCA'!$C$444/'Série - IPCA'!$C$385","v":544976.95086064399},{"$f":"E395*'Série - IPCA'!$C$444/'Série - IPCA'!$C$398","v":473597.41081697633},{"$f":"F395*'Série - IPCA'!$C$444/'Série - IPCA'!$C$411","v":454343.21170510649},{"$f":"G395*'Série - IPCA'!$C$444/'Série - IPCA'!$C$424","v":461557.67928213649},{"$f":"H395*'Série - IPCA'!$C$444/'Série - IPCA'!$C$437","v":364938.29162417521},459882.70885780768,null,"N","SIM","NÃO","OPEX","FUNCIONÁRIOS","PESSOAL",5200,"GERÊNCIA DE OPERAÇÕES"]
[null,null,null,233089.52,208396.65,295985.52,297753.36,293137.46000000002,265672.50199999998,{"$f":"D396*'Série - IPCA'!$C$444/'Série - IPCA'!$C$385","v":304665.89510020975},{"$f":"E396*'Série - IPCA'!$C$444/'Série - IPCA'!$C$398","v":260617.15109239621},{"$f":"F396*'Série - IPCA'!$C$444/'Série - IPCA'!$C$411","v":336317.40136729745},{"$f":"G396*'Série - IPCA'!$C$444/'Série - IPCA'!$C$424","v":319824.01611384511},{"$f":"H396*'Série - IPCA'!$C$444/'Série - IPCA'!$C$437","v":300958.12076224544},304476.51688719878,null,"N","SIM","NÃO","ENCARGOS DE COMERCIALIZAÇÃO","FUNCIONÁRIOS","PESSOAL",5300,"GERÊNCIA COMERCIAL"]
[null,null,null,0,24131.86,26138.05,29204.04,19923.7,19879.530000000002,{"$f":"D397*'Série - IPCA'!$C$444/'Série - IPCA'!$C$385","v":0},{"$f":"E397*'Série - IPCA'!$C$444/'Série - IPCA'!$C$398","v":30178.875734137535},{"$f":"F397*'Série - IPCA'!$C$444/'Série - IPCA'!$C$411","v":29699.699677229099},{"$f":"G397*'Série - IPCA'!$C$444/'Série - IPCA'!$C$424","v":31368.758893432398},{"$f":"H397*'Série - IPCA'!$C$444/'Série - IPCA'!$C$437","v":20455.247550520326},22340.51637106387,null,"N","SIM","NÃO","ENCARGOS DE GESTÃO","FUNCIONÁRIOS","PESSOAL",1005,"AUDITORIA INTERNA"]
[null,null,null,0,0,39509.949999999997,28289.119999999999,15823.31,16724.475999999999,{"$f":"D398*'Série - IPCA'!$C$444/'Série - IPCA'!$C$385","v":0},{"$f":"E398*'Série - IPCA'!$C$444/'Série - IPCA'!$C$398","v":0},{"$f":"F398*'Série - IPCA'!$C$444/'Série - IPCA'!$C$411","v":44893.695178574453},{"$f":"G398*'Série - IPCA'!$C$444/'Série - IPCA'!$C$424","v":30386.021406195046},{"$f":"H398*'Série - IPCA'!$C$444/'Série - IPCA'!$C$437","v":16245.46259573391},18305.035836100684,null,"N","SIM","NÃO","ENCARGOS DE GESTÃO","FUNCIONÁRIOS","PESSOAL",1010,"GOVERNANÇA SOCIETÁRIA"]
[null,null,null,24296.639999999999,25803.7,16006.62,6537.98,7263.53,15981.693999999998,{"$f":"D399*'Série - IPCA'!$C$444/'Série - IPCA'!$C$385","v":31757.573543107217},{"$f":"E399*'Série - IPCA'!$C$444/'Série - IPCA'!$C$398","v":32269.649160113007},{"$f":"F399*'Série - IPCA'!$C$444/'Série - IPCA'!$C$411","v":18187.730410169424},{"$f":"G399*'Série - IPCA'!$C$444/'Série - IPCA'!$C$424","v":7022.6009233682444},{"$f":"H399*'Série - IPCA'!$C$444/'Série - IPCA'!$C$437","v":7457.3148682539331},19338.973781002362,null,"N","SIM","NÃO","ENCARGOS DE GESTÃO","FUNCIONÁRIOS","PESSOAL",2110,"ASSESSORIA DA DIRETORIA EXECUTIVA"]
[null,null,null,37318.15,38498.26,41698.800000000003,46590.06,48621.38,42545.33,{"$f":"D400*'Série - IPCA'!$C$444/'Série - IPCA'!$C$385","v":48777.686672630727},{"$f":"E400*'Série - IPCA'!$C$444/'Série - IPCA'!$C$398","v":48145.240545922185},{"$f":"F400*'Série - IPCA'!$C$444/'Série - IPCA'!$C$411","v":47380.804493863972},{"$f":"G400*'Série - IPCA'!$C$444/'Série - IPCA'!$C$424","v":50043.499425783179},{"$f":"H400*'Série - IPCA'!$C$444/'Série - IPCA'!$C$437","v":49918.5575042747},48853.157728494953,null,"N","SIM","NÃO","ENCARGOS DE GESTÃO","FUNCIONÁRIOS","PESSOAL",2120,"ASSESSORIA DA PRESIDÊNCIA"]
[null,null,null,0,17818.259999999998,19299.57,21563.41,13650.79,14466.405999999999,{"$f":"D401*'Série - IPCA'!$C$444/'Série - IPCA'!$C$385","v":0},{"$f":"E401*'Série - IPCA'!$C$444/'Série - IPCA'!$C$398","v":22283.199651355237},{"$f":"F401*'Série - IPCA'!$C$444/'Série - IPCA'!$C$411","v":21929.387727839701},{"$f":"G401*'Série - IPCA'!$C$444/'Série - IPCA'!$C$424","v":23161.775193097565},{"$f":"H401*'Série - IPCA'!$C$444/'Série - IPCA'!$C$437","v":14014.981590275267},16277.868832513555,null,"N","SIM","NÃO","ENCARGOS DE GESTÃO","FUNCIONÁRIOS","PESSOAL",2130,"ASSESSORIA DE RELAÇÕES INSTITUCIONAIS E NOVOS NEGÓCIOS"]
[null,null,null,0,0,0,0,20258.91,4051.7820000000002,{"$f":"D402*'Série - IPCA'!$C$444/'Série - IPCA'!$C$385","v":0},{"$f":"E402*'Série - IPCA'!$C$444/'Série - IPCA'!$C$398","v":0},{"$f":"F402*'Série - IPCA'!$C$444/'Série - IPCA'!$C$411","v":0},{"$f":"G402*'Série - IPCA'!$C$444/'Série - IPCA'!$C$424","v":0},{"$f":"H402*'Série - IPCA'!$C$444/'Série - IPCA'!$C$437","v":20799.400671246389},4159.8801342492779,null,"N","SIM","NÃO","ENCARGOS DE GESTÃO","FUNCIONÁRIOS","PESSOAL",2140,"ASSESSORIA DTC"]
[null,null,null,0,16040.94,17374.5,0,0,6683.0880000000006,{"$f":"D403*'Série - IPCA'!$C$444/'Série - IPCA'!$C$385","v":0},{"$f":"E403*'Série - IPCA'!$C$444/'Série - IPCA'!$C$398","v":20060.514809830496},{"$f":"F403*'Série - IPCA'!$C$444/'Série - IPCA'!$C$411","v":19742.001872443318},{"$f":"G403*'Série - IPCA'!$C$444/'Série - IPCA'!$C$424","v":0},{"$f":"H403*'Série - IPCA'!$C$444/'Série - IPCA'!$C$437","v":0},7960.5033364547617,null,"N","SIM","NÃO","ENCARGOS DE GESTÃO","FUNCIONÁRIOS","PESSOAL",2300,"DIRETORIA COLEGIADA - DAF"]
[null,null,null,44678.6,57659.51,59628.69,71932.67,55348.12,57849.517999999996,{"$f":"D404*'Série - IPCA'!$C$444/'Série - IPCA'!$C$385","v":58398.359826834901},{"$f":"E404*'Série - IPCA'!$C$444/'Série - IPCA'!$C$398","v":72107.959650903853},{"$f":"F404*'Série - IPCA'!$C$444/'Série - IPCA'!$C$411","v":67753.875485990517},{"$f":"G404*'Série - IPCA'!$C$444/'Série - IPCA'!$C$424","v":77264.60386271344},{"$f":"H404*'Série - IPCA'!$C$444/'Série - IPCA'!$C$437","v":56824.761267028967},66469.912018694333,null,"N","SIM","NÃO","ENCARGOS DE GESTÃO","FUNCIONÁRIOS","PESSOAL",2410,"ASSESSORIA DE SEGURANÇA DO TRABALHO"]
[null,null,null,71580.3,67944.83,74443.42,86413.42,71182.33,74312.86,{"$f":"D405*'Série - IPCA'!$C$444/'Série - IPCA'!$C$385","v":93560.946760032559},{"$f":"E405*'Série - IPCA'!$C$444/'Série - IPCA'!$C$398","v":84970.598260851009},{"$f":"F405*'Série - IPCA'!$C$444/'Série - IPCA'!$C$411","v":84587.305363094434},{"$f":"G405*'Série - IPCA'!$C$444/'Série - IPCA'!$C$424","v":92818.724297628301},{"$f":"H405*'Série - IPCA'!$C$444/'Série - IPCA'!$C$437","v":73081.414665590695},85803.797869439382,null,"N","SIM","NÃO","ENCARGOS DE GESTÃO","FUNCIONÁRIOS","PESSOAL",3200,"GERÊNCIA DE PLANEJAMENTO E MEIO AMBIENTE"]
[null,null,null,47336.24,48343.71,50858.91,55177.08,41055.58,48554.304000000004,{"$f":"D406*'Série - IPCA'!$C$444/'Série - IPCA'!$C$385","v":61872.099313080878},{"$f":"E406*'Série - IPCA'!$C$444/'Série - IPCA'!$C$398","v":60457.785542315512},{"$f":"F406*'Série - IPCA'!$C$444/'Série - IPCA'!$C$411","v":57789.098762578848},{"$f":"G406*'Série - IPCA'!$C$444/'Série - IPCA'!$C$424","v":59267.023294161736},{"$f":"H406*'Série - IPCA'!$C$444/'Série - IPCA'!$C$437","v":42150.908326776211},56307.383047782641,null,"N","SIM","NÃO","ENCARGOS DE GESTÃO","FUNCIONÁRIOS","PESSOAL",3300,"GERÊNCIA JURÍDICA"]
[null,null,null,52589.07,40275.26,46519.360000000001,36955.53,29085.65,41084.974000000002,{"$f":"D407*'Série - IPCA'!$C$444/'Série - IPCA'!$C$385","v":68737.951341774562},{"$f":"E407*'Série - IPCA'!$C$444/'Série - IPCA'!$C$398","v":50367.525201127479},{"$f":"F407*'Série - IPCA'!$C$444/'Série - IPCA'!$C$411","v":52858.22856628189},{"$f":"G407*'Série - IPCA'!$C$444/'Série - IPCA'!$C$424","v":39694.819975216022},{"$f":"H407*'Série - IPCA'!$C$444/'Série - IPCA'!$C$437","v":29861.630666883735},48304.031150256735,null,"N","SIM","NÃO","ENCARGOS DE GESTÃO","FUNCIONÁRIOS","PESSOAL",3500,"ASSESSORIA DE COMUNICAÇÃO INSTITUCIONAL"]
[null,null,null,83753.89,72369.8,75862.67,116480.3,75458.03,84784.937999999995,{"$f":"D408*'Série - IPCA'!$C$444/'Série - IPCA'!$C$385","v":109472.76336136651},{"$f":"E408*'Série - IPCA'!$C$444/'Série - IPCA'!$C$398","v":90504.387192051785},{"$f":"F408*'Série - IPCA'!$C$444/'Série - IPCA'!$C$411","v":86199.946656798726},{"$f":"G408*'Série - IPCA'!$C$444/'Série - IPCA'!$C$424","v":125114.2803028168},{"$f":"H408*'Série - IPCA'!$C$444/'Série - IPCA'!$C$437","v":77471.186743656508},97752.512851338062,null,"N","SIM","NÃO","ENCARGOS DE GESTÃO","FUNCIONÁRIOS","PESSOAL",3600,"GERÊNCIA DE GOVERNANÇA, RISCO E COMPLIANCE"]
[null,null,null,0,20813.79,22677.38,25337.43,15848.14,16935.348000000002,{"$f":"D409*'Série - IPCA'!$C$444/'Série - IPCA'!$C$385","v":0},{"$f":"E409*'Série - IPCA'!$C$444/'Série - IPCA'!$C$398","v":26029.356293565212},{"$f":"F409*'Série - IPCA'!$C$444/'Série - IPCA'!$C$411","v":25767.468325540802},{"$f":"G409*'Série - IPCA'!$C$444/'Série - IPCA'!$C$424","v":27215.540474852824},{"$f":"H409*'Série - IPCA'!$C$444/'Série - IPCA'!$C$437","v":16270.955039239856},19056.664026639737,null,"N","SIM","NÃO","ENCARGOS DE GESTÃO","FUNCIONÁRIOS","PESSOAL",3700,"GERÊNCIA DE REGULAÇÃO"]
[null,null,null,194014.43,230525.81,172485.32,214163.32,99475.26,182132.82800000004,{"$f":"D410*'Série - IPCA'!$C$444/'Série - IPCA'!$C$385","v":253591.75298103056},{"$f":"E410*'Série - IPCA'!$C$444/'Série - IPCA'!$C$398","v":288291.48575789016},{"$f":"F410*'Série - IPCA'!$C$444/'Série - IPCA'!$C$411","v":195988.69092111918},{"$f":"G410*'Série - IPCA'!$C$444/'Série - IPCA'!$C$424","v":230037.9519031274},{"$f":"H410*'Série - IPCA'!$C$444/'Série - IPCA'!$C$437","v":102129.17622993582},214007.81155862063,null,"N","SIM","NÃO","ENCARGOS DE GESTÃO","FUNCIONÁRIOS","PESSOAL",4100,"GERÊNCIA DE SERVIÇOS CORPORATIVOS"]
[null,null,null,81040.63,65903.59,83165.490000000005,85304.01,84545.33,79991.810000000012,{"$f":"D411*'Série - IPCA'!$C$444/'Série - IPCA'!$C$385","v":105926.32426560797},{"$f":"E411*'Série - IPCA'!$C$444/'Série - IPCA'!$C$398","v":82417.859752358461},{"$f":"F411*'Série - IPCA'!$C$444/'Série - IPCA'!$C$411","v":94497.87097773554},{"$f":"G411*'Série - IPCA'!$C$444/'Série - IPCA'!$C$424","v":91627.080442738268},{"$f":"H411*'Série - IPCA'!$C$444/'Série - IPCA'!$C$437","v":86800.928260836721},92254.012739855403,null,"N","SIM","NÃO","ENCARGOS DE GESTÃO","FUNCIONÁRIOS","PESSOAL",4200,"GERÊNCIA FINANCEIRA"]
[null,null,null,100520.35,92331.36,90028.84,82211.91,73551.990000000005,87728.890000000014,{"$f":"D412*'Série - IPCA'!$C$444/'Série - IPCA'!$C$385","v":131387.81361142435},{"$f":"E412*'Série - IPCA'!$C$444/'Série - IPCA'!$C$398","v":115467.9597761597},{"$f":"F412*'Série - IPCA'!$C$444/'Série - IPCA'!$C$411","v":102296.44178847736},{"$f":"G412*'Série - IPCA'!$C$444/'Série - IPCA'!$C$424","v":88305.781767130975},{"$f":"H412*'Série - IPCA'!$C$444/'Série - IPCA'!$C$437","v":75514.295200359134},102594.45842871029,null,"N","SIM","NÃO","ENCARGOS DE GESTÃO","FUNCIONÁRIOS","PESSOAL",4300,"GERÊNCIA DE TECNOLOGIA E SISTEMAS DE INFORMAÇÃO"]
[null,null,null,69808.58,67896.52,67522.289999999994,79426.12,68406.94,70612.09,{"$f":"D413*'Série - IPCA'!$C$444/'Série - IPCA'!$C$385","v":91245.172718939066},{"$f":"E413*'Série - IPCA'!$C$444/'Série - IPCA'!$C$398","v":84910.182632436277},{"$f":"F413*'Série - IPCA'!$C$444/'Série - IPCA'!$C$411","v":76723.081274952405},{"$f":"G413*'Série - IPCA'!$C$444/'Série - IPCA'!$C$424","v":85313.497999620216},{"$f":"H413*'Série - IPCA'!$C$444/'Série - IPCA'!$C$437","v":70231.979595837664},81684.78284435712,null,"N","SIM","NÃO","ENCARGOS DE GESTÃO","FUNCIONÁRIOS","PESSOAL",4500,"GERÊNCIA CONTÁBIL"]
[null,null,null,8563.11,0,0,0,72371.61,16186.944,{"$f":"D414*'Série - IPCA'!$C$444/'Série - IPCA'!$C$385","v":11192.642093010261},{"$f":"E414*'Série - IPCA'!$C$444/'Série - IPCA'!$C$398","v":0},{"$f":"F414*'Série - IPCA'!$C$444/'Série - IPCA'!$C$411","v":0},{"$f":"G414*'Série - IPCA'!$C$444/'Série - IPCA'!$C$424","v":0},{"$f":"H414*'Série - IPCA'!$C$444/'Série - IPCA'!$C$437","v":74302.423655230305},17099.013149648112,null,"N","SIM","NÃO","ENCARGOS DE GESTÃO","FUNCIONÁRIOS","PESSOAL",4600,"GERÊNCIA DE PESSOAS E CULTURA"]
[null,null,null,9758189.1199999992,10924867.310000001,5971910.3399999999,13198395.890000001,18088203.190000001,11588313.169999998,{"$f":"D415*'Série - IPCA'!$C$444/'Série - IPCA'!$C$385","v":12754702.239731446},{"$f":"E415*'Série - IPCA'!$C$444/'Série - IPCA'!$C$398","v":13662445.12277261},{"$f":"F415*'Série - IPCA'!$C$444/'Série - IPCA'!$C$411","v":6785660.8889086656},{"$f":"G415*'Série - IPCA'!$C$444/'Série - IPCA'!$C$424","v":14176713.168913586},{"$f":"H415*'Série - IPCA'!$C$444/'Série - IPCA'!$C$437","v":18570781.230171174},13190060.530099496,null,"N","NÃO","SIM","OPEX","FIXO","DESPESA GERAIS",4200,"GERÊNCIA FINANCEIRA"]
[null,null,null,0,-861.85,0,0,0,-172.37,{"$f":"D416*'Série - IPCA'!$C$444/'Série - IPCA'!$C$385","v":0},{"$f":"E416*'Série - IPCA'!$C$444/'Série - IPCA'!$C$398","v":-1077.8143106858086},{"$f":"F416*'Série - IPCA'!$C$444/'Série - IPCA'!$C$411","v":0},{"$f":"G416*'Série - IPCA'!$C$444/'Série - IPCA'!$C$424","v":0},{"$f":"H416*'Série - IPCA'!$C$444/'Série - IPCA'!$C$437","v":0},-215.56286213716172,null,"N","NÃO","SIM","OPEX","FIXO","DESPESA GERAIS",5200,"GERÊNCIA DE OPERAÇÕES"]
[null,null,null,0,0,0,0,0,0,{"$f":"D417*'Série - IPCA'!$C$444/'Série - IPCA'!$C$385","v":0},{"$f":"E417*'Série - IPCA'!$C$444/'Série - IPCA'!$C$398","v":0},{"$f":"F417*'Série - IPCA'!$C$444/'Série - IPCA'!$C$411","v":0},{"$f":"G417*'Série - IPCA'!$C$444/'Série - IPCA'!$C$424","v":0},{"$f":"H417*'Série - IPCA'!$C$444/'Série - IPCA'!$C$437","v":0},0,null,"N","NÃO ","NÃO","OPEX","FIXO","DESPESAS_GERAIS",5200,"GERÊNCIA DE OPERAÇÕES"]
[null,null,null,0,0,135,90,0,45,{"$f":"D418*'Série - IPCA'!$C$444/'Série - IPCA'!$C$385","v":0},{"$f":"E418*'Série - IPCA'!$C$444/'Série - IPCA'!$C$398","v":0},{"$f":"F418*'Série - IPCA'!$C$444/'Série - IPCA'!$C$411","v":153.39550794439251},{"$f":"G418*'Série - IPCA'!$C$444/'Série - IPCA'!$C$424","v":96.671155785600746},{"$f":"H418*'Série - IPCA'!$C$444/'Série - IPCA'!$C$437","v":0},50.013332745998653,null,"N","NÃO ","NÃO","ENCARGOS DE GESTÃO","NÚMERO DE CLIENTES","DESPESAS_GERAIS",2100,"SECRETARIA"]
[null,null,null,124.32,0,0,0,48,34.463999999999999,{"$f":"D419*'Série - IPCA'!$C$444/'Série - IPCA'!$C$385","v":162.49578307449462},{"$f":"E419*'Série - IPCA'!$C$444/'Série - IPCA'!$C$398","v":0},{"$f":"F419*'Série - IPCA'!$C$444/'Série - IPCA'!$C$411","v":0},{"$f":"G419*'Série - IPCA'!$C$444/'Série - IPCA'!$C$424","v":0},{"$f":"H419*'Série - IPCA'!$C$444/'Série - IPCA'!$C$437","v":49.280599608756184},42.355276536650159,null,"N","NÃO ","NÃO","ENCARGOS DE GESTÃO","NÚMERO DE CLIENTES","DESPESAS_GERAIS",2200,"DIRETORIA COLEGIADA - PRESIDÊNCIA"]
[null,null,null,0,0,0,0,48,9.6,{"$f":"D420*'Série - IPCA'!$C$444/'Série - IPCA'!$C$385","v":0},{"$f":"E420*'Série - IPCA'!$C$444/'Série - IPCA'!$C$398","v":0},{"$f":"F420*'Série - IPCA'!$C$444/'Série - IPCA'!$C$411","v":0},{"$f":"G420*'Série - IPCA'!$C$444/'Série - IPCA'!$C$424","v":0},{"$f":"H420*'Série - IPCA'!$C$444/'Série - IPCA'!$C$437","v":49.280599608756184},9.8561199217512367,null,"N","NÃO ","NÃO","ENCARGOS DE GESTÃO","NÚMERO DE CLIENTES","DESPESAS_GERAIS",2400,"DIRETORIA COLEGIADA - DTC"]
[null,null,null,0,10.68,0,102.42,2.94,23.207999999999998,{"$f":"D421*'Série - IPCA'!$C$444/'Série - IPCA'!$C$385","v":0},{"$f":"E421*'Série - IPCA'!$C$444/'Série - IPCA'!$C$398","v":13.356218411700915},{"$f":"F421*'Série - IPCA'!$C$444/'Série - IPCA'!$C$411","v":0},{"$f":"G421*'Série - IPCA'!$C$444/'Série - IPCA'!$C$424","v":110.01177528401365},{"$f":"H421*'Série - IPCA'!$C$444/'Série - IPCA'!$C$437","v":3.0184367260363163},25.277286084350177,null,"N","NÃO ","NÃO","ENCARGOS DE GESTÃO","NÚMERO DE CLIENTES","DESPESAS_GERAIS",4100,"GERÊNCIA DE SERVIÇOS CORPORATIVOS"]
[null,null,null,532736.99,445235.24,469557.26,556095.06000000006,827885.78,566302.06599999999,{"$f":"D422*'Série - IPCA'!$C$444/'Série - IPCA'!$C$385","v":696328.13998390606},{"$f":"E422*'Série - IPCA'!$C$444/'Série - IPCA'!$C$398","v":556803.28745562513},{"$f":"F422*'Série - IPCA'!$C$444/'Série - IPCA'!$C$411","v":533540.55116057175},{"$f":"G422*'Série - IPCA'!$C$444/'Série - IPCA'!$C$424","v":597315.02418736671},{"$f":"H422*'Série - IPCA'!$C$444/'Série - IPCA'!$C$437","v":849973.07595755847},646792.01574900572,null,"N","NÃO ","NÃO","ENCARGOS DE GESTÃO","NÚMERO DE CLIENTES","DESPESAS_GERAIS",4200,"GERÊNCIA FINANCEIRA"]
[null,null,null,177.18,0,0,0,0,35.436,{"$f":"D423*'Série - IPCA'!$C$444/'Série - IPCA'!$C$385","v":231.58786072344722},{"$f":"E423*'Série - IPCA'!$C$444/'Série - IPCA'!$C$398","v":0},{"$f":"F423*'Série - IPCA'!$C$444/'Série - IPCA'!$C$411","v":0},{"$f":"G423*'Série - IPCA'!$C$444/'Série - IPCA'!$C$424","v":0},{"$f":"H423*'Série - IPCA'!$C$444/'Série - IPCA'!$C$437","v":0},46.317572144689443,null,"N","NÃO ","NÃO","ENCARGOS DE GESTÃO","NÚMERO DE CLIENTES","DESPESAS_GERAIS",2300,"DIRETORIA COLEGIADA - DAF"]
[null,null,null,34532.86,0,0,0,0,6906.5720000000001,{"$f":"D424*'Série - IPCA'!$C$444/'Série - IPCA'!$C$385","v":45137.098837692189},{"$f":"E424*'Série - IPCA'!$C$444/'Série - IPCA'!$C$398","v":0},{"$f":"F424*'Série - IPCA'!$C$444/'Série - IPCA'!$C$411","v":0},{"$f":"G424*'Série - IPCA'!$C$444/'Série - IPCA'!$C$424","v":0},{"$f":"H424*'Série - IPCA'!$C$444/'Série - IPCA'!$C$437","v":0},9027.4197675384385,null,"SIM","SIM","NÃO","ENCARGOS DE COMERCIALIZAÇÃO","FUNCIONÁRIOS","PESSOAL",5400,"GERÊNCIA COMERCIAL (inativo)"]
[null,null,null,-3520.69,0,0,0,0,-704.13800000000003,{"$f":"D425*'Série - IPCA'!$C$444/'Série - IPCA'!$C$385","v":-4601.8120858473494},{"$f":"E425*'Série - IPCA'!$C$444/'Série - IPCA'!$C$398","v":0},{"$f":"F425*'Série - IPCA'!$C$444/'Série - IPCA'!$C$411","v":0},{"$f":"G425*'Série - IPCA'!$C$444/'Série - IPCA'!$C$424","v":0},{"$f":"H425*'Série - IPCA'!$C$444/'Série - IPCA'!$C$437","v":0},-920.36241716946984,null,"SIM","SIM","NÃO","ENCARGOS DE COMERCIALIZAÇÃO","FUNCIONÁRIOS","PESSOAL",5400,"GERÊNCIA COMERCIAL (inativo)"]
[null,null,null,-534.89,0,0,0,0,-106.97799999999999,{"$f":"D426*'Série - IPCA'!$C$444/'Série - IPCA'!$C$385","v":-699.14228932365211},{"$f":"E426*'Série - IPCA'!$C$444/'Série - IPCA'!$C$398","v":0},{"$f":"F426*'Série - IPCA'!$C$444/'Série - IPCA'!$C$411","v":0},{"$f":"G426*'Série - IPCA'!$C$444/'Série - IPCA'!$C$424","v":0},{"$f":"H426*'Série - IPCA'!$C$444/'Série - IPCA'!$C$437","v":0},-139.82845786473041,null,"SIM","SIM","NÃO","ENCARGOS DE COMERCIALIZAÇÃO","FUNCIONÁRIOS","PESSOAL",5500,"GERÊNCIA COMERCIAL (inativo)"]
[null,null,null,-602.67999999999995,0,0,0,0,-120.53599999999999,{"$f":"D427*'Série - IPCA'!$C$444/'Série - IPCA'!$C$385","v":-787.74902303198519},{"$f":"E427*'Série - IPCA'!$C$444/'Série - IPCA'!$C$398","v":0},{"$f":"F427*'Série - IPCA'!$C$444/'Série - IPCA'!$C$411","v":0},{"$f":"G427*'Série - IPCA'!$C$444/'Série - IPCA'!$C$424","v":0},{"$f":"H427*'Série - IPCA'!$C$444/'Série - IPCA'!$C$437","v":0},-157.54980460639703,null,"SIM","SIM","NÃO","ENCARGOS DE GESTÃO","FUNCIONÁRIOS","PESSOAL",2100,"SECRETARIA"]
[null,null,null,-5505.42,0,0,0,0,-1101.0840000000001,{"$f":"D428*'Série - IPCA'!$C$444/'Série - IPCA'!$C$385","v":-7196.006548053284},{"$f":"E428*'Série - IPCA'!$C$444/'Série - IPCA'!$C$398","v":0},{"$f":"F428*'Série - IPCA'!$C$444/'Série - IPCA'!$C$411","v":0},{"$f":"G428*'Série - IPCA'!$C$444/'Série - IPCA'!$C$424","v":0},{"$f":"H428*'Série - IPCA'!$C$444/'Série - IPCA'!$C$437","v":0},-1439.2013096106568,null,"SIM","SIM","NÃO","ENCARGOS DE GESTÃO","FUNCIONÁRIOS","PESSOAL",2200,"DIRETORIA COLEGIADA - PRESIDÊNCIA"]
[null,null,null,-1503.08,0,0,0,0,-300.61599999999999,{"$f":"D429*'Série - IPCA'!$C$444/'Série - IPCA'!$C$385","v":-1964.6409397008636},{"$f":"E429*'Série - IPCA'!$C$444/'Série - IPCA'!$C$398","v":0},{"$f":"F429*'Série - IPCA'!$C$444/'Série - IPCA'!$C$411","v":0},{"$f":"G429*'Série - IPCA'!$C$444/'Série - IPCA'!$C$424","v":0},{"$f":"H429*'Série - IPCA'!$C$444/'Série - IPCA'!$C$437","v":0},-392.92818794017273,null,"SIM","SIM","NÃO","ENCARGOS DE GESTÃO","FUNCIONÁRIOS","PESSOAL",2400,"DIRETORIA COLEGIADA - DTC"]
[null,null,null,1278.76,0,0,0,0,255.75200000000001,{"$f":"D430*'Série - IPCA'!$C$444/'Série - IPCA'!$C$385","v":1671.4374804081465},{"$f":"E430*'Série - IPCA'!$C$444/'Série - IPCA'!$C$398","v":0},{"$f":"F430*'Série - IPCA'!$C$444/'Série - IPCA'!$C$411","v":0},{"$f":"G430*'Série - IPCA'!$C$444/'Série - IPCA'!$C$424","v":0},{"$f":"H430*'Série - IPCA'!$C$444/'Série - IPCA'!$C$437","v":0},334.28749608162929,null,"SIM","SIM","NÃO","ENCARGOS DE GESTÃO","FUNCIONÁRIOS","PESSOAL",3100,"SMS"]
[null,null,null,-218.09,0,0,0,0,-43.618000000000002,{"$f":"D431*'Série - IPCA'!$C$444/'Série - IPCA'!$C$385","v":-285.06037106432217},{"$f":"E431*'Série - IPCA'!$C$444/'Série - IPCA'!$C$398","v":0},{"$f":"F431*'Série - IPCA'!$C$444/'Série - IPCA'!$C$411","v":0},{"$f":"G431*'Série - IPCA'!$C$444/'Série - IPCA'!$C$424","v":0},{"$f":"H431*'Série - IPCA'!$C$444/'Série - IPCA'!$C$437","v":0},-57.012074212864434,null,"SIM","SIM","NÃO","ENCARGOS DE GESTÃO","FUNCIONÁRIOS","PESSOAL",3400,"MARKETING"]
[null,null,null,-11794.4,0,0,0,0,-2358.88,{"$f":"D432*'Série - IPCA'!$C$444/'Série - IPCA'!$C$385","v":-15416.186163882072},{"$f":"E432*'Série - IPCA'!$C$444/'Série - IPCA'!$C$398","v":0},{"$f":"F432*'Série - IPCA'!$C$444/'Série - IPCA'!$C$411","v":0},{"$f":"G432*'Série - IPCA'!$C$444/'Série - IPCA'!$C$424","v":0},{"$f":"H432*'Série - IPCA'!$C$444/'Série - IPCA'!$C$437","v":0},-3083.2372327764142,null,"SIM","SIM","NÃO","ENCARGOS DE COMERCIALIZAÇÃO","FUNCIONÁRIOS","PESSOAL",5400,"GERÊNCIA COMERCIAL (inativo)"]
[null,null,null,-1791.96,0,0,0,0,-358.392,{"$f":"D433*'Série - IPCA'!$C$444/'Série - IPCA'!$C$385","v":-2342.2292747600659},{"$f":"E433*'Série - IPCA'!$C$444/'Série - IPCA'!$C$398","v":0},{"$f":"F433*'Série - IPCA'!$C$444/'Série - IPCA'!$C$411","v":0},{"$f":"G433*'Série - IPCA'!$C$444/'Série - IPCA'!$C$424","v":0},{"$f":"H433*'Série - IPCA'!$C$444/'Série - IPCA'!$C$437","v":0},-468.44585495201318,null,"SIM","SIM","NÃO","ENCARGOS DE COMERCIALIZAÇÃO","FUNCIONÁRIOS","PESSOAL",5500,"GERÊNCIA COMERCIAL (inativo)"]
[null,null,null,-2019.07,0,0,0,0,-403.81399999999996,{"$f":"D434*'Série - IPCA'!$C$444/'Série - IPCA'!$C$385","v":-2639.0794782192716},{"$f":"E434*'Série - IPCA'!$C$444/'Série - IPCA'!$C$398","v":0},{"$f":"F434*'Série - IPCA'!$C$444/'Série - IPCA'!$C$411","v":0},{"$f":"G434*'Série - IPCA'!$C$444/'Série - IPCA'!$C$424","v":0},{"$f":"H434*'Série - IPCA'!$C$444/'Série - IPCA'!$C$437","v":0},-527.81589564385433,null,"SIM","SIM","NÃO","ENCARGOS DE GESTÃO","FUNCIONÁRIOS","PESSOAL",2100,"SECRETARIA"]
[null,null,null,-18443.2,0,0,0,0,-3688.6400000000003,{"$f":"D435*'Série - IPCA'!$C$444/'Série - IPCA'!$C$385","v":-24106.678140279273},{"$f":"E435*'Série - IPCA'!$C$444/'Série - IPCA'!$C$398","v":0},{"$f":"F435*'Série - IPCA'!$C$444/'Série - IPCA'!$C$411","v":0},{"$f":"G435*'Série - IPCA'!$C$444/'Série - IPCA'!$C$424","v":0},{"$f":"H435*'Série - IPCA'!$C$444/'Série - IPCA'!$C$437","v":0},-4821.3356280558546,null,"SIM","SIM","NÃO","ENCARGOS DE GESTÃO","FUNCIONÁRIOS","PESSOAL",2200,"DIRETORIA COLEGIADA - PRESIDÊNCIA"]
[null,null,null,-5035.29,0,0,0,0,-1007.058,{"$f":"D436*'Série - IPCA'!$C$444/'Série - IPCA'!$C$385","v":-6581.5105498485518},{"$f":"E436*'Série - IPCA'!$C$444/'Série - IPCA'!$C$398","v":0},{"$f":"F436*'Série - IPCA'!$C$444/'Série - IPCA'!$C$411","v":0},{"$f":"G436*'Série - IPCA'!$C$444/'Série - IPCA'!$C$424","v":0},{"$f":"H436*'Série - IPCA'!$C$444/'Série - IPCA'!$C$437","v":0},-1316.3021099697103,null,"SIM","SIM","NÃO","ENCARGOS DE GESTÃO","FUNCIONÁRIOS","PESSOAL",2400,"DIRETORIA COLEGIADA - DTC"]
[null,null,null,4283.79,0,0,0,0,856.75800000000004,{"$f":"D437*'Série - IPCA'!$C$444/'Série - IPCA'!$C$385","v":5599.242363068608},{"$f":"E437*'Série - IPCA'!$C$444/'Série - IPCA'!$C$398","v":0},{"$f":"F437*'Série - IPCA'!$C$444/'Série - IPCA'!$C$411","v":0},{"$f":"G437*'Série - IPCA'!$C$444/'Série - IPCA'!$C$424","v":0},{"$f":"H437*'Série - IPCA'!$C$444/'Série - IPCA'!$C$437","v":0},1119.8484726137217,null,"SIM","SIM","NÃO","ENCARGOS DE GESTÃO","FUNCIONÁRIOS","PESSOAL",3100,"SMS"]
[null,null,null,-730.68,0,0,0,0,-146.136,{"$f":"D438*'Série - IPCA'!$C$444/'Série - IPCA'!$C$385","v":-955.05484859131047},{"$f":"E438*'Série - IPCA'!$C$444/'Série - IPCA'!$C$398","v":0},{"$f":"F438*'Série - IPCA'!$C$444/'Série - IPCA'!$C$411","v":0},{"$f":"G438*'Série - IPCA'!$C$444/'Série - IPCA'!$C$424","v":0},{"$f":"H438*'Série - IPCA'!$C$444/'Série - IPCA'!$C$437","v":0},-191.01096971826209,null,"SIM","SIM","NÃO","ENCARGOS DE GESTÃO","FUNCIONÁRIOS","PESSOAL",3400,"MARKETING"]
[null,null,null,4657.2,0,0,0,0,931.43999999999994,{"$f":"D439*'Série - IPCA'!$C$444/'Série - IPCA'!$C$385","v":6087.317896835074},{"$f":"E439*'Série - IPCA'!$C$444/'Série - IPCA'!$C$398","v":0},{"$f":"F439*'Série - IPCA'!$C$444/'Série - IPCA'!$C$411","v":0},{"$f":"G439*'Série - IPCA'!$C$444/'Série - IPCA'!$C$424","v":0},{"$f":"H439*'Série - IPCA'!$C$444/'Série - IPCA'!$C$437","v":0},1217.4635793670147,null,"N","SIM","NÃO","ENCARGOS DE GESTÃO","FUNCIONÁRIOS","PESSOAL",2200,"DIRETORIA COLEGIADA - PRESIDÊNCIA"]
[null,null,null,14195.43,0,0,0,0,2839.0860000000002,{"$f":"D440*'Série - IPCA'!$C$444/'Série - IPCA'!$C$385","v":18554.516682184469},{"$f":"E440*'Série - IPCA'!$C$444/'Série - IPCA'!$C$398","v":0},{"$f":"F440*'Série - IPCA'!$C$444/'Série - IPCA'!$C$411","v":0},{"$f":"G440*'Série - IPCA'!$C$444/'Série - IPCA'!$C$424","v":0},{"$f":"H440*'Série - IPCA'!$C$444/'Série - IPCA'!$C$437","v":0},3710.9033364368938,null,"N","SIM","NÃO","ENCARGOS DE GESTÃO","FUNCIONÁRIOS","PESSOAL",3100,"SMS"]
[null,null,null,0,19678.87,61081.39,97970.19,90954.06,53936.902000000002,{"$f":"D441*'Série - IPCA'!$C$444/'Série - IPCA'!$C$385","v":0},{"$f":"E441*'Série - IPCA'!$C$444/'Série - IPCA'!$C$398","v":24610.045488339776},{"$f":"F441*'Série - IPCA'!$C$444/'Série - IPCA'!$C$411","v":69404.524777774364},{"$f":"G441*'Série - IPCA'!$C$444/'Série - IPCA'!$C$424","v":105232.12777594339},{"$f":"H441*'Série - IPCA'!$C$444/'Série - IPCA'!$C$437","v":93380.63778439138},58525.467165289774,null,"N","SIM","NÃO","ENCARGOS DE COMERCIALIZAÇÃO","FIXO","DESPESAS_SEGUROS",5300,"GERÊNCIA COMERCIAL"]
[null,null,null,0,5185.87,6442.57,10333.42,9593.3799999999992,6311.0479999999998,{"$f":"D442*'Série - IPCA'!$C$444/'Série - IPCA'!$C$385","v":0},{"$f":"E442*'Série - IPCA'!$C$444/'Série - IPCA'!$C$398","v":6485.3569639220441},{"$f":"F442*'Série - IPCA'!$C$444/'Série - IPCA'!$C$411","v":7320.4540564244808},{"$f":"G442*'Série - IPCA'!$C$444/'Série - IPCA'!$C$424","v":11099.373940200474},{"$f":"H442*'Série - IPCA'!$C$444/'Série - IPCA'!$C$437","v":9849.3233057218604},6950.9016532537717,null,"N","SIM","NÃO","ENCARGOS DE GESTÃO","FIXO","DESPESAS_SEGUROS",2110,"ASSESSORIA DA DIRETORIA EXECUTIVA"]
[null,null,null,0,730.56,3196.67,5127.2700000000004,4760.08,2762.9160000000002,{"$f":"D443*'Série - IPCA'!$C$444/'Série - IPCA'!$C$385","v":0},{"$f":"E443*'Série - IPCA'!$C$444/'Série - IPCA'!$C$398","v":913.62536730826037},{"$f":"F443*'Série - IPCA'!$C$444/'Série - IPCA'!$C$411","v":3632.2579139303798},{"$f":"G443*'Série - IPCA'!$C$444/'Série - IPCA'!$C$424","v":5507.3235213870803},{"$f":"H443*'Série - IPCA'!$C$444/'Série - IPCA'!$C$437","v":4887.0749288676689},2988.0563462986779,null,"N","SIM","NÃO","ENCARGOS DE GESTÃO","FIXO","DESPESAS_SEGUROS",1005,"AUDITORIA INTERNA"]
[null,null,null,0,2203.08,9639.24,15460.68,14353.44,8331.2880000000005,{"$f":"D444*'Série - IPCA'!$C$444/'Série - IPCA'!$C$385","v":0},{"$f":"E444*'Série - IPCA'!$C$444/'Série - IPCA'!$C$398","v":2755.1327395552485},{"$f":"F444*'Série - IPCA'!$C$444/'Série - IPCA'!$C$411","v":10952.71197035486},{"$f":"G444*'Série - IPCA'!$C$444/'Série - IPCA'!$C$424","v":16606.686720348021},{"$f":"H444*'Série - IPCA'!$C$444/'Série - IPCA'!$C$437","v":14736.37770100636},9010.1818262528977,null,"N","SIM","NÃO","ENCARGOS DE GESTÃO","FIXO","DESPESAS_SEGUROS",2120,"ASSESSORIA DA PRESIDÊNCIA"]
[null,null,null,0,730.6,3196.68,5127.2700000000004,4760.08,2762.9259999999999,{"$f":"D445*'Série - IPCA'!$C$444/'Série - IPCA'!$C$385","v":0},{"$f":"E445*'Série - IPCA'!$C$444/'Série - IPCA'!$C$398","v":913.67539059819194},{"$f":"F445*'Série - IPCA'!$C$444/'Série - IPCA'!$C$411","v":3632.2692765605971},{"$f":"G445*'Série - IPCA'!$C$444/'Série - IPCA'!$C$424","v":5507.3235213870803},{"$f":"H445*'Série - IPCA'!$C$444/'Série - IPCA'!$C$437","v":4887.0749288676689},2988.0686234827076,null,"N","SIM","NÃO","ENCARGOS DE GESTÃO","FIXO","DESPESAS_SEGUROS",2310,"ASSESSORIA DAF"]
[null,null,null,13470.94,8461.64,0,0,0,4386.5160000000005,{"$f":"D446*'Série - IPCA'!$C$444/'Série - IPCA'!$C$385","v":17607.552638751069},{"$f":"E446*'Série - IPCA'!$C$444/'Série - IPCA'!$C$398","v":10581.976775391848},{"$f":"F446*'Série - IPCA'!$C$444/'Série - IPCA'!$C$411","v":0},{"$f":"G446*'Série - IPCA'!$C$444/'Série - IPCA'!$C$424","v":0},{"$f":"H446*'Série - IPCA'!$C$444/'Série - IPCA'!$C$437","v":0},5637.9058828285833,null,"N","SIM","NÃO","ENCARGOS DE GESTÃO","FIXO","DESPESAS_SEGUROS",2200,"DIRETORIA COLEGIADA - PRESIDÊNCIA"]
[null,null,null,3359.67,2110.34,0,0,0,1094.002,{"$f":"D447*'Série - IPCA'!$C$444/'Série - IPCA'!$C$385","v":4391.346585600767},{"$f":"E447*'Série - IPCA'!$C$444/'Série - IPCA'!$C$398","v":2639.1537418491494},{"$f":"F447*'Série - IPCA'!$C$444/'Série - IPCA'!$C$411","v":0},{"$f":"G447*'Série - IPCA'!$C$444/'Série - IPCA'!$C$424","v":0},{"$f":"H447*'Série - IPCA'!$C$444/'Série - IPCA'!$C$437","v":0},1406.1000654899831,null,"N","SIM","NÃO","ENCARGOS DE GESTÃO","FIXO","DESPESAS_SEGUROS",2300,"DIRETORIA COLEGIADA - DAF"]
[null,null,null,3359.67,2110.34,0,0,0,1094.002,{"$f":"D448*'Série - IPCA'!$C$444/'Série - IPCA'!$C$385","v":4391.346585600767},{"$f":"E448*'Série - IPCA'!$C$444/'Série - IPCA'!$C$398","v":2639.1537418491494},{"$f":"F448*'Série - IPCA'!$C$444/'Série - IPCA'!$C$411","v":0},{"$f":"G448*'Série - IPCA'!$C$444/'Série - IPCA'!$C$424","v":0},{"$f":"H448*'Série - IPCA'!$C$444/'Série - IPCA'!$C$437","v":0},1406.1000654899831,null,"N","SIM","NÃO","ENCARGOS DE GESTÃO","FIXO","DESPESAS_SEGUROS",2400,"DIRETORIA COLEGIADA - DTC"]
[null,null,null,8431.44,23097.78,38557.03,61842.7,57413.84,37868.558000000005,{"$f":"D449*'Série - IPCA'!$C$444/'Série - IPCA'!$C$385","v":11020.539295733726},{"$f":"E449*'Série - IPCA'!$C$444/'Série - IPCA'!$C$398","v":28885.673642829322},{"$f":"F449*'Série - IPCA'!$C$444/'Série - IPCA'!$C$411","v":43810.927419830965},{"$f":"G449*'Série - IPCA'!$C$444/'Série - IPCA'!$C$424","v":66426.725398913026},{"$f":"H449*'Série - IPCA'!$C$444/'Série - IPCA'!$C$437","v":58945.592938358124},41817.891739133032,null,"N","SIM","NÃO","ENCARGOS DE GESTÃO","FIXO","DESPESAS_SEGUROS",3200,"GERÊNCIA DE PLANEJAMENTO E MEIO AMBIENTE"]
[null,null,null,10111.299999999999,9285.0499999999993,12835.97,20587.95,19113.55,14386.764000000001,{"$f":"D450*'Série - IPCA'!$C$444/'Série - IPCA'!$C$385","v":13216.245265453164},{"$f":"E450*'Série - IPCA'!$C$444/'Série - IPCA'!$C$398","v":11611.718704453519},{"$f":"F450*'Série - IPCA'!$C$444/'Série - IPCA'!$C$411","v":14585.038060066548},{"$f":"G450*'Série - IPCA'!$C$444/'Série - IPCA'!$C$424","v":22114.010241735101},{"$f":"H450*'Série - IPCA'!$C$444/'Série - IPCA'!$C$437","v":19623.483430248783},16230.099140391423,null,"N","SIM","NÃO","ENCARGOS DE GESTÃO","FIXO","DESPESAS_SEGUROS",3300,"GERÊNCIA JURÍDICA"]
[null,null,null,0,10340.23,12835.97,20587.95,19113.55,12575.539999999999,{"$f":"D451*'Série - IPCA'!$C$444/'Série - IPCA'!$C$385","v":0},{"$f":"E451*'Série - IPCA'!$C$444/'Série - IPCA'!$C$398","v":12931.308081200576},{"$f":"F451*'Série - IPCA'!$C$444/'Série - IPCA'!$C$411","v":14585.038060066548},{"$f":"G451*'Série - IPCA'!$C$444/'Série - IPCA'!$C$424","v":22114.010241735101},{"$f":"H451*'Série - IPCA'!$C$444/'Série - IPCA'!$C$437","v":19623.483430248783},13850.767962650201,null,"N","SIM","NÃO","ENCARGOS DE GESTÃO","FIXO","DESPESAS_SEGUROS",3500,"ASSESSORIA DE COMUNICAÇÃO INSTITUCIONAL"]
[null,null,null,5071.79,8333.8799999999992,22524.36,36127.51,33540.230000000003,21119.554000000004,{"$f":"D452*'Série - IPCA'!$C$444/'Série - IPCA'!$C$385","v":6629.2188516682036},{"$f":"E452*'Série - IPCA'!$C$444/'Série - IPCA'!$C$398","v":10422.20238735075},{"$f":"F452*'Série - IPCA'!$C$444/'Série - IPCA'!$C$411","v":25593.597357943385},{"$f":"G452*'Série - IPCA'!$C$444/'Série - IPCA'!$C$424","v":38805.423859509436},{"$f":"H452*'Série - IPCA'!$C$444/'Série - IPCA'!$C$437","v":34435.055112824841},23177.099513859324,null,"N","SIM","NÃO","ENCARGOS DE GESTÃO","FIXO","DESPESAS_SEGUROS",3600,"GERÊNCIA DE GOVERNANÇA, RISCO E COMPLIANCE"]
[null,null,null,25327.4,43749.78,66062.39,97970.19,90954.06,{"$f":"AVERAGE(D453:H453)","v":64812.764000000003},{"$f":"D453*'Série - IPCA'!$C$444/'Série - IPCA'!$C$385","v":33104.855986494171},{"$f":"E453*'Série - IPCA'!$C$444/'Série - IPCA'!$C$398","v":54712.698234444244},{"$f":"F453*'Série - IPCA'!$C$444/'Série - IPCA'!$C$411","v":75064.250889411531},{"$f":"G453*'Série - IPCA'!$C$444/'Série - IPCA'!$C$424","v":105232.12777594339},{"$f":"H453*'Série - IPCA'!$C$444/'Série - IPCA'!$C$437","v":93380.63778439138},{"$f":"AVERAGE(J453:N453)","v":72298.91413413694},null,"N","SIM","NÃO","ENCARGOS DE GESTÃO","FIXO","DESPESAS_SEGUROS",4100,"GERÊNCIA DE SERVIÇOS CORPORATIVOS"]
[null,null,null,18542.75,18256.78,28917.74,46382.02,43060.37,31031.932000000001,{"$f":"D454*'Série - IPCA'!$C$444/'Série - IPCA'!$C$385","v":24236.797631954512},{"$f":"E454*'Série - IPCA'!$C$444/'Série - IPCA'!$C$398","v":22831.604978873878},{"$f":"F454*'Série - IPCA'!$C$444/'Série - IPCA'!$C$411","v":32858.158636325024},{"$f":"G454*'Série - IPCA'!$C$444/'Série - IPCA'!$C$424","v":49820.038678564997},{"$f":"H454*'Série - IPCA'!$C$444/'Série - IPCA'!$C$437","v":44209.184436977012},34791.156872539083,null,"N","SIM","NÃO","ENCARGOS DE GESTÃO","FIXO","DESPESAS_SEGUROS",4200,"GERÊNCIA FINANCEIRA"]
[null,null,null,20933.27,19027.73,25721.07,41254.76,38300.31,29047.428000000004,{"$f":"D455*'Série - IPCA'!$C$444/'Série - IPCA'!$C$385","v":27361.390773486375},{"$f":"E455*'Série - IPCA'!$C$444/'Série - IPCA'!$C$398","v":23795.741363190435},{"$f":"F455*'Série - IPCA'!$C$444/'Série - IPCA'!$C$411","v":29225.900722394639},{"$f":"G455*'Série - IPCA'!$C$444/'Série - IPCA'!$C$424","v":44312.725898417455},{"$f":"H455*'Série - IPCA'!$C$444/'Série - IPCA'!$C$437","v":39322.130041692508},32803.577759836284,null,"N","SIM","NÃO","ENCARGOS DE GESTÃO","FIXO","DESPESAS_SEGUROS",4300,"GERÊNCIA DE TECNOLOGIA E SISTEMAS DE INFORMAÇÃO"]
[null,null,null,13470.97,12867.83,19278.5,30921.360000000001,28706.93,21049.117999999999,{"$f":"D456*'Série - IPCA'!$C$444/'Série - IPCA'!$C$385","v":17607.59185105393},{"$f":"E456*'Série - IPCA'!$C$444/'Série - IPCA'!$C$398","v":16092.279771969796},{"$f":"F456*'Série - IPCA'!$C$444/'Série - IPCA'!$C$411","v":21905.446665970157},{"$f":"G456*'Série - IPCA'!$C$444/'Série - IPCA'!$C$424","v":33213.373440696043},{"$f":"H456*'Série - IPCA'!$C$444/'Série - IPCA'!$C$437","v":29472.806735970647},23658.299693132114,null,"N","SIM","NÃO","ENCARGOS DE GESTÃO","FIXO","DESPESAS_SEGUROS",4500,"GERÊNCIA CONTÁBIL"]
[null,null,null,2325.25,0,0,0,0,465.05,{"$f":"D457*'Série - IPCA'!$C$444/'Série - IPCA'!$C$385","v":3039.2802412642263},{"$f":"E457*'Série - IPCA'!$C$444/'Série - IPCA'!$C$398","v":0},{"$f":"F457*'Série - IPCA'!$C$444/'Série - IPCA'!$C$411","v":0},{"$f":"G457*'Série - IPCA'!$C$444/'Série - IPCA'!$C$424","v":0},{"$f":"H457*'Série - IPCA'!$C$444/'Série - IPCA'!$C$437","v":0},607.85604825284531,null,"N","SIM","NÃO","ENCARGOS DE COMERCIALIZAÇÃO","FUNCIONÁRIOS","PESSOAL",5400,"GERÊNCIA COMERCIAL (inativo)"]
[null,null,null,1163.74,0,0,0,0,232.74799999999999,{"$f":"D458*'Série - IPCA'!$C$444/'Série - IPCA'!$C$385","v":1521.0975112219462},{"$f":"E458*'Série - IPCA'!$C$444/'Série - IPCA'!$C$398","v":0},{"$f":"F458*'Série - IPCA'!$C$444/'Série - IPCA'!$C$411","v":0},{"$f":"G458*'Série - IPCA'!$C$444/'Série - IPCA'!$C$424","v":0},{"$f":"H458*'Série - IPCA'!$C$444/'Série - IPCA'!$C$437","v":0},304.21950224438922,null,"N","SIM","NÃO","ENCARGOS DE COMERCIALIZAÇÃO","FUNCIONÁRIOS","PESSOAL",5500,"GERÊNCIA COMERCIAL (inativo)"]
[null,null,null,407.97,0,0,0,0,81.594000000000008,{"$f":"D459*'Série - IPCA'!$C$444/'Série - IPCA'!$C$385","v":533.24810666748374},{"$f":"E459*'Série - IPCA'!$C$444/'Série - IPCA'!$C$398","v":0},{"$f":"F459*'Série - IPCA'!$C$444/'Série - IPCA'!$C$411","v":0},{"$f":"G459*'Série - IPCA'!$C$444/'Série - IPCA'!$C$424","v":0},{"$f":"H459*'Série - IPCA'!$C$444/'Série - IPCA'!$C$437","v":0},106.64962133349675,null,"N","SIM","NÃO","ENCARGOS DE GESTÃO","FUNCIONÁRIOS","PESSOAL",2100,"SECRETARIA"]
[null,null,null,813.73,0,0,0,0,162.74600000000001,{"$f":"D460*'Série - IPCA'!$C$444/'Série - IPCA'!$C$385","v":1063.6075736905448},{"$f":"E460*'Série - IPCA'!$C$444/'Série - IPCA'!$C$398","v":0},{"$f":"F460*'Série - IPCA'!$C$444/'Série - IPCA'!$C$411","v":0},{"$f":"G460*'Série - IPCA'!$C$444/'Série - IPCA'!$C$424","v":0},{"$f":"H460*'Série - IPCA'!$C$444/'Série - IPCA'!$C$437","v":0},212.72151473810897,null,"N","SIM","NÃO","ENCARGOS DE GESTÃO","FUNCIONÁRIOS","PESSOAL",3400,"MARKETING"]
[null,null,null,-72423.78,0,0,0,0,-14484.755999999999,{"$f":"D461*'Série - IPCA'!$C$444/'Série - IPCA'!$C$385","v":-94663.439867398018},{"$f":"E461*'Série - IPCA'!$C$444/'Série - IPCA'!$C$398","v":0},{"$f":"F461*'Série - IPCA'!$C$444/'Série - IPCA'!$C$411","v":0},{"$f":"G461*'Série - IPCA'!$C$444/'Série - IPCA'!$C$424","v":0},{"$f":"H461*'Série - IPCA'!$C$444/'Série - IPCA'!$C$437","v":0},-18932.687973479602,null,"N","SIM","NÃO","ENCARGOS DE COMERCIALIZAÇÃO","FUNCIONÁRIOS","PESSOAL",5400,"GERÊNCIA COMERCIAL (inativo)"]
[null,null,null,-24586.44,0,0,0,0,-4917.2879999999996,{"$f":"D462*'Série - IPCA'!$C$444/'Série - IPCA'!$C$385","v":-32136.364388787624},{"$f":"E462*'Série - IPCA'!$C$444/'Série - IPCA'!$C$398","v":0},{"$f":"F462*'Série - IPCA'!$C$444/'Série - IPCA'!$C$411","v":0},{"$f":"G462*'Série - IPCA'!$C$444/'Série - IPCA'!$C$424","v":0},{"$f":"H462*'Série - IPCA'!$C$444/'Série - IPCA'!$C$437","v":0},-6427.2728777575248,null,"N","SIM","NÃO","ENCARGOS DE COMERCIALIZAÇÃO","FUNCIONÁRIOS","PESSOAL",5500,"GERÊNCIA COMERCIAL (inativo)"]
[null,null,null,-22382.53,0,0,0,0,-4476.5059999999994,{"$f":"D463*'Série - IPCA'!$C$444/'Série - IPCA'!$C$385","v":-29255.684841846585},{"$f":"E463*'Série - IPCA'!$C$444/'Série - IPCA'!$C$398","v":0},{"$f":"F463*'Série - IPCA'!$C$444/'Série - IPCA'!$C$411","v":0},{"$f":"G463*'Série - IPCA'!$C$444/'Série - IPCA'!$C$424","v":0},{"$f":"H463*'Série - IPCA'!$C$444/'Série - IPCA'!$C$437","v":0},-5851.1369683693174,null,"N","SIM","NÃO","ENCARGOS DE GESTÃO","FUNCIONÁRIOS","PESSOAL",2100,"SECRETARIA"]
[null,null,null,-86022.52,0,0,0,0,-17204.504000000001,{"$f":"D464*'Série - IPCA'!$C$444/'Série - IPCA'!$C$385","v":-112438.03691635598},{"$f":"E464*'Série - IPCA'!$C$444/'Série - IPCA'!$C$398","v":0},{"$f":"F464*'Série - IPCA'!$C$444/'Série - IPCA'!$C$411","v":0},{"$f":"G464*'Série - IPCA'!$C$444/'Série - IPCA'!$C$424","v":0},{"$f":"H464*'Série - IPCA'!$C$444/'Série - IPCA'!$C$437","v":0},-22487.607383271195,null,"N","SIM","NÃO","ENCARGOS DE GESTÃO","FUNCIONÁRIOS","PESSOAL",2200,"DIRETORIA COLEGIADA - PRESIDÊNCIA"]
[null,null,null,-32243.54,0,0,0,0,-6448.7080000000005,{"$f":"D465*'Série - IPCA'!$C$444/'Série - IPCA'!$C$385","v":-42144.781864493169},{"$f":"E465*'Série - IPCA'!$C$444/'Série - IPCA'!$C$398","v":0},{"$f":"F465*'Série - IPCA'!$C$444/'Série - IPCA'!$C$411","v":0},{"$f":"G465*'Série - IPCA'!$C$444/'Série - IPCA'!$C$424","v":0},{"$f":"H465*'Série - IPCA'!$C$444/'Série - IPCA'!$C$437","v":0},-8428.9563728986341,null,"N","SIM","NÃO","ENCARGOS DE GESTÃO","FUNCIONÁRIOS","PESSOAL",2400,"DIRETORIA COLEGIADA - DTC"]
[null,null,null,2243.5500000000002,0,0,0,0,448.71000000000004,{"$f":"D466*'Série - IPCA'!$C$444/'Série - IPCA'!$C$385","v":2932.4920697939383},{"$f":"E466*'Série - IPCA'!$C$444/'Série - IPCA'!$C$398","v":0},{"$f":"F466*'Série - IPCA'!$C$444/'Série - IPCA'!$C$411","v":0},{"$f":"G466*'Série - IPCA'!$C$444/'Série - IPCA'!$C$424","v":0},{"$f":"H466*'Série - IPCA'!$C$444/'Série - IPCA'!$C$437","v":0},586.49841395878764,null,"N","SIM","NÃO","ENCARGOS DE GESTÃO","FUNCIONÁRIOS","PESSOAL",3100,"SMS"]
[null,null,null,-19741.93,0,0,0,0,-3948.386,{"$f":"D467*'Série - IPCA'!$C$444/'Série - IPCA'!$C$385","v":-25804.217943628195},{"$f":"E467*'Série - IPCA'!$C$444/'Série - IPCA'!$C$398","v":0},{"$f":"F467*'Série - IPCA'!$C$444/'Série - IPCA'!$C$411","v":0},{"$f":"G467*'Série - IPCA'!$C$444/'Série - IPCA'!$C$424","v":0},{"$f":"H467*'Série - IPCA'!$C$444/'Série - IPCA'!$C$437","v":0},-5160.8435887256392,null,"N","SIM","NÃO","ENCARGOS DE GESTÃO","FUNCIONÁRIOS","PESSOAL",3400,"MARKETING"]
[null,null,null,0,0,0,0,6455,1291,{"$f":"D468*'Série - IPCA'!$C$444/'Série - IPCA'!$C$385","v":0},{"$f":"E468*'Série - IPCA'!$C$444/'Série - IPCA'!$C$398","v":0},{"$f":"F468*'Série - IPCA'!$C$444/'Série - IPCA'!$C$411","v":0},{"$f":"G468*'Série - IPCA'!$C$444/'Série - IPCA'!$C$424","v":0},{"$f":"H468*'Série - IPCA'!$C$444/'Série - IPCA'!$C$437","v":6627.213968219191},1325.4427936438383,null,"N","SIM","NÃO","ENCARGOS DE GESTÃO","FUNCIONÁRIOS","TRIBUTOS_E_TAXAS_FISCAIS",4300,"GERÊNCIA DE TECNOLOGIA E SISTEMAS DE INFORMAÇÃO"]
[null,null,null,462,0,0,0,0,92.4,{"$f":"D469*'Série - IPCA'!$C$444/'Série - IPCA'!$C$385","v":603.86946412818952},{"$f":"E469*'Série - IPCA'!$C$444/'Série - IPCA'!$C$398","v":0},{"$f":"F469*'Série - IPCA'!$C$444/'Série - IPCA'!$C$411","v":0},{"$f":"G469*'Série - IPCA'!$C$444/'Série - IPCA'!$C$424","v":0},{"$f":"H469*'Série - IPCA'!$C$444/'Série - IPCA'!$C$437","v":0},120.7738928256379,null,"N","SIM","NÃO","ENCARGOS DE GESTÃO","FIXO","MATERIAIS_MANUTENÇÃO",3100,"SMS"]
[null,null,null,44.7,0,0,0,0,8.9400000000000013,{"$f":"D470*'Série - IPCA'!$C$444/'Série - IPCA'!$C$385","v":58.426331269545607},{"$f":"E470*'Série - IPCA'!$C$444/'Série - IPCA'!$C$398","v":0},{"$f":"F470*'Série - IPCA'!$C$444/'Série - IPCA'!$C$411","v":0},{"$f":"G470*'Série - IPCA'!$C$444/'Série - IPCA'!$C$424","v":0},{"$f":"H470*'Série - IPCA'!$C$444/'Série - IPCA'!$C$437","v":0},11.685266253909122,null,"N","SIM","NÃO","ENCARGOS DE GESTÃO","FIXO","MATERIAIS_MANUTENÇÃO",4600,"GERÊNCIA DE PESSOAS E CULTURA"]
[null,null,null,0,0,0,178.94,40,43.787999999999997,{"$f":"D471*'Série - IPCA'!$C$444/'Série - IPCA'!$C$385","v":0},{"$f":"E471*'Série - IPCA'!$C$444/'Série - IPCA'!$C$398","v":0},{"$f":"F471*'Série - IPCA'!$C$444/'Série - IPCA'!$C$411","v":0},{"$f":"G471*'Série - IPCA'!$C$444/'Série - IPCA'!$C$424","v":192.20374018083777},{"$f":"H471*'Série - IPCA'!$C$444/'Série - IPCA'!$C$437","v":41.067166340630145},46.65418130429358,null,"N","NÃO","SIM","ENCARGOS DE COMERCIALIZAÇÃO","FIXO","DESPESAS_GERAIS",5300,"GERÊNCIA COMERCIAL"]
[null,null,null,0,0,0,8,0,1.6,{"$f":"D472*'Série - IPCA'!$C$444/'Série - IPCA'!$C$385","v":0},{"$f":"E472*'Série - IPCA'!$C$444/'Série - IPCA'!$C$398","v":0},{"$f":"F472*'Série - IPCA'!$C$444/'Série - IPCA'!$C$411","v":0},{"$f":"G472*'Série - IPCA'!$C$444/'Série - IPCA'!$C$424","v":8.592991625386734},{"$f":"H472*'Série - IPCA'!$C$444/'Série - IPCA'!$C$437","v":0},1.7185983250773469,null,"N","NÃO","SIM","ENCARGOS DE GESTÃO","FIXO","DESPESAS_GERAIS",1001,"CONSELHO DE ADMINISTRAÇÃO"]
[null,null,null,0,0,0,8,8,3.2,{"$f":"D473*'Série - IPCA'!$C$444/'Série - IPCA'!$C$385","v":0},{"$f":"E473*'Série - IPCA'!$C$444/'Série - IPCA'!$C$398","v":0},{"$f":"F473*'Série - IPCA'!$C$444/'Série - IPCA'!$C$411","v":0},{"$f":"G473*'Série - IPCA'!$C$444/'Série - IPCA'!$C$424","v":8.592991625386734},{"$f":"H473*'Série - IPCA'!$C$444/'Série - IPCA'!$C$437","v":8.21343326812603},3.3612849787025523,null,"N","NÃO","SIM","ENCARGOS DE GESTÃO","FIXO","DESPESAS_GERAIS",1010,"GOVERNANÇA SOCIETÁRIA"]
[null,null,null,0,0,154.5,0,0,30.9,{"$f":"D474*'Série - IPCA'!$C$444/'Série - IPCA'!$C$385","v":0},{"$f":"E474*'Série - IPCA'!$C$444/'Série - IPCA'!$C$398","v":0},{"$f":"F474*'Série - IPCA'!$C$444/'Série - IPCA'!$C$411","v":175.55263686969369},{"$f":"G474*'Série - IPCA'!$C$444/'Série - IPCA'!$C$424","v":0},{"$f":"H474*'Série - IPCA'!$C$444/'Série - IPCA'!$C$437","v":0},35.110527373938737,null,"N","NÃO","SIM","ENCARGOS DE GESTÃO","FIXO","DESPESAS_GERAIS",2100,"SECRETARIA"]
[null,null,null,0,0,6,16,0,4.4000000000000004,{"$f":"D475*'Série - IPCA'!$C$444/'Série - IPCA'!$C$385","v":0},{"$f":"E475*'Série - IPCA'!$C$444/'Série - IPCA'!$C$398","v":0},{"$f":"F475*'Série - IPCA'!$C$444/'Série - IPCA'!$C$411","v":6.8175781308618895},{"$f":"G475*'Série - IPCA'!$C$444/'Série - IPCA'!$C$424","v":17.185983250773468},{"$f":"H475*'Série - IPCA'!$C$444/'Série - IPCA'!$C$437","v":0},4.8007122763270713,null,"N","NÃO","SIM","ENCARGOS DE GESTÃO","FIXO","DESPESAS_GERAIS",2110,"ASSESSORIA DA DIRETORIA EXECUTIVA"]
[null,null,null,0,0,0,8,0,1.6,{"$f":"D476*'Série - IPCA'!$C$444/'Série - IPCA'!$C$385","v":0},{"$f":"E476*'Série - IPCA'!$C$444/'Série - IPCA'!$C$398","v":0},{"$f":"F476*'Série - IPCA'!$C$444/'Série - IPCA'!$C$411","v":0},{"$f":"G476*'Série - IPCA'!$C$444/'Série - IPCA'!$C$424","v":8.592991625386734},{"$f":"H476*'Série - IPCA'!$C$444/'Série - IPCA'!$C$437","v":0},1.7185983250773469,null,"N","NÃO","SIM","ENCARGOS DE GESTÃO","FIXO","DESPESAS_GERAIS",2120,"ASSESSORIA DA PRESIDÊNCIA"]
[null,null,null,0,0,350,0,50,80,{"$f":"D477*'Série - IPCA'!$C$444/'Série - IPCA'!$C$385","v":0},{"$f":"E477*'Série - IPCA'!$C$444/'Série - IPCA'!$C$398","v":0},{"$f":"F477*'Série - IPCA'!$C$444/'Série - IPCA'!$C$411","v":397.69205763361026},{"$f":"G477*'Série - IPCA'!$C$444/'Série - IPCA'!$C$424","v":0},{"$f":"H477*'Série - IPCA'!$C$444/'Série - IPCA'!$C$437","v":51.333957925787686},89.805203111879592,null,"N","NÃO","SIM","ENCARGOS DE GESTÃO","FIXO","DESPESAS_GERAIS",2200,"DIRETORIA COLEGIADA - PRESIDÊNCIA"]
[null,null,null,0,0,0,8,0,1.6,{"$f":"D478*'Série - IPCA'!$C$444/'Série - IPCA'!$C$385","v":0},{"$f":"E478*'Série - IPCA'!$C$444/'Série - IPCA'!$C$398","v":0},{"$f":"F478*'Série - IPCA'!$C$444/'Série - IPCA'!$C$411","v":0},{"$f":"G478*'Série - IPCA'!$C$444/'Série - IPCA'!$C$424","v":8.592991625386734},{"$f":"H478*'Série - IPCA'!$C$444/'Série - IPCA'!$C$437","v":0},1.7185983250773469,null,"N","NÃO","SIM","ENCARGOS DE GESTÃO","FIXO","DESPESAS_GERAIS",2310,"ASSESSORIA DAF"]
[null,null,null,0,0,0,8,8,3.2,{"$f":"D479*'Série - IPCA'!$C$444/'Série - IPCA'!$C$385","v":0},{"$f":"E479*'Série - IPCA'!$C$444/'Série - IPCA'!$C$398","v":0},{"$f":"F479*'Série - IPCA'!$C$444/'Série - IPCA'!$C$411","v":0},{"$f":"G479*'Série - IPCA'!$C$444/'Série - IPCA'!$C$424","v":8.592991625386734},{"$f":"H479*'Série - IPCA'!$C$444/'Série - IPCA'!$C$437","v":8.21343326812603},3.3612849787025523,null,"N","NÃO","SIM","ENCARGOS DE GESTÃO","FIXO","DESPESAS_GERAIS",2400,"DIRETORIA COLEGIADA - DTC"]
[null,null,null,0,0,0,349.91,74,84.782000000000011,{"$f":"D480*'Série - IPCA'!$C$444/'Série - IPCA'!$C$385","v":0},{"$f":"E480*'Série - IPCA'!$C$444/'Série - IPCA'!$C$398","v":0},{"$f":"F480*'Série - IPCA'!$C$444/'Série - IPCA'!$C$411","v":0},{"$f":"G480*'Série - IPCA'!$C$444/'Série - IPCA'!$C$424","v":375.84671245488403},{"$f":"H480*'Série - IPCA'!$C$444/'Série - IPCA'!$C$437","v":75.974257730165789},90.364194037009966,null,"N","NÃO","SIM","ENCARGOS DE GESTÃO","FIXO","DESPESAS_GERAIS",2410,"ASSESSORIA DE SEGURANÇA DO TRABALHO"]
[null,null,null,0,0,0,0,8,1.6,{"$f":"D481*'Série - IPCA'!$C$444/'Série - IPCA'!$C$385","v":0},{"$f":"E481*'Série - IPCA'!$C$444/'Série - IPCA'!$C$398","v":0},{"$f":"F481*'Série - IPCA'!$C$444/'Série - IPCA'!$C$411","v":0},{"$f":"G481*'Série - IPCA'!$C$444/'Série - IPCA'!$C$424","v":0},{"$f":"H481*'Série - IPCA'!$C$444/'Série - IPCA'!$C$437","v":8.21343326812603},1.6426866536252061,null,"N","NÃO","SIM","ENCARGOS DE GESTÃO","FIXO","DESPESAS_GERAIS",3300,"GERÊNCIA JURÍDICA"]
[null,null,null,0,500,0,16,0,103.2,{"$f":"D482*'Série - IPCA'!$C$444/'Série - IPCA'!$C$385","v":0},{"$f":"E482*'Série - IPCA'!$C$444/'Série - IPCA'!$C$398","v":625.29112414330132},{"$f":"F482*'Série - IPCA'!$C$444/'Série - IPCA'!$C$411","v":0},{"$f":"G482*'Série - IPCA'!$C$444/'Série - IPCA'!$C$424","v":17.185983250773468},{"$f":"H482*'Série - IPCA'!$C$444/'Série - IPCA'!$C$437","v":0},128.49542147881496,null,"N","NÃO","SIM","ENCARGOS DE GESTÃO","FIXO","DESPESAS_GERAIS",3500,"ASSESSORIA DE COMUNICAÇÃO INSTITUCIONAL"]
[null,null,null,0,0,0,8,8,3.2,{"$f":"D483*'Série - IPCA'!$C$444/'Série - IPCA'!$C$385","v":0},{"$f":"E483*'Série - IPCA'!$C$444/'Série - IPCA'!$C$398","v":0},{"$f":"F483*'Série - IPCA'!$C$444/'Série - IPCA'!$C$411","v":0},{"$f":"G483*'Série - IPCA'!$C$444/'Série - IPCA'!$C$424","v":8.592991625386734},{"$f":"H483*'Série - IPCA'!$C$444/'Série - IPCA'!$C$437","v":8.21343326812603},3.3612849787025523,null,"N","NÃO","SIM","ENCARGOS DE GESTÃO","FIXO","DESPESAS_GERAIS",3600,"GERÊNCIA DE GOVERNANÇA, RISCO E COMPLIANCE"]
[null,null,null,0,0,0,0,8,1.6,{"$f":"D484*'Série - IPCA'!$C$444/'Série - IPCA'!$C$385","v":0},{"$f":"E484*'Série - IPCA'!$C$444/'Série - IPCA'!$C$398","v":0},{"$f":"F484*'Série - IPCA'!$C$444/'Série - IPCA'!$C$411","v":0},{"$f":"G484*'Série - IPCA'!$C$444/'Série - IPCA'!$C$424","v":0},{"$f":"H484*'Série - IPCA'!$C$444/'Série - IPCA'!$C$437","v":8.21343326812603},1.6426866536252061,null,"N","NÃO","SIM","ENCARGOS DE GESTÃO","FIXO","DESPESAS_GERAIS",3700,"GERÊNCIA DE REGULAÇÃO"]
[null,null,null,0,0,166.07,40,1114.73,264.15999999999997,{"$f":"D485*'Série - IPCA'!$C$444/'Série - IPCA'!$C$385","v":0},{"$f":"E485*'Série - IPCA'!$C$444/'Série - IPCA'!$C$398","v":0},{"$f":"F485*'Série - IPCA'!$C$444/'Série - IPCA'!$C$411","v":188.69920003203899},{"$f":"G485*'Série - IPCA'!$C$444/'Série - IPCA'!$C$424","v":42.964958126933666},{"$f":"H485*'Série - IPCA'!$C$444/'Série - IPCA'!$C$437","v":1144.4700583722663},275.22684330624782,null,"N","NÃO","SIM","ENCARGOS DE GESTÃO","FIXO","DESPESAS_GERAIS",4100,"GERÊNCIA DE SERVIÇOS CORPORATIVOS"]
[null,null,null,0,0,0,16,165,36.200000000000003,{"$f":"D486*'Série - IPCA'!$C$444/'Série - IPCA'!$C$385","v":0},{"$f":"E486*'Série - IPCA'!$C$444/'Série - IPCA'!$C$398","v":0},{"$f":"F486*'Série - IPCA'!$C$444/'Série - IPCA'!$C$411","v":0},{"$f":"G486*'Série - IPCA'!$C$444/'Série - IPCA'!$C$424","v":17.185983250773468},{"$f":"H486*'Série - IPCA'!$C$444/'Série - IPCA'!$C$437","v":169.40206115509937},37.317608881174564,null,"N","NÃO","SIM","ENCARGOS DE GESTÃO","FIXO","DESPESAS_GERAIS",4200,"GERÊNCIA FINANCEIRA"]
[null,null,null,0,0,0,8,8,3.2,{"$f":"D487*'Série - IPCA'!$C$444/'Série - IPCA'!$C$385","v":0},{"$f":"E487*'Série - IPCA'!$C$444/'Série - IPCA'!$C$398","v":0},{"$f":"F487*'Série - IPCA'!$C$444/'Série - IPCA'!$C$411","v":0},{"$f":"G487*'Série - IPCA'!$C$444/'Série - IPCA'!$C$424","v":8.592991625386734},{"$f":"H487*'Série - IPCA'!$C$444/'Série - IPCA'!$C$437","v":8.21343326812603},3.3612849787025523,null,"N","NÃO","SIM","ENCARGOS DE GESTÃO","FIXO","DESPESAS_GERAIS",4300,"GERÊNCIA DE TECNOLOGIA E SISTEMAS DE INFORMAÇÃO"]
[null,null,null,0,0,0,0,16,3.2,{"$f":"D488*'Série - IPCA'!$C$444/'Série - IPCA'!$C$385","v":0},{"$f":"E488*'Série - IPCA'!$C$444/'Série - IPCA'!$C$398","v":0},{"$f":"F488*'Série - IPCA'!$C$444/'Série - IPCA'!$C$411","v":0},{"$f":"G488*'Série - IPCA'!$C$444/'Série - IPCA'!$C$424","v":0},{"$f":"H488*'Série - IPCA'!$C$444/'Série - IPCA'!$C$437","v":16.42686653625206},3.2853733072504121,null,"N","NÃO","SIM","ENCARGOS DE GESTÃO","FIXO","DESPESAS_GERAIS",4500,"GERÊNCIA CONTÁBIL"]
[null,null,null,74,0,0,0,0,14.8,{"$f":"D489*'Série - IPCA'!$C$444/'Série - IPCA'!$C$385","v":96.723680401484899},{"$f":"E489*'Série - IPCA'!$C$444/'Série - IPCA'!$C$398","v":0},{"$f":"F489*'Série - IPCA'!$C$444/'Série - IPCA'!$C$411","v":0},{"$f":"G489*'Série - IPCA'!$C$444/'Série - IPCA'!$C$424","v":0},{"$f":"H489*'Série - IPCA'!$C$444/'Série - IPCA'!$C$437","v":0},19.344736080296979,null,"N","SIM","SIM","ENCARGOS DE COMERCIALIZAÇÃO","FIXO","DESPESAS_GERAIS",5400,"GERÊNCIA COMERCIAL (inativo)"]
[null,null,null,8,0,0,0,0,1.6,{"$f":"D490*'Série - IPCA'!$C$444/'Série - IPCA'!$C$385","v":10.456614097457827},{"$f":"E490*'Série - IPCA'!$C$444/'Série - IPCA'!$C$398","v":0},{"$f":"F490*'Série - IPCA'!$C$444/'Série - IPCA'!$C$411","v":0},{"$f":"G490*'Série - IPCA'!$C$444/'Série - IPCA'!$C$424","v":0},{"$f":"H490*'Série - IPCA'!$C$444/'Série - IPCA'!$C$437","v":0},2.0913228194915652,null,"N","SIM","SIM","ENCARGOS DE COMERCIALIZAÇÃO","FIXO","DESPESAS_GERAIS",5500,"GERÊNCIA COMERCIAL (inativo)"]
[null,null,null,1432,0,0,0,0,286.39999999999998,{"$f":"D491*'Série - IPCA'!$C$444/'Série - IPCA'!$C$385","v":1871.7339234449507},{"$f":"E491*'Série - IPCA'!$C$444/'Série - IPCA'!$C$398","v":0},{"$f":"F491*'Série - IPCA'!$C$444/'Série - IPCA'!$C$411","v":0},{"$f":"G491*'Série - IPCA'!$C$444/'Série - IPCA'!$C$424","v":0},{"$f":"H491*'Série - IPCA'!$C$444/'Série - IPCA'!$C$437","v":0},374.34678468899017,null,"N","SIM","SIM","ENCARGOS DE GESTÃO","FIXO","DESPESAS_GERAIS",4600,"GERÊNCIA DE PESSOAS E CULTURA"]
[null,null,null,67.900000000000006,0,0,0,0,13.580000000000002,{"$f":"D492*'Série - IPCA'!$C$444/'Série - IPCA'!$C$385","v":88.7505121521733},{"$f":"E492*'Série - IPCA'!$C$444/'Série - IPCA'!$C$398","v":0},{"$f":"F492*'Série - IPCA'!$C$444/'Série - IPCA'!$C$411","v":0},{"$f":"G492*'Série - IPCA'!$C$444/'Série - IPCA'!$C$424","v":0},{"$f":"H492*'Série - IPCA'!$C$444/'Série - IPCA'!$C$437","v":0},17.750102430434659,null,"N","SIM","SIM","ENCARGOS DE GESTÃO","FIXO","DESPESAS_GERAIS",2100,"SECRETARIA"]
[null,null,null,3034.62,0,0,0,0,606.92399999999998,{"$f":"D493*'Série - IPCA'!$C$444/'Série - IPCA'!$C$385","v":3966.4812840534332},{"$f":"E493*'Série - IPCA'!$C$444/'Série - IPCA'!$C$398","v":0},{"$f":"F493*'Série - IPCA'!$C$444/'Série - IPCA'!$C$411","v":0},{"$f":"G493*'Série - IPCA'!$C$444/'Série - IPCA'!$C$424","v":0},{"$f":"H493*'Série - IPCA'!$C$444/'Série - IPCA'!$C$437","v":0},793.2962568106866,null,"N","SIM","SIM","ENCARGOS DE GESTÃO","FIXO","DESPESAS_GERAIS",2200,"DIRETORIA COLEGIADA - PRESIDÊNCIA"]
[null,null,null,489.4,0,0,0,0,97.88,{"$f":"D494*'Série - IPCA'!$C$444/'Série - IPCA'!$C$385","v":639.68336741198254},{"$f":"E494*'Série - IPCA'!$C$444/'Série - IPCA'!$C$398","v":0},{"$f":"F494*'Série - IPCA'!$C$444/'Série - IPCA'!$C$411","v":0},{"$f":"G494*'Série - IPCA'!$C$444/'Série - IPCA'!$C$424","v":0},{"$f":"H494*'Série - IPCA'!$C$444/'Série - IPCA'!$C$437","v":0},127.93667348239651,null,"N","SIM","SIM","ENCARGOS DE GESTÃO","FIXO","DESPESAS_GERAIS",2300,"DIRETORIA COLEGIADA - DAF"]
[null,null,null,108,0,0,0,0,21.6,{"$f":"D495*'Série - IPCA'!$C$444/'Série - IPCA'!$C$385","v":141.16429031568066},{"$f":"E495*'Série - IPCA'!$C$444/'Série - IPCA'!$C$398","v":0},{"$f":"F495*'Série - IPCA'!$C$444/'Série - IPCA'!$C$411","v":0},{"$f":"G495*'Série - IPCA'!$C$444/'Série - IPCA'!$C$424","v":0},{"$f":"H495*'Série - IPCA'!$C$444/'Série - IPCA'!$C$437","v":0},28.232858063136131,null,"N","SIM","SIM","ENCARGOS DE GESTÃO","FIXO","DESPESAS_GERAIS",2400,"DIRETORIA COLEGIADA - DTC"]
[null,null,null,106.4,0,0,0,0,21.28,{"$f":"D496*'Série - IPCA'!$C$444/'Série - IPCA'!$C$385","v":139.07296749618911},{"$f":"E496*'Série - IPCA'!$C$444/'Série - IPCA'!$C$398","v":0},{"$f":"F496*'Série - IPCA'!$C$444/'Série - IPCA'!$C$411","v":0},{"$f":"G496*'Série - IPCA'!$C$444/'Série - IPCA'!$C$424","v":0},{"$f":"H496*'Série - IPCA'!$C$444/'Série - IPCA'!$C$437","v":0},27.814593499237823,null,"N","SIM","SIM","ENCARGOS DE GESTÃO","FIXO","DESPESAS_GERAIS",3100,"SMS"]
[null,null,null,1587.8,0,0,0,0,317.56,{"$f":"D497*'Série - IPCA'!$C$444/'Série - IPCA'!$C$385","v":2075.3764829929423},{"$f":"E497*'Série - IPCA'!$C$444/'Série - IPCA'!$C$398","v":0},{"$f":"F497*'Série - IPCA'!$C$444/'Série - IPCA'!$C$411","v":0},{"$f":"G497*'Série - IPCA'!$C$444/'Série - IPCA'!$C$424","v":0},{"$f":"H497*'Série - IPCA'!$C$444/'Série - IPCA'!$C$437","v":0},415.07529659858847,null,"N","SIM","SIM","ENCARGOS DE GESTÃO","FIXO","DESPESAS_GERAIS",3300,"GERÊNCIA JURÍDICA"]
[null,null,null,1396,0,0,0,0,279.2,{"$f":"D498*'Série - IPCA'!$C$444/'Série - IPCA'!$C$385","v":1824.6791600063905},{"$f":"E498*'Série - IPCA'!$C$444/'Série - IPCA'!$C$398","v":0},{"$f":"F498*'Série - IPCA'!$C$444/'Série - IPCA'!$C$411","v":0},{"$f":"G498*'Série - IPCA'!$C$444/'Série - IPCA'!$C$424","v":0},{"$f":"H498*'Série - IPCA'!$C$444/'Série - IPCA'!$C$437","v":0},364.93583200127807,null,"N","SIM","SIM","ENCARGOS DE GESTÃO","FIXO","DESPESAS_GERAIS",3400,"MARKETING"]
[null,null,null,138.15,0,0,0,0,27.630000000000003,{"$f":"D499*'Série - IPCA'!$C$444/'Série - IPCA'!$C$385","v":180.57265469547485},{"$f":"E499*'Série - IPCA'!$C$444/'Série - IPCA'!$C$398","v":0},{"$f":"F499*'Série - IPCA'!$C$444/'Série - IPCA'!$C$411","v":0},{"$f":"G499*'Série - IPCA'!$C$444/'Série - IPCA'!$C$424","v":0},{"$f":"H499*'Série - IPCA'!$C$444/'Série - IPCA'!$C$437","v":0},36.114530939094969,null,"N","SIM","SIM","ENCARGOS DE GESTÃO","FIXO","DESPESAS_GERAIS",3600,"GERÊNCIA DE GOVERNANÇA, RISCO E COMPLIANCE"]
[null,null,null,15682.78,0,0,0,0,3136.556,{"$f":"D500*'Série - IPCA'!$C$444/'Série - IPCA'!$C$385","v":20498.597304416206},{"$f":"E500*'Série - IPCA'!$C$444/'Série - IPCA'!$C$398","v":0},{"$f":"F500*'Série - IPCA'!$C$444/'Série - IPCA'!$C$411","v":0},{"$f":"G500*'Série - IPCA'!$C$444/'Série - IPCA'!$C$424","v":0},{"$f":"H500*'Série - IPCA'!$C$444/'Série - IPCA'!$C$437","v":0},4099.7194608832415,null,"N","SIM","SIM","ENCARGOS DE GESTÃO","FIXO","DESPESAS_GERAIS",4100,"GERÊNCIA DE SERVIÇOS CORPORATIVOS"]
[null,null,null,155.6,0,0,0,0,31.119999999999997,{"$f":"D501*'Série - IPCA'!$C$444/'Série - IPCA'!$C$385","v":203.38114419555473},{"$f":"E501*'Série - IPCA'!$C$444/'Série - IPCA'!$C$398","v":0},{"$f":"F501*'Série - IPCA'!$C$444/'Série - IPCA'!$C$411","v":0},{"$f":"G501*'Série - IPCA'!$C$444/'Série - IPCA'!$C$424","v":0},{"$f":"H501*'Série - IPCA'!$C$444/'Série - IPCA'!$C$437","v":0},40.676228839110948,null,"N","SIM","SIM","ENCARGOS DE GESTÃO","FIXO","DESPESAS_GERAIS",4200,"GERÊNCIA FINANCEIRA"]
[null,null,null,16,0,0,0,0,3.2,{"$f":"D502*'Série - IPCA'!$C$444/'Série - IPCA'!$C$385","v":20.913228194915654},{"$f":"E502*'Série - IPCA'!$C$444/'Série - IPCA'!$C$398","v":0},{"$f":"F502*'Série - IPCA'!$C$444/'Série - IPCA'!$C$411","v":0},{"$f":"G502*'Série - IPCA'!$C$444/'Série - IPCA'!$C$424","v":0},{"$f":"H502*'Série - IPCA'!$C$444/'Série - IPCA'!$C$437","v":0},4.1826456389831304,null,"N","SIM","SIM","ENCARGOS DE GESTÃO","FIXO","DESPESAS_GERAIS",4300,"GERÊNCIA DE TECNOLOGIA E SISTEMAS DE INFORMAÇÃO"]
[null,null,null,1795.42,0,0,0,0,359.084,{"$f":"D503*'Série - IPCA'!$C$444/'Série - IPCA'!$C$385","v":2346.7517603572164},{"$f":"E503*'Série - IPCA'!$C$444/'Série - IPCA'!$C$398","v":0},{"$f":"F503*'Série - IPCA'!$C$444/'Série - IPCA'!$C$411","v":0},{"$f":"G503*'Série - IPCA'!$C$444/'Série - IPCA'!$C$424","v":0},{"$f":"H503*'Série - IPCA'!$C$444/'Série - IPCA'!$C$437","v":0},469.3503520714433,null,"N","SIM","SIM","ENCARGOS DE GESTÃO","FIXO","DESPESAS_GERAIS",4500,"GERÊNCIA CONTÁBIL"]
[null,null,null,16101.32,0,0,0,0,3220.2640000000001,{"$f":"D504*'Série - IPCA'!$C$444/'Série - IPCA'!$C$385","v":21045.661212459956},{"$f":"E504*'Série - IPCA'!$C$444/'Série - IPCA'!$C$398","v":0},{"$f":"F504*'Série - IPCA'!$C$444/'Série - IPCA'!$C$411","v":0},{"$f":"G504*'Série - IPCA'!$C$444/'Série - IPCA'!$C$424","v":0},{"$f":"H504*'Série - IPCA'!$C$444/'Série - IPCA'!$C$437","v":0},4209.1322424919908,null,"N","NÃO","SIM","ENCARGOS DE GESTÃO","FIXO","DESPESAS_GERAIS",4600,"GERÊNCIA DE PESSOAS E CULTURA"]
[null,null,null,120,12,0,0,0,26.4,{"$f":"D505*'Série - IPCA'!$C$444/'Série - IPCA'!$C$385","v":156.84921146186741},{"$f":"E505*'Série - IPCA'!$C$444/'Série - IPCA'!$C$398","v":15.006986979439231},{"$f":"F505*'Série - IPCA'!$C$444/'Série - IPCA'!$C$411","v":0},{"$f":"G505*'Série - IPCA'!$C$444/'Série - IPCA'!$C$424","v":0},{"$f":"H505*'Série - IPCA'!$C$444/'Série - IPCA'!$C$437","v":0},34.371239688261326,null,"N","SIM","NÃO","OPEX","FIXO","DESPESAS_GERAIS",5100,"GERÊNCIA DE ENGENHARIA"]
[null,null,null,0,0,125,70.13,73.73,53.772000000000006,{"$f":"D506*'Série - IPCA'!$C$444/'Série - IPCA'!$C$385","v":0},{"$f":"E506*'Série - IPCA'!$C$444/'Série - IPCA'!$C$398","v":0},{"$f":"F506*'Série - IPCA'!$C$444/'Série - IPCA'!$C$411","v":142.03287772628937},{"$f":"G506*'Série - IPCA'!$C$444/'Série - IPCA'!$C$424","v":75.32831283604645},{"$f":"H506*'Série - IPCA'!$C$444/'Série - IPCA'!$C$437","v":75.697054357366525},58.611648983940469,null,"N","SIM","NÃO","OPEX","FIXO","DESPESAS_INSTITUCIONAIS",5200,"GERÊNCIA DE OPERAÇÕES"]
[null,null,null,491.7,135.04,0,0,0,125.348,{"$f":"D507*'Série - IPCA'!$C$444/'Série - IPCA'!$C$385","v":642.68964396500155},{"$f":"E507*'Série - IPCA'!$C$444/'Série - IPCA'!$C$398","v":168.87862680862281},{"$f":"F507*'Série - IPCA'!$C$444/'Série - IPCA'!$C$411","v":0},{"$f":"G507*'Série - IPCA'!$C$444/'Série - IPCA'!$C$424","v":0},{"$f":"H507*'Série - IPCA'!$C$444/'Série - IPCA'!$C$437","v":0},162.31365415472487,null,"N","SIM","NÃO","ENCARGOS DE COMERCIALIZAÇÃO","FIXO","DESPESAS_INSTITUCIONAIS",5300,"GERÊNCIA COMERCIAL"]
[null,null,null,24,0,0,0,0,4.8,{"$f":"D508*'Série - IPCA'!$C$444/'Série - IPCA'!$C$385","v":31.36984229237348},{"$f":"E508*'Série - IPCA'!$C$444/'Série - IPCA'!$C$398","v":0},{"$f":"F508*'Série - IPCA'!$C$444/'Série - IPCA'!$C$411","v":0},{"$f":"G508*'Série - IPCA'!$C$444/'Série - IPCA'!$C$424","v":0},{"$f":"H508*'Série - IPCA'!$C$444/'Série - IPCA'!$C$437","v":0},6.2739684584746964,null,"N","SIM","NÃO","ENCARGOS DE COMERCIALIZAÇÃO","FIXO","DESPESAS_INSTITUCIONAIS",5400,"GERÊNCIA COMERCIAL (inativo)"]
[null,null,null,6299.53,2451.9,4271.1000000000004,439,0,2692.306,{"$f":"D509*'Série - IPCA'!$C$444/'Série - IPCA'!$C$385","v":8233.9692756698114},{"$f":"E509*'Série - IPCA'!$C$444/'Série - IPCA'!$C$398","v":3066.3026145739209},{"$f":"F509*'Série - IPCA'!$C$444/'Série - IPCA'!$C$411","v":4853.092992454036},{"$f":"G509*'Série - IPCA'!$C$444/'Série - IPCA'!$C$424","v":471.540415443097},{"$f":"H509*'Série - IPCA'!$C$444/'Série - IPCA'!$C$437","v":0},3324.9810596281727,null,"N","SIM","NÃO","ENCARGOS DE GESTÃO","FIXO","DESPESAS_INSTITUCIONAIS",2100,"SECRETARIA"]
[null,null,null,0,0,2204.4,6113.8,7358.95,3135.4300000000003,{"$f":"D510*'Série - IPCA'!$C$444/'Série - IPCA'!$C$385","v":0},{"$f":"E510*'Série - IPCA'!$C$444/'Série - IPCA'!$C$398","v":0},{"$f":"F510*'Série - IPCA'!$C$444/'Série - IPCA'!$C$411","v":2504.7782052786588},{"$f":"G510*'Série - IPCA'!$C$444/'Série - IPCA'!$C$424","v":6566.9790249111766},{"$f":"H510*'Série - IPCA'!$C$444/'Série - IPCA'!$C$437","v":7555.2805935595061},3325.4075647498685,null,"N","SIM","NÃO","ENCARGOS DE GESTÃO","FIXO","DESPESAS_INSTITUCIONAIS",2110,"ASSESSORIA DA DIRETORIA EXECUTIVA"]
[null,null,null,798.46,2168.64,57.76,0,0,604.97199999999998,{"$f":"D511*'Série - IPCA'!$C$444/'Série - IPCA'!$C$385","v":1043.648511532022},{"$f":"E511*'Série - IPCA'!$C$444/'Série - IPCA'!$C$398","v":2712.0626869242578},{"$f":"F511*'Série - IPCA'!$C$444/'Série - IPCA'!$C$411","v":65.630552139763793},{"$f":"G511*'Série - IPCA'!$C$444/'Série - IPCA'!$C$424","v":0},{"$f":"H511*'Série - IPCA'!$C$444/'Série - IPCA'!$C$437","v":0},764.26835011920878,null,"N","SIM","NÃO","ENCARGOS DE GESTÃO","FIXO","DESPESAS_INSTITUCIONAIS",2200,"DIRETORIA COLEGIADA - PRESIDÊNCIA"]
[null,null,null,145.16,0,0,0,0,29.032,{"$f":"D512*'Série - IPCA'!$C$444/'Série - IPCA'!$C$385","v":189.73526279837225},{"$f":"E512*'Série - IPCA'!$C$444/'Série - IPCA'!$C$398","v":0},{"$f":"F512*'Série - IPCA'!$C$444/'Série - IPCA'!$C$411","v":0},{"$f":"G512*'Série - IPCA'!$C$444/'Série - IPCA'!$C$424","v":0},{"$f":"H512*'Série - IPCA'!$C$444/'Série - IPCA'!$C$437","v":0},37.947052559674447,null,"N","SIM","NÃO","ENCARGOS DE GESTÃO","FIXO","DESPESAS_INSTITUCIONAIS",2400,"DIRETORIA COLEGIADA - DTC"]
[null,null,null,23.92,0,36.81,0,0,12.146000000000001,{"$f":"D513*'Série - IPCA'!$C$444/'Série - IPCA'!$C$385","v":31.265276151398901},{"$f":"E513*'Série - IPCA'!$C$444/'Série - IPCA'!$C$398","v":0},{"$f":"F513*'Série - IPCA'!$C$444/'Série - IPCA'!$C$411","v":41.825841832837696},{"$f":"G513*'Série - IPCA'!$C$444/'Série - IPCA'!$C$424","v":0},{"$f":"H513*'Série - IPCA'!$C$444/'Série - IPCA'!$C$437","v":0},14.61822359684732,null,"N","SIM","NÃO","ENCARGOS DE GESTÃO","FIXO","DESPESAS_INSTITUCIONAIS",3100,"SMS"]
[null,null,null,0,0,0,114.3,0,22.86,{"$f":"D514*'Série - IPCA'!$C$444/'Série - IPCA'!$C$385","v":0},{"$f":"E514*'Série - IPCA'!$C$444/'Série - IPCA'!$C$398","v":0},{"$f":"F514*'Série - IPCA'!$C$444/'Série - IPCA'!$C$411","v":0},{"$f":"G514*'Série - IPCA'!$C$444/'Série - IPCA'!$C$424","v":122.77236784771296},{"$f":"H514*'Série - IPCA'!$C$444/'Série - IPCA'!$C$437","v":0},24.554473569542591,null,"N","SIM","NÃO","ENCARGOS DE GESTÃO","FIXO","DESPESAS_INSTITUCIONAIS",3200,"GERÊNCIA DE PLANEJAMENTO E MEIO AMBIENTE"]
[null,null,null,46290.81,179970.39,76397.39,61313.84,86937.86,90182.058000000005,{"$f":"D515*'Série - IPCA'!$C$444/'Série - IPCA'!$C$385","v":60505.64205359271},{"$f":"E515*'Série - IPCA'!$C$444/'Série - IPCA'!$C$398","v":225067.77495121674},{"$f":"F515*'Série - IPCA'!$C$444/'Série - IPCA'!$C$411","v":86807.529219821139},{"$f":"G515*'Série - IPCA'!$C$444/'Série - IPCA'!$C$424","v":65858.664205037756},{"$f":"H515*'Série - IPCA'!$C$444/'Série - IPCA'!$C$437","v":89257.288947960405},105499.37987552574,null,"N","SIM","NÃO","ENCARGOS DE GESTÃO","FIXO","DESPESAS_INSTITUCIONAIS",3300,"GERÊNCIA JURÍDICA"]
[null,null,null,0,0,0,0,85.2,17.04,{"$f":"D516*'Série - IPCA'!$C$444/'Série - IPCA'!$C$385","v":0},{"$f":"E516*'Série - IPCA'!$C$444/'Série - IPCA'!$C$398","v":0},{"$f":"F516*'Série - IPCA'!$C$444/'Série - IPCA'!$C$411","v":0},{"$f":"G516*'Série - IPCA'!$C$444/'Série - IPCA'!$C$424","v":0},{"$f":"H516*'Série - IPCA'!$C$444/'Série - IPCA'!$C$437","v":87.473064305542223},17.494612861108443,null,"N","SIM","NÃO","ENCARGOS DE GESTÃO","FIXO","DESPESAS_INSTITUCIONAIS",3600,"GERÊNCIA DE GOVERNANÇA, RISCO E COMPLIANCE"]
[null,null,null,60.12,458.96,197.34,-82523.210000000006,1684.15,{"$f":"AVERAGE(D517:H517)","v":-16024.528000000002},{"$f":"D517*'Série - IPCA'!$C$444/'Série - IPCA'!$C$385","v":78.581454942395553},{"$f":"E517*'Série - IPCA'!$C$444/'Série - IPCA'!$C$398","v":573.96722867361916},{"$f":"F517*'Série - IPCA'!$C$444/'Série - IPCA'!$C$411","v":224.23014472404756},{"$f":"G517*'Série - IPCA'!$C$444/'Série - IPCA'!$C$424","v":-88640.156553753855},{"$f":"H517*'Série - IPCA'!$C$444/'Série - IPCA'!$C$437","v":1729.0817048143069},{"$f":"AVERAGE(J517:N517)","v":-17206.859204119897},null,"N","SIM","NÃO","ENCARGOS DE GESTÃO","FIXO","DESPESAS_INSTITUCIONAIS",4100,"GERÊNCIA DE SERVIÇOS CORPORATIVOS"]
[null,null,null,341744.63,95348.11,1441.93,264.85000000000002,0,87759.903999999995,{"$f":"D518*'Série - IPCA'!$C$444/'Série - IPCA'!$C$385","v":446686.4644735636},{"$f":"E518*'Série - IPCA'!$C$444/'Série - IPCA'!$C$398","v":119240.65377367831},{"$f":"F518*'Série - IPCA'!$C$444/'Série - IPCA'!$C$411","v":1638.4117390389476},{"$f":"G518*'Série - IPCA'!$C$444/'Série - IPCA'!$C$424","v":284.48172899795958},{"$f":"H518*'Série - IPCA'!$C$444/'Série - IPCA'!$C$437","v":0},113570.00234305579,null,"N","SIM","NÃO","ENCARGOS DE GESTÃO","FIXO","DESPESAS_INSTITUCIONAIS",4200,"GERÊNCIA FINANCEIRA"]
[null,null,null,903.07,0,0,16.48,0,183.91000000000003,{"$f":"D519*'Série - IPCA'!$C$444/'Série - IPCA'!$C$385","v":1180.3818116239049},{"$f":"E519*'Série - IPCA'!$C$444/'Série - IPCA'!$C$398","v":0},{"$f":"F519*'Série - IPCA'!$C$444/'Série - IPCA'!$C$411","v":0},{"$f":"G519*'Série - IPCA'!$C$444/'Série - IPCA'!$C$424","v":17.701562748296674},{"$f":"H519*'Série - IPCA'!$C$444/'Série - IPCA'!$C$437","v":0},239.61667487444032,null,"N","SIM","NÃO","ENCARGOS DE GESTÃO","FIXO","DESPESAS_INSTITUCIONAIS",4500,"GERÊNCIA CONTÁBIL"]
[null,null,null,0,528309.84,976.58,5294.18,1642.54,107244.628,{"$f":"D520*'Série - IPCA'!$C$444/'Série - IPCA'!$C$385","v":0},{"$f":"E520*'Série - IPCA'!$C$444/'Série - IPCA'!$C$398","v":660694.90749913524},{"$f":"F520*'Série - IPCA'!$C$444/'Série - IPCA'!$C$411","v":1109.6517418395174},{"$f":"G520*'Série - IPCA'!$C$444/'Série - IPCA'!$C$424","v":5686.6055504112428},{"$f":"H520*'Série - IPCA'!$C$444/'Série - IPCA'!$C$437","v":1686.3615850284662},133835.50527528289,null,"N","NÃO","NÃO","ENCARGOS DE COMERCIALIZAÇÃO","VOLUME","DESPESAS_INSTITUCIONAIS",5300,"GERÊNCIA COMERCIAL"]
[null,null,null,0,281226.07,0,0,0,56245.214,{"$f":"D521*'Série - IPCA'!$C$444/'Série - IPCA'!$C$385","v":0},{"$f":"E521*'Série - IPCA'!$C$444/'Série - IPCA'!$C$398","v":351696.33089740551},{"$f":"F521*'Série - IPCA'!$C$444/'Série - IPCA'!$C$411","v":0},{"$f":"G521*'Série - IPCA'!$C$444/'Série - IPCA'!$C$424","v":0},{"$f":"H521*'Série - IPCA'!$C$444/'Série - IPCA'!$C$437","v":0},70339.266179481099,null,"N","NÃO","NÃO","ENCARGOS DE COMERCIALIZAÇÃO","VOLUME","DESPESAS_INSTITUCIONAIS",5400,"GERÊNCIA COMERCIAL (inativo)"]
[null,null,null,0,139.51,0,0,0,27.901999999999997,{"$f":"D522*'Série - IPCA'!$C$444/'Série - IPCA'!$C$385","v":0},{"$f":"E522*'Série - IPCA'!$C$444/'Série - IPCA'!$C$398","v":174.46872945846391},{"$f":"F522*'Série - IPCA'!$C$444/'Série - IPCA'!$C$411","v":0},{"$f":"G522*'Série - IPCA'!$C$444/'Série - IPCA'!$C$424","v":0},{"$f":"H522*'Série - IPCA'!$C$444/'Série - IPCA'!$C$437","v":0},34.893745891692781,null,"N","NÃO","NÃO","ENCARGOS DE COMERCIALIZAÇÃO","VOLUME","DESPESAS_INSTITUCIONAIS",5500,"GERÊNCIA COMERCIAL (inativo)"]
[null,null,null,7345,4719.2,5808.07,5379.17,9851.6,6620.6080000000002,{"$f":"D523*'Série - IPCA'!$C$444/'Série - IPCA'!$C$385","v":9600.4788182284665},{"$f":"E523*'Série - IPCA'!$C$444/'Série - IPCA'!$C$398","v":5901.7477461141352},{"$f":"F523*'Série - IPCA'!$C$444/'Série - IPCA'!$C$411","v":6599.4951690858352},{"$f":"G523*'Série - IPCA'!$C$444/'Série - IPCA'!$C$424","v":5777.895345191444},{"$f":"H523*'Série - IPCA'!$C$444/'Série - IPCA'!$C$437","v":10114.432398033801},7598.8098953307363,null,"N","SIM","NÃO","OPEX","FUNCIONÁRIOS","VIAGENS_REPRESENTAÇÕES",5100,"GERÊNCIA DE ENGENHARIA"]
[null,null,null,13250,11862.5,10075,8962.75,11981.65,11226.380000000001,{"$f":"D524*'Série - IPCA'!$C$444/'Série - IPCA'!$C$385","v":17318.767098914526},{"$f":"E524*'Série - IPCA'!$C$444/'Série - IPCA'!$C$398","v":14835.031920299823},{"$f":"F524*'Série - IPCA'!$C$444/'Série - IPCA'!$C$411","v":11447.849944738924},{"$f":"G524*'Série - IPCA'!$C$444/'Série - IPCA'!$C$424","v":9627.1044613043687},{"$f":"H524*'Série - IPCA'!$C$444/'Série - IPCA'!$C$437","v":12301.310339630281},13106.012752977585,null,"N","SIM","NÃO","OPEX","FUNCIONÁRIOS","VIAGENS_REPRESENTAÇÕES",5200,"GERÊNCIA DE OPERAÇÕES"]
[null,null,null,1352.5,45,620,743.25,1064.5,765.05,{"$f":"D525*'Série - IPCA'!$C$444/'Série - IPCA'!$C$385","v":1767.8213208514637},{"$f":"E525*'Série - IPCA'!$C$444/'Série - IPCA'!$C$398","v":56.276201172897117},{"$f":"F525*'Série - IPCA'!$C$444/'Série - IPCA'!$C$411","v":704.48307352239533},{"$f":"G525*'Série - IPCA'!$C$444/'Série - IPCA'!$C$424","v":798.34262819608625},{"$f":"H525*'Série - IPCA'!$C$444/'Série - IPCA'!$C$437","v":1092.8999642400199},883.9646375965724,null,"N","SIM","NÃO","ENCARGOS DE COMERCIALIZAÇÃO","FUNCIONÁRIOS","VIAGENS_REPRESENTAÇÕES",5300,"GERÊNCIA COMERCIAL"]
[null,null,null,0,0,32.5,0,0,6.5,{"$f":"D526*'Série - IPCA'!$C$444/'Série - IPCA'!$C$385","v":0},{"$f":"E526*'Série - IPCA'!$C$444/'Série - IPCA'!$C$398","v":0},{"$f":"F526*'Série - IPCA'!$C$444/'Série - IPCA'!$C$411","v":36.928548208835238},{"$f":"G526*'Série - IPCA'!$C$444/'Série - IPCA'!$C$424","v":0},{"$f":"H526*'Série - IPCA'!$C$444/'Série - IPCA'!$C$437","v":0},7.3857096417670478,null,"N","SIM","NÃO","ENCARGOS DE GESTÃO","FUNCIONÁRIOS","VIAGENS_REPRESENTAÇÕES",1001,"CONSELHO DE ADMINISTRAÇÃO"]
[null,null,null,0,0,607.5,1510.75,1068.25,637.29999999999995,{"$f":"D527*'Série - IPCA'!$C$444/'Série - IPCA'!$C$385","v":0},{"$f":"E527*'Série - IPCA'!$C$444/'Série - IPCA'!$C$398","v":0},{"$f":"F527*'Série - IPCA'!$C$444/'Série - IPCA'!$C$411","v":690.27978574976635},{"$f":"G527*'Série - IPCA'!$C$444/'Série - IPCA'!$C$424","v":1622.7327622566261},{"$f":"H527*'Série - IPCA'!$C$444/'Série - IPCA'!$C$437","v":1096.7500110844539},681.95251181816934,null,"N","SIM","NÃO","ENCARGOS DE GESTÃO","FUNCIONÁRIOS","VIAGENS_REPRESENTAÇÕES",2120,"ASSESSORIA DA PRESIDÊNCIA"]
[null,null,null,0,0,510,1937.25,1590.25,807.5,{"$f":"D528*'Série - IPCA'!$C$444/'Série - IPCA'!$C$385","v":0},{"$f":"E528*'Série - IPCA'!$C$444/'Série - IPCA'!$C$398","v":0},{"$f":"F528*'Série - IPCA'!$C$444/'Série - IPCA'!$C$411","v":579.49414112326065},{"$f":"G528*'Série - IPCA'!$C$444/'Série - IPCA'!$C$424","v":2080.8466282850563},{"$f":"H528*'Série - IPCA'!$C$444/'Série - IPCA'!$C$437","v":1632.6765318296773},858.60346024759895,null,"N","SIM","NÃO","ENCARGOS DE GESTÃO","FUNCIONÁRIOS","VIAGENS_REPRESENTAÇÕES",2130,"ASSESSORIA DE RELAÇÕES INSTITUCIONAIS E NOVOS NEGÓCIOS"]
[null,null,null,0,0,0,0,868.5,173.7,{"$f":"D529*'Série - IPCA'!$C$444/'Série - IPCA'!$C$385","v":0},{"$f":"E529*'Série - IPCA'!$C$444/'Série - IPCA'!$C$398","v":0},{"$f":"F529*'Série - IPCA'!$C$444/'Série - IPCA'!$C$411","v":0},{"$f":"G529*'Série - IPCA'!$C$444/'Série - IPCA'!$C$424","v":0},{"$f":"H529*'Série - IPCA'!$C$444/'Série - IPCA'!$C$437","v":891.67084917093212},178.33416983418641,null,"N","SIM","NÃO","ENCARGOS DE GESTÃO","FUNCIONÁRIOS","VIAGENS_REPRESENTAÇÕES",2410,"ASSESSORIA DE SEGURANÇA DO TRABALHO"]
[null,null,null,12488.62,1531.94,0,1802.06,0,3164.5240000000003,{"$f":"D530*'Série - IPCA'!$C$444/'Série - IPCA'!$C$385","v":16323.58499372422},{"$f":"E530*'Série - IPCA'!$C$444/'Série - IPCA'!$C$398","v":1915.8169694401781},{"$f":"F530*'Série - IPCA'!$C$444/'Série - IPCA'!$C$411","v":0},{"$f":"G530*'Série - IPCA'!$C$444/'Série - IPCA'!$C$424","v":1935.635811055552},{"$f":"H530*'Série - IPCA'!$C$444/'Série - IPCA'!$C$437","v":0},4035.00755484399,null,"N","SIM","NÃO","ENCARGOS DE GESTÃO","FUNCIONÁRIOS","VIAGENS_REPRESENTAÇÕES",2200,"DIRETORIA COLEGIADA - PRESIDÊNCIA"]
[null,null,null,0,0,360,764.5,550,334.9,{"$f":"D531*'Série - IPCA'!$C$444/'Série - IPCA'!$C$385","v":0},{"$f":"E531*'Série - IPCA'!$C$444/'Série - IPCA'!$C$398","v":0},{"$f":"F531*'Série - IPCA'!$C$444/'Série - IPCA'!$C$411","v":409.05468785171337},{"$f":"G531*'Série - IPCA'!$C$444/'Série - IPCA'!$C$424","v":821.16776220101974},{"$f":"H531*'Série - IPCA'!$C$444/'Série - IPCA'!$C$437","v":564.67353718366462},358.97919744727955,null,"N","SIM","NÃO","ENCARGOS DE GESTÃO","FUNCIONÁRIOS","VIAGENS_REPRESENTAÇÕES",2310,"ASSESSORIA DAF"]
[null,null,null,1795,32.5,845,673.75,1907.5,1050.75,{"$f":"D532*'Série - IPCA'!$C$444/'Série - IPCA'!$C$385","v":2346.2027881170998},{"$f":"E532*'Série - IPCA'!$C$444/'Série - IPCA'!$C$398","v":40.643923069314589},{"$f":"F532*'Série - IPCA'!$C$444/'Série - IPCA'!$C$411","v":960.14225342971611},{"$f":"G532*'Série - IPCA'!$C$444/'Série - IPCA'!$C$424","v":723.691013450539},{"$f":"H532*'Série - IPCA'!$C$444/'Série - IPCA'!$C$437","v":1958.3904948688003},1205.8140945870941,null,"N","SIM","NÃO","ENCARGOS DE GESTÃO","FUNCIONÁRIOS","VIAGENS_REPRESENTAÇÕES",3100,"SMS"]
[null,null,null,2707.5,745,207.5,841.5,385.25,977.35,{"$f":"D533*'Série - IPCA'!$C$444/'Série - IPCA'!$C$385","v":3538.9103336083836},{"$f":"E533*'Série - IPCA'!$C$444/'Série - IPCA'!$C$398","v":931.68377497351901},{"$f":"F533*'Série - IPCA'!$C$444/'Série - IPCA'!$C$411","v":235.77457702564035},{"$f":"G533*'Série - IPCA'!$C$444/'Série - IPCA'!$C$424","v":903.87530659536708},{"$f":"H533*'Série - IPCA'!$C$444/'Série - IPCA'!$C$437","v":395.52814581819416},1201.1544276042209,null,"N","SIM","NÃO","ENCARGOS DE GESTÃO","FUNCIONÁRIOS","VIAGENS_REPRESENTAÇÕES",3200,"GERÊNCIA DE PLANEJAMENTO E MEIO AMBIENTE"]
[null,null,null,2360,110,0,165,275,582,{"$f":"D534*'Série - IPCA'!$C$444/'Série - IPCA'!$C$385","v":3084.7011587500588},{"$f":"E534*'Série - IPCA'!$C$444/'Série - IPCA'!$C$398","v":137.56404731152628},{"$f":"F534*'Série - IPCA'!$C$444/'Série - IPCA'!$C$411","v":0},{"$f":"G534*'Série - IPCA'!$C$444/'Série - IPCA'!$C$424","v":177.23045227360137},{"$f":"H534*'Série - IPCA'!$C$444/'Série - IPCA'!$C$437","v":282.33676859183231},736.36648538540373,null,"N","SIM","NÃO","ENCARGOS DE GESTÃO","FUNCIONÁRIOS","VIAGENS_REPRESENTAÇÕES",3300,"GERÊNCIA JURÍDICA"]
[null,null,null,0,0,0,595,1516.75,422.35,{"$f":"D535*'Série - IPCA'!$C$444/'Série - IPCA'!$C$385","v":0},{"$f":"E535*'Série - IPCA'!$C$444/'Série - IPCA'!$C$398","v":0},{"$f":"F535*'Série - IPCA'!$C$444/'Série - IPCA'!$C$411","v":0},{"$f":"G535*'Série - IPCA'!$C$444/'Série - IPCA'!$C$424","v":639.10375213813836},{"$f":"H535*'Série - IPCA'!$C$444/'Série - IPCA'!$C$437","v":1557.2156136787694},439.2638731633815,null,"N","SIM","NÃO","ENCARGOS DE GESTÃO","FUNCIONÁRIOS","VIAGENS_REPRESENTAÇÕES",3500,"ASSESSORIA DE COMUNICAÇÃO INSTITUCIONAL"]
[null,null,null,165,55,0,0,585,161,{"$f":"D536*'Série - IPCA'!$C$444/'Série - IPCA'!$C$385","v":215.66766576006768},{"$f":"E536*'Série - IPCA'!$C$444/'Série - IPCA'!$C$398","v":68.78202365576314},{"$f":"F536*'Série - IPCA'!$C$444/'Série - IPCA'!$C$411","v":0},{"$f":"G536*'Série - IPCA'!$C$444/'Série - IPCA'!$C$424","v":0},{"$f":"H536*'Série - IPCA'!$C$444/'Série - IPCA'!$C$437","v":600.60730773171599},177.01139942950937,null,"N","SIM","NÃO","ENCARGOS DE GESTÃO","FUNCIONÁRIOS","VIAGENS_REPRESENTAÇÕES",3600,"GERÊNCIA DE GOVERNANÇA, RISCO E COMPLIANCE"]
[null,null,null,0,0,360,220,880,292,{"$f":"D537*'Série - IPCA'!$C$444/'Série - IPCA'!$C$385","v":0},{"$f":"E537*'Série - IPCA'!$C$444/'Série - IPCA'!$C$398","v":0},{"$f":"F537*'Série - IPCA'!$C$444/'Série - IPCA'!$C$411","v":409.05468785171337},{"$f":"G537*'Série - IPCA'!$C$444/'Série - IPCA'!$C$424","v":236.30726969813517},{"$f":"H537*'Série - IPCA'!$C$444/'Série - IPCA'!$C$437","v":903.47765949386337},309.76792340874238,null,"N","SIM","NÃO","ENCARGOS DE GESTÃO","FUNCIONÁRIOS","VIAGENS_REPRESENTAÇÕES",3700,"GERÊNCIA DE REGULAÇÃO"]
[null,null,null,410.75,0,0,275,369.97,211.14400000000001,{"$f":"D538*'Série - IPCA'!$C$444/'Série - IPCA'!$C$385","v":536.88178006635019},{"$f":"E538*'Série - IPCA'!$C$444/'Série - IPCA'!$C$398","v":0},{"$f":"F538*'Série - IPCA'!$C$444/'Série - IPCA'!$C$411","v":0},{"$f":"G538*'Série - IPCA'!$C$444/'Série - IPCA'!$C$424","v":295.38408712266897},{"$f":"H538*'Série - IPCA'!$C$444/'Série - IPCA'!$C$437","v":379.84048827607347},242.42127109301856,null,"N","SIM","NÃO","ENCARGOS DE GESTÃO","FUNCIONÁRIOS","VIAGENS_REPRESENTAÇÕES",4100,"GERÊNCIA DE SERVIÇOS CORPORATIVOS"]
[null,null,null,1290,0,0,0,3393.63,936.726,{"$f":"D539*'Série - IPCA'!$C$444/'Série - IPCA'!$C$385","v":1686.1290232150745},{"$f":"E539*'Série - IPCA'!$C$444/'Série - IPCA'!$C$398","v":0},{"$f":"F539*'Série - IPCA'!$C$444/'Série - IPCA'!$C$411","v":0},{"$f":"G539*'Série - IPCA'!$C$444/'Série - IPCA'!$C$424","v":0},{"$f":"H539*'Série - IPCA'!$C$444/'Série - IPCA'!$C$437","v":3484.1691927138172},1034.0596431857782,null,"N","SIM","NÃO","ENCARGOS DE GESTÃO","FUNCIONÁRIOS","VIAGENS_REPRESENTAÇÕES",4200,"GERÊNCIA FINANCEIRA"]
[null,null,null,1615,275,65,0,110,413,{"$f":"D540*'Série - IPCA'!$C$444/'Série - IPCA'!$C$385","v":2110.9289709242985},{"$f":"E540*'Série - IPCA'!$C$444/'Série - IPCA'!$C$398","v":343.91011827881573},{"$f":"F540*'Série - IPCA'!$C$444/'Série - IPCA'!$C$411","v":73.857096417670476},{"$f":"G540*'Série - IPCA'!$C$444/'Série - IPCA'!$C$424","v":0},{"$f":"H540*'Série - IPCA'!$C$444/'Série - IPCA'!$C$437","v":112.93470743673292},528.32617861150356,null,"N","SIM","NÃO","ENCARGOS DE GESTÃO","FUNCIONÁRIOS","VIAGENS_REPRESENTAÇÕES",4300,"GERÊNCIA DE TECNOLOGIA E SISTEMAS DE INFORMAÇÃO"]
[null,null,null,495,0,0,0,380,175,{"$f":"D541*'Série - IPCA'!$C$444/'Série - IPCA'!$C$385","v":647.00299728020298},{"$f":"E541*'Série - IPCA'!$C$444/'Série - IPCA'!$C$398","v":0},{"$f":"F541*'Série - IPCA'!$C$444/'Série - IPCA'!$C$411","v":0},{"$f":"G541*'Série - IPCA'!$C$444/'Série - IPCA'!$C$424","v":0},{"$f":"H541*'Série - IPCA'!$C$444/'Série - IPCA'!$C$437","v":390.13808023598642},207.42821550323788,null,"N","SIM","NÃO","ENCARGOS DE GESTÃO","FUNCIONÁRIOS","VIAGENS_REPRESENTAÇÕES",4500,"GERÊNCIA CONTÁBIL"]
[null,null,null,607.5,0,0,0,0,121.5,{"$f":"D542*'Série - IPCA'!$C$444/'Série - IPCA'!$C$385","v":794.04913302570367},{"$f":"E542*'Série - IPCA'!$C$444/'Série - IPCA'!$C$398","v":0},{"$f":"F542*'Série - IPCA'!$C$444/'Série - IPCA'!$C$411","v":0},{"$f":"G542*'Série - IPCA'!$C$444/'Série - IPCA'!$C$424","v":0},{"$f":"H542*'Série - IPCA'!$C$444/'Série - IPCA'!$C$437","v":0},158.80982660514073,null,"N","SIM","NÃO","ENCARGOS DE COMERCIALIZAÇÃO","FUNCIONÁRIOS","VIAGENS_REPRESENTAÇÕES",5400,"GERÊNCIA COMERCIAL (inativo)"]
[null,null,null,32.5,0,0,0,0,6.5,{"$f":"D543*'Série - IPCA'!$C$444/'Série - IPCA'!$C$385","v":42.479994770922424},{"$f":"E543*'Série - IPCA'!$C$444/'Série - IPCA'!$C$398","v":0},{"$f":"F543*'Série - IPCA'!$C$444/'Série - IPCA'!$C$411","v":0},{"$f":"G543*'Série - IPCA'!$C$444/'Série - IPCA'!$C$424","v":0},{"$f":"H543*'Série - IPCA'!$C$444/'Série - IPCA'!$C$437","v":0},8.4959989541844845,null,"N","SIM","NÃO","ENCARGOS DE COMERCIALIZAÇÃO","FUNCIONÁRIOS","VIAGENS_REPRESENTAÇÕES",5500,"GERÊNCIA COMERCIAL (inativo)"]
[null,null,null,202.9,0,0,0,0,40.58,{"$f":"D544*'Série - IPCA'!$C$444/'Série - IPCA'!$C$385","v":265.20587504677411},{"$f":"E544*'Série - IPCA'!$C$444/'Série - IPCA'!$C$398","v":0},{"$f":"F544*'Série - IPCA'!$C$444/'Série - IPCA'!$C$411","v":0},{"$f":"G544*'Série - IPCA'!$C$444/'Série - IPCA'!$C$424","v":0},{"$f":"H544*'Série - IPCA'!$C$444/'Série - IPCA'!$C$437","v":0},53.041175009354824,null,"N","SIM","NÃO","ENCARGOS DE GESTÃO","FUNCIONÁRIOS","VIAGENS_REPRESENTAÇÕES",1002,"CONSELHO FISCAL"]
[null,null,null,385,0,0,0,0,77,{"$f":"D545*'Série - IPCA'!$C$444/'Série - IPCA'!$C$385","v":503.22455344015788},{"$f":"E545*'Série - IPCA'!$C$444/'Série - IPCA'!$C$398","v":0},{"$f":"F545*'Série - IPCA'!$C$444/'Série - IPCA'!$C$411","v":0},{"$f":"G545*'Série - IPCA'!$C$444/'Série - IPCA'!$C$424","v":0},{"$f":"H545*'Série - IPCA'!$C$444/'Série - IPCA'!$C$437","v":0},100.64491068803157,null,"N","SIM","NÃO","ENCARGOS DE GESTÃO","FUNCIONÁRIOS","VIAGENS_REPRESENTAÇÕES",2300,"DIRETORIA COLEGIADA - DAF"]
[null,null,null,260,0,0,0,0,52,{"$f":"D546*'Série - IPCA'!$C$444/'Série - IPCA'!$C$385","v":339.83995816737939},{"$f":"E546*'Série - IPCA'!$C$444/'Série - IPCA'!$C$398","v":0},{"$f":"F546*'Série - IPCA'!$C$444/'Série - IPCA'!$C$411","v":0},{"$f":"G546*'Série - IPCA'!$C$444/'Série - IPCA'!$C$424","v":0},{"$f":"H546*'Série - IPCA'!$C$444/'Série - IPCA'!$C$437","v":0},67.967991633475876,null,"N","SIM","NÃO","ENCARGOS DE GESTÃO","FUNCIONÁRIOS","VIAGENS_REPRESENTAÇÕES",2400,"DIRETORIA COLEGIADA - DTC"]
[null,null,null,1247.5,0,0,0,0,249.5,{"$f":"D547*'Série - IPCA'!$C$444/'Série - IPCA'!$C$385","v":1630.5782608223299},{"$f":"E547*'Série - IPCA'!$C$444/'Série - IPCA'!$C$398","v":0},{"$f":"F547*'Série - IPCA'!$C$444/'Série - IPCA'!$C$411","v":0},{"$f":"G547*'Série - IPCA'!$C$444/'Série - IPCA'!$C$424","v":0},{"$f":"H547*'Série - IPCA'!$C$444/'Série - IPCA'!$C$437","v":0},326.11565216446598,null,"N","SIM","NÃO","ENCARGOS DE GESTÃO","FUNCIONÁRIOS","VIAGENS_REPRESENTAÇÕES",3400,"MARKETING"]
[null,null,null,255,0,0,0,0,51,{"$f":"D548*'Série - IPCA'!$C$444/'Série - IPCA'!$C$385","v":333.30457435646821},{"$f":"E548*'Série - IPCA'!$C$444/'Série - IPCA'!$C$398","v":0},{"$f":"F548*'Série - IPCA'!$C$444/'Série - IPCA'!$C$411","v":0},{"$f":"G548*'Série - IPCA'!$C$444/'Série - IPCA'!$C$424","v":0},{"$f":"H548*'Série - IPCA'!$C$444/'Série - IPCA'!$C$437","v":0},66.660914871293642,null,"N","SIM","NÃO","ENCARGOS DE GESTÃO","FUNCIONÁRIOS","VIAGENS_REPRESENTAÇÕES",4600,"GERÊNCIA DE PESSOAS E CULTURA"]
[null,null,null,2349.1,0,0,0,0,469.82,{"$f":"D549*'Série - IPCA'!$C$444/'Série - IPCA'!$C$385","v":3070.4540220422723},{"$f":"E549*'Série - IPCA'!$C$444/'Série - IPCA'!$C$398","v":0},{"$f":"F549*'Série - IPCA'!$C$444/'Série - IPCA'!$C$411","v":0},{"$f":"G549*'Série - IPCA'!$C$444/'Série - IPCA'!$C$424","v":0},{"$f":"H549*'Série - IPCA'!$C$444/'Série - IPCA'!$C$437","v":0},614.09080440845446,null,"N","SIM","NÃO","ENCARGOS DE GESTÃO","FUNCIONÁRIOS","VIAGENS_REPRESENTAÇÕES",3400,"MARKETING"]
[null,null,null,439.95,0,0,0,0,87.99,{"$f":"D550*'Série - IPCA'!$C$444/'Série - IPCA'!$C$385","v":575.04842152207129},{"$f":"E550*'Série - IPCA'!$C$444/'Série - IPCA'!$C$398","v":0},{"$f":"F550*'Série - IPCA'!$C$444/'Série - IPCA'!$C$411","v":0},{"$f":"G550*'Série - IPCA'!$C$444/'Série - IPCA'!$C$424","v":0},{"$f":"H550*'Série - IPCA'!$C$444/'Série - IPCA'!$C$437","v":0},115.00968430441426,null,"N","SIM","NÃO","ENCARGOS DE GESTÃO","FUNCIONÁRIOS","VIAGENS_REPRESENTAÇÕES",4600,"GERÊNCIA DE PESSOAS E CULTURA"]
[null,null,null,101829.6,151566.6,352888.34,138775.51,140062.91,177024.592,{"$f":"D551*'Série - IPCA'!$C$444/'Série - IPCA'!$C$385","v":133099.10386231146},{"$f":"E551*'Série - IPCA'!$C$444/'Série - IPCA'!$C$398","v":189546.49939315618},{"$f":"F551*'Série - IPCA'!$C$444/'Série - IPCA'!$C$411","v":400973.97157002584},{"$f":"G551*'Série - IPCA'!$C$444/'Série - IPCA'!$C$424","v":149062.09940484664},{"$f":"H551*'Série - IPCA'!$C$444/'Série - IPCA'!$C$437","v":143799.67057806774},203296.26896168158,null,"N","SIM","NÃO","OPEX","EXTENSÃO","DIREITO_PASSAGEM",5200,"GERÊNCIA DE OPERAÇÕES"]
[null,null,null,483151.32,0,0,0,0,96630.263999999996,{"$f":"D552*'Série - IPCA'!$C$444/'Série - IPCA'!$C$385","v":631515.86298966967},{"$f":"E552*'Série - IPCA'!$C$444/'Série - IPCA'!$C$398","v":0},{"$f":"F552*'Série - IPCA'!$C$444/'Série - IPCA'!$C$411","v":0},{"$f":"G552*'Série - IPCA'!$C$444/'Série - IPCA'!$C$424","v":0},{"$f":"H552*'Série - IPCA'!$C$444/'Série - IPCA'!$C$437","v":0},126303.17259793394,null,"N","NÃO","SIM","ENCARGOS DE GESTÃO","FIXO","DESPESAS_INSTITUCIONAIS",3400,"MARKETING"]
[null,null,null,-48320.800000000003,0,0,0,0,-9664.16,{"$f":"D553*'Série - IPCA'!$C$444/'Série - IPCA'!$C$385","v":-63158.994810055017},{"$f":"E553*'Série - IPCA'!$C$444/'Série - IPCA'!$C$398","v":0},{"$f":"F553*'Série - IPCA'!$C$444/'Série - IPCA'!$C$411","v":0},{"$f":"G553*'Série - IPCA'!$C$444/'Série - IPCA'!$C$424","v":0},{"$f":"H553*'Série - IPCA'!$C$444/'Série - IPCA'!$C$437","v":0},-12631.798962011004,null,"N","NÃO","SIM","OPEX","FIXO","DESPESAS_GERAIS",9999,"RATEIO"]
[null,null,null,17872.689999999999,24408.03,39571.74,38249.26,31885.79,30397.502,{"$f":"D554*'Série - IPCA'!$C$444/'Série - IPCA'!$C$385","v":23360.97777668669},{"$f":"E554*'Série - IPCA'!$C$444/'Série - IPCA'!$C$398","v":30524.249033646844},{"$f":"F554*'Série - IPCA'!$C$444/'Série - IPCA'!$C$411","v":44963.904870692109},{"$f":"G554*'Série - IPCA'!$C$444/'Série - IPCA'!$C$424","v":41084.446357154979},{"$f":"H554*'Série - IPCA'!$C$444/'Série - IPCA'!$C$437","v":32736.476045810039},34534.010816798131,null,"N","SIM","NÃO","OPEX","VOLUME","SERVIÇOS",5100,"GERÊNCIA DE ENGENHARIA"]
[null,null,null,44007.26,49450.66,64778.69,62613.85,52196.93,54609.478000000003,{"$f":"D555*'Série - IPCA'!$C$444/'Série - IPCA'!$C$385","v":57520.866913311489},{"$f":"E555*'Série - IPCA'!$C$444/'Série - IPCA'!$C$398","v":61842.117562056374},{"$f":"F555*'Série - IPCA'!$C$444/'Série - IPCA'!$C$411","v":73605.630048313629},{"$f":"G555*'Série - IPCA'!$C$444/'Série - IPCA'!$C$424","v":67255.036085402651},{"$f":"H555*'Série - IPCA'!$C$444/'Série - IPCA'!$C$437","v":53589.5001695057},62762.630155717969,null,"N","SIM","NÃO","OPEX","VOLUME","SERVIÇOS",5200,"GERÊNCIA DE OPERAÇÕES"]
[null,null,null,9905.84,38753.800000000003,34178.1,33035.85,27539.79,28682.675999999999,{"$f":"D556*'Série - IPCA'!$C$444/'Série - IPCA'!$C$385","v":12947.693273895204},{"$f":"E556*'Série - IPCA'!$C$444/'Série - IPCA'!$C$398","v":48464.814333649345},{"$f":"F556*'Série - IPCA'!$C$444/'Série - IPCA'!$C$411","v":38835.311185735125},{"$f":"G556*'Série - IPCA'!$C$444/'Série - IPCA'!$C$424","v":35484.597798441537},{"$f":"H556*'Série - IPCA'!$C$444/'Série - IPCA'!$C$437","v":28274.528422900574},32801.389002924356,null,"N","SIM","NÃO","ENCARGOS DE COMERCIALIZAÇÃO","FIXO","SERVIÇOS",5300,"GERÊNCIA COMERCIAL"]
[null,null,null,0,583.22,1788.71,1728.94,1441.28,1108.43,{"$f":"D557*'Série - IPCA'!$C$444/'Série - IPCA'!$C$385","v":0},{"$f":"E557*'Série - IPCA'!$C$444/'Série - IPCA'!$C$398","v":729.36457884571234},{"$f":"F557*'Série - IPCA'!$C$444/'Série - IPCA'!$C$411","v":2032.4450297423284},{"$f":"G557*'Série - IPCA'!$C$444/'Série - IPCA'!$C$424","v":1857.0958675995175},{"$f":"H557*'Série - IPCA'!$C$444/'Série - IPCA'!$C$437","v":1479.7321375855856},1219.7275227546286,null,"N","SIM","NÃO","ENCARGOS DE GESTÃO","FIXO","SERVIÇOS",1005,"AUDITORIA INTERNA"]
[null,null,null,0,3658.21,3604.92,3484.45,2904.77,2730.4700000000003,{"$f":"D558*'Série - IPCA'!$C$444/'Série - IPCA'!$C$385","v":0},{"$f":"E558*'Série - IPCA'!$C$444/'Série - IPCA'!$C$398","v":4574.8924865045328},{"$f":"F558*'Série - IPCA'!$C$444/'Série - IPCA'!$C$411","v":4096.1372925844407},{"$f":"G558*'Série - IPCA'!$C$444/'Série - IPCA'!$C$424","v":3742.7312086348502},{"$f":"H558*'Série - IPCA'!$C$444/'Série - IPCA'!$C$437","v":2982.2668192818064},3079.205561401126,null,"N","SIM","NÃO","ENCARGOS DE GESTÃO","FIXO","SERVIÇOS",2110,"ASSESSORIA DA DIRETORIA EXECUTIVA"]
[null,null,null,0,1758.67,5393.65,5213.38,4346.04,3342.3480000000004,{"$f":"D559*'Série - IPCA'!$C$444/'Série - IPCA'!$C$385","v":0},{"$f":"E559*'Série - IPCA'!$C$444/'Série - IPCA'!$C$398","v":2199.3614825941995},{"$f":"F559*'Série - IPCA'!$C$444/'Série - IPCA'!$C$411","v":6128.6050475872044},{"$f":"G559*'Série - IPCA'!$C$444/'Série - IPCA'!$C$424","v":5599.8163349948363},{"$f":"H559*'Série - IPCA'!$C$444/'Série - IPCA'!$C$437","v":4461.9886900758065},3677.9543110504092,null,"N","SIM","NÃO","ENCARGOS DE GESTÃO","FIXO","SERVIÇOS",2120,"ASSESSORIA DA PRESIDÊNCIA"]
[null,null,null,8788.82,5657.62,0,0,0,2889.2879999999996,{"$f":"D560*'Série - IPCA'!$C$444/'Série - IPCA'!$C$385","v":11487.662389002411},{"$f":"E560*'Série - IPCA'!$C$444/'Série - IPCA'!$C$398","v":7075.3191395512486},{"$f":"F560*'Série - IPCA'!$C$444/'Série - IPCA'!$C$411","v":0},{"$f":"G560*'Série - IPCA'!$C$444/'Série - IPCA'!$C$424","v":0},{"$f":"H560*'Série - IPCA'!$C$444/'Série - IPCA'!$C$437","v":0},3712.5963057107319,null,"N","SIM","NÃO","ENCARGOS DE GESTÃO","FIXO","SERVIÇOS",2200,"DIRETORIA COLEGIADA - PRESIDÊNCIA"]
[null,null,null,2191.9299999999998,1411,0,0,0,720.58600000000001,{"$f":"D561*'Série - IPCA'!$C$444/'Série - IPCA'!$C$385","v":2865.0207673300911},{"$f":"E561*'Série - IPCA'!$C$444/'Série - IPCA'!$C$398","v":1764.5715523323965},{"$f":"F561*'Série - IPCA'!$C$444/'Série - IPCA'!$C$411","v":0},{"$f":"G561*'Série - IPCA'!$C$444/'Série - IPCA'!$C$424","v":0},{"$f":"H561*'Série - IPCA'!$C$444/'Série - IPCA'!$C$437","v":0},925.91846393249762,null,"N","SIM","NÃO","ENCARGOS DE GESTÃO","FIXO","SERVIÇOS",2300,"DIRETORIA COLEGIADA - DAF"]
[null,null,null,0,583.24,1788.71,1728.94,1441.28,1108.4339999999997,{"$f":"D562*'Série - IPCA'!$C$444/'Série - IPCA'!$C$385","v":0},{"$f":"E562*'Série - IPCA'!$C$444/'Série - IPCA'!$C$398","v":729.38959049067819},{"$f":"F562*'Série - IPCA'!$C$444/'Série - IPCA'!$C$411","v":2032.4450297423284},{"$f":"G562*'Série - IPCA'!$C$444/'Série - IPCA'!$C$424","v":1857.0958675995175},{"$f":"H562*'Série - IPCA'!$C$444/'Série - IPCA'!$C$437","v":1479.7321375855856},1219.7325250836218,null,"N","SIM","NÃO","ENCARGOS DE GESTÃO","FIXO","SERVIÇOS",2310,"ASSESSORIA DAF"]
[null,null,null,2191.9299999999998,1411,0,0,0,720.58600000000001,{"$f":"D563*'Série - IPCA'!$C$444/'Série - IPCA'!$C$385","v":2865.0207673300911},{"$f":"E563*'Série - IPCA'!$C$444/'Série - IPCA'!$C$398","v":1764.5715523323965},{"$f":"F563*'Série - IPCA'!$C$444/'Série - IPCA'!$C$411","v":0},{"$f":"G563*'Série - IPCA'!$C$444/'Série - IPCA'!$C$424","v":0},{"$f":"H563*'Série - IPCA'!$C$444/'Série - IPCA'!$C$437","v":0},925.91846393249762,null,"N","SIM","NÃO","ENCARGOS DE GESTÃO","FIXO","SERVIÇOS",2400,"DIRETORIA COLEGIADA - DTC"]
[null,null,null,5500.91,16586.12,21574.58,20853.53,17384.2,16379.867999999999,{"$f":"D564*'Série - IPCA'!$C$444/'Série - IPCA'!$C$385","v":7190.1116318558416},{"$f":"E564*'Série - IPCA'!$C$444/'Série - IPCA'!$C$398","v":20742.307239951384},{"$f":"F564*'Série - IPCA'!$C$444/'Série - IPCA'!$C$411","v":24514.397465088387},{"$f":"G564*'Série - IPCA'!$C$444/'Série - IPCA'!$C$424","v":22399.276081218875},{"$f":"H564*'Série - IPCA'!$C$444/'Série - IPCA'!$C$437","v":17847.995827469567},18538.817649116812,null,"N","SIM","NÃO","ENCARGOS DE GESTÃO","FIXO","SERVIÇOS",3200,"GERÊNCIA DE PLANEJAMENTO E MEIO AMBIENTE"]
[null,null,null,6596.87,6588.52,7182.36,6942.32,5787.36,6619.4859999999999,{"$f":"D565*'Série - IPCA'!$C$444/'Série - IPCA'!$C$385","v":8622.6154801370758},{"$f":"E565*'Série - IPCA'!$C$444/'Série - IPCA'!$C$398","v":8239.4861544812484},{"$f":"F565*'Série - IPCA'!$C$444/'Série - IPCA'!$C$411","v":8161.0500773295335},{"$f":"G565*'Série - IPCA'!$C$444/'Série - IPCA'!$C$424","v":7456.9122025943525},{"$f":"H565*'Série - IPCA'!$C$444/'Série - IPCA'!$C$437","v":5941.7618948277322},7684.3651618739877,null,"N","SIM","NÃO","ENCARGOS DE GESTÃO","FIXO","SERVIÇOS",3300,"GERÊNCIA JURÍDICA"]
[null,null,null,0,7294,7182.36,6942.32,5787.36,5441.2080000000005,{"$f":"D566*'Série - IPCA'!$C$444/'Série - IPCA'!$C$385","v":0},{"$f":"E566*'Série - IPCA'!$C$444/'Série - IPCA'!$C$398","v":9121.7469190024804},{"$f":"F566*'Série - IPCA'!$C$444/'Série - IPCA'!$C$411","v":8161.0500773295335},{"$f":"G566*'Série - IPCA'!$C$444/'Série - IPCA'!$C$424","v":7456.9122025943525},{"$f":"H566*'Série - IPCA'!$C$444/'Série - IPCA'!$C$437","v":5941.7618948277322},6136.2942187508188,null,"N","SIM","NÃO","ENCARGOS DE GESTÃO","FIXO","SERVIÇOS",3500,"ASSESSORIA DE COMUNICAÇÃO INSTITUCIONAL"]
[null,null,null,3308.92,6239.62,12603.52,12182.3,10155.549999999999,8897.982,{"$f":"D567*'Série - IPCA'!$C$444/'Série - IPCA'!$C$385","v":4325.0124399200186},{"$f":"E567*'Série - IPCA'!$C$444/'Série - IPCA'!$C$398","v":7803.1580080540516},{"$f":"F567*'Série - IPCA'!$C$444/'Série - IPCA'!$C$411","v":14320.91372064674},{"$f":"G567*'Série - IPCA'!$C$444/'Série - IPCA'!$C$424","v":13085.3002347436},{"$f":"H567*'Série - IPCA'!$C$444/'Série - IPCA'!$C$437","v":10426.491528264663},9992.1751863258141,null,"N","SIM","NÃO","ENCARGOS DE GESTÃO","FIXO","SERVIÇOS",3600,"GERÊNCIA DE GOVERNANÇA, RISCO E COMPLIANCE"]
[null,null,null,14289.71,25294.99,34178.089999999997,33035.85,27539.79,26867.685999999998,{"$f":"D568*'Série - IPCA'!$C$444/'Série - IPCA'!$C$385","v":18677.747879323008},{"$f":"E568*'Série - IPCA'!$C$444/'Série - IPCA'!$C$398","v":31633.465464587134},{"$f":"F568*'Série - IPCA'!$C$444/'Série - IPCA'!$C$411","v":38835.299823104906},{"$f":"G568*'Série - IPCA'!$C$444/'Série - IPCA'!$C$424","v":35484.597798441537},{"$f":"H568*'Série - IPCA'!$C$444/'Série - IPCA'!$C$437","v":28274.528422900574},30581.127877671428,null,"N","SIM","NÃO","ENCARGOS DE GESTÃO","FIXO","SERVIÇOS",4100,"GERÊNCIA DE SERVIÇOS CORPORATIVOS"]
[null,null,null,12097.77,13063.68,16180.93,15640.15,13038.15,14004.136000000002,{"$f":"D569*'Série - IPCA'!$C$444/'Série - IPCA'!$C$385","v":15812.714041225296},{"$f":"E569*'Série - IPCA'!$C$444/'Série - IPCA'!$C$398","v":16337.206305296726},{"$f":"F569*'Série - IPCA'!$C$444/'Série - IPCA'!$C$411","v":18385.792417501179},{"$f":"G569*'Série - IPCA'!$C$444/'Série - IPCA'!$C$424","v":16799.459746224042},{"$f":"H569*'Série - IPCA'!$C$444/'Série - IPCA'!$C$437","v":13385.996870602175},16144.233876169883,null,"N","SIM","NÃO","ENCARGOS DE GESTÃO","FIXO","SERVIÇOS",4200,"GERÊNCIA FINANCEIRA"]
[null,null,null,13657.43,13484.43,14392.25,13911.23,11596.88,13408.444,{"$f":"D570*'Série - IPCA'!$C$444/'Série - IPCA'!$C$385","v":17851.309384130429},{"$f":"E570*'Série - IPCA'!$C$444/'Série - IPCA'!$C$398","v":16863.388786263313},{"$f":"F570*'Série - IPCA'!$C$444/'Série - IPCA'!$C$411","v":16353.381475649505},{"$f":"G570*'Série - IPCA'!$C$444/'Série - IPCA'!$C$424","v":14942.385361103585},{"$f":"H570*'Série - IPCA'!$C$444/'Série - IPCA'!$C$437","v":11906.274999808174},15583.348001391001,null,"N","SIM","NÃO","ENCARGOS DE GESTÃO","FIXO","SERVIÇOS",4300,"GERÊNCIA DE TECNOLOGIA E SISTEMAS DE INFORMAÇÃO"]
[null,null,null,8788.82,9174.91,10787.29,10426.790000000001,8692.11,9573.9840000000004,{"$f":"D571*'Série - IPCA'!$C$444/'Série - IPCA'!$C$385","v":11487.662389002411},{"$f":"E571*'Série - IPCA'!$C$444/'Série - IPCA'!$C$398","v":11473.979575627232},{"$f":"F571*'Série - IPCA'!$C$444/'Série - IPCA'!$C$411","v":12257.198732544193},{"$f":"G571*'Série - IPCA'!$C$444/'Série - IPCA'!$C$424","v":11199.66489370827},{"$f":"H571*'Série - IPCA'!$C$444/'Série - IPCA'!$C$437","v":8924.008180526369},11068.502754281695,null,"N","SIM","NÃO","ENCARGOS DE GESTÃO","FIXO","SERVIÇOS",4500,"GERÊNCIA CONTÁBIL"]
[null,null,null,21982.57,0,0,0,0,4396.5140000000001,{"$f":"D572*'Série - IPCA'!$C$444/'Série - IPCA'!$C$385","v":28732.906420044183},{"$f":"E572*'Série - IPCA'!$C$444/'Série - IPCA'!$C$398","v":0},{"$f":"F572*'Série - IPCA'!$C$444/'Série - IPCA'!$C$411","v":0},{"$f":"G572*'Série - IPCA'!$C$444/'Série - IPCA'!$C$424","v":0},{"$f":"H572*'Série - IPCA'!$C$444/'Série - IPCA'!$C$437","v":0},5746.5812840088365,null,"N","SIM","NÃO","ENCARGOS DE COMERCIALIZAÇÃO","FIXO","DESPESAS_GERAIS",5400,"GERÊNCIA COMERCIAL (inativo)"]
[null,null,null,11001.78,0,0,0,0,2200.3560000000002,{"$f":"D573*'Série - IPCA'!$C$444/'Série - IPCA'!$C$385","v":14380.170980641195},{"$f":"E573*'Série - IPCA'!$C$444/'Série - IPCA'!$C$398","v":0},{"$f":"F573*'Série - IPCA'!$C$444/'Série - IPCA'!$C$411","v":0},{"$f":"G573*'Série - IPCA'!$C$444/'Série - IPCA'!$C$424","v":0},{"$f":"H573*'Série - IPCA'!$C$444/'Série - IPCA'!$C$437","v":0},2876.0341961282388,null,"N","SIM","NÃO","ENCARGOS DE COMERCIALIZAÇÃO","FIXO","DESPESAS_GERAIS",5500,"GERÊNCIA COMERCIAL (inativo)"]
[null,null,null,3856.96,0,0,0,0,771.39200000000005,{"$f":"D574*'Série - IPCA'!$C$444/'Série - IPCA'!$C$385","v":5041.3427886663667},{"$f":"E574*'Série - IPCA'!$C$444/'Série - IPCA'!$C$398","v":0},{"$f":"F574*'Série - IPCA'!$C$444/'Série - IPCA'!$C$411","v":0},{"$f":"G574*'Série - IPCA'!$C$444/'Série - IPCA'!$C$424","v":0},{"$f":"H574*'Série - IPCA'!$C$444/'Série - IPCA'!$C$437","v":0},1008.2685577332734,null,"N","SIM","NÃO","ENCARGOS DE GESTÃO","FIXO","DESPESAS_GERAIS",2100,"SECRETARIA"]
[null,null,null,9336.7800000000007,0,0,0,0,1867.3560000000002,{"$f":"D575*'Série - IPCA'!$C$444/'Série - IPCA'!$C$385","v":12203.888171607785},{"$f":"E575*'Série - IPCA'!$C$444/'Série - IPCA'!$C$398","v":0},{"$f":"F575*'Série - IPCA'!$C$444/'Série - IPCA'!$C$411","v":0},{"$f":"G575*'Série - IPCA'!$C$444/'Série - IPCA'!$C$424","v":0},{"$f":"H575*'Série - IPCA'!$C$444/'Série - IPCA'!$C$437","v":0},2440.7776343215569,null,"N","SIM","NÃO","ENCARGOS DE GESTÃO","FIXO","DESPESAS_GERAIS",3100,"SMS"]
[null,null,null,7692.84,0,0,0,0,1538.568,{"$f":"D576*'Série - IPCA'!$C$444/'Série - IPCA'!$C$385","v":10055.132399185932},{"$f":"E576*'Série - IPCA'!$C$444/'Série - IPCA'!$C$398","v":0},{"$f":"F576*'Série - IPCA'!$C$444/'Série - IPCA'!$C$411","v":0},{"$f":"G576*'Série - IPCA'!$C$444/'Série - IPCA'!$C$424","v":0},{"$f":"H576*'Série - IPCA'!$C$444/'Série - IPCA'!$C$437","v":0},2011.0264798371863,null,"N","SIM","NÃO","ENCARGOS DE GESTÃO","FIXO","DESPESAS_GERAIS",3400,"MARKETING"]
[null,null,null,7692.85,0,0,0,0,1538.5700000000002,{"$f":"D577*'Série - IPCA'!$C$444/'Série - IPCA'!$C$385","v":10055.145469953555},{"$f":"E577*'Série - IPCA'!$C$444/'Série - IPCA'!$C$398","v":0},{"$f":"F577*'Série - IPCA'!$C$444/'Série - IPCA'!$C$411","v":0},{"$f":"G577*'Série - IPCA'!$C$444/'Série - IPCA'!$C$424","v":0},{"$f":"H577*'Série - IPCA'!$C$444/'Série - IPCA'!$C$437","v":0},2011.0290939907111,null,"N","SIM","NÃO","ENCARGOS DE GESTÃO","FIXO","DESPESAS_GERAIS",4600,"GERÊNCIA DE PESSOAS E CULTURA"]
[null,null,null,0,0,0,28953.599999999999,50050.01,15800.722,{"$f":"D578*'Série - IPCA'!$C$444/'Série - IPCA'!$C$385","v":0},{"$f":"E578*'Série - IPCA'!$C$444/'Série - IPCA'!$C$398","v":0},{"$f":"F578*'Série - IPCA'!$C$444/'Série - IPCA'!$C$411","v":0},{"$f":"G578*'Série - IPCA'!$C$444/'Série - IPCA'!$C$424","v":31099.755290599664},{"$f":"H578*'Série - IPCA'!$C$444/'Série - IPCA'!$C$437","v":51385.302150505064},16497.011488220945,null,"N","SIM","NÃO","ENCARGOS DE COMERCIALIZAÇÃO","FIXO","DESPESAS_GERAIS",5300,"GERÊNCIA COMERCIAL"]
[null,null,null,0,0,0,0,4166.67,833.33400000000006,{"$f":"D579*'Série - IPCA'!$C$444/'Série - IPCA'!$C$385","v":0},{"$f":"E579*'Série - IPCA'!$C$444/'Série - IPCA'!$C$398","v":0},{"$f":"F579*'Série - IPCA'!$C$444/'Série - IPCA'!$C$411","v":0},{"$f":"G579*'Série - IPCA'!$C$444/'Série - IPCA'!$C$424","v":0},{"$f":"H579*'Série - IPCA'!$C$444/'Série - IPCA'!$C$437","v":4277.8332494128354},855.56664988256705,null,"N","SIM","NÃO","ENCARGOS DE GESTÃO","FIXO","DESPESAS_GERAIS",3200,"GERÊNCIA DE PLANEJAMENTO E MEIO AMBIENTE"]
[null,null,null,0,194.78,392.36,0,0,117.428,{"$f":"D580*'Série - IPCA'!$C$444/'Série - IPCA'!$C$385","v":0},{"$f":"E580*'Série - IPCA'!$C$444/'Série - IPCA'!$C$398","v":243.58841032126446},{"$f":"F580*'Série - IPCA'!$C$444/'Série - IPCA'!$C$411","v":445.82415923749522},{"$f":"G580*'Série - IPCA'!$C$444/'Série - IPCA'!$C$424","v":0},{"$f":"H580*'Série - IPCA'!$C$444/'Série - IPCA'!$C$437","v":0},137.88251391175194,null,"N","SIM","NÃO","OPEX","FUNCIONÁRIOS","PESSOAL",5100,"GERÊNCIA DE ENGENHARIA"]
[null,null,null,0,1822.32,177.24,0,0,{"$f":"AVERAGE(D581:H581)","v":399.91199999999998},{"$f":"D581*'Série - IPCA'!$C$444/'Série - IPCA'!$C$385","v":0},{"$f":"E581*'Série - IPCA'!$C$444/'Série - IPCA'!$C$398","v":2278.9610426976419},{"$f":"F581*'Série - IPCA'!$C$444/'Série - IPCA'!$C$411","v":201.39125798566022},{"$f":"G581*'Série - IPCA'!$C$444/'Série - IPCA'!$C$424","v":0},{"$f":"H581*'Série - IPCA'!$C$444/'Série - IPCA'!$C$437","v":0},{"$f":"AVERAGE(J581:N581)","v":496.07046013666042},null,"N","SIM","NÃO","OPEX","FUNCIONÁRIOS","PESSOAL",5200,"GERÊNCIA DE OPERAÇÕES"]
[null,null,null,0,0,0,0,0,0,{"$f":"D582*'Série - IPCA'!$C$444/'Série - IPCA'!$C$385","v":0},{"$f":"E582*'Série - IPCA'!$C$444/'Série - IPCA'!$C$398","v":0},{"$f":"F582*'Série - IPCA'!$C$444/'Série - IPCA'!$C$411","v":0},{"$f":"G582*'Série - IPCA'!$C$444/'Série - IPCA'!$C$424","v":0},{"$f":"H582*'Série - IPCA'!$C$444/'Série - IPCA'!$C$437","v":0},0,null,"N","SIM","NÃO","ENCARGOS DE GESTÃO","FUNCIONÁRIOS","PESSOAL",2120,"ASSESSORIA DA PRESIDÊNCIA"]
[null,null,null,0,104.74,0,0,0,20.948,{"$f":"D583*'Série - IPCA'!$C$444/'Série - IPCA'!$C$385","v":0},{"$f":"E583*'Série - IPCA'!$C$444/'Série - IPCA'!$C$398","v":130.98598468553877},{"$f":"F583*'Série - IPCA'!$C$444/'Série - IPCA'!$C$411","v":0},{"$f":"G583*'Série - IPCA'!$C$444/'Série - IPCA'!$C$424","v":0},{"$f":"H583*'Série - IPCA'!$C$444/'Série - IPCA'!$C$437","v":0},26.197196937107755,null,"N","SIM","NÃO","ENCARGOS DE GESTÃO","FUNCIONÁRIOS","PESSOAL",2410,"ASSESSORIA DE SEGURANÇA DO TRABALHO"]
[null,null,null,0,157.11000000000001,0,0,0,31.422000000000004,{"$f":"D584*'Série - IPCA'!$C$444/'Série - IPCA'!$C$385","v":0},{"$f":"E584*'Série - IPCA'!$C$444/'Série - IPCA'!$C$398","v":196.47897702830818},{"$f":"F584*'Série - IPCA'!$C$444/'Série - IPCA'!$C$411","v":0},{"$f":"G584*'Série - IPCA'!$C$444/'Série - IPCA'!$C$424","v":0},{"$f":"H584*'Série - IPCA'!$C$444/'Série - IPCA'!$C$437","v":0},39.295795405661636,null,"N","SIM","NÃO","ENCARGOS DE GESTÃO","FUNCIONÁRIOS","PESSOAL",3200,"GERÊNCIA DE PLANEJAMENTO E MEIO AMBIENTE"]
[null,null,null,0,1127.75,316.93,0,0,288.93600000000004,{"$f":"D585*'Série - IPCA'!$C$444/'Série - IPCA'!$C$385","v":0},{"$f":"E585*'Série - IPCA'!$C$444/'Série - IPCA'!$C$398","v":1410.3441305052161},{"$f":"F585*'Série - IPCA'!$C$444/'Série - IPCA'!$C$411","v":360.11583950234319},{"$f":"G585*'Série - IPCA'!$C$444/'Série - IPCA'!$C$424","v":0},{"$f":"H585*'Série - IPCA'!$C$444/'Série - IPCA'!$C$437","v":0},354.09199400151181,null,"N","SIM","NÃO","ENCARGOS DE GESTÃO","FUNCIONÁRIOS","PESSOAL",4100,"GERÊNCIA DE SERVIÇOS CORPORATIVOS"]
[null,null,null,387669.97,200677.67,99456.92,267917.48,230165.49,237177.50599999999,{"$f":"D586*'Série - IPCA'!$C$444/'Série - IPCA'!$C$385","v":506714.40918288153},{"$f":"E586*'Série - IPCA'!$C$444/'Série - IPCA'!$C$398","v":250963.93172951692},{"$f":"F586*'Série - IPCA'!$C$444/'Série - IPCA'!$C$411","v":113009.22045914676},{"$f":"G586*'Série - IPCA'!$C$444/'Série - IPCA'!$C$424","v":287776.58274183969},{"$f":"H586*'Série - IPCA'!$C$444/'Série - IPCA'!$C$437","v":236306.11159256613},278954.05114119023,null,"N","SIM","NÃO","OPEX","FUNCIONÁRIOS","PESSOAL",5100,"GERÊNCIA DE ENGENHARIA"]
[null,null,null,679858.93,637183.69999999995,737693.7,718673.17,763083.46,707298.59199999995,{"$f":"D587*'Série - IPCA'!$C$444/'Série - IPCA'!$C$385","v":888627.80896507436},{"$f":"E587*'Série - IPCA'!$C$444/'Série - IPCA'!$C$398","v":796850.62411757605},{"$f":"F587*'Série - IPCA'!$C$444/'Série - IPCA'!$C$411","v":838214.07273243193},{"$f":"G587*'Série - IPCA'!$C$444/'Série - IPCA'!$C$424","v":771944.06640001701},{"$f":"H587*'Série - IPCA'!$C$444/'Série - IPCA'!$C$437","v":783441.88459008979},815815.69136103778,null,"N","SIM","NÃO","OPEX","FUNCIONÁRIOS","PESSOAL",5200,"GERÊNCIA DE OPERAÇÕES"]
[null,null,null,477608.71,327488.76,613063.92000000004,467342.35,531034.09,483307.56599999999,{"$f":"D588*'Série - IPCA'!$C$444/'Série - IPCA'!$C$385","v":624271.24625683087},{"$f":"E588*'Série - IPCA'!$C$444/'Série - IPCA'!$C$398","v":409551.62976939167},{"$f":"F588*'Série - IPCA'!$C$444/'Série - IPCA'!$C$411","v":696601.86230207724},{"$f":"G588*'Série - IPCA'!$C$444/'Série - IPCA'!$C$424","v":501983.61246731947},{"$f":"H588*'Série - IPCA'!$C$444/'Série - IPCA'!$C$437","v":545201.63266437908},555521.99669199972,null,"N","SIM","NÃO","ENCARGOS DE COMERCIALIZAÇÃO","FUNCIONÁRIOS","PESSOAL",5300,"GERÊNCIA COMERCIAL"]
[null,null,null,0,106799.02,45473.15,47084.959999999999,39060.620000000003,47683.55,{"$f":"D589*'Série - IPCA'!$C$444/'Série - IPCA'!$C$385","v":0},{"$f":"E589*'Série - IPCA'!$C$444/'Série - IPCA'!$C$398","v":133560.95854640583},{"$f":"F589*'Série - IPCA'!$C$444/'Série - IPCA'!$C$411","v":51669.458830233729},{"$f":"G589*'Série - IPCA'!$C$444/'Série - IPCA'!$C$424","v":50575.083370208667},{"$f":"H589*'Série - IPCA'!$C$444/'Série - IPCA'!$C$437","v":40102.724472703623},55181.645043910379,null,"N","SIM","NÃO","ENCARGOS DE GESTÃO","FUNCIONÁRIOS","PESSOAL",1005,"AUDITORIA INTERNA"]
[null,null,null,0,0,128809.28,56531.89,30387.47,43145.727999999996,{"$f":"D590*'Série - IPCA'!$C$444/'Série - IPCA'!$C$385","v":0},{"$f":"E590*'Série - IPCA'!$C$444/'Série - IPCA'!$C$398","v":0},{"$f":"F590*'Série - IPCA'!$C$444/'Série - IPCA'!$C$411","v":146361.22173001096},{"$f":"G590*'Série - IPCA'!$C$444/'Série - IPCA'!$C$424","v":60722.257167160496},{"$f":"H590*'Série - IPCA'!$C$444/'Série - IPCA'!$C$437","v":31198.182129022713},47656.332205238832,null,"N","SIM","NÃO","ENCARGOS DE GESTÃO","FUNCIONÁRIOS","PESSOAL",1010,"GOVERNANÇA SOCIETÁRIA"]
[null,null,null,65604.84,30403.119999999999,15516.39,6737.62,7889.76,25230.345999999998,{"$f":"D591*'Série - IPCA'!$C$444/'Série - IPCA'!$C$385","v":85750.561850683123},{"$f":"E591*'Série - IPCA'!$C$444/'Série - IPCA'!$C$398","v":38021.602164527372},{"$f":"F591*'Série - IPCA'!$C$444/'Série - IPCA'!$C$411","v":17630.700188987354},{"$f":"G591*'Série - IPCA'!$C$444/'Série - IPCA'!$C$424","v":7237.03902937977},{"$f":"H591*'Série - IPCA'!$C$444/'Série - IPCA'!$C$437","v":8100.2521576912541},31348.031078253778,null,"N","SIM","NÃO","ENCARGOS DE GESTÃO","FUNCIONÁRIOS","PESSOAL",2110,"ASSESSORIA DA DIRETORIA EXECUTIVA"]
[null,null,null,57173.98,65806.509999999995,62804.73,96705.81,22374.84,60973.174000000014,{"$f":"D592*'Série - IPCA'!$C$444/'Série - IPCA'!$C$385","v":74730.780659471478},{"$f":"E592*'Série - IPCA'!$C$444/'Série - IPCA'!$C$398","v":82296.453227694801},{"$f":"F592*'Série - IPCA'!$C$444/'Série - IPCA'!$C$411","v":71362.692293780943},{"$f":"G592*'Série - IPCA'!$C$444/'Série - IPCA'!$C$424","v":103874.02693203007},{"$f":"H592*'Série - IPCA'!$C$444/'Série - IPCA'!$C$437","v":22971.781903124629},71047.147003220394,null,"N","SIM","NÃO","ENCARGOS DE GESTÃO","FUNCIONÁRIOS","PESSOAL",2120,"ASSESSORIA DA PRESIDÊNCIA"]
[null,null,null,0,17387.61,35819.4,25375.69,18392.060000000001,19394.951999999997,{"$f":"D593*'Série - IPCA'!$C$444/'Série - IPCA'!$C$385","v":0},{"$f":"E593*'Série - IPCA'!$C$444/'Série - IPCA'!$C$398","v":21744.636406130616},{"$f":"F593*'Série - IPCA'!$C$444/'Série - IPCA'!$C$411","v":40700.259683432399},{"$f":"G593*'Série - IPCA'!$C$444/'Série - IPCA'!$C$424","v":27256.636457301236},{"$f":"H593*'Série - IPCA'!$C$444/'Série - IPCA'!$C$437","v":18882.744684171255},21716.855446207101,null,"N","SIM","NÃO","ENCARGOS DE GESTÃO","FUNCIONÁRIOS","PESSOAL",2130,"ASSESSORIA DE RELAÇÕES INSTITUCIONAIS E NOVOS NEGÓCIOS"]
[null,null,null,0,0,0,0,33764.839999999997,6752.9679999999989,{"$f":"D594*'Série - IPCA'!$C$444/'Série - IPCA'!$C$385","v":0},{"$f":"E594*'Série - IPCA'!$C$444/'Série - IPCA'!$C$398","v":0},{"$f":"F594*'Série - IPCA'!$C$444/'Série - IPCA'!$C$411","v":0},{"$f":"G594*'Série - IPCA'!$C$444/'Série - IPCA'!$C$424","v":0},{"$f":"H594*'Série - IPCA'!$C$444/'Série - IPCA'!$C$437","v":34665.65751861906},6933.1315037238119,null,"N","SIM","NÃO","ENCARGOS DE GESTÃO","FUNCIONÁRIOS","PESSOAL",2140,"ASSESSORIA DTC"]
[null,null,null,0,26734.89,30127.73,0,0,11372.523999999999,{"$f":"D595*'Série - IPCA'!$C$444/'Série - IPCA'!$C$385","v":0},{"$f":"E595*'Série - IPCA'!$C$444/'Série - IPCA'!$C$398","v":33434.17884389501},{"$f":"F595*'Série - IPCA'!$C$444/'Série - IPCA'!$C$411","v":34233.02553008528},{"$f":"G595*'Série - IPCA'!$C$444/'Série - IPCA'!$C$424","v":0},{"$f":"H595*'Série - IPCA'!$C$444/'Série - IPCA'!$C$437","v":0},13533.440874796059,null,"N","SIM","NÃO","ENCARGOS DE GESTÃO","FUNCIONÁRIOS","PESSOAL",2300,"DIRETORIA COLEGIADA - DAF"]
[null,null,null,107987.76,121882.13,107871.36,146729.22,82906.13,113475.31999999999,{"$f":"D596*'Série - IPCA'!$C$444/'Série - IPCA'!$C$385","v":141148.29169611153},{"$f":"E596*'Série - IPCA'!$C$444/'Série - IPCA'!$C$398","v":152423.62816135999},{"$f":"F596*'Série - IPCA'!$C$444/'Série - IPCA'!$C$411","v":122570.23748038834},{"$f":"G596*'Série - IPCA'!$C$444/'Série - IPCA'!$C$424","v":157605.36983244095},{"$f":"H596*'Série - IPCA'!$C$444/'Série - IPCA'!$C$437","v":85117.995784197701},131773.10459089972,null,"N","SIM","NÃO","ENCARGOS DE GESTÃO","FUNCIONÁRIOS","PESSOAL",2410,"ASSESSORIA DE SEGURANÇA DO TRABALHO"]
[null,null,null,139137.04999999999,114870.55,128592.98,124531.3,74230.45,116272.46599999999,{"$f":"D597*'Série - IPCA'!$C$444/'Série - IPCA'!$C$385","v":181862.80481358679},{"$f":"E597*'Série - IPCA'!$C$444/'Série - IPCA'!$C$398","v":143655.07068091861},{"$f":"F597*'Série - IPCA'!$C$444/'Série - IPCA'!$C$411","v":146115.4480383934},{"$f":"G597*'Série - IPCA'!$C$444/'Série - IPCA'!$C$424","v":133762.05224981537},{"$f":"H597*'Série - IPCA'!$C$444/'Série - IPCA'!$C$437","v":76210.855942245733},136321.24634499199,null,"N","SIM","NÃO","ENCARGOS DE GESTÃO","FUNCIONÁRIOS","PESSOAL",3200,"GERÊNCIA DE PLANEJAMENTO E MEIO AMBIENTE"]
[null,null,null,68208.87,67880.38,92214.38,106060.45,77630.31,82398.877999999997,{"$f":"D598*'Série - IPCA'!$C$444/'Série - IPCA'!$C$385","v":89154.22895170853},{"$f":"E598*'Série - IPCA'!$C$444/'Série - IPCA'!$C$398","v":84889.998234948944},{"$f":"F598*'Série - IPCA'!$C$444/'Série - IPCA'!$C$411","v":104779.79007316468},{"$f":"G598*'Série - IPCA'!$C$444/'Série - IPCA'!$C$424","v":113922.06982934354},{"$f":"H598*'Série - IPCA'!$C$444/'Série - IPCA'!$C$437","v":79701.421346117117},94489.50168705656,null,"N","SIM","NÃO","ENCARGOS DE GESTÃO","FUNCIONÁRIOS","PESSOAL",3300,"GERÊNCIA JURÍDICA"]
[null,null,null,98360.3,55523.66,67063.210000000006,71411.08,48930.13,68257.676000000007,{"$f":"D599*'Série - IPCA'!$C$444/'Série - IPCA'!$C$385","v":128564.46245127263},{"$f":"E599*'Série - IPCA'!$C$444/'Série - IPCA'!$C$398","v":69436.903555900906},{"$f":"F599*'Série - IPCA'!$C$444/'Série - IPCA'!$C$411","v":76201.445646899738},{"$f":"G599*'Série - IPCA'!$C$444/'Série - IPCA'!$C$424","v":76704.351549977757},{"$f":"H599*'Série - IPCA'!$C$444/'Série - IPCA'!$C$437","v":50235.544694466436},80228.541579703509,null,"N","SIM","NÃO","ENCARGOS DE GESTÃO","FUNCIONÁRIOS","PESSOAL",3500,"ASSESSORIA DE COMUNICAÇÃO INSTITUCIONAL"]
[null,null,null,152761.78,107034.47,118753.4,237580.99,108070.12,144840.152,{"$f":"D600*'Série - IPCA'!$C$444/'Série - IPCA'!$C$385","v":199671.37278759386},{"$f":"E600*'Série - IPCA'!$C$444/'Série - IPCA'!$C$398","v":133855.40813676492},{"$f":"F600*'Série - IPCA'!$C$444/'Série - IPCA'!$C$411","v":134935.09713424905},{"$f":"G600*'Série - IPCA'!$C$444/'Série - IPCA'!$C$424","v":255191.43217763616},{"$f":"H600*'Série - IPCA'!$C$444/'Série - IPCA'!$C$437","v":110953.33986229652},166921.33001970808,null,"N","SIM","NÃO","ENCARGOS DE GESTÃO","FUNCIONÁRIOS","PESSOAL",3600,"GERÊNCIA DE GOVERNANÇA, RISCO E COMPLIANCE"]
[null,null,null,0,48872.13,14491.97,62725.21,34931.06,32204.074000000001,{"$f":"D601*'Série - IPCA'!$C$444/'Série - IPCA'!$C$385","v":0},{"$f":"E601*'Série - IPCA'!$C$444/'Série - IPCA'!$C$398","v":61118.618213955124},{"$f":"F601*'Série - IPCA'!$C$444/'Série - IPCA'!$C$411","v":16466.68962418443},{"$f":"G601*'Série - IPCA'!$C$444/'Série - IPCA'!$C$424","v":67374.650528828017},{"$f":"H601*'Série - IPCA'!$C$444/'Série - IPCA'!$C$437","v":35862.991286863304},36164.589930766175,null,"N","SIM","NÃO","ENCARGOS DE GESTÃO","FUNCIONÁRIOS","PESSOAL",3700,"GERÊNCIA DE REGULAÇÃO"]
[null,null,null,410022.69,255693.43,318896.96999999997,361560.54,54003.72,280035.46999999997,{"$f":"D602*'Série - IPCA'!$C$444/'Série - IPCA'!$C$385","v":535931.13006644754},{"$f":"E602*'Série - IPCA'!$C$444/'Série - IPCA'!$C$398","v":319765.66456151305},{"$f":"F602*'Série - IPCA'!$C$444/'Série - IPCA'!$C$411","v":362350.83477835334},{"$f":"G602*'Série - IPCA'!$C$444/'Série - IPCA'!$C$424","v":388360.83653628809},{"$f":"H602*'Série - IPCA'!$C$444/'Série - IPCA'!$C$437","v":55444.493806320381},332370.59194978449,null,"N","SIM","NÃO","ENCARGOS DE GESTÃO","FUNCIONÁRIOS","PESSOAL",4100,"GERÊNCIA DE SERVIÇOS CORPORATIVOS"]
[null,null,null,154287.82,99188.68,131578.06,135922.07,151765.85,134548.49599999998,{"$f":"D603*'Série - IPCA'!$C$444/'Série - IPCA'!$C$385","v":201666.02420975445},{"$f":"E603*'Série - IPCA'!$C$444/'Série - IPCA'!$C$398","v":124043.60243898038},{"$f":"F603*'Série - IPCA'!$C$444/'Série - IPCA'!$C$411","v":149507.28405953894},{"$f":"G603*'Série - IPCA'!$C$444/'Série - IPCA'!$C$424","v":145997.15115190367},{"$f":"H603*'Série - IPCA'!$C$444/'Série - IPCA'!$C$437","v":155814.83516942812},155405.77940592112,null,"N","SIM","NÃO","ENCARGOS DE GESTÃO","FUNCIONÁRIOS","PESSOAL",4200,"GERÊNCIA FINANCEIRA"]
[null,null,null,155317.16,150759.99,164576.38,148308.93,151449.06,154082.304,{"$f":"D604*'Série - IPCA'!$C$444/'Série - IPCA'!$C$385","v":203011.45060413913},{"$f":"E604*'Série - IPCA'!$C$444/'Série - IPCA'!$C$398","v":188537.76724586572},{"$f":"F604*'Série - IPCA'!$C$444/'Série - IPCA'!$C$411","v":187002.05485740269},{"$f":"G604*'Série - IPCA'!$C$444/'Série - IPCA'!$C$424","v":159302.1741825084},{"$f":"H604*'Série - IPCA'!$C$444/'Série - IPCA'!$C$437","v":155489.59347880189},178668.60807374358,null,"N","SIM","NÃO","ENCARGOS DE GESTÃO","FUNCIONÁRIOS","PESSOAL",4300,"GERÊNCIA DE TECNOLOGIA E SISTEMAS DE INFORMAÇÃO"]
[null,null,null,78758.95,116353.99,98722.240000000005,138918.48000000001,118375.22,110225.776,{"$f":"D605*'Série - IPCA'!$C$444/'Série - IPCA'!$C$385","v":102943.993358872},{"$f":"E605*'Série - IPCA'!$C$444/'Série - IPCA'!$C$398","v":145510.23441131689},{"$f":"F605*'Série - IPCA'!$C$444/'Série - IPCA'!$C$411","v":112174.43074228316},{"$f":"G605*'Série - IPCA'!$C$444/'Série - IPCA'!$C$424","v":149215.66690643181},{"$f":"H605*'Série - IPCA'!$C$444/'Série - IPCA'!$C$437","v":121533.37125871722},126275.53933552423,null,"N","SIM","NÃO","ENCARGOS DE GESTÃO","FUNCIONÁRIOS","PESSOAL",4500,"GERÊNCIA CONTÁBIL"]
[null,null,null,-13509.39,0,0,0,128807.7,23059.662,{"$f":"D606*'Série - IPCA'!$C$444/'Série - IPCA'!$C$385","v":-17657.809740256973},{"$f":"E606*'Série - IPCA'!$C$444/'Série - IPCA'!$C$398","v":0},{"$f":"F606*'Série - IPCA'!$C$444/'Série - IPCA'!$C$411","v":0},{"$f":"G606*'Série - IPCA'!$C$444/'Série - IPCA'!$C$424","v":0},{"$f":"H606*'Série - IPCA'!$C$444/'Série - IPCA'!$C$437","v":132244.18104634967},22917.274261218539,null,"N","SIM","NÃO","ENCARGOS DE GESTÃO","FUNCIONÁRIOS","PESSOAL",4600,"GERÊNCIA DE PESSOAS E CULTURA"]
[null,null,null,189801.5,169411.99,99729,106344.81,121915.76,137440.61200000002,{"$f":"D607*'Série - IPCA'!$C$444/'Série - IPCA'!$C$385","v":248085.13007733019},{"$f":"E607*'Série - IPCA'!$C$444/'Série - IPCA'!$C$398","v":211863.62734090743},{"$f":"F607*'Série - IPCA'!$C$444/'Série - IPCA'!$C$411","v":113318.37490212089},{"$f":"G607*'Série - IPCA'!$C$444/'Série - IPCA'!$C$424","v":114227.50771666793},{"$f":"H607*'Série - IPCA'!$C$444/'Série - IPCA'!$C$437","v":125168.36988660858},162532.60198472702,null,"N","SIM","NÃO","OPEX","FUNCIONÁRIOS","PESSOAL",5100,"GERÊNCIA DE ENGENHARIA"]
[null,null,null,325845.38,319407.7,370577.28,378928.9,376478.12,354247.47600000008,{"$f":"D608*'Série - IPCA'!$C$444/'Série - IPCA'!$C$385","v":425904.92426243779},{"$f":"E608*'Série - IPCA'!$C$444/'Série - IPCA'!$C$398","v":399445.59958605276},{"$f":"F608*'Série - IPCA'!$C$444/'Série - IPCA'!$C$411","v":421073.25998704723},{"$f":"G608*'Série - IPCA'!$C$444/'Série - IPCA'!$C$424","v":407016.60803962586},{"$f":"H608*'Série - IPCA'!$C$444/'Série - IPCA'!$C$437","v":386522.23944119294},407992.52626327134,null,"N","SIM","NÃO","OPEX","FUNCIONÁRIOS","PESSOAL",5200,"GERÊNCIA DE OPERAÇÕES"]
[null,null,null,104918.67,172319.75,269196.75,279889.25,310125.42,227289.96799999996,{"$f":"D609*'Série - IPCA'!$C$444/'Série - IPCA'!$C$385","v":137136.75547606568},{"$f":"E609*'Série - IPCA'!$C$444/'Série - IPCA'!$C$398","v":215500.02037918527},{"$f":"F609*'Série - IPCA'!$C$444/'Série - IPCA'!$C$411","v":305878.3126165159},{"$f":"G609*'Série - IPCA'!$C$444/'Série - IPCA'!$C$424","v":300635.74766072177},{"$f":"H609*'Série - IPCA'!$C$444/'Série - IPCA'!$C$437","v":318399.30523994472},255510.02827448669,null,"N","SIM","NÃO","ENCARGOS DE COMERCIALIZAÇÃO","FUNCIONÁRIOS","PESSOAL",5300,"GERÊNCIA COMERCIAL"]
[null,null,null,53044.68,0,0,0,0,10608.936,{"$f":"D610*'Série - IPCA'!$C$444/'Série - IPCA'!$C$385","v":69333.468585392402},{"$f":"E610*'Série - IPCA'!$C$444/'Série - IPCA'!$C$398","v":0},{"$f":"F610*'Série - IPCA'!$C$444/'Série - IPCA'!$C$411","v":0},{"$f":"G610*'Série - IPCA'!$C$444/'Série - IPCA'!$C$424","v":0},{"$f":"H610*'Série - IPCA'!$C$444/'Série - IPCA'!$C$437","v":0},13866.69371707848,null,"N","SIM","NÃO","ENCARGOS DE COMERCIALIZAÇÃO","FUNCIONÁRIOS","PESSOAL",5400,"GERÊNCIA COMERCIAL (inativo)"]
[null,null,null,32185.21,0,0,0,0,6437.0419999999995,{"$f":"D611*'Série - IPCA'!$C$444/'Série - IPCA'!$C$385","v":42068.540076955076},{"$f":"E611*'Série - IPCA'!$C$444/'Série - IPCA'!$C$398","v":0},{"$f":"F611*'Série - IPCA'!$C$444/'Série - IPCA'!$C$411","v":0},{"$f":"G611*'Série - IPCA'!$C$444/'Série - IPCA'!$C$424","v":0},{"$f":"H611*'Série - IPCA'!$C$444/'Série - IPCA'!$C$437","v":0},8413.7080153910156,null,"N","SIM","NÃO","ENCARGOS DE COMERCIALIZAÇÃO","FUNCIONÁRIOS","PESSOAL",5500,"GERÊNCIA COMERCIAL (inativo)"]
[null,null,null,0,22250.63,27455.34,30555.89,32401.46,22532.664000000001,{"$f":"D612*'Série - IPCA'!$C$444/'Série - IPCA'!$C$385","v":0},{"$f":"E612*'Série - IPCA'!$C$444/'Série - IPCA'!$C$398","v":27826.242891193331},{"$f":"F612*'Série - IPCA'!$C$444/'Série - IPCA'!$C$411","v":31196.487593229616},{"$f":"G612*'Série - IPCA'!$C$444/'Série - IPCA'!$C$424","v":32820.813359529777},{"$f":"H612*'Série - IPCA'!$C$444/'Série - IPCA'!$C$437","v":33265.903687481856},25021.88950628692,null,"N","SIM","NÃO","ENCARGOS DE GESTÃO","FUNCIONÁRIOS","PESSOAL",1005,"AUDITORIA INTERNA"]
[null,null,null,0,0,31122.97,28672.19,24536.58,16866.348000000002,{"$f":"D613*'Série - IPCA'!$C$444/'Série - IPCA'!$C$385","v":0},{"$f":"E613*'Série - IPCA'!$C$444/'Série - IPCA'!$C$398","v":0},{"$f":"F613*'Série - IPCA'!$C$444/'Série - IPCA'!$C$411","v":35363.879939911778},{"$f":"G613*'Série - IPCA'!$C$444/'Série - IPCA'!$C$424","v":30797.486068937156},{"$f":"H613*'Série - IPCA'!$C$444/'Série - IPCA'!$C$437","v":25191.195307254475},18270.512263220684,null,"N","SIM","NÃO","ENCARGOS DE GESTÃO","FUNCIONÁRIOS","PESSOAL",1010,"GOVERNANÇA SOCIETÁRIA"]
[null,null,null,17934.05,0,0,0,0,3586.81,{"$f":"D614*'Série - IPCA'!$C$444/'Série - IPCA'!$C$385","v":23441.180006814189},{"$f":"E614*'Série - IPCA'!$C$444/'Série - IPCA'!$C$398","v":0},{"$f":"F614*'Série - IPCA'!$C$444/'Série - IPCA'!$C$411","v":0},{"$f":"G614*'Série - IPCA'!$C$444/'Série - IPCA'!$C$424","v":0},{"$f":"H614*'Série - IPCA'!$C$444/'Série - IPCA'!$C$437","v":0},4688.2360013628377,null,"N","SIM","NÃO","ENCARGOS DE GESTÃO","FUNCIONÁRIOS","PESSOAL",2100,"SECRETARIA"]
[null,null,null,7646.03,24105.06,16189.2,12146.86,7735.37,13564.504000000001,{"$f":"D615*'Série - IPCA'!$C$444/'Série - IPCA'!$C$385","v":9993.9481359481815},{"$f":"E615*'Série - IPCA'!$C$444/'Série - IPCA'!$C$398","v":30145.360129883455},{"$f":"F615*'Série - IPCA'!$C$444/'Série - IPCA'!$C$411","v":18395.189312691553},{"$f":"G615*'Série - IPCA'!$C$444/'Série - IPCA'!$C$424","v":13047.233281843139},{"$f":"H615*'Série - IPCA'!$C$444/'Série - IPCA'!$C$437","v":7941.7431624080064},15904.694804554867,null,"N","SIM","NÃO","ENCARGOS DE GESTÃO","FUNCIONÁRIOS","PESSOAL",2110,"ASSESSORIA DA DIRETORIA EXECUTIVA"]
[null,null,null,13347.44,38224.51,43458.36,47693.8,50294.7,38603.762000000002,{"$f":"D616*'Série - IPCA'!$C$444/'Série - IPCA'!$C$385","v":17446.128658621561},{"$f":"E616*'Série - IPCA'!$C$444/'Série - IPCA'!$C$398","v":47802.893655453729},{"$f":"F616*'Série - IPCA'!$C$444/'Série - IPCA'!$C$411","v":49380.127456520517},{"$f":"G616*'Série - IPCA'!$C$444/'Série - IPCA'!$C$424","v":51229.052997858729},{"$f":"H616*'Série - IPCA'!$C$444/'Série - IPCA'!$C$437","v":51636.520273802278},43498.944608451362,null,"N","SIM","NÃO","ENCARGOS DE GESTÃO","FUNCIONÁRIOS","PESSOAL",2120,"ASSESSORIA DA PRESIDÊNCIA"]
[null,null,null,0,2597.7800000000002,20092.68,22311.5,23620.03,13724.397999999997,{"$f":"D617*'Série - IPCA'!$C$444/'Série - IPCA'!$C$385","v":0},{"$f":"E617*'Série - IPCA'!$C$444/'Série - IPCA'!$C$398","v":3248.7375529539709},{"$f":"F617*'Série - IPCA'!$C$444/'Série - IPCA'!$C$411","v":22830.569293067678},{"$f":"G617*'Série - IPCA'!$C$444/'Série - IPCA'!$C$424","v":23965.316581227013},{"$f":"H617*'Série - IPCA'!$C$444/'Série - IPCA'!$C$437","v":24250.192524516857},14858.963190353103,null,"N","SIM","NÃO","ENCARGOS DE GESTÃO","FUNCIONÁRIOS","PESSOAL",2130,"ASSESSORIA DE RELAÇÕES INSTITUCIONAIS E NOVOS NEGÓCIOS"]
[null,null,null,0,0,0,0,21484.91,4296.982,{"$f":"D618*'Série - IPCA'!$C$444/'Série - IPCA'!$C$385","v":0},{"$f":"E618*'Série - IPCA'!$C$444/'Série - IPCA'!$C$398","v":0},{"$f":"F618*'Série - IPCA'!$C$444/'Série - IPCA'!$C$411","v":0},{"$f":"G618*'Série - IPCA'!$C$444/'Série - IPCA'!$C$424","v":0},{"$f":"H618*'Série - IPCA'!$C$444/'Série - IPCA'!$C$437","v":22058.109319586703},4411.6218639173403,null,"N","SIM","NÃO","ENCARGOS DE GESTÃO","FUNCIONÁRIOS","PESSOAL",2140,"ASSESSORIA DTC"]
[null,null,null,83879.679999999993,47701.16,49700.95,50300.9,52595.4,56835.617999999995,{"$f":"D619*'Série - IPCA'!$C$444/'Série - IPCA'!$C$385","v":109637.1805472814},{"$f":"E619*'Série - IPCA'!$C$444/'Série - IPCA'!$C$398","v":59654.223918678959},{"$f":"F619*'Série - IPCA'!$C$444/'Série - IPCA'!$C$411","v":56473.351633843369},{"$f":"G619*'Série - IPCA'!$C$444/'Série - IPCA'!$C$424","v":54029.401556176948},{"$f":"H619*'Série - IPCA'!$C$444/'Série - IPCA'!$C$437","v":53998.601013799474},66758.551733956032,null,"N","SIM","NÃO","ENCARGOS DE GESTÃO","FUNCIONÁRIOS","PESSOAL",2200,"DIRETORIA COLEGIADA - PRESIDÊNCIA"]
[null,null,null,0,16357.17,14622.67,0,0,6195.9679999999998,{"$f":"D620*'Série - IPCA'!$C$444/'Série - IPCA'!$C$385","v":0},{"$f":"E620*'Série - IPCA'!$C$444/'Série - IPCA'!$C$398","v":20455.98643420617},{"$f":"F620*'Série - IPCA'!$C$444/'Série - IPCA'!$C$411","v":16615.199201135038},{"$f":"G620*'Série - IPCA'!$C$444/'Série - IPCA'!$C$424","v":0},{"$f":"H620*'Série - IPCA'!$C$444/'Série - IPCA'!$C$437","v":0},7414.2371270682415,null,"N","SIM","NÃO","ENCARGOS DE GESTÃO","FUNCIONÁRIOS","PESSOAL",2300,"DIRETORIA COLEGIADA - DAF"]
[null,null,null,11618.56,0,0,0,0,2323.712,{"$f":"D621*'Série - IPCA'!$C$444/'Série - IPCA'!$C$385","v":15186.349786019948},{"$f":"E621*'Série - IPCA'!$C$444/'Série - IPCA'!$C$398","v":0},{"$f":"F621*'Série - IPCA'!$C$444/'Série - IPCA'!$C$411","v":0},{"$f":"G621*'Série - IPCA'!$C$444/'Série - IPCA'!$C$424","v":0},{"$f":"H621*'Série - IPCA'!$C$444/'Série - IPCA'!$C$437","v":0},3037.2699572039896,null,"N","SIM","NÃO","ENCARGOS DE GESTÃO","FUNCIONÁRIOS","PESSOAL",2400,"DIRETORIA COLEGIADA - DTC"]
[null,null,null,14033.7,48218.8,62878.34,70846.880000000005,81287.53,55453.05,{"$f":"D622*'Série - IPCA'!$C$444/'Série - IPCA'!$C$385","v":18343.123157436738},{"$f":"E622*'Série - IPCA'!$C$444/'Série - IPCA'!$C$398","v":60301.575313682035},{"$f":"F622*'Série - IPCA'!$C$444/'Série - IPCA'!$C$411","v":71446.332614816405},{"$f":"G622*'Série - IPCA'!$C$444/'Série - IPCA'!$C$424","v":76098.330815597365},{"$f":"H622*'Série - IPCA'!$C$444/'Série - IPCA'!$C$437","v":83456.212898224097},61929.11495995133,null,"N","SIM","NÃO","ENCARGOS DE GESTÃO","FUNCIONÁRIOS","PESSOAL",2410,"ASSESSORIA DE SEGURANÇA DO TRABALHO"]
[null,null,null,31177.49,0,0,0,0,6235.4980000000005,{"$f":"D623*'Série - IPCA'!$C$444/'Série - IPCA'!$C$385","v":40751.372682168803},{"$f":"E623*'Série - IPCA'!$C$444/'Série - IPCA'!$C$398","v":0},{"$f":"F623*'Série - IPCA'!$C$444/'Série - IPCA'!$C$411","v":0},{"$f":"G623*'Série - IPCA'!$C$444/'Série - IPCA'!$C$424","v":0},{"$f":"H623*'Série - IPCA'!$C$444/'Série - IPCA'!$C$437","v":0},8150.2745364337607,null,"N","SIM","NÃO","ENCARGOS DE GESTÃO","FUNCIONÁRIOS","PESSOAL",3100,"SMS"]
[null,null,null,45117.24,60037.78,67523.81,73126.039999999994,76601.210000000006,64481.216,{"$f":"D624*'Série - IPCA'!$C$444/'Série - IPCA'!$C$385","v":58971.69597779851},{"$f":"E624*'Série - IPCA'!$C$444/'Série - IPCA'!$C$398","v":75082.181894536421},{"$f":"F624*'Série - IPCA'!$C$444/'Série - IPCA'!$C$411","v":76724.80839474556},{"$f":"G624*'Série - IPCA'!$C$444/'Série - IPCA'!$C$424","v":78546.431164711903},{"$f":"H624*'Série - IPCA'!$C$444/'Série - IPCA'!$C$437","v":78644.865824088556},73593.996651176189,null,"N","SIM","NÃO","ENCARGOS DE GESTÃO","FUNCIONÁRIOS","PESSOAL",3200,"GERÊNCIA DE PLANEJAMENTO E MEIO AMBIENTE"]
[null,null,null,43034.71,40601.199999999997,46509.19,50961.98,53578.41,46937.098000000005,{"$f":"D625*'Série - IPCA'!$C$444/'Série - IPCA'!$C$385","v":56249.66940825116},{"$f":"E625*'Série - IPCA'!$C$444/'Série - IPCA'!$C$398","v":50775.139979134008},{"$f":"F625*'Série - IPCA'!$C$444/'Série - IPCA'!$C$411","v":52846.672771350088},{"$f":"G625*'Série - IPCA'!$C$444/'Série - IPCA'!$C$424","v":54739.483419140779},{"$f":"H625*'Série - IPCA'!$C$444/'Série - IPCA'!$C$437","v":55007.836893412052},53923.760494257629,null,"N","SIM","NÃO","ENCARGOS DE GESTÃO","FUNCIONÁRIOS","PESSOAL",3300,"GERÊNCIA JURÍDICA"]
[null,null,null,32147.49,0,0,0,0,6429.4980000000005,{"$f":"D626*'Série - IPCA'!$C$444/'Série - IPCA'!$C$385","v":42019.237141485566},{"$f":"E626*'Série - IPCA'!$C$444/'Série - IPCA'!$C$398","v":0},{"$f":"F626*'Série - IPCA'!$C$444/'Série - IPCA'!$C$411","v":0},{"$f":"G626*'Série - IPCA'!$C$444/'Série - IPCA'!$C$424","v":0},{"$f":"H626*'Série - IPCA'!$C$444/'Série - IPCA'!$C$437","v":0},8403.8474282971129,null,"N","SIM","NÃO","ENCARGOS DE GESTÃO","FUNCIONÁRIOS","PESSOAL",3400,"MARKETING"]
[null,null,null,15048.93,36224.42,48474.44,46059.21,40875.67,37336.534,{"$f":"D627*'Série - IPCA'!$C$444/'Série - IPCA'!$C$385","v":19670.106698707001},{"$f":"E627*'Série - IPCA'!$C$444/'Série - IPCA'!$C$398","v":45301.616606478172},{"$f":"F627*'Série - IPCA'!$C$444/'Série - IPCA'!$C$411","v":55079.713674962804},{"$f":"G627*'Série - IPCA'!$C$444/'Série - IPCA'!$C$424","v":49473.300725241112},{"$f":"H627*'Série - IPCA'!$C$444/'Série - IPCA'!$C$437","v":41966.198479367638},42298.187236951351,null,"N","SIM","NÃO","ENCARGOS DE GESTÃO","FUNCIONÁRIOS","PESSOAL",3500,"ASSESSORIA DE COMUNICAÇÃO INSTITUCIONAL"]
[null,null,null,44001.67,76018.710000000006,73162.789999999994,94807.22,89362.4,75470.558000000005,{"$f":"D628*'Série - IPCA'!$C$444/'Série - IPCA'!$C$385","v":57513.560354210887},{"$f":"E628*'Série - IPCA'!$C$444/'Série - IPCA'!$C$398","v":95067.649263647254},{"$f":"F628*'Série - IPCA'!$C$444/'Série - IPCA'!$C$411","v":83132.172849473485},{"$f":"G628*'Série - IPCA'!$C$444/'Série - IPCA'!$C$424","v":101834.70593577471},{"$f":"H628*'Série - IPCA'!$C$444/'Série - IPCA'!$C$437","v":91746.513634948191},85858.920407610902,null,"N","SIM","NÃO","ENCARGOS DE GESTÃO","FUNCIONÁRIOS","PESSOAL",3600,"GERÊNCIA DE GOVERNANÇA, RISCO E COMPLIANCE"]
[null,null,null,0,2523.23,23659.63,26356.13,27826.04,16073.005999999999,{"$f":"D629*'Série - IPCA'!$C$444/'Série - IPCA'!$C$385","v":0},{"$f":"E629*'Série - IPCA'!$C$444/'Série - IPCA'!$C$398","v":3155.506646344204},{"$f":"F629*'Série - IPCA'!$C$444/'Série - IPCA'!$C$411","v":26883.562678713984},{"$f":"G629*'Série - IPCA'!$C$444/'Série - IPCA'!$C$424","v":28309.750545950508},{"$f":"H629*'Série - IPCA'!$C$444/'Série - IPCA'!$C$437","v":28568.415332025703},17383.447040606879,null,"N","SIM","NÃO","ENCARGOS DE GESTÃO","FUNCIONÁRIOS","PESSOAL",3700,"GERÊNCIA DE REGULAÇÃO"]
[null,null,null,89075.21,148559.71,155588.64000000001,174349.05,173665.3,148247.58199999999,{"$f":"D630*'Série - IPCA'!$C$444/'Série - IPCA'!$C$385","v":116428.13707750206},{"$f":"E630*'Série - IPCA'!$C$444/'Série - IPCA'!$C$398","v":185786.13613660567},{"$f":"F630*'Série - IPCA'!$C$444/'Série - IPCA'!$C$411","v":176789.61824575727},{"$f":"G630*'Série - IPCA'!$C$444/'Série - IPCA'!$C$424","v":187272.49081801658},{"$f":"H630*'Série - IPCA'!$C$444/'Série - IPCA'!$C$437","v":178298.54406738593},168914.98526905352,null,"N","SIM","NÃO","ENCARGOS DE GESTÃO","FUNCIONÁRIOS","PESSOAL",4100,"GERÊNCIA DE SERVIÇOS CORPORATIVOS"]
[null,null,null,58827.03,60731.8,71019.600000000006,73266.61,77037.11,68176.429999999993,{"$f":"D631*'Série - IPCA'!$C$444/'Série - IPCA'!$C$385","v":76891.443901196806},{"$f":"E631*'Série - IPCA'!$C$444/'Série - IPCA'!$C$398","v":75950.110986492306},{"$f":"F631*'Série - IPCA'!$C$444/'Série - IPCA'!$C$411","v":80696.945303759858},{"$f":"G631*'Série - IPCA'!$C$444/'Série - IPCA'!$C$424","v":78697.42076880949},{"$f":"H631*'Série - IPCA'!$C$444/'Série - IPCA'!$C$437","v":79092.395269285567},78265.6632459088,null,"N","SIM","NÃO","ENCARGOS DE GESTÃO","FUNCIONÁRIOS","PESSOAL",4200,"GERÊNCIA FINANCEIRA"]
[null,null,null,76135.64,82048.77,77822.14,75196.98,77528.539999999994,77746.41399999999,{"$f":"D632*'Série - IPCA'!$C$444/'Série - IPCA'!$C$385","v":99515.125817871754},{"$f":"E632*'Série - IPCA'!$C$444/'Série - IPCA'!$C$398","v":102608.73525575036},{"$f":"F632*'Série - IPCA'!$C$444/'Série - IPCA'!$C$411","v":88426.419960145373},{"$f":"G632*'Série - IPCA'!$C$444/'Série - IPCA'!$C$424","v":80770.877424296719},{"$f":"H632*'Série - IPCA'!$C$444/'Série - IPCA'!$C$437","v":79596.936208154963},90183.618933243823,null,"N","SIM","NÃO","ENCARGOS DE GESTÃO","FUNCIONÁRIOS","PESSOAL",4300,"GERÊNCIA DE TECNOLOGIA E SISTEMAS DE INFORMAÇÃO"]
[null,null,null,53096.05,54621.88,62293.09,68321.990000000005,72442.820000000007,62155.166000000005,{"$f":"D633*'Série - IPCA'!$C$444/'Série - IPCA'!$C$385","v":69400.6131186657},{"$f":"E633*'Série - IPCA'!$C$444/'Série - IPCA'!$C$398","v":68309.153496041006},{"$f":"F633*'Série - IPCA'!$C$444/'Série - IPCA'!$C$411","v":70781.334681301916},{"$f":"G633*'Série - IPCA'!$C$444/'Série - IPCA'!$C$424","v":73386.285987469528},{"$f":"H633*'Série - IPCA'!$C$444/'Série - IPCA'!$C$437","v":74375.53347810822},71250.584152317286,null,"N","SIM","NÃO","ENCARGOS DE GESTÃO","FUNCIONÁRIOS","PESSOAL",4500,"GERÊNCIA CONTÁBIL"]
[null,null,null,31934.12,0,0,0,9036.5499999999993,8194.134,{"$f":"D634*'Série - IPCA'!$C$444/'Série - IPCA'!$C$385","v":41740.34617273874},{"$f":"E634*'Série - IPCA'!$C$444/'Série - IPCA'!$C$398","v":0},{"$f":"F634*'Série - IPCA'!$C$444/'Série - IPCA'!$C$411","v":0},{"$f":"G634*'Série - IPCA'!$C$444/'Série - IPCA'!$C$424","v":0},{"$f":"H634*'Série - IPCA'!$C$444/'Série - IPCA'!$C$437","v":9277.6375498855341},10203.596744524855,null,"N","SIM","NÃO","ENCARGOS DE GESTÃO","FUNCIONÁRIOS","PESSOAL",4600,"GERÊNCIA DE PESSOAS E CULTURA"]
[null,null,null,0,0,0,0,0,0,{"$f":"D635*'Série - IPCA'!$C$444/'Série - IPCA'!$C$385","v":0},{"$f":"E635*'Série - IPCA'!$C$444/'Série - IPCA'!$C$398","v":0},{"$f":"F635*'Série - IPCA'!$C$444/'Série - IPCA'!$C$411","v":0},{"$f":"G635*'Série - IPCA'!$C$444/'Série - IPCA'!$C$424","v":0},{"$f":"H635*'Série - IPCA'!$C$444/'Série - IPCA'!$C$437","v":0},0,null,"N","SIM","NÃO","ENCARGOS DE COMERCIALIZAÇÃO","FUNCIONÁRIOS","PESSOAL",5300,"GERÊNCIA COMERCIAL"]
[null,null,null,0,0,0,0,0,0,{"$f":"D636*'Série - IPCA'!$C$444/'Série - IPCA'!$C$385","v":0},{"$f":"E636*'Série - IPCA'!$C$444/'Série - IPCA'!$C$398","v":0},{"$f":"F636*'Série - IPCA'!$C$444/'Série - IPCA'!$C$411","v":0},{"$f":"G636*'Série - IPCA'!$C$444/'Série - IPCA'!$C$424","v":0},{"$f":"H636*'Série - IPCA'!$C$444/'Série - IPCA'!$C$437","v":0},0,null,"N","SIM","NÃO","ENCARGOS DE GESTÃO","FUNCIONÁRIOS","PESSOAL",1005,"AUDITORIA INTERNA"]
[null,null,null,0,0,0,0,0,0,{"$f":"D637*'Série - IPCA'!$C$444/'Série - IPCA'!$C$385","v":0},{"$f":"E637*'Série - IPCA'!$C$444/'Série - IPCA'!$C$398","v":0},{"$f":"F637*'Série - IPCA'!$C$444/'Série - IPCA'!$C$411","v":0},{"$f":"G637*'Série - IPCA'!$C$444/'Série - IPCA'!$C$424","v":0},{"$f":"H637*'Série - IPCA'!$C$444/'Série - IPCA'!$C$437","v":0},0,null,"N","SIM","NÃO","ENCARGOS DE GESTÃO","FUNCIONÁRIOS","PESSOAL",1010,"GOVERNANÇA SOCIETÁRIA"]
[null,null,null,0,0,0,0,0,0,{"$f":"D638*'Série - IPCA'!$C$444/'Série - IPCA'!$C$385","v":0},{"$f":"E638*'Série - IPCA'!$C$444/'Série - IPCA'!$C$398","v":0},{"$f":"F638*'Série - IPCA'!$C$444/'Série - IPCA'!$C$411","v":0},{"$f":"G638*'Série - IPCA'!$C$444/'Série - IPCA'!$C$424","v":0},{"$f":"H638*'Série - IPCA'!$C$444/'Série - IPCA'!$C$437","v":0},0,null,"N","SIM","NÃO","ENCARGOS DE GESTÃO","FUNCIONÁRIOS","PESSOAL",2110,"ASSESSORIA DA DIRETORIA EXECUTIVA"]
[null,null,null,0,0,0,0,0,0,{"$f":"D639*'Série - IPCA'!$C$444/'Série - IPCA'!$C$385","v":0},{"$f":"E639*'Série - IPCA'!$C$444/'Série - IPCA'!$C$398","v":0},{"$f":"F639*'Série - IPCA'!$C$444/'Série - IPCA'!$C$411","v":0},{"$f":"G639*'Série - IPCA'!$C$444/'Série - IPCA'!$C$424","v":0},{"$f":"H639*'Série - IPCA'!$C$444/'Série - IPCA'!$C$437","v":0},0,null,"N","SIM","NÃO","ENCARGOS DE GESTÃO","FUNCIONÁRIOS","PESSOAL",2120,"ASSESSORIA DA PRESIDÊNCIA"]
[null,null,null,0,0,0,0,0,0,{"$f":"D640*'Série - IPCA'!$C$444/'Série - IPCA'!$C$385","v":0},{"$f":"E640*'Série - IPCA'!$C$444/'Série - IPCA'!$C$398","v":0},{"$f":"F640*'Série - IPCA'!$C$444/'Série - IPCA'!$C$411","v":0},{"$f":"G640*'Série - IPCA'!$C$444/'Série - IPCA'!$C$424","v":0},{"$f":"H640*'Série - IPCA'!$C$444/'Série - IPCA'!$C$437","v":0},0,null,"N","SIM","NÃO","ENCARGOS DE GESTÃO","FUNCIONÁRIOS","PESSOAL",2130,"ASSESSORIA DE RELAÇÕES INSTITUCIONAIS E NOVOS NEGÓCIOS"]
[null,null,null,0,0,0,0,0,0,{"$f":"D641*'Série - IPCA'!$C$444/'Série - IPCA'!$C$385","v":0},{"$f":"E641*'Série - IPCA'!$C$444/'Série - IPCA'!$C$398","v":0},{"$f":"F641*'Série - IPCA'!$C$444/'Série - IPCA'!$C$411","v":0},{"$f":"G641*'Série - IPCA'!$C$444/'Série - IPCA'!$C$424","v":0},{"$f":"H641*'Série - IPCA'!$C$444/'Série - IPCA'!$C$437","v":0},0,null,"N","SIM","NÃO","ENCARGOS DE GESTÃO","FUNCIONÁRIOS","PESSOAL",2140,"ASSESSORIA DTC"]
[null,null,null,0,0,0,0,0,0,{"$f":"D642*'Série - IPCA'!$C$444/'Série - IPCA'!$C$385","v":0},{"$f":"E642*'Série - IPCA'!$C$444/'Série - IPCA'!$C$398","v":0},{"$f":"F642*'Série - IPCA'!$C$444/'Série - IPCA'!$C$411","v":0},{"$f":"G642*'Série - IPCA'!$C$444/'Série - IPCA'!$C$424","v":0},{"$f":"H642*'Série - IPCA'!$C$444/'Série - IPCA'!$C$437","v":0},0,null,"N","SIM","NÃO","ENCARGOS DE GESTÃO","FUNCIONÁRIOS","PESSOAL",2300,"DIRETORIA COLEGIADA - DAF"]
[null,null,null,0,0,0,0,0,0,{"$f":"D643*'Série - IPCA'!$C$444/'Série - IPCA'!$C$385","v":0},{"$f":"E643*'Série - IPCA'!$C$444/'Série - IPCA'!$C$398","v":0},{"$f":"F643*'Série - IPCA'!$C$444/'Série - IPCA'!$C$411","v":0},{"$f":"G643*'Série - IPCA'!$C$444/'Série - IPCA'!$C$424","v":0},{"$f":"H643*'Série - IPCA'!$C$444/'Série - IPCA'!$C$437","v":0},0,null,"N","SIM","NÃO","ENCARGOS DE GESTÃO","FUNCIONÁRIOS","PESSOAL",2410,"ASSESSORIA DE SEGURANÇA DO TRABALHO"]
[null,null,null,0,0,0,0,0,0,{"$f":"D644*'Série - IPCA'!$C$444/'Série - IPCA'!$C$385","v":0},{"$f":"E644*'Série - IPCA'!$C$444/'Série - IPCA'!$C$398","v":0},{"$f":"F644*'Série - IPCA'!$C$444/'Série - IPCA'!$C$411","v":0},{"$f":"G644*'Série - IPCA'!$C$444/'Série - IPCA'!$C$424","v":0},{"$f":"H644*'Série - IPCA'!$C$444/'Série - IPCA'!$C$437","v":0},0,null,"N","SIM","NÃO","ENCARGOS DE GESTÃO","FUNCIONÁRIOS","PESSOAL",3200,"GERÊNCIA DE PLANEJAMENTO E MEIO AMBIENTE"]
[null,null,null,0,0,0,0,0,{"$f":"AVERAGE(D645:H645)","v":0},{"$f":"D645*'Série - IPCA'!$C$444/'Série - IPCA'!$C$385","v":0},{"$f":"E645*'Série - IPCA'!$C$444/'Série - IPCA'!$C$398","v":0},{"$f":"F645*'Série - IPCA'!$C$444/'Série - IPCA'!$C$411","v":0},{"$f":"G645*'Série - IPCA'!$C$444/'Série - IPCA'!$C$424","v":0},{"$f":"H645*'Série - IPCA'!$C$444/'Série - IPCA'!$C$437","v":0},{"$f":"AVERAGE(J645:N645)","v":0},null,"N","SIM","NÃO","ENCARGOS DE GESTÃO","FUNCIONÁRIOS","PESSOAL",3300,"GERÊNCIA JURÍDICA"]
[null,null,null,0,0,0,0,0,0,{"$f":"D646*'Série - IPCA'!$C$444/'Série - IPCA'!$C$385","v":0},{"$f":"E646*'Série - IPCA'!$C$444/'Série - IPCA'!$C$398","v":0},{"$f":"F646*'Série - IPCA'!$C$444/'Série - IPCA'!$C$411","v":0},{"$f":"G646*'Série - IPCA'!$C$444/'Série - IPCA'!$C$424","v":0},{"$f":"H646*'Série - IPCA'!$C$444/'Série - IPCA'!$C$437","v":0},0,null,"N","SIM","NÃO","ENCARGOS DE GESTÃO","FUNCIONÁRIOS","PESSOAL",3500,"ASSESSORIA DE COMUNICAÇÃO INSTITUCIONAL"]
[null,null,null,0,0,0,0,0,0,{"$f":"D647*'Série - IPCA'!$C$444/'Série - IPCA'!$C$385","v":0},{"$f":"E647*'Série - IPCA'!$C$444/'Série - IPCA'!$C$398","v":0},{"$f":"F647*'Série - IPCA'!$C$444/'Série - IPCA'!$C$411","v":0},{"$f":"G647*'Série - IPCA'!$C$444/'Série - IPCA'!$C$424","v":0},{"$f":"H647*'Série - IPCA'!$C$444/'Série - IPCA'!$C$437","v":0},0,null,"N","SIM","NÃO","ENCARGOS DE GESTÃO","FUNCIONÁRIOS","PESSOAL",3600,"GERÊNCIA DE GOVERNANÇA, RISCO E COMPLIANCE"]
[null,null,null,0,0,0,0,0,0,{"$f":"D648*'Série - IPCA'!$C$444/'Série - IPCA'!$C$385","v":0},{"$f":"E648*'Série - IPCA'!$C$444/'Série - IPCA'!$C$398","v":0},{"$f":"F648*'Série - IPCA'!$C$444/'Série - IPCA'!$C$411","v":0},{"$f":"G648*'Série - IPCA'!$C$444/'Série - IPCA'!$C$424","v":0},{"$f":"H648*'Série - IPCA'!$C$444/'Série - IPCA'!$C$437","v":0},0,null,"N","SIM","NÃO","ENCARGOS DE GESTÃO","FUNCIONÁRIOS","PESSOAL",3700,"GERÊNCIA DE REGULAÇÃO"]
[null,null,null,0,0,0,0,0,0,{"$f":"D649*'Série - IPCA'!$C$444/'Série - IPCA'!$C$385","v":0},{"$f":"E649*'Série - IPCA'!$C$444/'Série - IPCA'!$C$398","v":0},{"$f":"F649*'Série - IPCA'!$C$444/'Série - IPCA'!$C$411","v":0},{"$f":"G649*'Série - IPCA'!$C$444/'Série - IPCA'!$C$424","v":0},{"$f":"H649*'Série - IPCA'!$C$444/'Série - IPCA'!$C$437","v":0},0,null,"N","SIM","NÃO","ENCARGOS DE GESTÃO","FUNCIONÁRIOS","PESSOAL",4100,"GERÊNCIA DE SERVIÇOS CORPORATIVOS"]
[null,null,null,0,0,0,0,0,0,{"$f":"D650*'Série - IPCA'!$C$444/'Série - IPCA'!$C$385","v":0},{"$f":"E650*'Série - IPCA'!$C$444/'Série - IPCA'!$C$398","v":0},{"$f":"F650*'Série - IPCA'!$C$444/'Série - IPCA'!$C$411","v":0},{"$f":"G650*'Série - IPCA'!$C$444/'Série - IPCA'!$C$424","v":0},{"$f":"H650*'Série - IPCA'!$C$444/'Série - IPCA'!$C$437","v":0},0,null,"N","SIM","NÃO","ENCARGOS DE GESTÃO","FUNCIONÁRIOS","PESSOAL",4200,"GERÊNCIA FINANCEIRA"]
[null,null,null,0,0,0,0,0,0,{"$f":"D651*'Série - IPCA'!$C$444/'Série - IPCA'!$C$385","v":0},{"$f":"E651*'Série - IPCA'!$C$444/'Série - IPCA'!$C$398","v":0},{"$f":"F651*'Série - IPCA'!$C$444/'Série - IPCA'!$C$411","v":0},{"$f":"G651*'Série - IPCA'!$C$444/'Série - IPCA'!$C$424","v":0},{"$f":"H651*'Série - IPCA'!$C$444/'Série - IPCA'!$C$437","v":0},0,null,"N","SIM","NÃO","ENCARGOS DE GESTÃO","FUNCIONÁRIOS","PESSOAL",4300,"GERÊNCIA DE TECNOLOGIA E SISTEMAS DE INFORMAÇÃO"]
[null,null,null,0,0,0,0,0,0,{"$f":"D652*'Série - IPCA'!$C$444/'Série - IPCA'!$C$385","v":0},{"$f":"E652*'Série - IPCA'!$C$444/'Série - IPCA'!$C$398","v":0},{"$f":"F652*'Série - IPCA'!$C$444/'Série - IPCA'!$C$411","v":0},{"$f":"G652*'Série - IPCA'!$C$444/'Série - IPCA'!$C$424","v":0},{"$f":"H652*'Série - IPCA'!$C$444/'Série - IPCA'!$C$437","v":0},0,null,"N","SIM","NÃO","ENCARGOS DE GESTÃO","FUNCIONÁRIOS","PESSOAL",4500,"GERÊNCIA CONTÁBIL"]
[null,null,null,30368.68,17817.41,9527.4599999999991,19724.919999999998,18259.25,19139.544000000002,{"$f":"D653*'Série - IPCA'!$C$444/'Série - IPCA'!$C$385","v":39694.195926148197},{"$f":"E653*'Série - IPCA'!$C$444/'Série - IPCA'!$C$398","v":22282.136656444196},{"$f":"F653*'Série - IPCA'!$C$444/'Série - IPCA'!$C$411","v":10825.700489776902},{"$f":"G653*'Série - IPCA'!$C$444/'Série - IPCA'!$C$424","v":21187.009046427909},{"$f":"H653*'Série - IPCA'!$C$444/'Série - IPCA'!$C$437","v":18746.391425128779},22547.086708785198,null,"N","SIM","NÃO","OPEX","FUNCIONÁRIOS","PESSOAL",5100,"GERÊNCIA DE ENGENHARIA"]
[null,null,null,53232.76,47903.32,57243.6,55490.21,60826.84,54939.345999999998,{"$f":"D654*'Série - IPCA'!$C$444/'Série - IPCA'!$C$385","v":69579.303582823646},{"$f":"E654*'Série - IPCA'!$C$444/'Série - IPCA'!$C$398","v":59907.04162599257},{"$f":"F654*'Série - IPCA'!$C$444/'Série - IPCA'!$C$411","v":65043.785915300949},{"$f":"G654*'Série - IPCA'!$C$444/'Série - IPCA'!$C$424","v":59603.363727618897},{"$f":"H654*'Série - IPCA'!$C$444/'Série - IPCA'!$C$437","v":62449.648906372386},63316.628751621683,null,"N","SIM","NÃO","OPEX","FUNCIONÁRIOS","PESSOAL",5200,"GERÊNCIA DE OPERAÇÕES"]
[null,null,null,0,25166.1,45901.1,37979.42,42045.05,30218.333999999995,{"$f":"D655*'Série - IPCA'!$C$444/'Série - IPCA'!$C$385","v":0},{"$f":"E655*'Série - IPCA'!$C$444/'Série - IPCA'!$C$398","v":31472.277918605469},{"$f":"F655*'Série - IPCA'!$C$444/'Série - IPCA'!$C$411","v":52155.722590417448},{"$f":"G655*'Série - IPCA'!$C$444/'Série - IPCA'!$C$424","v":40794.604749630671},{"$f":"H655*'Série - IPCA'!$C$444/'Série - IPCA'!$C$437","v":43166.776553752803},33517.876362481278,null,"N","SIM","NÃO","ENCARGOS DE COMERCIALIZAÇÃO","FUNCIONÁRIOS","PESSOAL",5300,"GERÊNCIA COMERCIAL"]
[null,null,null,0,5091.1400000000003,303.14999999999998,-501.47,-450.6,888.44399999999985,{"$f":"D656*'Série - IPCA'!$C$444/'Série - IPCA'!$C$385","v":0},{"$f":"E656*'Série - IPCA'!$C$444/'Série - IPCA'!$C$398","v":6366.8893075418546},{"$f":"F656*'Série - IPCA'!$C$444/'Série - IPCA'!$C$411","v":344.45813506179695},{"$f":"G656*'Série - IPCA'!$C$444/'Série - IPCA'!$C$424","v":-538.6409387978357},{"$f":"H656*'Série - IPCA'!$C$444/'Série - IPCA'!$C$437","v":-462.62162882719866},1142.0169749957236,null,"N","SIM","NÃO","ENCARGOS DE GESTÃO","FUNCIONÁRIOS","PESSOAL",1005,"AUDITORIA INTERNA"]
[null,null,null,0,0,2808.22,735.01,-2823.01,144.04399999999987,{"$f":"D657*'Série - IPCA'!$C$444/'Série - IPCA'!$C$385","v":0},{"$f":"E657*'Série - IPCA'!$C$444/'Série - IPCA'!$C$398","v":0},{"$f":"F657*'Série - IPCA'!$C$444/'Série - IPCA'!$C$411","v":3190.8765431081624},{"$f":"G657*'Série - IPCA'!$C$444/'Série - IPCA'!$C$424","v":789.49184682193788},{"$f":"H657*'Série - IPCA'!$C$444/'Série - IPCA'!$C$437","v":-2898.3255312815581},216.40857172970846,null,"N","SIM","NÃO","ENCARGOS DE GESTÃO","FUNCIONÁRIOS","PESSOAL",1010,"GOVERNANÇA SOCIETÁRIA"]
[null,null,null,2338.33,-397.23,-58.53,-1092.22,-206.6,116.74999999999997,{"$f":"D658*'Série - IPCA'!$C$444/'Série - IPCA'!$C$385","v":3056.37680531357},{"$f":"E658*'Série - IPCA'!$C$444/'Série - IPCA'!$C$398","v":-496.76878648688722},{"$f":"F658*'Série - IPCA'!$C$444/'Série - IPCA'!$C$411","v":-66.505474666557745},{"$f":"G658*'Série - IPCA'!$C$444/'Série - IPCA'!$C$424","v":-1173.1796641349874},{"$f":"H658*'Série - IPCA'!$C$444/'Série - IPCA'!$C$437","v":-212.1119141493547},221.56219317515655,null,"N","SIM","NÃO","ENCARGOS DE GESTÃO","FUNCIONÁRIOS","PESSOAL",2110,"ASSESSORIA DA DIRETORIA EXECUTIVA"]
[null,null,null,3659.12,105.14,312.94,-971.21,567.61,734.72,{"$f":"D659*'Série - IPCA'!$C$444/'Série - IPCA'!$C$385","v":4782.7507220362349},{"$f":"E659*'Série - IPCA'!$C$444/'Série - IPCA'!$C$398","v":131.48621758485342},{"$f":"F659*'Série - IPCA'!$C$444/'Série - IPCA'!$C$411","v":355.58215004531996},{"$f":"G659*'Série - IPCA'!$C$444/'Série - IPCA'!$C$424","v":-1043.1999245614813},{"$f":"H659*'Série - IPCA'!$C$444/'Série - IPCA'!$C$437","v":582.753357165127},961.87450445401078,null,"N","SIM","NÃO","ENCARGOS DE GESTÃO","FUNCIONÁRIOS","PESSOAL",2120,"ASSESSORIA DA PRESIDÊNCIA"]
[null,null,null,0,477.57,380.18,-51.05,134.33000000000001,188.20600000000002,{"$f":"D660*'Série - IPCA'!$C$444/'Série - IPCA'!$C$385","v":0},{"$f":"E660*'Série - IPCA'!$C$444/'Série - IPCA'!$C$398","v":597.24056431423276},{"$f":"F660*'Série - IPCA'!$C$444/'Série - IPCA'!$C$411","v":431.98447563184556},{"$f":"G660*'Série - IPCA'!$C$444/'Série - IPCA'!$C$424","v":-54.834027809499091},{"$f":"H660*'Série - IPCA'!$C$444/'Série - IPCA'!$C$437","v":137.91381136342122},222.46096470000012,null,"N","SIM","NÃO","ENCARGOS DE GESTÃO","FUNCIONÁRIOS","PESSOAL",2130,"ASSESSORIA DE RELAÇÕES INSTITUCIONAIS E NOVOS NEGÓCIOS"]
[null,null,null,0,0,0,0,2160.94,432.18799999999999,{"$f":"D661*'Série - IPCA'!$C$444/'Série - IPCA'!$C$385","v":0},{"$f":"E661*'Série - IPCA'!$C$444/'Série - IPCA'!$C$398","v":0},{"$f":"F661*'Série - IPCA'!$C$444/'Série - IPCA'!$C$411","v":0},{"$f":"G661*'Série - IPCA'!$C$444/'Série - IPCA'!$C$424","v":0},{"$f":"H661*'Série - IPCA'!$C$444/'Série - IPCA'!$C$437","v":2218.5920608030328},443.71841216060659,null,"N","SIM","NÃO","ENCARGOS DE GESTÃO","FUNCIONÁRIOS","PESSOAL",2140,"ASSESSORIA DTC"]
[null,null,null,0,1711.03,2170.79,0,0,776.36399999999992,{"$f":"D662*'Série - IPCA'!$C$444/'Série - IPCA'!$C$385","v":0},{"$f":"E662*'Série - IPCA'!$C$444/'Série - IPCA'!$C$398","v":2139.7837442858254},{"$f":"F662*'Série - IPCA'!$C$444/'Série - IPCA'!$C$411","v":2466.5884051156136},{"$f":"G662*'Série - IPCA'!$C$444/'Série - IPCA'!$C$424","v":0},{"$f":"H662*'Série - IPCA'!$C$444/'Série - IPCA'!$C$437","v":0},921.27442988028781,null,"N","SIM","NÃO","ENCARGOS DE GESTÃO","FUNCIONÁRIOS","PESSOAL",2300,"DIRETORIA COLEGIADA - DAF"]
[null,null,null,5861.75,2494.5300000000002,-556.13,3334.09,-3261.85,1574.4780000000003,{"$f":"D663*'Série - IPCA'!$C$444/'Série - IPCA'!$C$385","v":7661.7572107216765},{"$f":"E663*'Série - IPCA'!$C$444/'Série - IPCA'!$C$398","v":3119.6149358183793},{"$f":"F663*'Série - IPCA'!$C$444/'Série - IPCA'!$C$411","v":-631.90995431937051},{"$f":"G663*'Série - IPCA'!$C$444/'Série - IPCA'!$C$424","v":3581.2259310357072},{"$f":"H663*'Série - IPCA'!$C$444/'Série - IPCA'!$C$437","v":-3348.8734132046111},2076.3629420103562,null,"N","SIM","NÃO","ENCARGOS DE GESTÃO","FUNCIONÁRIOS","PESSOAL",2410,"ASSESSORIA DE SEGURANÇA DO TRABALHO"]
[null,null,null,9903.94,9010.66,10325.209999999999,10057.379999999999,6753.49,9210.1359999999986,{"$f":"D664*'Série - IPCA'!$C$444/'Série - IPCA'!$C$385","v":12945.209828047058},{"$f":"E664*'Série - IPCA'!$C$444/'Série - IPCA'!$C$398","v":11268.571441346159},{"$f":"F664*'Série - IPCA'!$C$444/'Série - IPCA'!$C$411","v":11732.154315426082},{"$f":"G664*'Série - IPCA'!$C$444/'Série - IPCA'!$C$424","v":10802.872764166501},{"$f":"H664*'Série - IPCA'!$C$444/'Série - IPCA'!$C$437","v":6933.6674302445581},10736.495155846073,null,"N","SIM","NÃO","ENCARGOS DE GESTÃO","FUNCIONÁRIOS","PESSOAL",3200,"GERÊNCIA DE PLANEJAMENTO E MEIO AMBIENTE"]
[null,null,null,5888.99,5285.25,6994.99,8224.6,6778.24,6634.4139999999998,{"$f":"D665*'Série - IPCA'!$C$444/'Série - IPCA'!$C$385","v":7697.3619817235203},{"$f":"E665*'Série - IPCA'!$C$444/'Série - IPCA'!$C$398","v":6609.6398277567669},{"$f":"F665*'Série - IPCA'!$C$444/'Série - IPCA'!$C$411","v":7948.1484749329347},{"$f":"G665*'Série - IPCA'!$C$444/'Série - IPCA'!$C$424","v":8834.2398652694665},{"$f":"H665*'Série - IPCA'!$C$444/'Série - IPCA'!$C$437","v":6959.0777394178231},7609.6935778201023,null,"N","SIM","NÃO","ENCARGOS DE GESTÃO","FUNCIONÁRIOS","PESSOAL",3300,"GERÊNCIA JURÍDICA"]
[null,null,null,4991.9399999999996,-401.04,-76.72,217.19,-1786.06,589.06199999999978,{"$f":"D666*'Série - IPCA'!$C$444/'Série - IPCA'!$C$385","v":6524.8487722079526},{"$f":"E666*'Série - IPCA'!$C$444/'Série - IPCA'!$C$398","v":-501.5335048528591},{"$f":"F666*'Série - IPCA'!$C$444/'Série - IPCA'!$C$411","v":-87.174099033287362},{"$f":"G666*'Série - IPCA'!$C$444/'Série - IPCA'!$C$424","v":233.28898138971809},{"$f":"H666*'Série - IPCA'!$C$444/'Série - IPCA'!$C$437","v":-1833.7105778586472},867.14391437057543,null,"N","SIM","NÃO","ENCARGOS DE GESTÃO","FUNCIONÁRIOS","PESSOAL",3500,"ASSESSORIA DE COMUNICAÇÃO INSTITUCIONAL"]
[null,null,null,10728.07,8621.9500000000007,9158.9599999999991,17737.689999999999,9559.75,11161.284,{"$f":"D667*'Série - IPCA'!$C$444/'Série - IPCA'!$C$385","v":14022.4110000643},{"$f":"E667*'Série - IPCA'!$C$444/'Série - IPCA'!$C$398","v":10782.457615614676},{"$f":"F667*'Série - IPCA'!$C$444/'Série - IPCA'!$C$411","v":10406.987566239801},{"$f":"G667*'Série - IPCA'!$C$444/'Série - IPCA'!$C$424","v":19052.47770296325},{"$f":"H667*'Série - IPCA'!$C$444/'Série - IPCA'!$C$437","v":9814.7960856209775},12815.8259941006,null,"N","SIM","NÃO","ENCARGOS DE GESTÃO","FUNCIONÁRIOS","PESSOAL",3600,"GERÊNCIA DE GOVERNANÇA, RISCO E COMPLIANCE"]
[null,null,null,0,3127.81,-1083.78,-78.36,-166.77,359.78000000000003,{"$f":"D668*'Série - IPCA'!$C$444/'Série - IPCA'!$C$385","v":0},{"$f":"E668*'Série - IPCA'!$C$444/'Série - IPCA'!$C$398","v":3911.5836620133182},{"$f":"F668*'Série - IPCA'!$C$444/'Série - IPCA'!$C$411","v":-1231.4591377775832},{"$f":"G668*'Série - IPCA'!$C$444/'Série - IPCA'!$C$424","v":-84.168352970663051},{"$f":"H668*'Série - IPCA'!$C$444/'Série - IPCA'!$C$437","v":-171.21928326567226},484.94737759987993,null,"N","SIM","NÃO","ENCARGOS DE GESTÃO","FUNCIONÁRIOS","PESSOAL",3700,"GERÊNCIA DE REGULAÇÃO"]
[null,null,null,29534.73,19948.189999999999,25071.16,27578.73,11700.84,22766.73,{"$f":"D669*'Série - IPCA'!$C$444/'Série - IPCA'!$C$385","v":38604.159260326327},{"$f":"E669*'Série - IPCA'!$C$444/'Série - IPCA'!$C$398","v":24946.852299448325},{"$f":"F669*'Série - IPCA'!$C$444/'Série - IPCA'!$C$411","v":28487.432021889897},{"$f":"G669*'Série - IPCA'!$C$444/'Série - IPCA'!$C$424","v":29622.974491100234},{"$f":"H669*'Série - IPCA'!$C$444/'Série - IPCA'!$C$437","v":12013.008565127473},26734.885327578453,null,"N","SIM","NÃO","ENCARGOS DE GESTÃO","FUNCIONÁRIOS","PESSOAL",4100,"GERÊNCIA DE SERVIÇOS CORPORATIVOS"]
[null,null,null,11747.04,8095.37,10178.82,10910.27,12338.33,10653.966,{"$f":"D670*'Série - IPCA'!$C$444/'Série - IPCA'!$C$385","v":15354.283008425124},{"$f":"E670*'Série - IPCA'!$C$444/'Série - IPCA'!$C$398","v":10123.926015311914},{"$f":"F670*'Série - IPCA'!$C$444/'Série - IPCA'!$C$411","v":11565.816771663271},{"$f":"G670*'Série - IPCA'!$C$444/'Série - IPCA'!$C$424","v":11718.982342588515},{"$f":"H670*'Série - IPCA'!$C$444/'Série - IPCA'!$C$437","v":12667.506261889679},12286.102879975699,null,"N","SIM","NÃO","ENCARGOS DE GESTÃO","FUNCIONÁRIOS","PESSOAL",4200,"GERÊNCIA FINANCEIRA"]
[null,null,null,12214.4,11744.48,12710.65,11279.52,11700.73,11929.956,{"$f":"D671*'Série - IPCA'!$C$444/'Série - IPCA'!$C$385","v":15965.158403998608},{"$f":"E671*'Série - IPCA'!$C$444/'Série - IPCA'!$C$398","v":14687.438203357038},{"$f":"F671*'Série - IPCA'!$C$444/'Série - IPCA'!$C$411","v":14442.641578173279},{"$f":"G671*'Série - IPCA'!$C$444/'Série - IPCA'!$C$424","v":12115.602612297771},{"$f":"H671*'Série - IPCA'!$C$444/'Série - IPCA'!$C$437","v":12012.895630420035},13844.747285649346,null,"N","SIM","NÃO","ENCARGOS DE GESTÃO","FUNCIONÁRIOS","PESSOAL",4300,"GERÊNCIA DE TECNOLOGIA E SISTEMAS DE INFORMAÇÃO"]
[null,null,null,7018.35,8961.44,7887.93,10828.15,9833.89,8905.9520000000011,{"$f":"D672*'Série - IPCA'!$C$444/'Série - IPCA'!$C$385","v":9173.5221938616432},{"$f":"E672*'Série - IPCA'!$C$444/'Série - IPCA'!$C$398","v":11207.017783085492},{"$f":"F672*'Série - IPCA'!$C$444/'Série - IPCA'!$C$411","v":8962.7631776282378},{"$f":"G672*'Série - IPCA'!$C$444/'Série - IPCA'!$C$424","v":11630.77528355392},{"$f":"H672*'Série - IPCA'!$C$444/'Série - IPCA'!$C$437","v":10096.249910136485},10214.065669653155,null,"N","SIM","NÃO","ENCARGOS DE GESTÃO","FUNCIONÁRIOS","PESSOAL",4500,"GERÊNCIA CONTÁBIL"]
[null,null,null,242.99,0,0,0,8610.2800000000007,1770.654,{"$f":"D673*'Série - IPCA'!$C$444/'Série - IPCA'!$C$385","v":317.60658244265966},{"$f":"E673*'Série - IPCA'!$C$444/'Série - IPCA'!$C$398","v":0},{"$f":"F673*'Série - IPCA'!$C$444/'Série - IPCA'!$C$411","v":0},{"$f":"G673*'Série - IPCA'!$C$444/'Série - IPCA'!$C$424","v":0},{"$f":"H673*'Série - IPCA'!$C$444/'Série - IPCA'!$C$437","v":8839.9950249850244},1831.5203214855369,null,"N","SIM","NÃO","ENCARGOS DE GESTÃO","FUNCIONÁRIOS","PESSOAL",4600,"GERÊNCIA DE PESSOAS E CULTURA"]
[null,null,null,0,0,0,0,0,0,{"$f":"D674*'Série - IPCA'!$C$444/'Série - IPCA'!$C$385","v":0},{"$f":"E674*'Série - IPCA'!$C$444/'Série - IPCA'!$C$398","v":0},{"$f":"F674*'Série - IPCA'!$C$444/'Série - IPCA'!$C$411","v":0},{"$f":"G674*'Série - IPCA'!$C$444/'Série - IPCA'!$C$424","v":0},{"$f":"H674*'Série - IPCA'!$C$444/'Série - IPCA'!$C$437","v":0},0,null,"N","SIM","NÃO","OPEX","FUNCIONÁRIOS","PESSOAL",5100,"GERÊNCIA DE ENGENHARIA"]
[null,null,null,0,0,0,0,0,0,{"$f":"D675*'Série - IPCA'!$C$444/'Série - IPCA'!$C$385","v":0},{"$f":"E675*'Série - IPCA'!$C$444/'Série - IPCA'!$C$398","v":0},{"$f":"F675*'Série - IPCA'!$C$444/'Série - IPCA'!$C$411","v":0},{"$f":"G675*'Série - IPCA'!$C$444/'Série - IPCA'!$C$424","v":0},{"$f":"H675*'Série - IPCA'!$C$444/'Série - IPCA'!$C$437","v":0},0,null,"N","SIM","NÃO","OPEX","FUNCIONÁRIOS","PESSOAL",5200,"GERÊNCIA DE OPERAÇÕES"]
[null,null,null,1604.29,0,0,0,0,320.858,{"$f":"D676*'Série - IPCA'!$C$444/'Série - IPCA'!$C$385","v":2096.9301788013267},{"$f":"E676*'Série - IPCA'!$C$444/'Série - IPCA'!$C$398","v":0},{"$f":"F676*'Série - IPCA'!$C$444/'Série - IPCA'!$C$411","v":0},{"$f":"G676*'Série - IPCA'!$C$444/'Série - IPCA'!$C$424","v":0},{"$f":"H676*'Série - IPCA'!$C$444/'Série - IPCA'!$C$437","v":0},419.38603576026537,null,"N","SIM","NÃO","OPEX","FIXO","SERVIÇOS",5200,"GERÊNCIA DE OPERAÇÕES"]
[null,null,null,396.34,0,0,0,0,79.268000000000001,{"$f":"D677*'Série - IPCA'!$C$444/'Série - IPCA'!$C$385","v":518.04680392330431},{"$f":"E677*'Série - IPCA'!$C$444/'Série - IPCA'!$C$398","v":0},{"$f":"F677*'Série - IPCA'!$C$444/'Série - IPCA'!$C$411","v":0},{"$f":"G677*'Série - IPCA'!$C$444/'Série - IPCA'!$C$424","v":0},{"$f":"H677*'Série - IPCA'!$C$444/'Série - IPCA'!$C$437","v":0},103.60936078466086,null,"N","SIM","NÃO","ENCARGOS DE COMERCIALIZAÇÃO","FIXO","SERVIÇOS",5400,"GERÊNCIA COMERCIAL (inativo)"]
[null,null,null,198.36,0,0,0,0,39.672000000000004,{"$f":"D678*'Série - IPCA'!$C$444/'Série - IPCA'!$C$385","v":259.27174654646677},{"$f":"E678*'Série - IPCA'!$C$444/'Série - IPCA'!$C$398","v":0},{"$f":"F678*'Série - IPCA'!$C$444/'Série - IPCA'!$C$411","v":0},{"$f":"G678*'Série - IPCA'!$C$444/'Série - IPCA'!$C$424","v":0},{"$f":"H678*'Série - IPCA'!$C$444/'Série - IPCA'!$C$437","v":0},51.854349309293355,null,"N","SIM","NÃO","ENCARGOS DE COMERCIALIZAÇÃO","FIXO","SERVIÇOS",5500,"GERÊNCIA COMERCIAL (inativo)"]
[null,null,null,69.540000000000006,0,0,0,0,13.908000000000001,{"$f":"D679*'Série - IPCA'!$C$444/'Série - IPCA'!$C$385","v":90.894118042152172},{"$f":"E679*'Série - IPCA'!$C$444/'Série - IPCA'!$C$398","v":0},{"$f":"F679*'Série - IPCA'!$C$444/'Série - IPCA'!$C$411","v":0},{"$f":"G679*'Série - IPCA'!$C$444/'Série - IPCA'!$C$424","v":0},{"$f":"H679*'Série - IPCA'!$C$444/'Série - IPCA'!$C$437","v":0},18.178823608430434,null,"N","SIM","NÃO","ENCARGOS DE GESTÃO","FIXO","SERVIÇOS",2100,"SECRETARIA"]
[null,null,null,158.46,0,0,0,0,31.692,{"$f":"D680*'Série - IPCA'!$C$444/'Série - IPCA'!$C$385","v":207.1193837353959},{"$f":"E680*'Série - IPCA'!$C$444/'Série - IPCA'!$C$398","v":0},{"$f":"F680*'Série - IPCA'!$C$444/'Série - IPCA'!$C$411","v":0},{"$f":"G680*'Série - IPCA'!$C$444/'Série - IPCA'!$C$424","v":0},{"$f":"H680*'Série - IPCA'!$C$444/'Série - IPCA'!$C$437","v":0},41.423876747079177,null,"N","SIM","NÃO","ENCARGOS DE GESTÃO","FIXO","SERVIÇOS",2200,"DIRETORIA COLEGIADA - PRESIDÊNCIA"]
[null,null,null,39.520000000000003,0,0,0,0,7.9040000000000008,{"$f":"D681*'Série - IPCA'!$C$444/'Série - IPCA'!$C$385","v":51.655673641441666},{"$f":"E681*'Série - IPCA'!$C$444/'Série - IPCA'!$C$398","v":0},{"$f":"F681*'Série - IPCA'!$C$444/'Série - IPCA'!$C$411","v":0},{"$f":"G681*'Série - IPCA'!$C$444/'Série - IPCA'!$C$424","v":0},{"$f":"H681*'Série - IPCA'!$C$444/'Série - IPCA'!$C$437","v":0},10.331134728288333,null,"N","SIM","NÃO","ENCARGOS DE GESTÃO","FIXO","SERVIÇOS",2300,"DIRETORIA COLEGIADA - DAF"]
[null,null,null,39.520000000000003,0,0,0,0,7.9040000000000008,{"$f":"D682*'Série - IPCA'!$C$444/'Série - IPCA'!$C$385","v":51.655673641441666},{"$f":"E682*'Série - IPCA'!$C$444/'Série - IPCA'!$C$398","v":0},{"$f":"F682*'Série - IPCA'!$C$444/'Série - IPCA'!$C$411","v":0},{"$f":"G682*'Série - IPCA'!$C$444/'Série - IPCA'!$C$424","v":0},{"$f":"H682*'Série - IPCA'!$C$444/'Série - IPCA'!$C$437","v":0},10.331134728288333,null,"N","SIM","NÃO","ENCARGOS DE GESTÃO","FIXO","SERVIÇOS",2400,"DIRETORIA COLEGIADA - DTC"]
[null,null,null,99.18,0,0,0,0,19.836000000000002,{"$f":"D683*'Série - IPCA'!$C$444/'Série - IPCA'!$C$385","v":129.63587327323339},{"$f":"E683*'Série - IPCA'!$C$444/'Série - IPCA'!$C$398","v":0},{"$f":"F683*'Série - IPCA'!$C$444/'Série - IPCA'!$C$411","v":0},{"$f":"G683*'Série - IPCA'!$C$444/'Série - IPCA'!$C$424","v":0},{"$f":"H683*'Série - IPCA'!$C$444/'Série - IPCA'!$C$437","v":0},25.927174654646677,null,"N","SIM","NÃO","ENCARGOS DE GESTÃO","FIXO","SERVIÇOS",3200,"GERÊNCIA DE PLANEJAMENTO E MEIO AMBIENTE"]
[null,null,null,138.69999999999999,0,0,0,0,27.74,{"$f":"D684*'Série - IPCA'!$C$444/'Série - IPCA'!$C$385","v":181.29154691467505},{"$f":"E684*'Série - IPCA'!$C$444/'Série - IPCA'!$C$398","v":0},{"$f":"F684*'Série - IPCA'!$C$444/'Série - IPCA'!$C$411","v":0},{"$f":"G684*'Série - IPCA'!$C$444/'Série - IPCA'!$C$424","v":0},{"$f":"H684*'Série - IPCA'!$C$444/'Série - IPCA'!$C$437","v":0},36.25830938293501,null,"N","SIM","NÃO","ENCARGOS DE GESTÃO","FIXO","SERVIÇOS",3400,"MARKETING"]
[null,null,null,59.66,0,0,0,0,11.931999999999999,{"$f":"D685*'Série - IPCA'!$C$444/'Série - IPCA'!$C$385","v":77.980199631791734},{"$f":"E685*'Série - IPCA'!$C$444/'Série - IPCA'!$C$398","v":0},{"$f":"F685*'Série - IPCA'!$C$444/'Série - IPCA'!$C$411","v":0},{"$f":"G685*'Série - IPCA'!$C$444/'Série - IPCA'!$C$424","v":0},{"$f":"H685*'Série - IPCA'!$C$444/'Série - IPCA'!$C$437","v":0},15.596039926358348,null,"N","SIM","NÃO","ENCARGOS DE GESTÃO","FIXO","SERVIÇOS",3600,"GERÊNCIA DE GOVERNANÇA, RISCO E COMPLIANCE"]
[null,null,null,129146.39,0,0,0,0,25829.277999999998,{"$f":"D686*'Série - IPCA'!$C$444/'Série - IPCA'!$C$385","v":168804.24528872332},{"$f":"E686*'Série - IPCA'!$C$444/'Série - IPCA'!$C$398","v":0},{"$f":"F686*'Série - IPCA'!$C$444/'Série - IPCA'!$C$411","v":0},{"$f":"G686*'Série - IPCA'!$C$444/'Série - IPCA'!$C$424","v":0},{"$f":"H686*'Série - IPCA'!$C$444/'Série - IPCA'!$C$437","v":0},33760.849057744665,null,"N","SIM","NÃO","ENCARGOS DE GESTÃO","FIXO","SERVIÇOS",4100,"GERÊNCIA DE SERVIÇOS CORPORATIVOS"]
[null,null,null,218.12,0,0,0,0,43.624000000000002,{"$f":"D687*'Série - IPCA'!$C$444/'Série - IPCA'!$C$385","v":285.09958336718768},{"$f":"E687*'Série - IPCA'!$C$444/'Série - IPCA'!$C$398","v":0},{"$f":"F687*'Série - IPCA'!$C$444/'Série - IPCA'!$C$411","v":0},{"$f":"G687*'Série - IPCA'!$C$444/'Série - IPCA'!$C$424","v":0},{"$f":"H687*'Série - IPCA'!$C$444/'Série - IPCA'!$C$437","v":0},57.019916673437535,null,"N","SIM","NÃO","ENCARGOS DE GESTÃO","FIXO","SERVIÇOS",4200,"GERÊNCIA FINANCEIRA"]
[null,null,null,158.46,0,0,0,0,31.692,{"$f":"D688*'Série - IPCA'!$C$444/'Série - IPCA'!$C$385","v":207.1193837353959},{"$f":"E688*'Série - IPCA'!$C$444/'Série - IPCA'!$C$398","v":0},{"$f":"F688*'Série - IPCA'!$C$444/'Série - IPCA'!$C$411","v":0},{"$f":"G688*'Série - IPCA'!$C$444/'Série - IPCA'!$C$424","v":0},{"$f":"H688*'Série - IPCA'!$C$444/'Série - IPCA'!$C$437","v":0},41.423876747079177,null,"N","SIM","NÃO","ENCARGOS DE GESTÃO","FIXO","SERVIÇOS",4500,"GERÊNCIA CONTÁBIL"]
[null,null,null,138.69999999999999,0,0,0,0,27.74,{"$f":"D689*'Série - IPCA'!$C$444/'Série - IPCA'!$C$385","v":181.29154691467505},{"$f":"E689*'Série - IPCA'!$C$444/'Série - IPCA'!$C$398","v":0},{"$f":"F689*'Série - IPCA'!$C$444/'Série - IPCA'!$C$411","v":0},{"$f":"G689*'Série - IPCA'!$C$444/'Série - IPCA'!$C$424","v":0},{"$f":"H689*'Série - IPCA'!$C$444/'Série - IPCA'!$C$437","v":0},36.25830938293501,null,"N","SIM","NÃO","ENCARGOS DE GESTÃO","FIXO","SERVIÇOS",4600,"GERÊNCIA DE PESSOAS E CULTURA"]
[null,null,null,699414.99,0,0,0,0,139882.99799999999,{"$f":"D690*'Série - IPCA'!$C$444/'Série - IPCA'!$C$385","v":914189.08055091556},{"$f":"E690*'Série - IPCA'!$C$444/'Série - IPCA'!$C$398","v":0},{"$f":"F690*'Série - IPCA'!$C$444/'Série - IPCA'!$C$411","v":0},{"$f":"G690*'Série - IPCA'!$C$444/'Série - IPCA'!$C$424","v":0},{"$f":"H690*'Série - IPCA'!$C$444/'Série - IPCA'!$C$437","v":0},182837.81611018311,null,"N","NÃO","SIM","ENCARGOS DE GESTÃO","FIXO","DESPESAS_INSTITUCIONAIS",3400,"MARKETING"]
[null,null,null,188616.41,176217.55,134758.63,142168.19,139763.25,156304.80600000001,{"$f":"D691*'Série - IPCA'!$C$444/'Série - IPCA'!$C$385","v":246536.1264772357},{"$f":"E691*'Série - IPCA'!$C$444/'Série - IPCA'!$C$398","v":220374.53986655679},{"$f":"F691*'Série - IPCA'!$C$444/'Série - IPCA'!$C$411","v":153121.24813881819},{"$f":"G691*'Série - IPCA'!$C$444/'Série - IPCA'!$C$424","v":152706.25825829877},{"$f":"H691*'Série - IPCA'!$C$444/'Série - IPCA'!$C$437","v":143492.0159014269},183246.03772846726,null,"N","NÃO","NÃO","OPEX","FUNCIONÁRIOS","PESSOAL",5100,"GERÊNCIA DE ENGENHARIA"]
[null,null,null,265832.03999999998,244395.53,271216.45,301065.71999999997,323656.94,281233.33600000001,{"$f":"D692*'Série - IPCA'!$C$444/'Série - IPCA'!$C$385","v":347462.88212749653},{"$f":"E692*'Série - IPCA'!$C$444/'Série - IPCA'!$C$398","v":305636.71137859585},{"$f":"F692*'Série - IPCA'!$C$444/'Série - IPCA'!$C$411","v":308173.22304166621},{"$f":"G692*'Série - IPCA'!$C$444/'Série - IPCA'!$C$424","v":323381.90133137838},{"$f":"H692*'Série - IPCA'!$C$444/'Série - IPCA'!$C$437","v":332291.83480698382},323389.31053722417,null,"N","NÃO","NÃO","OPEX","FUNCIONÁRIOS","PESSOAL",5200,"GERÊNCIA DE OPERAÇÕES"]
[null,null,null,147625.42000000001,212992.86,369351.86,408916.24,431614.4,314100.15599999996,{"$f":"D693*'Série - IPCA'!$C$444/'Série - IPCA'!$C$385","v":192957.75598939159},{"$f":"E693*'Série - IPCA'!$C$444/'Série - IPCA'!$C$398","v":266365.08972779359},{"$f":"F693*'Série - IPCA'!$C$444/'Série - IPCA'!$C$411","v":419680.86055486038},{"$f":"G693*'Série - IPCA'!$C$444/'Série - IPCA'!$C$424","v":439226.72822557896},{"$f":"H693*'Série - IPCA'!$C$444/'Série - IPCA'!$C$437","v":443129.508995282},352271.98869858135,null,"N","NÃO","NÃO","ENCARGOS DE COMERCIALIZAÇÃO","FUNCIONÁRIOS","PESSOAL",5300,"GERÊNCIA COMERCIAL"]
[null,null,null,50117.69,0,0,0,0,10023.538,{"$f":"D694*'Série - IPCA'!$C$444/'Série - IPCA'!$C$385","v":65507.667973252639},{"$f":"E694*'Série - IPCA'!$C$444/'Série - IPCA'!$C$398","v":0},{"$f":"F694*'Série - IPCA'!$C$444/'Série - IPCA'!$C$411","v":0},{"$f":"G694*'Série - IPCA'!$C$444/'Série - IPCA'!$C$424","v":0},{"$f":"H694*'Série - IPCA'!$C$444/'Série - IPCA'!$C$437","v":0},13101.533594650527,null,"N","NÃO","NÃO","ENCARGOS DE COMERCIALIZAÇÃO","FUNCIONÁRIOS","PESSOAL",5400,"GERÊNCIA COMERCIAL (inativo)"]
[null,null,null,53089.79,0,0,0,0,10617.958000000001,{"$f":"D695*'Série - IPCA'!$C$444/'Série - IPCA'!$C$385","v":69392.430818134439},{"$f":"E695*'Série - IPCA'!$C$444/'Série - IPCA'!$C$398","v":0},{"$f":"F695*'Série - IPCA'!$C$444/'Série - IPCA'!$C$411","v":0},{"$f":"G695*'Série - IPCA'!$C$444/'Série - IPCA'!$C$424","v":0},{"$f":"H695*'Série - IPCA'!$C$444/'Série - IPCA'!$C$437","v":0},13878.486163626887,null,"N","NÃO","NÃO","ENCARGOS DE COMERCIALIZAÇÃO","FUNCIONÁRIOS","PESSOAL",5500,"GERÊNCIA COMERCIAL (inativo)"]
[null,null,null,0,79073.64,96635.54,104426.33,115727.82,79172.665999999997,{"$f":"D696*'Série - IPCA'!$C$444/'Série - IPCA'!$C$385","v":0},{"$f":"E696*'Série - IPCA'!$C$444/'Série - IPCA'!$C$398","v":98888.090491405441},{"$f":"F696*'Série - IPCA'!$C$444/'Série - IPCA'!$C$411","v":109803.39069467156},{"$f":"G696*'Série - IPCA'!$C$444/'Série - IPCA'!$C$424","v":112166.82239498393},{"$f":"H696*'Série - IPCA'!$C$444/'Série - IPCA'!$C$437","v":118815.34085446261},87934.728887104706,null,"N","NÃO","NÃO","ENCARGOS DE GESTÃO","FUNCIONÁRIOS","PESSOAL",1005,"AUDITORIA INTERNA"]
[null,null,null,0,0,56041.4,97020.03,72157.55,45043.795999999995,{"$f":"D697*'Série - IPCA'!$C$444/'Série - IPCA'!$C$385","v":0},{"$f":"E697*'Série - IPCA'!$C$444/'Série - IPCA'!$C$398","v":0},{"$f":"F697*'Série - IPCA'!$C$444/'Série - IPCA'!$C$411","v":63677.770510480586},{"$f":"G697*'Série - IPCA'!$C$444/'Série - IPCA'!$C$424","v":104211.5381605962},{"$f":"H697*'Série - IPCA'!$C$444/'Série - IPCA'!$C$437","v":74082.65271455844},48394.392277127045,null,"N","NÃO","NÃO","ENCARGOS DE GESTÃO","FUNCIONÁRIOS","PESSOAL",1010,"GOVERNANÇA SOCIETÁRIA"]
[null,null,null,3014.92,0,0,0,0,602.98400000000004,{"$f":"D698*'Série - IPCA'!$C$444/'Série - IPCA'!$C$385","v":3940.7318718384436},{"$f":"E698*'Série - IPCA'!$C$444/'Série - IPCA'!$C$398","v":0},{"$f":"F698*'Série - IPCA'!$C$444/'Série - IPCA'!$C$411","v":0},{"$f":"G698*'Série - IPCA'!$C$444/'Série - IPCA'!$C$424","v":0},{"$f":"H698*'Série - IPCA'!$C$444/'Série - IPCA'!$C$437","v":0},788.14637436768874,null,"N","NÃO","NÃO","ENCARGOS DE GESTÃO","FUNCIONÁRIOS","PESSOAL",2100,"SECRETARIA"]
[null,null,null,20855.55,84660.02,0,0,0,21103.114000000001,{"$f":"D699*'Série - IPCA'!$C$444/'Série - IPCA'!$C$385","v":27259.804767529571},{"$f":"E699*'Série - IPCA'!$C$444/'Série - IPCA'!$C$398","v":105874.31815158874},{"$f":"F699*'Série - IPCA'!$C$444/'Série - IPCA'!$C$411","v":0},{"$f":"G699*'Série - IPCA'!$C$444/'Série - IPCA'!$C$424","v":0},{"$f":"H699*'Série - IPCA'!$C$444/'Série - IPCA'!$C$437","v":0},26626.824583823665,null,"N","NÃO","NÃO","ENCARGOS DE GESTÃO","FUNCIONÁRIOS","PESSOAL",2110,"ASSESSORIA DA DIRETORIA EXECUTIVA"]
[null,null,null,69746.63,0,0,0,0,13949.326000000001,{"$f":"D700*'Série - IPCA'!$C$444/'Série - IPCA'!$C$385","v":91164.199313521865},{"$f":"E700*'Série - IPCA'!$C$444/'Série - IPCA'!$C$398","v":0},{"$f":"F700*'Série - IPCA'!$C$444/'Série - IPCA'!$C$411","v":0},{"$f":"G700*'Série - IPCA'!$C$444/'Série - IPCA'!$C$424","v":0},{"$f":"H700*'Série - IPCA'!$C$444/'Série - IPCA'!$C$437","v":0},18232.839862704372,null,"N","NÃO","NÃO","ENCARGOS DE GESTÃO","FUNCIONÁRIOS","PESSOAL",2200,"DIRETORIA COLEGIADA - PRESIDÊNCIA"]
[null,null,null,27807.4,55523.74,0,0,0,16666.227999999999,{"$f":"D701*'Série - IPCA'!$C$444/'Série - IPCA'!$C$385","v":36346.406356706095},{"$f":"E701*'Série - IPCA'!$C$444/'Série - IPCA'!$C$398","v":69437.003602480778},{"$f":"F701*'Série - IPCA'!$C$444/'Série - IPCA'!$C$411","v":0},{"$f":"G701*'Série - IPCA'!$C$444/'Série - IPCA'!$C$424","v":0},{"$f":"H701*'Série - IPCA'!$C$444/'Série - IPCA'!$C$437","v":0},21156.681991837373,null,"N","NÃO","NÃO","ENCARGOS DE GESTÃO","FUNCIONÁRIOS","PESSOAL",2120,"ASSESSORIA DA PRESIDÊNCIA"]
[null,null,null,0,4744.41,83281.8,90748.69,100994.05,55953.79,{"$f":"D702*'Série - IPCA'!$C$444/'Série - IPCA'!$C$385","v":0},{"$f":"E702*'Série - IPCA'!$C$444/'Série - IPCA'!$C$398","v":5933.2749245934401},{"$f":"F702*'Série - IPCA'!$C$444/'Série - IPCA'!$C$411","v":94630.029729802292},{"$f":"G702*'Série - IPCA'!$C$444/'Série - IPCA'!$C$424","v":97475.341648102098},{"$f":"H702*'Série - IPCA'!$C$444/'Série - IPCA'!$C$437","v":103688.48626909798},60345.426514319166,null,"N","NÃO","NÃO","ENCARGOS DE GESTÃO","FUNCIONÁRIOS","PESSOAL",2130,"ASSESSORIA DE RELAÇÕES INSTITUCIONAIS E NOVOS NEGÓCIOS"]
[null,null,null,48838.07,0,0,0,0,9767.6139999999996,{"$f":"D703*'Série - IPCA'!$C$444/'Série - IPCA'!$C$385","v":63835.106406829014},{"$f":"E703*'Série - IPCA'!$C$444/'Série - IPCA'!$C$398","v":0},{"$f":"F703*'Série - IPCA'!$C$444/'Série - IPCA'!$C$411","v":0},{"$f":"G703*'Série - IPCA'!$C$444/'Série - IPCA'!$C$424","v":0},{"$f":"H703*'Série - IPCA'!$C$444/'Série - IPCA'!$C$437","v":0},12767.021281365804,null,"N","NÃO","NÃO","ENCARGOS DE GESTÃO","FUNCIONÁRIOS","PESSOAL",2400,"DIRETORIA COLEGIADA - DTC"]
[null,null,null,25721.85,65428.7,87996.96,96989.88,104788.69,76185.216,{"$f":"D704*'Série - IPCA'!$C$444/'Série - IPCA'!$C$385","v":33620.432415336945},{"$f":"E704*'Série - IPCA'!$C$444/'Série - IPCA'!$C$398","v":81823.970748469626},{"$f":"F704*'Série - IPCA'!$C$444/'Série - IPCA'!$C$411","v":99987.691679721422},{"$f":"G704*'Série - IPCA'!$C$444/'Série - IPCA'!$C$424","v":104179.15332340803},{"$f":"H704*'Série - IPCA'!$C$444/'Série - IPCA'!$C$437","v":107584.36407116818},85439.122447620844,null,"N","NÃO","NÃO","ENCARGOS DE GESTÃO","FUNCIONÁRIOS","PESSOAL",2410,"ASSESSORIA DE SEGURANÇA DO TRABALHO"]
[null,null,null,47488.28,0,0,0,0,9497.655999999999,{"$f":"D705*'Série - IPCA'!$C$444/'Série - IPCA'!$C$385","v":62070.82726400307},{"$f":"E705*'Série - IPCA'!$C$444/'Série - IPCA'!$C$398","v":0},{"$f":"F705*'Série - IPCA'!$C$444/'Série - IPCA'!$C$411","v":0},{"$f":"G705*'Série - IPCA'!$C$444/'Série - IPCA'!$C$424","v":0},{"$f":"H705*'Série - IPCA'!$C$444/'Série - IPCA'!$C$437","v":0},12414.165452800615,null,"N","NÃO","NÃO","ENCARGOS DE GESTÃO","FUNCIONÁRIOS","PESSOAL",3100,"SMS"]
[null,null,null,96340.3,100989.83,106874.67,123179.71,123625.82,110202.06600000002,{"$f":"D706*'Série - IPCA'!$C$444/'Série - IPCA'!$C$385","v":125924.16739166454},{"$f":"E706*'Série - IPCA'!$C$444/'Série - IPCA'!$C$398","v":126296.0886554818},{"$f":"F706*'Série - IPCA'!$C$444/'Série - IPCA'!$C$411","v":121437.73548918021},{"$f":"G706*'Série - IPCA'!$C$444/'Série - IPCA'!$C$424","v":132310.27705594583},{"$f":"H706*'Série - IPCA'!$C$444/'Série - IPCA'!$C$437","v":126924.05284842005},126578.46428813848,null,"N","NÃO","NÃO","ENCARGOS DE GESTÃO","FUNCIONÁRIOS","PESSOAL",3200,"GERÊNCIA DE PLANEJAMENTO E MEIO AMBIENTE"]
[null,null,null,116148.12,100669.42,123924.29,172274.15,193409.38,141285.07199999999,{"$f":"D707*'Série - IPCA'!$C$444/'Série - IPCA'!$C$385","v":151814.50862315291},{"$f":"E707*'Série - IPCA'!$C$444/'Série - IPCA'!$C$398","v":125895.38959730828},{"$f":"F707*'Série - IPCA'!$C$444/'Série - IPCA'!$C$411","v":140810.58823109779},{"$f":"G707*'Série - IPCA'!$C$444/'Série - IPCA'!$C$424","v":185043.79102757724},{"$f":"H707*'Série - IPCA'!$C$444/'Série - IPCA'!$C$437","v":198569.37950745368},160426.73139731798,null,"N","NÃO","NÃO","ENCARGOS DE GESTÃO","FUNCIONÁRIOS","PESSOAL",3300,"GERÊNCIA JURÍDICA"]
[null,null,null,60276.2,0,0,0,0,12055.24,{"$f":"D708*'Série - IPCA'!$C$444/'Série - IPCA'!$C$385","v":78785.620332648425},{"$f":"E708*'Série - IPCA'!$C$444/'Série - IPCA'!$C$398","v":0},{"$f":"F708*'Série - IPCA'!$C$444/'Série - IPCA'!$C$411","v":0},{"$f":"G708*'Série - IPCA'!$C$444/'Série - IPCA'!$C$424","v":0},{"$f":"H708*'Série - IPCA'!$C$444/'Série - IPCA'!$C$437","v":0},15757.124066529685,null,"N","NÃO","NÃO","ENCARGOS DE GESTÃO","FUNCIONÁRIOS","PESSOAL",3400,"MARKETING"]
[null,null,null,34990.980000000003,89991.91,87209.46,99332.5,103640.37,{"$f":"AVERAGE(D709:H709)","v":83033.044000000009},{"$f":"D709*'Série - IPCA'!$C$444/'Série - IPCA'!$C$385","v":45735.896843983115},{"$f":"E709*'Série - IPCA'!$C$444/'Série - IPCA'!$C$398","v":112542.28513540562},{"$f":"F709*'Série - IPCA'!$C$444/'Série - IPCA'!$C$411","v":99092.884550045812},{"$f":"G709*'Série - IPCA'!$C$444/'Série - IPCA'!$C$424","v":106695.41757859096},{"$f":"H709*'Série - IPCA'!$C$444/'Série - IPCA'!$C$437","v":106405.40785986137},{"$f":"AVERAGE(J709:N709)","v":94094.378393577383},null,"N","NÃO","NÃO","ENCARGOS DE GESTÃO","FUNCIONÁRIOS","PESSOAL",3500,"ASSESSORIA DE COMUNICAÇÃO INSTITUCIONAL"]
[null,null,null,78906.14,94691.05,154295.6,173518.99,181162.96,136514.948,{"$f":"D710*'Série - IPCA'!$C$444/'Série - IPCA'!$C$385","v":103136.38198749762},{"$f":"E710*'Série - IPCA'!$C$444/'Série - IPCA'!$C$398","v":118418.94620161911},{"$f":"F710*'Série - IPCA'!$C$444/'Série - IPCA'!$C$411","v":175320.38470803565},{"$f":"G710*'Série - IPCA'!$C$444/'Série - IPCA'!$C$424","v":186380.90348944551},{"$f":"H710*'Série - IPCA'!$C$444/'Série - IPCA'!$C$437","v":185996.23532702317},153850.57034272424,null,"N","NÃO","NÃO","ENCARGOS DE GESTÃO","FUNCIONÁRIOS","PESSOAL",3600,"GERÊNCIA DE GOVERNANÇA, RISCO E COMPLIANCE"]
[null,null,null,0,8512.5300000000007,97565.72,106596.65,119758.68,66486.715999999986,{"$f":"D711*'Série - IPCA'!$C$444/'Série - IPCA'!$C$385","v":0},{"$f":"E711*'Série - IPCA'!$C$444/'Série - IPCA'!$C$398","v":10645.618906007154},{"$f":"F711*'Série - IPCA'!$C$444/'Série - IPCA'!$C$411","v":110860.31983229909},{"$f":"G711*'Série - IPCA'!$C$444/'Série - IPCA'!$C$424","v":114498.01509303509},{"$f":"H711*'Série - IPCA'!$C$444/'Série - IPCA'!$C$437","v":122953.74080735743},71791.538927739748,null,"N","NÃO","NÃO","ENCARGOS DE GESTÃO","FUNCIONÁRIOS","PESSOAL",3700,"GERÊNCIA DE REGULAÇÃO"]
[null,null,null,169305.79,232021.61,256238.42,287129.5,308411.5,250621.364,{"$f":"D712*'Série - IPCA'!$C$444/'Série - IPCA'!$C$385","v":221295.66381190426},{"$f":"E712*'Série - IPCA'!$C$444/'Série - IPCA'!$C$398","v":290162.1066848773},{"$f":"F712*'Série - IPCA'!$C$444/'Série - IPCA'!$C$411","v":291154.24141310068},{"$f":"G712*'Série - IPCA'!$C$444/'Série - IPCA'!$C$424","v":308412.673612685},{"$f":"H712*'Série - IPCA'!$C$444/'Série - IPCA'!$C$437","v":316639.65929658141},285532.86896382971,null,"N","NÃO","NÃO","ENCARGOS DE GESTÃO","FUNCIONÁRIOS","PESSOAL",4100,"GERÊNCIA DE SERVIÇOS CORPORATIVOS"]
[null,null,null,99479.45,97479.55,108651.89,119021.22,125290.86,109984.594,{"$f":"D713*'Série - IPCA'!$C$444/'Série - IPCA'!$C$385","v":130027.27740966885},{"$f":"E713*'Série - IPCA'!$C$444/'Série - IPCA'!$C$398","v":121906.1948009663},{"$f":"F713*'Série - IPCA'!$C$444/'Série - IPCA'!$C$411","v":123457.12485680194},{"$f":"G713*'Série - IPCA'!$C$444/'Série - IPCA'!$C$424","v":127843.543337914},{"$f":"H713*'Série - IPCA'!$C$444/'Série - IPCA'!$C$437","v":128633.51471451513},126373.53102397322,null,"N","NÃO","NÃO","ENCARGOS DE GESTÃO","FUNCIONÁRIOS","PESSOAL",4200,"GERÊNCIA FINANCEIRA"]
[null,null,null,96782.81,94846.92,96635.53,111440.18,118549.81,103651.05,{"$f":"D714*'Série - IPCA'!$C$444/'Série - IPCA'!$C$385","v":126502.56192969778},{"$f":"E714*'Série - IPCA'!$C$444/'Série - IPCA'!$C$398","v":118613.87445665953},{"$f":"F714*'Série - IPCA'!$C$444/'Série - IPCA'!$C$411","v":109803.37933204134},{"$f":"G714*'Série - IPCA'!$C$444/'Série - IPCA'!$C$424","v":119700.56668394877},{"$f":"H714*'Série - IPCA'!$C$444/'Série - IPCA'!$C$437","v":121712.61917300249},119266.60031506997,null,"N","NÃO","NÃO","ENCARGOS DE GESTÃO","FUNCIONÁRIOS","PESSOAL",4300,"GERÊNCIA DE TECNOLOGIA E SISTEMAS DE INFORMAÇÃO"]
[null,null,null,95647.96,99534.42,96990.93,113627.62,118698.56,104899.898,{"$f":"D715*'Série - IPCA'!$C$444/'Série - IPCA'!$C$385","v":125019.2258661353},{"$f":"E715*'Série - IPCA'!$C$444/'Série - IPCA'!$C$398","v":124475.978745503},{"$f":"F715*'Série - IPCA'!$C$444/'Série - IPCA'!$C$411","v":110207.20720999273},{"$f":"G715*'Série - IPCA'!$C$444/'Série - IPCA'!$C$424","v":122050.14838407826},{"$f":"H715*'Série - IPCA'!$C$444/'Série - IPCA'!$C$437","v":121865.33769783171},120723.5795807082,null,"N","NÃO","NÃO","ENCARGOS DE GESTÃO","FUNCIONÁRIOS","PESSOAL",4500,"GERÊNCIA CONTÁBIL"]
[null,null,null,52076.69,0,0,0,4739.09,11363.155999999999,{"$f":"D716*'Série - IPCA'!$C$444/'Série - IPCA'!$C$385","v":68068.231350367627},{"$f":"E716*'Série - IPCA'!$C$444/'Série - IPCA'!$C$398","v":0},{"$f":"F716*'Série - IPCA'!$C$444/'Série - IPCA'!$C$411","v":0},{"$f":"G716*'Série - IPCA'!$C$444/'Série - IPCA'!$C$424","v":0},{"$f":"H716*'Série - IPCA'!$C$444/'Série - IPCA'!$C$437","v":4865.5249333304237},14586.75125673961,null,"N","NÃO","NÃO","ENCARGOS DE GESTÃO","FUNCIONÁRIOS","PESSOAL",4600,"GERÊNCIA DE PESSOAS E CULTURA"]
[null,null,null,0,917.33,0,0,3656.87,914.83999999999992,{"$f":"D717*'Série - IPCA'!$C$444/'Série - IPCA'!$C$385","v":0},{"$f":"E717*'Série - IPCA'!$C$444/'Série - IPCA'!$C$398","v":1147.1966138207492},{"$f":"F717*'Série - IPCA'!$C$444/'Série - IPCA'!$C$411","v":0},{"$f":"G717*'Série - IPCA'!$C$444/'Série - IPCA'!$C$424","v":0},{"$f":"H717*'Série - IPCA'!$C$444/'Série - IPCA'!$C$437","v":3754.4322144015046},980.32576564445083,null,"N","NÃO","NÃO","ENCARGOS DE GESTÃO","FIXO","PESSOAL",1001,"CONSELHO DE ADMINISTRAÇÃO"]
[null,null,null,0,0,0,0,1795.15,359.03000000000003,{"$f":"D718*'Série - IPCA'!$C$444/'Série - IPCA'!$C$385","v":0},{"$f":"E718*'Série - IPCA'!$C$444/'Série - IPCA'!$C$398","v":0},{"$f":"F718*'Série - IPCA'!$C$444/'Série - IPCA'!$C$411","v":0},{"$f":"G718*'Série - IPCA'!$C$444/'Série - IPCA'!$C$424","v":0},{"$f":"H718*'Série - IPCA'!$C$444/'Série - IPCA'!$C$437","v":1843.0430914095555},368.60861828191111,null,"N","NÃO","NÃO","ENCARGOS DE GESTÃO","FIXO","PESSOAL",1002,"CONSELHO FISCAL"]
[null,null,null,0,65665.710000000006,0,806.1,717,13437.762000000002,{"$f":"D719*'Série - IPCA'!$C$444/'Série - IPCA'!$C$385","v":0},{"$f":"E719*'Série - IPCA'!$C$444/'Série - IPCA'!$C$398","v":82120.371247136049},{"$f":"F719*'Série - IPCA'!$C$444/'Série - IPCA'!$C$411","v":0},{"$f":"G719*'Série - IPCA'!$C$444/'Série - IPCA'!$C$424","v":865.85131865303083},{"$f":"H719*'Série - IPCA'!$C$444/'Série - IPCA'!$C$437","v":736.12895665579549},16744.470304488976,null,"N","NÃO","SIM","ENCARGOS DE GESTÃO","FIXO","PESSOAL",1003,"COMITÊ DE INDICAÇÃO E AVALIAÇÃO"]
[null,null,null,0,127356.02,0,0,860.43,25643.29,{"$f":"D720*'Série - IPCA'!$C$444/'Série - IPCA'!$C$385","v":0},{"$f":"E720*'Série - IPCA'!$C$444/'Série - IPCA'!$C$398","v":159269.17782443354},{"$f":"F720*'Série - IPCA'!$C$444/'Série - IPCA'!$C$411","v":0},{"$f":"G720*'Série - IPCA'!$C$444/'Série - IPCA'!$C$424","v":0},{"$f":"H720*'Série - IPCA'!$C$444/'Série - IPCA'!$C$437","v":883.38554836170999},32030.512674559053,null,"N","NÃO","SIM","ENCARGOS DE GESTÃO","FIXO","PESSOAL",1004,"COMITÊ DE AUDITORIA ESTATUTÁRIA"]
[null,null,null,597793.64,598689.89,621262.06000000006,628761.25,644862.36,618273.84,{"$f":"D721*'Série - IPCA'!$C$444/'Série - IPCA'!$C$385","v":781362.17542432866},{"$f":"E721*'Série - IPCA'!$C$444/'Série - IPCA'!$C$398","v":748710.9486626588},{"$f":"F721*'Série - IPCA'!$C$444/'Série - IPCA'!$C$411","v":705917.1056317013},{"$f":"G721*'Série - IPCA'!$C$444/'Série - IPCA'!$C$424","v":675367.5194522118},{"$f":"H721*'Série - IPCA'!$C$444/'Série - IPCA'!$C$437","v":662066.74512328301},714684.89885883674,null,"N","NÃO","NÃO","ENCARGOS DE GESTÃO","FIXO","PESSOAL",2200,"DIRETORIA COLEGIADA - PRESIDÊNCIA"]
[null,null,null,131415.98000000001,42002.43,26285.72,29651.11,39597.53,53790.554000000004,{"$f":"D722*'Série - IPCA'!$C$444/'Série - IPCA'!$C$385","v":171770.77363740446},{"$f":"E722*'Série - IPCA'!$C$444/'Série - IPCA'!$C$398","v":52527.493342900649},{"$f":"F722*'Série - IPCA'!$C$444/'Série - IPCA'!$C$411","v":29867.491637659834},{"$f":"G722*'Série - IPCA'!$C$444/'Série - IPCA'!$C$424","v":31848.967489177605},{"$f":"H722*'Série - IPCA'!$C$444/'Série - IPCA'!$C$437","v":40653.958779702312},65333.736977368979,null,"N","SIM","NÃO","OPEX","FUNCIONÁRIOS","PESSOAL",5100,"GERÊNCIA DE ENGENHARIA"]
[null,null,null,470336.72,331274.57,344553.89,315192.87,392912.74,370854.15800000005,{"$f":"D723*'Série - IPCA'!$C$444/'Série - IPCA'!$C$385","v":614766.19711300929},{"$f":"E723*'Série - IPCA'!$C$444/'Série - IPCA'!$C$398","v":414286.0965507775},{"$f":"F723*'Série - IPCA'!$C$444/'Série - IPCA'!$C$411","v":391503.84422789887},{"$f":"G723*'Série - IPCA'!$C$444/'Série - IPCA'!$C$424","v":338556.21153645118},{"$f":"H723*'Série - IPCA'!$C$444/'Série - IPCA'!$C$437","v":403395.32127331913},432501.53414029116,null,"N","SIM","NÃO","OPEX","FUNCIONÁRIOS","PESSOAL",5200,"GERÊNCIA DE OPERAÇÕES"]
[null,null,null,17737.71,3579.39,45918.28,93171.32,127446.05,57570.55,{"$f":"D724*'Série - IPCA'!$C$444/'Série - IPCA'!$C$385","v":23184.548555327332},{"$f":"E724*'Série - IPCA'!$C$444/'Série - IPCA'!$C$398","v":4476.3215936945826},{"$f":"F724*'Série - IPCA'!$C$444/'Série - IPCA'!$C$411","v":52175.243589132151},{"$f":"G724*'Série - IPCA'!$C$444/'Série - IPCA'!$C$424","v":100077.54656077846},{"$f":"H724*'Série - IPCA'!$C$444/'Série - IPCA'!$C$437","v":130846.20337015668},62151.972733817842,null,"N","SIM","NÃO","ENCARGOS DE COMERCIALIZAÇÃO","FUNCIONÁRIOS","PESSOAL",5300,"GERÊNCIA COMERCIAL"]
[null,null,null,12529.62,0,0,0,0,2505.924,{"$f":"D725*'Série - IPCA'!$C$444/'Série - IPCA'!$C$385","v":16377.175140973693},{"$f":"E725*'Série - IPCA'!$C$444/'Série - IPCA'!$C$398","v":0},{"$f":"F725*'Série - IPCA'!$C$444/'Série - IPCA'!$C$411","v":0},{"$f":"G725*'Série - IPCA'!$C$444/'Série - IPCA'!$C$424","v":0},{"$f":"H725*'Série - IPCA'!$C$444/'Série - IPCA'!$C$437","v":0},3275.4350281947386,null,"N","SIM","NÃO","ENCARGOS DE COMERCIALIZAÇÃO","FUNCIONÁRIOS","PESSOAL",5400,"GERÊNCIA COMERCIAL (inativo)"]
[null,null,null,6696.14,0,0,0,0,1339.2280000000001,{"$f":"D726*'Série - IPCA'!$C$444/'Série - IPCA'!$C$385","v":8752.3689903189061},{"$f":"E726*'Série - IPCA'!$C$444/'Série - IPCA'!$C$398","v":0},{"$f":"F726*'Série - IPCA'!$C$444/'Série - IPCA'!$C$411","v":0},{"$f":"G726*'Série - IPCA'!$C$444/'Série - IPCA'!$C$424","v":0},{"$f":"H726*'Série - IPCA'!$C$444/'Série - IPCA'!$C$437","v":0},1750.4737980637813,null,"N","SIM","NÃO","ENCARGOS DE COMERCIALIZAÇÃO","FUNCIONÁRIOS","PESSOAL",5500,"GERÊNCIA COMERCIAL (inativo)"]
[null,null,null,0,0,8139.38,107.24,4721.75,2593.674,{"$f":"D727*'Série - IPCA'!$C$444/'Série - IPCA'!$C$385","v":0},{"$f":"E727*'Série - IPCA'!$C$444/'Série - IPCA'!$C$398","v":0},{"$f":"F727*'Série - IPCA'!$C$444/'Série - IPCA'!$C$411","v":9248.4765144624416},{"$f":"G727*'Série - IPCA'!$C$444/'Série - IPCA'!$C$424","v":115.18905273830916},{"$f":"H727*'Série - IPCA'!$C$444/'Série - IPCA'!$C$437","v":4847.7223167217599},2842.2775767845023,null,"N","SIM","NÃO","ENCARGOS DE GESTÃO","FUNCIONÁRIOS","PESSOAL",1010,"GOVERNANÇA SOCIETÁRIA"]
[null,null,null,15080.2,0,0,0,0,3016.04,{"$f":"D728*'Série - IPCA'!$C$444/'Série - IPCA'!$C$385","v":19710.978989060441},{"$f":"E728*'Série - IPCA'!$C$444/'Série - IPCA'!$C$398","v":0},{"$f":"F728*'Série - IPCA'!$C$444/'Série - IPCA'!$C$411","v":0},{"$f":"G728*'Série - IPCA'!$C$444/'Série - IPCA'!$C$424","v":0},{"$f":"H728*'Série - IPCA'!$C$444/'Série - IPCA'!$C$437","v":0},3942.1957978120881,null,"N","SIM","NÃO","ENCARGOS DE GESTÃO","FUNCIONÁRIOS","PESSOAL",2100,"SECRETARIA"]
[null,null,null,890.16,2445.25,13565.83,9357.99,9522.8700000000008,7156.42,{"$f":"D729*'Série - IPCA'!$C$444/'Série - IPCA'!$C$385","v":1163.5074506241324},{"$f":"E729*'Série - IPCA'!$C$444/'Série - IPCA'!$C$398","v":3057.9862426228146},{"$f":"F729*'Série - IPCA'!$C$444/'Série - IPCA'!$C$411","v":15414.350989165025},{"$f":"G729*'Série - IPCA'!$C$444/'Série - IPCA'!$C$424","v":10051.6412125566},{"$f":"H729*'Série - IPCA'!$C$444/'Série - IPCA'!$C$437","v":9776.9321582549164},7892.8836106446979,null,"N","SIM","NÃO","ENCARGOS DE GESTÃO","FUNCIONÁRIOS","PESSOAL",2110,"ASSESSORIA DA DIRETORIA EXECUTIVA"]
[null,null,null,19050.7,27582.65,32258.14,25371.49,30490.46,26950.688000000002,{"$f":"D730*'Série - IPCA'!$C$444/'Série - IPCA'!$C$385","v":24900.727273304979},{"$f":"E730*'Série - IPCA'!$C$444/'Série - IPCA'!$C$398","v":34494.372450702467},{"$f":"F730*'Série - IPCA'!$C$444/'Série - IPCA'!$C$411","v":36653.731634380194},{"$f":"G730*'Série - IPCA'!$C$444/'Série - IPCA'!$C$424","v":27252.125136697909},{"$f":"H730*'Série - IPCA'!$C$444/'Série - IPCA'!$C$437","v":31303.919815558249},30920.975262128759,null,"N","SIM","NÃO","ENCARGOS DE GESTÃO","FUNCIONÁRIOS","PESSOAL",2410,"ASSESSORIA DE SEGURANÇA DO TRABALHO"]
[null,null,null,16984.43,0,0,0,0,3396.886,{"$f":"D731*'Série - IPCA'!$C$444/'Série - IPCA'!$C$385","v":22199.953771910703},{"$f":"E731*'Série - IPCA'!$C$444/'Série - IPCA'!$C$398","v":0},{"$f":"F731*'Série - IPCA'!$C$444/'Série - IPCA'!$C$411","v":0},{"$f":"G731*'Série - IPCA'!$C$444/'Série - IPCA'!$C$424","v":0},{"$f":"H731*'Série - IPCA'!$C$444/'Série - IPCA'!$C$437","v":0},4439.9907543821409,null,"N","SIM","NÃO","ENCARGOS DE GESTÃO","FUNCIONÁRIOS","PESSOAL",3100,"SMS"]
[null,null,null,188.38,62.99,110.18,68.680000000000007,183.94,122.83400000000002,{"$f":"D732*'Série - IPCA'!$C$444/'Série - IPCA'!$C$385","v":246.22712045988817},{"$f":"E732*'Série - IPCA'!$C$444/'Série - IPCA'!$C$398","v":78.774175819573102},{"$f":"F732*'Série - IPCA'!$C$444/'Série - IPCA'!$C$411","v":125.19345974306052},{"$f":"G732*'Série - IPCA'!$C$444/'Série - IPCA'!$C$424","v":73.770833103945108},{"$f":"H732*'Série - IPCA'!$C$444/'Série - IPCA'!$C$437","v":188.84736441738775},142.56259070877095,null,"N","SIM","NÃO","ENCARGOS DE GESTÃO","FUNCIONÁRIOS","PESSOAL",3200,"GERÊNCIA DE PLANEJAMENTO E MEIO AMBIENTE"]
[null,null,null,1182.78,21.31,1813.31,2637.4,2003.99,1531.7579999999998,{"$f":"D733*'Série - IPCA'!$C$444/'Série - IPCA'!$C$385","v":1545.9842527738958},{"$f":"E733*'Série - IPCA'!$C$444/'Série - IPCA'!$C$398","v":26.649907710987502},{"$f":"F733*'Série - IPCA'!$C$444/'Série - IPCA'!$C$411","v":2060.397100078862},{"$f":"G733*'Série - IPCA'!$C$444/'Série - IPCA'!$C$424","v":2832.8945140993715},{"$f":"H733*'Série - IPCA'!$C$444/'Série - IPCA'!$C$437","v":2057.4547668739851},1704.6761083074205,null,"N","SIM","NÃO","ENCARGOS DE GESTÃO","FUNCIONÁRIOS","PESSOAL",3300,"GERÊNCIA JURÍDICA"]
[null,null,null,4352.05,0,0,0,0,870.41000000000008,{"$f":"D734*'Série - IPCA'!$C$444/'Série - IPCA'!$C$385","v":5688.4634228551668},{"$f":"E734*'Série - IPCA'!$C$444/'Série - IPCA'!$C$398","v":0},{"$f":"F734*'Série - IPCA'!$C$444/'Série - IPCA'!$C$411","v":0},{"$f":"G734*'Série - IPCA'!$C$444/'Série - IPCA'!$C$424","v":0},{"$f":"H734*'Série - IPCA'!$C$444/'Série - IPCA'!$C$437","v":0},1137.6926845710334,null,"N","SIM","NÃO","ENCARGOS DE GESTÃO","FUNCIONÁRIOS","PESSOAL",3400,"MARKETING"]
[null,null,null,2087.48,1904.94,859.66,830.54,7050.85,2546.6940000000004,{"$f":"D735*'Série - IPCA'!$C$444/'Série - IPCA'!$C$385","v":2728.4965995201583},{"$f":"E735*'Série - IPCA'!$C$444/'Série - IPCA'!$C$398","v":2382.284148051081},{"$f":"F735*'Série - IPCA'!$C$444/'Série - IPCA'!$C$411","v":976.79986932945542},{"$f":"G735*'Série - IPCA'!$C$444/'Série - IPCA'!$C$424","v":892.10290806858723},{"$f":"H735*'Série - IPCA'!$C$444/'Série - IPCA'!$C$437","v":7238.9607448208035},2843.7288539580172,null,"N","SIM","NÃO","ENCARGOS DE GESTÃO","FUNCIONÁRIOS","PESSOAL",3500,"ASSESSORIA DE COMUNICAÇÃO INSTITUCIONAL"]
[null,null,null,5153.88,8048.88,2492.27,1581.25,2738.26,4002.9080000000004,{"$f":"D736*'Série - IPCA'!$C$444/'Série - IPCA'!$C$385","v":6736.5167830757428},{"$f":"E736*'Série - IPCA'!$C$444/'Série - IPCA'!$C$398","v":10065.786446589071},{"$f":"F736*'Série - IPCA'!$C$444/'Série - IPCA'!$C$411","v":2831.8742413671939},{"$f":"G736*'Série - IPCA'!$C$444/'Série - IPCA'!$C$424","v":1698.4585009553466},{"$f":"H736*'Série - IPCA'!$C$444/'Série - IPCA'!$C$437","v":2811.314472597348},4828.7900889169396,null,"N","SIM","NÃO","ENCARGOS DE GESTÃO","FUNCIONÁRIOS","PESSOAL",3600,"GERÊNCIA DE GOVERNANÇA, RISCO E COMPLIANCE"]
[null,null,null,4309.7299999999996,3552.7,6214.05,5511.02,8936.52,5704.8040000000001,{"$f":"D737*'Série - IPCA'!$C$444/'Série - IPCA'!$C$385","v":5633.1479342796147},{"$f":"E737*'Série - IPCA'!$C$444/'Série - IPCA'!$C$398","v":4442.943553487813},{"$f":"F737*'Série - IPCA'!$C$444/'Série - IPCA'!$C$411","v":7060.7952306803882},{"$f":"G737*'Série - IPCA'!$C$444/'Série - IPCA'!$C$424","v":5919.5185884173507},{"$f":"H737*'Série - IPCA'!$C$444/'Série - IPCA'!$C$437","v":9174.9388336592037},6446.268828104874,null,"N","SIM","NÃO","ENCARGOS DE GESTÃO","FUNCIONÁRIOS","PESSOAL",4100,"GERÊNCIA DE SERVIÇOS CORPORATIVOS"]
[null,null,null,20120.310000000001,3661.01,68974.09,29384.6,31852.59,30798.52,{"$f":"D738*'Série - IPCA'!$C$444/'Série - IPCA'!$C$385","v":26298.789648902712},{"$f":"E738*'Série - IPCA'!$C$444/'Série - IPCA'!$C$398","v":4578.3941167997355},{"$f":"F738*'Série - IPCA'!$C$444/'Série - IPCA'!$C$411","v":78372.707930016622},{"$f":"G738*'Série - IPCA'!$C$444/'Série - IPCA'!$C$424","v":31562.702714417377},{"$f":"H738*'Série - IPCA'!$C$444/'Série - IPCA'!$C$437","v":32702.390297747312},34702.996941576755,null,"N","SIM","NÃO","ENCARGOS DE GESTÃO","FUNCIONÁRIOS","PESSOAL",4200,"GERÊNCIA FINANCEIRA"]
[null,null,null,22657.34,30615.53,39057.769999999997,24411.45,50003.22,33349.061999999998,{"$f":"D739*'Série - IPCA'!$C$444/'Série - IPCA'!$C$385","v":29614.882606861887},{"$f":"E739*'Série - IPCA'!$C$444/'Série - IPCA'!$C$398","v":38287.238339885931},{"$f":"F739*'Série - IPCA'!$C$444/'Série - IPCA'!$C$411","v":44379.899765372262},{"$f":"G739*'Série - IPCA'!$C$444/'Série - IPCA'!$C$424","v":26220.92317669337},{"$f":"H739*'Série - IPCA'!$C$444/'Série - IPCA'!$C$437","v":51337.263832678109},37968.041544298314,null,"N","SIM","NÃO","ENCARGOS DE GESTÃO","FUNCIONÁRIOS","PESSOAL",4300,"GERÊNCIA DE TECNOLOGIA E SISTEMAS DE INFORMAÇÃO"]
[null,null,null,7483.16,11847.55,6976.4,2841.49,2510.7399999999998,6331.8679999999995,{"$f":"D740*'Série - IPCA'!$C$444/'Série - IPCA'!$C$385","v":9781.0645436915638},{"$f":"E740*'Série - IPCA'!$C$444/'Série - IPCA'!$C$398","v":14816.335715687939},{"$f":"F740*'Série - IPCA'!$C$444/'Série - IPCA'!$C$411","v":7927.0253453574805},{"$f":"G740*'Série - IPCA'!$C$444/'Série - IPCA'!$C$424","v":3052.1124717025182},{"$f":"H740*'Série - IPCA'!$C$444/'Série - IPCA'!$C$437","v":2577.7244304518435},7630.8525013782692,null,"N","SIM","NÃO","ENCARGOS DE GESTÃO","FUNCIONÁRIOS","PESSOAL",4500,"GERÊNCIA CONTÁBIL"]
[null,null,null,2323.71,0,0,0,666.81,598.10400000000004,{"$f":"D741*'Série - IPCA'!$C$444/'Série - IPCA'!$C$385","v":3037.2673430504656},{"$f":"E741*'Série - IPCA'!$C$444/'Série - IPCA'!$C$398","v":0},{"$f":"F741*'Série - IPCA'!$C$444/'Série - IPCA'!$C$411","v":0},{"$f":"G741*'Série - IPCA'!$C$444/'Série - IPCA'!$C$424","v":0},{"$f":"H741*'Série - IPCA'!$C$444/'Série - IPCA'!$C$437","v":684.59992968988968},744.37345454807109,null,"N","SIM","NÃO","ENCARGOS DE GESTÃO","FUNCIONÁRIOS","PESSOAL",4600,"GERÊNCIA DE PESSOAS E CULTURA"]
[null,null,null,8683.31,7666.95,11632,15078.5,15613.34,11734.819999999998,{"$f":"D742*'Série - IPCA'!$C$444/'Série - IPCA'!$C$385","v":11349.752719824564},{"$f":"E742*'Série - IPCA'!$C$444/'Série - IPCA'!$C$398","v":9588.151568500969},{"$f":"F742*'Série - IPCA'!$C$444/'Série - IPCA'!$C$411","v":13217.011469697583},{"$f":"G742*'Série - IPCA'!$C$444/'Série - IPCA'!$C$424","v":16196.178027924232},{"$f":"H742*'Série - IPCA'!$C$444/'Série - IPCA'!$C$437","v":16029.890772820358},13276.196911753539,null,"N","SIM","NÃO","OPEX","FUNCIONÁRIOS","VIAGENS_REPRESENTAÇÕES",5100,"GERÊNCIA DE ENGENHARIA"]
[null,null,null,16873.72,27159.81,7586.15,9549.24,20607.29,16355.241999999998,{"$f":"D743*'Série - IPCA'!$C$444/'Série - IPCA'!$C$385","v":22055.247303569511},{"$f":"E743*'Série - IPCA'!$C$444/'Série - IPCA'!$C$398","v":33965.576252836952},{"$f":"F743*'Série - IPCA'!$C$444/'Série - IPCA'!$C$411","v":8619.8617229063202},{"$f":"G743*'Série - IPCA'!$C$444/'Série - IPCA'!$C$424","v":10257.067418601002},{"$f":"H743*'Série - IPCA'!$C$444/'Série - IPCA'!$C$437","v":21157.075156490107},19210.96557088078,null,"N","SIM","NÃO","OPEX","FUNCIONÁRIOS","VIAGENS_REPRESENTAÇÕES",5200,"GERÊNCIA DE OPERAÇÕES"]
[null,null,null,1352,1146.3900000000001,1118.25,917.7,1798.72,1266.6120000000001,{"$f":"D744*'Série - IPCA'!$C$444/'Série - IPCA'!$C$385","v":1767.1677824703729},{"$f":"E744*'Série - IPCA'!$C$444/'Série - IPCA'!$C$398","v":1433.6549836132785},{"$f":"F744*'Série - IPCA'!$C$444/'Série - IPCA'!$C$411","v":1270.6261241393847},{"$f":"G744*'Série - IPCA'!$C$444/'Série - IPCA'!$C$424","v":985.7235518271757},{"$f":"H744*'Série - IPCA'!$C$444/'Série - IPCA'!$C$437","v":1846.7083360054567},1460.7761556111336,null,"N","SIM","NÃO","ENCARGOS DE COMERCIALIZAÇÃO","FUNCIONÁRIOS","VIAGENS_REPRESENTAÇÕES",5300,"GERÊNCIA COMERCIAL"]
[null,null,null,236.25,380,0,0,0,123.25,{"$f":"D745*'Série - IPCA'!$C$444/'Série - IPCA'!$C$385","v":308.79688506555141},{"$f":"E745*'Série - IPCA'!$C$444/'Série - IPCA'!$C$398","v":475.22125434890899},{"$f":"F745*'Série - IPCA'!$C$444/'Série - IPCA'!$C$411","v":0},{"$f":"G745*'Série - IPCA'!$C$444/'Série - IPCA'!$C$424","v":0},{"$f":"H745*'Série - IPCA'!$C$444/'Série - IPCA'!$C$437","v":0},156.80362788289207,null,"N","SIM","NÃO","ENCARGOS DE COMERCIALIZAÇÃO","FUNCIONÁRIOS","VIAGENS_REPRESENTAÇÕES",5400,"GERÊNCIA COMERCIAL (inativo)"]
[null,null,null,927.68,924.22,1114,294.52,571.20000000000005,766.32399999999996,{"$f":"D746*'Série - IPCA'!$C$444/'Série - IPCA'!$C$385","v":1212.5489707412094},{"$f":"E746*'Série - IPCA'!$C$444/'Série - IPCA'!$C$398","v":1155.813125511444},{"$f":"F746*'Série - IPCA'!$C$444/'Série - IPCA'!$C$411","v":1265.7970062966908},{"$f":"G746*'Série - IPCA'!$C$444/'Série - IPCA'!$C$424","v":316.35098668861258},{"$f":"H746*'Série - IPCA'!$C$444/'Série - IPCA'!$C$437","v":586.43913534419858},907.38984491643112,null,"N","SIM","NÃO","ENCARGOS DE GESTÃO","FUNCIONÁRIOS","VIAGENS_REPRESENTAÇÕES",1001,"CONSELHO DE ADMINISTRAÇÃO"]
[null,null,null,0,0,0,0,892.5,178.5,{"$f":"D747*'Série - IPCA'!$C$444/'Série - IPCA'!$C$385","v":0},{"$f":"E747*'Série - IPCA'!$C$444/'Série - IPCA'!$C$398","v":0},{"$f":"F747*'Série - IPCA'!$C$444/'Série - IPCA'!$C$411","v":0},{"$f":"G747*'Série - IPCA'!$C$444/'Série - IPCA'!$C$424","v":0},{"$f":"H747*'Série - IPCA'!$C$444/'Série - IPCA'!$C$437","v":916.31114897531018},183.26222979506204,null,"N","SIM","SIM","ENCARGOS DE GESTÃO","FUNCIONÁRIOS","VIAGENS_REPRESENTAÇÕES",1004,"COMITÊ DE AUDITORIA ESTATUTÁRIA"]
[null,null,null,0,196.35,0,0,1026.9000000000001,244.65,{"$f":"D748*'Série - IPCA'!$C$444/'Série - IPCA'!$C$385","v":0},{"$f":"E748*'Série - IPCA'!$C$444/'Série - IPCA'!$C$398","v":245.55182445107442},{"$f":"F748*'Série - IPCA'!$C$444/'Série - IPCA'!$C$411","v":0},{"$f":"G748*'Série - IPCA'!$C$444/'Série - IPCA'!$C$424","v":0},{"$f":"H748*'Série - IPCA'!$C$444/'Série - IPCA'!$C$437","v":1054.2968278798276},259.96973046618041,null,"N","SIM","NÃO","ENCARGOS DE GESTÃO","FUNCIONÁRIOS","VIAGENS_REPRESENTAÇÕES",1005,"AUDITORIA INTERNA"]
[null,null,null,0,0,0,1870,0,374,{"$f":"D749*'Série - IPCA'!$C$444/'Série - IPCA'!$C$385","v":0},{"$f":"E749*'Série - IPCA'!$C$444/'Série - IPCA'!$C$398","v":0},{"$f":"F749*'Série - IPCA'!$C$444/'Série - IPCA'!$C$411","v":0},{"$f":"G749*'Série - IPCA'!$C$444/'Série - IPCA'!$C$424","v":2008.611792434149},{"$f":"H749*'Série - IPCA'!$C$444/'Série - IPCA'!$C$437","v":0},401.72235848682982,null,"N","SIM","NÃO","ENCARGOS DE GESTÃO","FUNCIONÁRIOS","VIAGENS_REPRESENTAÇÕES",2100,"SECRETARIA"]
[null,null,null,0,0,745.5,7429.3,4357.74,2506.5080000000003,{"$f":"D750*'Série - IPCA'!$C$444/'Série - IPCA'!$C$385","v":0},{"$f":"E750*'Série - IPCA'!$C$444/'Série - IPCA'!$C$398","v":0},{"$f":"F750*'Série - IPCA'!$C$444/'Série - IPCA'!$C$411","v":847.08408275958971},{"$f":"G750*'Série - IPCA'!$C$444/'Série - IPCA'!$C$424","v":7979.9890853107072},{"$f":"H750*'Série - IPCA'!$C$444/'Série - IPCA'!$C$437","v":4474.0008362304407},2660.214800860148,null,"N","SIM","NÃO","ENCARGOS DE GESTÃO","FUNCIONÁRIOS","VIAGENS_REPRESENTAÇÕES",2120,"ASSESSORIA DA PRESIDÊNCIA"]
[null,null,null,0,0,0,0,2935.23,587.04600000000005,{"$f":"D751*'Série - IPCA'!$C$444/'Série - IPCA'!$C$385","v":0},{"$f":"E751*'Série - IPCA'!$C$444/'Série - IPCA'!$C$398","v":0},{"$f":"F751*'Série - IPCA'!$C$444/'Série - IPCA'!$C$411","v":0},{"$f":"G751*'Série - IPCA'!$C$444/'Série - IPCA'!$C$424","v":0},{"$f":"H751*'Série - IPCA'!$C$444/'Série - IPCA'!$C$437","v":3013.539466450196},602.70789329003924,null,"N","SIM","NÃO","ENCARGOS DE GESTÃO","FUNCIONÁRIOS","VIAGENS_REPRESENTAÇÕES",2130,"ASSESSORIA DE RELAÇÕES INSTITUCIONAIS E NOVOS NEGÓCIOS"]
[null,null,null,0,0,0,0,1670.61,334.12199999999996,{"$f":"D752*'Série - IPCA'!$C$444/'Série - IPCA'!$C$385","v":0},{"$f":"E752*'Série - IPCA'!$C$444/'Série - IPCA'!$C$398","v":0},{"$f":"F752*'Série - IPCA'!$C$444/'Série - IPCA'!$C$411","v":0},{"$f":"G752*'Série - IPCA'!$C$444/'Série - IPCA'!$C$424","v":0},{"$f":"H752*'Série - IPCA'!$C$444/'Série - IPCA'!$C$437","v":1715.1804690080032},343.03609380160066,null,"N","SIM","NÃO","ENCARGOS DE GESTÃO","FUNCIONÁRIOS","VIAGENS_REPRESENTAÇÕES",2140,"ASSESSORIA DTC"]
[null,null,null,1993.06,0,0,0,4119.99,1222.6099999999999,{"$f":"D753*'Série - IPCA'!$C$444/'Série - IPCA'!$C$385","v":2605.0824116349118},{"$f":"E753*'Série - IPCA'!$C$444/'Série - IPCA'!$C$398","v":0},{"$f":"F753*'Série - IPCA'!$C$444/'Série - IPCA'!$C$411","v":0},{"$f":"G753*'Série - IPCA'!$C$444/'Série - IPCA'!$C$424","v":0},{"$f":"H753*'Série - IPCA'!$C$444/'Série - IPCA'!$C$437","v":4229.9078662933198},1366.9980555856462,null,"N","SIM","NÃO","ENCARGOS DE GESTÃO","FUNCIONÁRIOS","VIAGENS_REPRESENTAÇÕES",2300,"DIRETORIA COLEGIADA - DAF"]
[null,null,null,13426.89,25579.9,7247.98,13237.72,30986.57,18095.811999999998,{"$f":"D754*'Série - IPCA'!$C$444/'Série - IPCA'!$C$385","v":17549.975907376938},{"$f":"E754*'Série - IPCA'!$C$444/'Série - IPCA'!$C$398","v":31989.768852946469},{"$f":"F754*'Série - IPCA'!$C$444/'Série - IPCA'!$C$411","v":8235.6116568207253},{"$f":"G754*'Série - IPCA'!$C$444/'Série - IPCA'!$C$424","v":14218.95213740181},{"$f":"H754*'Série - IPCA'!$C$444/'Série - IPCA'!$C$437","v":31813.2656128895},20761.514833487086,null,"N","SIM","NÃO","ENCARGOS DE GESTÃO","FUNCIONÁRIOS","VIAGENS_REPRESENTAÇÕES",2200,"DIRETORIA COLEGIADA - PRESIDÊNCIA"]
[null,null,null,0,0,1118.25,500.58,0,323.76599999999996,{"$f":"D755*'Série - IPCA'!$C$444/'Série - IPCA'!$C$385","v":0},{"$f":"E755*'Série - IPCA'!$C$444/'Série - IPCA'!$C$398","v":0},{"$f":"F755*'Série - IPCA'!$C$444/'Série - IPCA'!$C$411","v":1270.6261241393847},{"$f":"G755*'Série - IPCA'!$C$444/'Série - IPCA'!$C$424","v":537.68496847951144},{"$f":"H755*'Série - IPCA'!$C$444/'Série - IPCA'!$C$437","v":0},361.66221852377919,null,"N","SIM","NÃO","ENCARGOS DE GESTÃO","FUNCIONÁRIOS","VIAGENS_REPRESENTAÇÕES",2310,"ASSESSORIA DAF"]
[null,null,null,1630.65,1567.65,0,4135.74,10787.88,3624.3839999999996,{"$f":"D756*'Série - IPCA'!$C$444/'Série - IPCA'!$C$385","v":2131.384722252451},{"$f":"E756*'Série - IPCA'!$C$444/'Série - IPCA'!$C$398","v":1960.4752615264927},{"$f":"F756*'Série - IPCA'!$C$444/'Série - IPCA'!$C$411","v":0},{"$f":"G756*'Série - IPCA'!$C$444/'Série - IPCA'!$C$424","v":4442.2973980971165},{"$f":"H756*'Série - IPCA'!$C$444/'Série - IPCA'!$C$437","v":11075.691560568928},3921.9697884889974,null,"N","SIM","NÃO","ENCARGOS DE GESTÃO","FUNCIONÁRIOS","VIAGENS_REPRESENTAÇÕES",2400,"DIRETORIA COLEGIADA - DTC"]
[null,null,null,0,1431,330,199,5943.27,1580.654,{"$f":"D757*'Série - IPCA'!$C$444/'Série - IPCA'!$C$385","v":0},{"$f":"E757*'Série - IPCA'!$C$444/'Série - IPCA'!$C$398","v":1789.5831972981284},{"$f":"F757*'Série - IPCA'!$C$444/'Série - IPCA'!$C$411","v":374.96679719740393},{"$f":"G757*'Série - IPCA'!$C$444/'Série - IPCA'!$C$424","v":213.75066668149501},{"$f":"H757*'Série - IPCA'!$C$444/'Série - IPCA'!$C$437","v":6101.8314424319251},1696.0264207217904,null,"N","SIM","NÃO","ENCARGOS DE GESTÃO","FUNCIONÁRIOS","VIAGENS_REPRESENTAÇÕES",2410,"ASSESSORIA DE SEGURANÇA DO TRABALHO"]
[null,null,null,2694.6,0,268.64999999999998,0,0,592.65,{"$f":"D758*'Série - IPCA'!$C$444/'Série - IPCA'!$C$385","v":3522.0490433762325},{"$f":"E758*'Série - IPCA'!$C$444/'Série - IPCA'!$C$398","v":0},{"$f":"F758*'Série - IPCA'!$C$444/'Série - IPCA'!$C$411","v":305.25706080934111},{"$f":"G758*'Série - IPCA'!$C$444/'Série - IPCA'!$C$424","v":0},{"$f":"H758*'Série - IPCA'!$C$444/'Série - IPCA'!$C$437","v":0},765.46122083711475,null,"N","SIM","NÃO","ENCARGOS DE GESTÃO","FUNCIONÁRIOS","VIAGENS_REPRESENTAÇÕES",3100,"SMS"]
[null,null,null,4352.38,3289.61,373.75,1321.16,487.11,1964.8020000000001,{"$f":"D759*'Série - IPCA'!$C$444/'Série - IPCA'!$C$385","v":5688.8947581866869},{"$f":"E759*'Série - IPCA'!$C$444/'Série - IPCA'!$C$398","v":4113.9278697860909},{"$f":"F759*'Série - IPCA'!$C$444/'Série - IPCA'!$C$411","v":424.6783044016052},{"$f":"G759*'Série - IPCA'!$C$444/'Série - IPCA'!$C$424","v":1419.0896019744921},{"$f":"H759*'Série - IPCA'!$C$444/'Série - IPCA'!$C$437","v":500.10568490460884},2429.3392438506971,null,"N","SIM","NÃO","ENCARGOS DE GESTÃO","FUNCIONÁRIOS","VIAGENS_REPRESENTAÇÕES",3200,"GERÊNCIA DE PLANEJAMENTO E MEIO AMBIENTE"]
[null,null,null,4085.61,803.86,0,344.34,869.4,1220.6420000000001,{"$f":"D760*'Série - IPCA'!$C$444/'Série - IPCA'!$C$385","v":5340.2058903393336},{"$f":"E760*'Série - IPCA'!$C$444/'Série - IPCA'!$C$398","v":1005.2930461076684},{"$f":"F760*'Série - IPCA'!$C$444/'Série - IPCA'!$C$411","v":0},{"$f":"G760*'Série - IPCA'!$C$444/'Série - IPCA'!$C$424","v":369.86384203570844},{"$f":"H760*'Série - IPCA'!$C$444/'Série - IPCA'!$C$437","v":892.59486041359628},1521.5915277792615,null,"N","SIM","NÃO","ENCARGOS DE GESTÃO","FUNCIONÁRIOS","VIAGENS_REPRESENTAÇÕES",3300,"GERÊNCIA JURÍDICA"]
[null,null,null,0,0,0,2319.4499999999998,3871.89,1238.268,{"$f":"D761*'Série - IPCA'!$C$444/'Série - IPCA'!$C$385","v":0},{"$f":"E761*'Série - IPCA'!$C$444/'Série - IPCA'!$C$398","v":0},{"$f":"F761*'Série - IPCA'!$C$444/'Série - IPCA'!$C$411","v":0},{"$f":"G761*'Série - IPCA'!$C$444/'Série - IPCA'!$C$424","v":2491.3768031879072},{"$f":"H761*'Série - IPCA'!$C$444/'Série - IPCA'!$C$437","v":3975.1887670655615},1293.3131140506937,null,"N","SIM","NÃO","ENCARGOS DE GESTÃO","FUNCIONÁRIOS","VIAGENS_REPRESENTAÇÕES",3500,"ASSESSORIA DE COMUNICAÇÃO INSTITUCIONAL"]
[null,null,null,0,357.01,0,0,2278.31,527.06399999999996,{"$f":"D762*'Série - IPCA'!$C$444/'Série - IPCA'!$C$385","v":0},{"$f":"E762*'Série - IPCA'!$C$444/'Série - IPCA'!$C$398","v":446.47036846079999},{"$f":"F762*'Série - IPCA'!$C$444/'Série - IPCA'!$C$411","v":0},{"$f":"G762*'Série - IPCA'!$C$444/'Série - IPCA'!$C$424","v":0},{"$f":"H762*'Série - IPCA'!$C$444/'Série - IPCA'!$C$437","v":2339.093393638027},557.11275241976534,null,"N","SIM","NÃO","ENCARGOS DE GESTÃO","FUNCIONÁRIOS","VIAGENS_REPRESENTAÇÕES",3600,"GERÊNCIA DE GOVERNANÇA, RISCO E COMPLIANCE"]
[null,null,null,0,0,1118.25,325.92,4642.34,1217.3020000000001,{"$f":"D763*'Série - IPCA'!$C$444/'Série - IPCA'!$C$385","v":0},{"$f":"E763*'Série - IPCA'!$C$444/'Série - IPCA'!$C$398","v":0},{"$f":"F763*'Série - IPCA'!$C$444/'Série - IPCA'!$C$411","v":1270.6261241393847},{"$f":"G763*'Série - IPCA'!$C$444/'Série - IPCA'!$C$424","v":350.07847881825552},{"$f":"H763*'Série - IPCA'!$C$444/'Série - IPCA'!$C$437","v":4766.1937247440246},1277.379665540333,null,"N","SIM","NÃO","ENCARGOS DE GESTÃO","FUNCIONÁRIOS","VIAGENS_REPRESENTAÇÕES",3700,"GERÊNCIA DE REGULAÇÃO"]
[null,null,null,1263.29,584.42999999999995,0,900.9,787.94,707.31200000000001,{"$f":"D764*'Série - IPCA'!$C$444/'Série - IPCA'!$C$385","v":1651.2170028971873},{"$f":"E764*'Série - IPCA'!$C$444/'Série - IPCA'!$C$398","v":730.87778336613917},{"$f":"F764*'Série - IPCA'!$C$444/'Série - IPCA'!$C$411","v":0},{"$f":"G764*'Série - IPCA'!$C$444/'Série - IPCA'!$C$424","v":967.67826941386363},{"$f":"H764*'Série - IPCA'!$C$444/'Série - IPCA'!$C$437","v":808.96157616090318},831.7469263676187,null,"N","SIM","NÃO","ENCARGOS DE GESTÃO","FUNCIONÁRIOS","VIAGENS_REPRESENTAÇÕES",4100,"GERÊNCIA DE SERVIÇOS CORPORATIVOS"]
[null,null,null,1290.1400000000001,714.02,0,0,19088.57,4218.5460000000003,{"$f":"D765*'Série - IPCA'!$C$444/'Série - IPCA'!$C$385","v":1686.3120139617802},{"$f":"E765*'Série - IPCA'!$C$444/'Série - IPCA'!$C$398","v":892.94073692159998},{"$f":"F765*'Série - IPCA'!$C$444/'Série - IPCA'!$C$411","v":0},{"$f":"G765*'Série - IPCA'!$C$444/'Série - IPCA'!$C$424","v":0},{"$f":"H765*'Série - IPCA'!$C$444/'Série - IPCA'!$C$437","v":19597.83698486906},4435.4179471504885,null,"N","SIM","NÃO","ENCARGOS DE GESTÃO","FUNCIONÁRIOS","VIAGENS_REPRESENTAÇÕES",4200,"GERÊNCIA FINANCEIRA"]
[null,null,null,4520.6000000000004,1996.4,0,0,0,1303.4000000000001,{"$f":"D766*'Série - IPCA'!$C$444/'Série - IPCA'!$C$385","v":5908.7712111209821},{"$f":"E766*'Série - IPCA'!$C$444/'Série - IPCA'!$C$398","v":2496.6624004793734},{"$f":"F766*'Série - IPCA'!$C$444/'Série - IPCA'!$C$411","v":0},{"$f":"G766*'Série - IPCA'!$C$444/'Série - IPCA'!$C$424","v":0},{"$f":"H766*'Série - IPCA'!$C$444/'Série - IPCA'!$C$437","v":0},1681.0867223200712,null,"N","SIM","NÃO","ENCARGOS DE GESTÃO","FUNCIONÁRIOS","VIAGENS_REPRESENTAÇÕES",4300,"GERÊNCIA DE TECNOLOGIA E SISTEMAS DE INFORMAÇÃO"]
[null,null,null,1972.25,0,0,0,985.3,591.51,{"$f":"D767*'Série - IPCA'!$C$444/'Série - IPCA'!$C$385","v":2577.8821442138997},{"$f":"E767*'Série - IPCA'!$C$444/'Série - IPCA'!$C$398","v":0},{"$f":"F767*'Série - IPCA'!$C$444/'Série - IPCA'!$C$411","v":0},{"$f":"G767*'Série - IPCA'!$C$444/'Série - IPCA'!$C$424","v":0},{"$f":"H767*'Série - IPCA'!$C$444/'Série - IPCA'!$C$437","v":1011.5869748855722},717.89382381989435,null,"N","SIM","NÃO","ENCARGOS DE GESTÃO","FUNCIONÁRIOS","VIAGENS_REPRESENTAÇÕES",4500,"GERÊNCIA CONTÁBIL"]
[null,null,null,0,0,8935.92,0,0,1787.184,{"$f":"D768*'Série - IPCA'!$C$444/'Série - IPCA'!$C$385","v":0},{"$f":"E768*'Série - IPCA'!$C$444/'Série - IPCA'!$C$398","v":0},{"$f":"F768*'Série - IPCA'!$C$444/'Série - IPCA'!$C$411","v":10153.555461855231},{"$f":"G768*'Série - IPCA'!$C$444/'Série - IPCA'!$C$424","v":0},{"$f":"H768*'Série - IPCA'!$C$444/'Série - IPCA'!$C$437","v":0},2030.7110923710461,null,"N","NÃO","SIM","OPEX","FIXO","DESPESAS_GERAIS",3300,"GERÊNCIA JURÍDICA"]
[null,null,null,0,0,2869.76,0,0,573.952,{"$f":"D769*'Série - IPCA'!$C$444/'Série - IPCA'!$C$385","v":0},{"$f":"E769*'Série - IPCA'!$C$444/'Série - IPCA'!$C$398","v":0},{"$f":"F769*'Série - IPCA'!$C$444/'Série - IPCA'!$C$411","v":3260.8021694703702},{"$f":"G769*'Série - IPCA'!$C$444/'Série - IPCA'!$C$424","v":0},{"$f":"H769*'Série - IPCA'!$C$444/'Série - IPCA'!$C$437","v":0},652.160433894074,null,"N","NÃO","SIM","OPEX","FIXO","PESSOAL",5100,"GERÊNCIA DE ENGENHARIA"]
[null,null,null,0,0,-812.12,0,0,-162.42400000000001,{"$f":"D770*'Série - IPCA'!$C$444/'Série - IPCA'!$C$385","v":0},{"$f":"E770*'Série - IPCA'!$C$444/'Série - IPCA'!$C$398","v":0},{"$f":"F770*'Série - IPCA'!$C$444/'Série - IPCA'!$C$411","v":-922.78192527259296},{"$f":"G770*'Série - IPCA'!$C$444/'Série - IPCA'!$C$424","v":0},{"$f":"H770*'Série - IPCA'!$C$444/'Série - IPCA'!$C$437","v":0},-184.55638505451859,null,"N","SIM","NÃO","ENCARGOS DE COMERCIALIZAÇÃO","VOLUME S/ TERMOELÉTRICA","MATERIAIS_MANUTENÇÃO",5300,"GERÊNCIA COMERCIAL"]
[null,null,null,0,0,1016453.67,0,0,203290.734,{"$f":"D771*'Série - IPCA'!$C$444/'Série - IPCA'!$C$385","v":0},{"$f":"E771*'Série - IPCA'!$C$444/'Série - IPCA'!$C$398","v":0},{"$f":"F771*'Série - IPCA'!$C$444/'Série - IPCA'!$C$411","v":1154958.7186043847},{"$f":"G771*'Série - IPCA'!$C$444/'Série - IPCA'!$C$424","v":0},{"$f":"H771*'Série - IPCA'!$C$444/'Série - IPCA'!$C$437","v":0},230991.74372087693,null,"N","SIM","NÃO","ENCARGOS DE COMERCIALIZAÇÃO","VOLUME S/ TERMOELÉTRICA","MATERIAIS_MANUTENÇÃO",5300,"GERÊNCIA COMERCIAL"]
[null,null,null,693673.72,580015.04,335210.94,379652.94,435045.99,484719.72599999997,{"$f":"D772*'Série - IPCA'!$C$444/'Série - IPCA'!$C$385","v":906684.79994850163},{"$f":"E772*'Série - IPCA'!$C$444/'Série - IPCA'!$C$398","v":725356.51276324387},{"$f":"F772*'Série - IPCA'!$C$444/'Série - IPCA'!$C$411","v":380887.79562827619},{"$f":"G772*'Série - IPCA'!$C$444/'Série - IPCA'!$C$424","v":407794.31674668152},{"$f":"H772*'Série - IPCA'!$C$444/'Série - IPCA'!$C$437","v":446652.65092885302},573475.21520311129,null,"N","SIM","NÃO","OPEX","FUNCIONÁRIOS","PESSOAL",5100,"GERÊNCIA DE ENGENHARIA"]
[null,null,null,1193490.71,1096345.23,1241377.3400000001,1339091.3899999999,1382048.76,{"$f":"AVERAGE(D773:H773)","v":1250470.686},{"$f":"D773*'Série - IPCA'!$C$444/'Série - IPCA'!$C$385","v":1559983.9729213687},{"$f":"E773*'Série - IPCA'!$C$444/'Série - IPCA'!$C$398","v":1371069.8826316923},{"$f":"F773*'Série - IPCA'!$C$444/'Série - IPCA'!$C$411","v":1410531.1675552509},{"$f":"G773*'Série - IPCA'!$C$444/'Série - IPCA'!$C$424","v":1438350.137487185},{"$f":"H773*'Série - IPCA'!$C$444/'Série - IPCA'!$C$437","v":1418920.657944541},{"$f":"AVERAGE(J773:N773)","v":1439771.1637080077},null,"N","SIM","NÃO","OPEX","FUNCIONÁRIOS","PESSOAL",5200,"GERÊNCIA DE OPERAÇÕES"]
[null,null,null,398996.37,586859.51,900520.26,934374.85,1042556.37,772661.47200000007,{"$f":"D774*'Série - IPCA'!$C$444/'Série - IPCA'!$C$385","v":521518.88342206238},{"$f":"E774*'Série - IPCA'!$C$444/'Série - IPCA'!$C$398","v":733916.08544417401},{"$f":"F774*'Série - IPCA'!$C$444/'Série - IPCA'!$C$411","v":1023227.8718290105},{"$f":"G774*'Série - IPCA'!$C$444/'Série - IPCA'!$C$424","v":1003634.4076277482},{"$f":"H774*'Série - IPCA'!$C$444/'Série - IPCA'!$C$437","v":1070370.8966568387},870533.62899596686,null,"N","SIM","NÃO","ENCARGOS DE COMERCIALIZAÇÃO","FUNCIONÁRIOS","PESSOAL",5300,"GERÊNCIA COMERCIAL"]
[null,null,null,177701.22,0,0,0,0,35540.243999999999,{"$f":"D775*'Série - IPCA'!$C$444/'Série - IPCA'!$C$385","v":232269.13527343181},{"$f":"E775*'Série - IPCA'!$C$444/'Série - IPCA'!$C$398","v":0},{"$f":"F775*'Série - IPCA'!$C$444/'Série - IPCA'!$C$411","v":0},{"$f":"G775*'Série - IPCA'!$C$444/'Série - IPCA'!$C$424","v":0},{"$f":"H775*'Série - IPCA'!$C$444/'Série - IPCA'!$C$437","v":0},46453.827054686364,null,"N","SIM","NÃO","ENCARGOS DE COMERCIALIZAÇÃO","FUNCIONÁRIOS","PESSOAL",5400,"GERÊNCIA COMERCIAL (inativo)"]
[null,null,null,107821.05,0,0,0,0,21564.21,{"$f":"D776*'Série - IPCA'!$C$444/'Série - IPCA'!$C$385","v":140930.38892908813},{"$f":"E776*'Série - IPCA'!$C$444/'Série - IPCA'!$C$398","v":0},{"$f":"F776*'Série - IPCA'!$C$444/'Série - IPCA'!$C$411","v":0},{"$f":"G776*'Série - IPCA'!$C$444/'Série - IPCA'!$C$424","v":0},{"$f":"H776*'Série - IPCA'!$C$444/'Série - IPCA'!$C$437","v":0},28186.077785817626,null,"N","SIM","NÃO","ENCARGOS DE COMERCIALIZAÇÃO","FUNCIONÁRIOS","PESSOAL",5500,"GERÊNCIA COMERCIAL (inativo)"]
[null,null,null,0,57768.91,146136.87,146743.26999999999,154634.38,101056.686,{"$f":"D777*'Série - IPCA'!$C$444/'Série - IPCA'!$C$385","v":0},{"$f":"E777*'Série - IPCA'!$C$444/'Série - IPCA'!$C$398","v":72244.773348866409},{"$f":"F777*'Série - IPCA'!$C$444/'Série - IPCA'!$C$411","v":166049.92150410116},{"$f":"G777*'Série - IPCA'!$C$444/'Série - IPCA'!$C$424","v":157620.46127398303},{"$f":"H777*'Série - IPCA'!$C$444/'Série - IPCA'!$C$437","v":158759.8951360053},110935.01025259118,null,"N","SIM","NÃO","ENCARGOS DE GESTÃO","FUNCIONÁRIOS","PESSOAL",1001,"CONSELHO DE ADMINISTRAÇÃO"]
[null,null,null,0,13759.95,34438.28,33662.959999999999,38984.26,24169.090000000004,{"$f":"D778*'Série - IPCA'!$C$444/'Série - IPCA'!$C$385","v":0},{"$f":"E778*'Série - IPCA'!$C$444/'Série - IPCA'!$C$398","v":17207.949207311238},{"$f":"F778*'Série - IPCA'!$C$444/'Série - IPCA'!$C$411","v":39130.944098749729},{"$f":"G778*'Série - IPCA'!$C$444/'Série - IPCA'!$C$424","v":36158.191670716071},{"$f":"H778*'Série - IPCA'!$C$444/'Série - IPCA'!$C$437","v":40024.327252159361},26504.282445787278,null,"N","SIM","NÃO","ENCARGOS DE GESTÃO","FUNCIONÁRIOS","PESSOAL",1002,"CONSELHO FISCAL"]
[null,null,null,0,8684.07,25930.720000000001,28729.64,30310.44,18730.973999999998,{"$f":"D779*'Série - IPCA'!$C$444/'Série - IPCA'!$C$385","v":0},{"$f":"E779*'Série - IPCA'!$C$444/'Série - IPCA'!$C$398","v":10860.143784878237},{"$f":"F779*'Série - IPCA'!$C$444/'Série - IPCA'!$C$411","v":29464.118264917171},{"$f":"G779*'Série - IPCA'!$C$444/'Série - IPCA'!$C$424","v":30859.194490046964},{"$f":"H779*'Série - IPCA'!$C$444/'Série - IPCA'!$C$437","v":31119.097033442242},20460.510714656924,null,"N","SIM","SIM","ENCARGOS DE GESTÃO","FUNCIONÁRIOS","PESSOAL",1003,"COMITÊ DE INDICAÇÃO E AVALIAÇÃO"]
[null,null,null,0,13759.95,34373.79,31986.26,36372.49,23298.498,{"$f":"D780*'Série - IPCA'!$C$444/'Série - IPCA'!$C$385","v":0},{"$f":"E780*'Série - IPCA'!$C$444/'Série - IPCA'!$C$398","v":17207.949207311238},{"$f":"F780*'Série - IPCA'!$C$444/'Série - IPCA'!$C$411","v":39057.66649647319},{"$f":"G780*'Série - IPCA'!$C$444/'Série - IPCA'!$C$424","v":34357.208038430326},{"$f":"H780*'Série - IPCA'!$C$444/'Série - IPCA'!$C$437","v":37342.877426322666},25593.140233707483,null,"N","SIM","SIM","ENCARGOS DE GESTÃO","FUNCIONÁRIOS","PESSOAL",1004,"COMITÊ DE AUDITORIA ESTATUTÁRIA"]
[null,null,null,0,76662.97,91975.89,102362.5,108545.18,75909.30799999999,{"$f":"D781*'Série - IPCA'!$C$444/'Série - IPCA'!$C$385","v":0},{"$f":"E781*'Série - IPCA'!$C$444/'Série - IPCA'!$C$398","v":95873.349382928369},{"$f":"F781*'Série - IPCA'!$C$444/'Série - IPCA'!$C$411","v":104508.80270509313},{"$f":"G781*'Série - IPCA'!$C$444/'Série - IPCA'!$C$424","v":109950.01315670619},{"$f":"H781*'Série - IPCA'!$C$444/'Série - IPCA'!$C$437","v":111441.07406334103},84354.647861613746,null,"N","SIM","NÃO","ENCARGOS DE GESTÃO","FUNCIONÁRIOS","PESSOAL",1005,"AUDITORIA INTERNA"]
[null,null,null,0,0,106296.73,96436.72,82197.56,56986.202000000005,{"$f":"D782*'Série - IPCA'!$C$444/'Série - IPCA'!$C$385","v":0},{"$f":"E782*'Série - IPCA'!$C$444/'Série - IPCA'!$C$398","v":0},{"$f":"F782*'Série - IPCA'!$C$444/'Série - IPCA'!$C$411","v":120781.04363835516},{"$f":"G782*'Série - IPCA'!$C$444/'Série - IPCA'!$C$424","v":103584.99091747067},{"$f":"H782*'Série - IPCA'!$C$444/'Série - IPCA'!$C$437","v":84390.521732848181},61751.3112577348,null,"N","SIM","NÃO","ENCARGOS DE GESTÃO","FUNCIONÁRIOS","PESSOAL",1010,"GOVERNANÇA SOCIETÁRIA"]
[null,null,null,58223.3,0,0,0,0,11644.66,{"$f":"D783*'Série - IPCA'!$C$444/'Série - IPCA'!$C$385","v":76102.32244756454},{"$f":"E783*'Série - IPCA'!$C$444/'Série - IPCA'!$C$398","v":0},{"$f":"F783*'Série - IPCA'!$C$444/'Série - IPCA'!$C$411","v":0},{"$f":"G783*'Série - IPCA'!$C$444/'Série - IPCA'!$C$424","v":0},{"$f":"H783*'Série - IPCA'!$C$444/'Série - IPCA'!$C$437","v":0},15220.464489512908,null,"N","SIM","NÃO","ENCARGOS DE GESTÃO","FUNCIONÁRIOS","PESSOAL",2100,"SECRETARIA"]
[null,null,null,0,41498.839999999997,54235.07,39462.160000000003,25913.3,32221.874,{"$f":"D784*'Série - IPCA'!$C$444/'Série - IPCA'!$C$385","v":0},{"$f":"E784*'Série - IPCA'!$C$444/'Série - IPCA'!$C$398","v":51897.712628485991},{"$f":"F784*'Série - IPCA'!$C$444/'Série - IPCA'!$C$411","v":61625.304526293956},{"$f":"G784*'Série - IPCA'!$C$444/'Série - IPCA'!$C$424","v":42387.251299958923},{"$f":"H784*'Série - IPCA'!$C$444/'Série - IPCA'!$C$437","v":26604.645038366281},36502.982698621039,null,"N","SIM","NÃO","ENCARGOS DE GESTÃO","FUNCIONÁRIOS","PESSOAL",2110,"ASSESSORIA DA DIRETORIA EXECUTIVA"]
[null,null,null,0,43562.94,145587,159774.35999999999,168487.69,103482.398,{"$f":"D785*'Série - IPCA'!$C$444/'Série - IPCA'!$C$385","v":0},{"$f":"E785*'Série - IPCA'!$C$444/'Série - IPCA'!$C$398","v":54479.039447174378},{"$f":"F785*'Série - IPCA'!$C$444/'Série - IPCA'!$C$411","v":165425.12455629834},{"$f":"G785*'Série - IPCA'!$C$444/'Série - IPCA'!$C$424","v":171617.4671789406},{"$f":"H785*'Série - IPCA'!$C$444/'Série - IPCA'!$C$437","v":172982.79978946317},112900.8861943753,null,"N","SIM","NÃO","ENCARGOS DE GESTÃO","FUNCIONÁRIOS","PESSOAL",2120,"ASSESSORIA DA PRESIDÊNCIA"]
[null,null,null,0,10086.83,67310.97,74743.75,79127.41,46253.792000000001,{"$f":"D786*'Série - IPCA'!$C$444/'Série - IPCA'!$C$385","v":0},{"$f":"E786*'Série - IPCA'!$C$444/'Série - IPCA'!$C$398","v":12614.410539484752},{"$f":"F786*'Série - IPCA'!$C$444/'Série - IPCA'!$C$411","v":76482.966173183464},{"$f":"G786*'Série - IPCA'!$C$444/'Série - IPCA'!$C$424","v":80284.052224999963},{"$f":"H786*'Série - IPCA'!$C$444/'Série - IPCA'!$C$437","v":81238.462714331035},50123.978330399841,null,"N","SIM","NÃO","ENCARGOS DE GESTÃO","FUNCIONÁRIOS","PESSOAL",2130,"ASSESSORIA DE RELAÇÕES INSTITUCIONAIS E NOVOS NEGÓCIOS"]
[null,null,null,0,0,0,0,71974.399999999994,14394.88,{"$f":"D787*'Série - IPCA'!$C$444/'Série - IPCA'!$C$385","v":0},{"$f":"E787*'Série - IPCA'!$C$444/'Série - IPCA'!$C$398","v":0},{"$f":"F787*'Série - IPCA'!$C$444/'Série - IPCA'!$C$411","v":0},{"$f":"G787*'Série - IPCA'!$C$444/'Série - IPCA'!$C$424","v":0},{"$f":"H787*'Série - IPCA'!$C$444/'Série - IPCA'!$C$437","v":73894.616426676264},14778.923285335253,null,"N","SIM","NÃO","ENCARGOS DE GESTÃO","FUNCIONÁRIOS","PESSOAL",2140,"ASSESSORIA DTC"]
[null,null,null,0,55039.81,124252.4,125752.25,131488.47,87306.585999999981,{"$f":"D788*'Série - IPCA'!$C$444/'Série - IPCA'!$C$385","v":0},{"$f":"E788*'Série - IPCA'!$C$444/'Série - IPCA'!$C$398","v":68831.809335067432},{"$f":"F788*'Série - IPCA'!$C$444/'Série - IPCA'!$C$411","v":141183.40749118396},{"$f":"G788*'Série - IPCA'!$C$444/'Série - IPCA'!$C$424","v":135073.50389044234},{"$f":"H788*'Série - IPCA'!$C$444/'Série - IPCA'!$C$437","v":134996.47173412394},96017.038490163541,null,"N","SIM","NÃO","ENCARGOS DE GESTÃO","FUNCIONÁRIOS","PESSOAL",2200,"DIRETORIA COLEGIADA - PRESIDÊNCIA"]
[null,null,null,0,54095.06,48986.59,0,0,20616.329999999998,{"$f":"D789*'Série - IPCA'!$C$444/'Série - IPCA'!$C$385","v":0},{"$f":"E789*'Série - IPCA'!$C$444/'Série - IPCA'!$C$398","v":67650.321755998666},{"$f":"F789*'Série - IPCA'!$C$444/'Série - IPCA'!$C$411","v":55661.650781582954},{"$f":"G789*'Série - IPCA'!$C$444/'Série - IPCA'!$C$424","v":0},{"$f":"H789*'Série - IPCA'!$C$444/'Série - IPCA'!$C$437","v":0},24662.394507516325,null,"N","SIM","NÃO","ENCARGOS DE GESTÃO","FUNCIONÁRIOS","PESSOAL",2300,"DIRETORIA COLEGIADA - DAF"]
[null,null,null,38922.35,0,0,0,0,7784.4699999999993,{"$f":"D790*'Série - IPCA'!$C$444/'Série - IPCA'!$C$385","v":50874.499214523457},{"$f":"E790*'Série - IPCA'!$C$444/'Série - IPCA'!$C$398","v":0},{"$f":"F790*'Série - IPCA'!$C$444/'Série - IPCA'!$C$411","v":0},{"$f":"G790*'Série - IPCA'!$C$444/'Série - IPCA'!$C$424","v":0},{"$f":"H790*'Série - IPCA'!$C$444/'Série - IPCA'!$C$437","v":0},10174.899842904691,null,"N","SIM","NÃO","ENCARGOS DE GESTÃO","FUNCIONÁRIOS","PESSOAL",2400,"DIRETORIA COLEGIADA - DTC"]
[null,null,null,58034.66,165985.62,210701.33,238356.42,272394.62,189094.53,{"$f":"D791*'Série - IPCA'!$C$444/'Série - IPCA'!$C$385","v":75855.755487146482},{"$f":"E791*'Série - IPCA'!$C$444/'Série - IPCA'!$C$398","v":207578.66984284567},{"$f":"F791*'Série - IPCA'!$C$444/'Série - IPCA'!$C$411","v":239412.12992525235},{"$f":"G791*'Série - IPCA'!$C$444/'Série - IPCA'!$C$424","v":256024.34011464537},{"$f":"H791*'Série - IPCA'!$C$444/'Série - IPCA'!$C$437","v":279661.87924581848},211706.55492314167,null,"N","SIM","NÃO","ENCARGOS DE GESTÃO","FUNCIONÁRIOS","PESSOAL",2410,"ASSESSORIA DE SEGURANÇA DO TRABALHO"]
[null,null,null,108868.99,0,0,0,0,21773.798000000003,{"$f":"D792*'Série - IPCA'!$C$444/'Série - IPCA'!$C$385","v":142300.1269512494},{"$f":"E792*'Série - IPCA'!$C$444/'Série - IPCA'!$C$398","v":0},{"$f":"F792*'Série - IPCA'!$C$444/'Série - IPCA'!$C$411","v":0},{"$f":"G792*'Série - IPCA'!$C$444/'Série - IPCA'!$C$424","v":0},{"$f":"H792*'Série - IPCA'!$C$444/'Série - IPCA'!$C$437","v":0},28460.025390249881,null,"N","SIM","NÃO","ENCARGOS DE GESTÃO","FUNCIONÁRIOS","PESSOAL",3100,"SMS"]
[null,null,null,168772.49,207484.6,224226.17,236832.17,256615.87,218786.26,{"$f":"D793*'Série - IPCA'!$C$444/'Série - IPCA'!$C$385","v":220598.59977463249},{"$f":"E793*'Série - IPCA'!$C$444/'Série - IPCA'!$C$398","v":259476.55755284644},{"$f":"F793*'Série - IPCA'!$C$444/'Série - IPCA'!$C$411","v":254779.90549315343},{"$f":"G793*'Série - IPCA'!$C$444/'Série - IPCA'!$C$424","v":254387.10667902092},{"$f":"H793*'Série - IPCA'!$C$444/'Série - IPCA'!$C$437","v":263462.16547338804},250540.86699460828,null,"N","SIM","NÃO","ENCARGOS DE GESTÃO","FUNCIONÁRIOS","PESSOAL",3200,"GERÊNCIA DE PLANEJAMENTO E MEIO AMBIENTE"]
[null,null,null,155828.4,139691.71,155145.29,170722.78,179490.6,160175.75599999999,{"$f":"D794*'Série - IPCA'!$C$444/'Série - IPCA'!$C$385","v":203679.68052803716},{"$f":"E794*'Série - IPCA'!$C$444/'Série - IPCA'!$C$398","v":174695.97275880008},{"$f":"F794*'Série - IPCA'!$C$444/'Série - IPCA'!$C$411","v":176285.85603503766},{"$f":"G794*'Série - IPCA'!$C$444/'Série - IPCA'!$C$424","v":183377.42735034274},{"$f":"H794*'Série - IPCA'!$C$444/'Série - IPCA'!$C$437","v":184279.25816948779},184463.63896834111,null,"N","SIM","NÃO","ENCARGOS DE GESTÃO","FUNCIONÁRIOS","PESSOAL",3300,"GERÊNCIA JURÍDICA"]
[null,null,null,107694.73,0,0,0,0,21538.946,{"$f":"D795*'Série - IPCA'!$C$444/'Série - IPCA'!$C$385","v":140765.27899248927},{"$f":"E795*'Série - IPCA'!$C$444/'Série - IPCA'!$C$398","v":0},{"$f":"F795*'Série - IPCA'!$C$444/'Série - IPCA'!$C$411","v":0},{"$f":"G795*'Série - IPCA'!$C$444/'Série - IPCA'!$C$424","v":0},{"$f":"H795*'Série - IPCA'!$C$444/'Série - IPCA'!$C$437","v":0},28153.055798497855,null,"N","SIM","NÃO","ENCARGOS DE GESTÃO","FUNCIONÁRIOS","PESSOAL",3400,"MARKETING"]
[null,null,null,61773.48,125762.78,162393.71,152353.35999999999,136933.79,127843.424,{"$f":"D796*'Série - IPCA'!$C$444/'Série - IPCA'!$C$385","v":80742.680227128643},{"$f":"E796*'Série - IPCA'!$C$444/'Série - IPCA'!$C$398","v":157276.70016317337},{"$f":"F796*'Série - IPCA'!$C$444/'Série - IPCA'!$C$411","v":184521.96764758797},{"$f":"G796*'Série - IPCA'!$C$444/'Série - IPCA'!$C$424","v":163646.39332244126},{"$f":"H796*'Série - IPCA'!$C$444/'Série - IPCA'!$C$437","v":140587.06828957296},145354.96192998084,null,"N","SIM","NÃO","ENCARGOS DE GESTÃO","FUNCIONÁRIOS","PESSOAL",3500,"ASSESSORIA DE COMUNICAÇÃO INSTITUCIONAL"]
[null,null,null,166038.15,260009.52,245098.68,320738.71999999997,294116.65999999997,257200.34599999999,{"$f":"D797*'Série - IPCA'!$C$444/'Série - IPCA'!$C$385","v":217024.60750072711},{"$f":"E797*'Série - IPCA'!$C$444/'Série - IPCA'!$C$398","v":325163.29009752034},{"$f":"F797*'Série - IPCA'!$C$444/'Série - IPCA'!$C$411","v":278496.56677851942},{"$f":"G797*'Série - IPCA'!$C$444/'Série - IPCA'!$C$424","v":344513.1418621575},{"$f":"H797*'Série - IPCA'!$C$444/'Série - IPCA'!$C$437","v":301963.44499426405},293432.2102466377,null,"N","SIM","NÃO","ENCARGOS DE GESTÃO","FUNCIONÁRIOS","PESSOAL",3600,"GERÊNCIA DE GOVERNANÇA, RISCO E COMPLIANCE"]
[null,null,null,0,11156.2,79260.45,88293.28,93217.29,54385.443999999996,{"$f":"D798*'Série - IPCA'!$C$444/'Série - IPCA'!$C$385","v":0},{"$f":"E798*'Série - IPCA'!$C$444/'Série - IPCA'!$C$398","v":13951.745678334995},{"$f":"F798*'Série - IPCA'!$C$444/'Série - IPCA'!$C$411","v":90060.718427045373},{"$f":"G798*'Série - IPCA'!$C$444/'Série - IPCA'!$C$424","v":94837.926952240741},{"$f":"H798*'Série - IPCA'!$C$444/'Série - IPCA'!$C$437","v":95704.248856318984},58910.927982788024,null,"N","SIM","NÃO","ENCARGOS DE GESTÃO","FUNCIONÁRIOS","PESSOAL",3700,"GERÊNCIA DE REGULAÇÃO"]
[null,null,null,348367.9,515812.34,523075.37,577035.18000000005,572686,507395.35800000001,{"$f":"D799*'Série - IPCA'!$C$444/'Série - IPCA'!$C$385","v":455343.58678022231},{"$f":"E799*'Série - IPCA'!$C$444/'Série - IPCA'!$C$398","v":645065.75585117354},{"$f":"F799*'Série - IPCA'!$C$444/'Série - IPCA'!$C$411","v":594351.20055074862},{"$f":"G799*'Série - IPCA'!$C$444/'Série - IPCA'!$C$424","v":619807.3086616908},{"$f":"H799*'Série - IPCA'!$C$444/'Série - IPCA'!$C$437","v":587964.78057375294},580506.52648351772,null,"N","SIM","NÃO","ENCARGOS DE GESTÃO","FUNCIONÁRIOS","PESSOAL",4100,"GERÊNCIA DE SERVIÇOS CORPORATIVOS"]
[null,null,null,216982.1,209140.72,239488.14,246708.99,260987.03,234661.39600000001,{"$f":"D800*'Série - IPCA'!$C$444/'Série - IPCA'!$C$385","v":283612.26071950048},{"$f":"E800*'Série - IPCA'!$C$444/'Série - IPCA'!$C$398","v":261547.67182587885},{"$f":"F800*'Série - IPCA'!$C$444/'Série - IPCA'!$C$411","v":272121.51764413179},{"$f":"G800*'Série - IPCA'!$C$444/'Série - IPCA'!$C$424","v":264996.03562220238},{"$f":"H800*'Série - IPCA'!$C$444/'Série - IPCA'!$C$437","v":267949.94434392574},270045.4860311278,null,"N","SIM","NÃO","ENCARGOS DE GESTÃO","FUNCIONÁRIOS","PESSOAL",4200,"GERÊNCIA FINANCEIRA"]
[null,null,null,279810.88,283128.90000000002,282511.08,252568.32000000001,259363.57,271476.55000000005,{"$f":"D801*'Série - IPCA'!$C$444/'Série - IPCA'!$C$385","v":365734.29905376001},{"$f":"E801*'Série - IPCA'!$C$444/'Série - IPCA'!$C$398","v":354075.97631691274},{"$f":"F801*'Série - IPCA'!$C$444/'Série - IPCA'!$C$411","v":321006.89345569565},{"$f":"G801*'Série - IPCA'!$C$444/'Série - IPCA'!$C$424","v":271289.68232474959},{"$f":"H801*'Série - IPCA'!$C$444/'Série - IPCA'!$C$437","v":266283.17179724184},315678.00458967197,null,"N","SIM","NÃO","ENCARGOS DE GESTÃO","FUNCIONÁRIOS","PESSOAL",4300,"GERÊNCIA DE TECNOLOGIA E SISTEMAS DE INFORMAÇÃO"]
[null,null,null,193978.77,189508.71,208685.33,230077.31,242685.58,212987.13999999998,{"$f":"D802*'Série - IPCA'!$C$444/'Série - IPCA'!$C$385","v":253545.14262369115},{"$f":"E802*'Série - IPCA'!$C$444/'Série - IPCA'!$C$398","v":236996.22862169379},{"$f":"F802*'Série - IPCA'!$C$444/'Série - IPCA'!$C$411","v":237121.42367328278},{"$f":"G802*'Série - IPCA'!$C$444/'Série - IPCA'!$C$424","v":247131.54975268841},{"$f":"H802*'Série - IPCA'!$C$444/'Série - IPCA'!$C$437","v":249160.22705830765},244790.91434593275,null,"N","SIM","NÃO","ENCARGOS DE GESTÃO","FUNCIONÁRIOS","PESSOAL",4500,"GERÊNCIA CONTÁBIL"]
[null,null,null,110158.81,0,0,0,40483.11,30128.383999999998,{"$f":"D803*'Série - IPCA'!$C$444/'Série - IPCA'!$C$385","v":143986.02070064726},{"$f":"E803*'Série - IPCA'!$C$444/'Série - IPCA'!$C$398","v":0},{"$f":"F803*'Série - IPCA'!$C$444/'Série - IPCA'!$C$411","v":0},{"$f":"G803*'Série - IPCA'!$C$444/'Série - IPCA'!$C$424","v":0},{"$f":"H803*'Série - IPCA'!$C$444/'Série - IPCA'!$C$437","v":41563.165308900694},37109.837201909591,null,"N","SIM","NÃO","ENCARGOS DE GESTÃO","FUNCIONÁRIOS","PESSOAL",4600,"GERÊNCIA DE PESSOAS E CULTURA"]
[null,null,null,136796.98000000001,81963.520000000004,0,0,0,43752.1,{"$f":"D804*'Série - IPCA'!$C$444/'Série - IPCA'!$C$385","v":178804.15369470706},{"$f":"E804*'Série - IPCA'!$C$444/'Série - IPCA'!$C$398","v":102502.12311908392},{"$f":"F804*'Série - IPCA'!$C$444/'Série - IPCA'!$C$411","v":0},{"$f":"G804*'Série - IPCA'!$C$444/'Série - IPCA'!$C$424","v":0},{"$f":"H804*'Série - IPCA'!$C$444/'Série - IPCA'!$C$437","v":0},56261.255362758195,null,"N","SIM","NÃO","ENCARGOS DE GESTÃO","FUNCIONÁRIOS","PESSOAL",1001,"CONSELHO DE ADMINISTRAÇÃO"]
[null,null,null,33054.46,19263.93,0,0,0,10463.678,{"$f":"D805*'Série - IPCA'!$C$444/'Série - IPCA'!$C$385","v":43204.716552481972},{"$f":"E805*'Série - IPCA'!$C$444/'Série - IPCA'!$C$398","v":24091.128890235734},{"$f":"F805*'Série - IPCA'!$C$444/'Série - IPCA'!$C$411","v":0},{"$f":"G805*'Série - IPCA'!$C$444/'Série - IPCA'!$C$424","v":0},{"$f":"H805*'Série - IPCA'!$C$444/'Série - IPCA'!$C$437","v":0},13459.169088543542,null,"N","SIM","NÃO","ENCARGOS DE GESTÃO","FUNCIONÁRIOS","PESSOAL",1002,"CONSELHO FISCAL"]
[null,null,null,0,4449.0600000000004,0,0,0,889.81200000000013,{"$f":"D806*'Série - IPCA'!$C$444/'Série - IPCA'!$C$385","v":0},{"$f":"E806*'Série - IPCA'!$C$444/'Série - IPCA'!$C$398","v":5563.9154575619932},{"$f":"F806*'Série - IPCA'!$C$444/'Série - IPCA'!$C$411","v":0},{"$f":"G806*'Série - IPCA'!$C$444/'Série - IPCA'!$C$424","v":0},{"$f":"H806*'Série - IPCA'!$C$444/'Série - IPCA'!$C$437","v":0},1112.7830915123986,null,"N","SIM","SIM","ENCARGOS DE GESTÃO","FUNCIONÁRIOS","PESSOAL",1003,"COMITÊ DE INDICAÇÃO E AVALIAÇÃO"]
[null,null,null,0,11711.26,0,0,0,2342.252,{"$f":"D807*'Série - IPCA'!$C$444/'Série - IPCA'!$C$385","v":0},{"$f":"E807*'Série - IPCA'!$C$444/'Série - IPCA'!$C$398","v":14645.89386106896},{"$f":"F807*'Série - IPCA'!$C$444/'Série - IPCA'!$C$411","v":0},{"$f":"G807*'Série - IPCA'!$C$444/'Série - IPCA'!$C$424","v":0},{"$f":"H807*'Série - IPCA'!$C$444/'Série - IPCA'!$C$437","v":0},2929.1787722137919,null,"N","SIM","SIM","ENCARGOS DE GESTÃO","FUNCIONÁRIOS","PESSOAL",1004,"COMITÊ DE AUDITORIA ESTATUTÁRIA"]
[null,null,null,31599.83,41377.53,0,0,0,14595.472,{"$f":"D808*'Série - IPCA'!$C$444/'Série - IPCA'!$C$385","v":41303.403481908848},{"$f":"E808*'Série - IPCA'!$C$444/'Série - IPCA'!$C$398","v":51746.004495946348},{"$f":"F808*'Série - IPCA'!$C$444/'Série - IPCA'!$C$411","v":0},{"$f":"G808*'Série - IPCA'!$C$444/'Série - IPCA'!$C$424","v":0},{"$f":"H808*'Série - IPCA'!$C$444/'Série - IPCA'!$C$437","v":0},18609.881595571038,null,"N","SIM","NÃO","ENCARGOS DE GESTÃO","FUNCIONÁRIOS","PESSOAL",2110,"ASSESSORIA DA DIRETORIA EXECUTIVA"]
[null,null,null,49310.82,68802.080000000002,0,0,0,23622.579999999998,{"$f":"D809*'Série - IPCA'!$C$444/'Série - IPCA'!$C$385","v":64453.026946150669},{"$f":"E809*'Série - IPCA'!$C$444/'Série - IPCA'!$C$398","v":86042.659893194708},{"$f":"F809*'Série - IPCA'!$C$444/'Série - IPCA'!$C$411","v":0},{"$f":"G809*'Série - IPCA'!$C$444/'Série - IPCA'!$C$424","v":0},{"$f":"H809*'Série - IPCA'!$C$444/'Série - IPCA'!$C$437","v":0},30099.137367869076,null,"N","SIM","NÃO","ENCARGOS DE GESTÃO","FUNCIONÁRIOS","PESSOAL",2120,"ASSESSORIA DA PRESIDÊNCIA"]
[null,null,null,240347.38,64213.1,0,0,0,60912.095999999998,{"$f":"D810*'Série - IPCA'!$C$444/'Série - IPCA'!$C$385","v":314152.47524938168},{"$f":"E810*'Série - IPCA'!$C$444/'Série - IPCA'!$C$398","v":80303.762967452436},{"$f":"F810*'Série - IPCA'!$C$444/'Série - IPCA'!$C$411","v":0},{"$f":"G810*'Série - IPCA'!$C$444/'Série - IPCA'!$C$424","v":0},{"$f":"H810*'Série - IPCA'!$C$444/'Série - IPCA'!$C$437","v":0},78891.247643366834,null,"N","SIM","NÃO","ENCARGOS DE GESTÃO","FUNCIONÁRIOS","PESSOAL",2200,"DIRETORIA COLEGIADA - PRESIDÊNCIA"]
[null,null,null,3240,114,0,0,0,670.8,{"$f":"D811*'Série - IPCA'!$C$444/'Série - IPCA'!$C$385","v":4234.9287094704196},{"$f":"E811*'Série - IPCA'!$C$444/'Série - IPCA'!$C$398","v":142.5663763046727},{"$f":"F811*'Série - IPCA'!$C$444/'Série - IPCA'!$C$411","v":0},{"$f":"G811*'Série - IPCA'!$C$444/'Série - IPCA'!$C$424","v":0},{"$f":"H811*'Série - IPCA'!$C$444/'Série - IPCA'!$C$437","v":0},875.49901715501835,null,"N","SIM","NÃO","ENCARGOS DE GESTÃO","FUNCIONÁRIOS","PESSOAL",4100,"GERÊNCIA DE SERVIÇOS CORPORATIVOS"]
[null,null,null,100,0,0,0,0,20,{"$f":"D812*'Série - IPCA'!$C$444/'Série - IPCA'!$C$385","v":130.70767621822282},{"$f":"E812*'Série - IPCA'!$C$444/'Série - IPCA'!$C$398","v":0},{"$f":"F812*'Série - IPCA'!$C$444/'Série - IPCA'!$C$411","v":0},{"$f":"G812*'Série - IPCA'!$C$444/'Série - IPCA'!$C$424","v":0},{"$f":"H812*'Série - IPCA'!$C$444/'Série - IPCA'!$C$437","v":0},26.141535243644562,null,"N","SIM","NÃO","ENCARGOS DE GESTÃO","FUNCIONÁRIOS","TRIBUTOS_E_TAXAS_FISCAIS",3300,"GERÊNCIA JURÍDICA"]
[null,null,null,0,0,0,0,0,0,{"$f":"D813*'Série - IPCA'!$C$444/'Série - IPCA'!$C$385","v":0},{"$f":"E813*'Série - IPCA'!$C$444/'Série - IPCA'!$C$398","v":0},{"$f":"F813*'Série - IPCA'!$C$444/'Série - IPCA'!$C$411","v":0},{"$f":"G813*'Série - IPCA'!$C$444/'Série - IPCA'!$C$424","v":0},{"$f":"H813*'Série - IPCA'!$C$444/'Série - IPCA'!$C$437","v":0},0,null,"N","SIM","NÃO","ENCARGOS DE COMERCIALIZAÇÃO","FUNCIONÁRIOS","PESSOAL",5300,"GERÊNCIA COMERCIAL"]
[null,null,null,0,0,0,0,0,0,{"$f":"D814*'Série - IPCA'!$C$444/'Série - IPCA'!$C$385","v":0},{"$f":"E814*'Série - IPCA'!$C$444/'Série - IPCA'!$C$398","v":0},{"$f":"F814*'Série - IPCA'!$C$444/'Série - IPCA'!$C$411","v":0},{"$f":"G814*'Série - IPCA'!$C$444/'Série - IPCA'!$C$424","v":0},{"$f":"H814*'Série - IPCA'!$C$444/'Série - IPCA'!$C$437","v":0},0,null,"N","SIM","NÃO","ENCARGOS DE GESTÃO","FUNCIONÁRIOS","PESSOAL",1005,"AUDITORIA INTERNA"]
[null,null,null,0,0,0,0,0,0,{"$f":"D815*'Série - IPCA'!$C$444/'Série - IPCA'!$C$385","v":0},{"$f":"E815*'Série - IPCA'!$C$444/'Série - IPCA'!$C$398","v":0},{"$f":"F815*'Série - IPCA'!$C$444/'Série - IPCA'!$C$411","v":0},{"$f":"G815*'Série - IPCA'!$C$444/'Série - IPCA'!$C$424","v":0},{"$f":"H815*'Série - IPCA'!$C$444/'Série - IPCA'!$C$437","v":0},0,null,"N","SIM","NÃO","ENCARGOS DE GESTÃO","FUNCIONÁRIOS","PESSOAL",1010,"GOVERNANÇA SOCIETÁRIA"]
[null,null,null,0,0,0,0,0,0,{"$f":"D816*'Série - IPCA'!$C$444/'Série - IPCA'!$C$385","v":0},{"$f":"E816*'Série - IPCA'!$C$444/'Série - IPCA'!$C$398","v":0},{"$f":"F816*'Série - IPCA'!$C$444/'Série - IPCA'!$C$411","v":0},{"$f":"G816*'Série - IPCA'!$C$444/'Série - IPCA'!$C$424","v":0},{"$f":"H816*'Série - IPCA'!$C$444/'Série - IPCA'!$C$437","v":0},0,null,"N","SIM","NÃO","ENCARGOS DE GESTÃO","FUNCIONÁRIOS","PESSOAL",2110,"ASSESSORIA DA DIRETORIA EXECUTIVA"]
[null,null,null,0,0,0,0,0,0,{"$f":"D817*'Série - IPCA'!$C$444/'Série - IPCA'!$C$385","v":0},{"$f":"E817*'Série - IPCA'!$C$444/'Série - IPCA'!$C$398","v":0},{"$f":"F817*'Série - IPCA'!$C$444/'Série - IPCA'!$C$411","v":0},{"$f":"G817*'Série - IPCA'!$C$444/'Série - IPCA'!$C$424","v":0},{"$f":"H817*'Série - IPCA'!$C$444/'Série - IPCA'!$C$437","v":0},0,null,"N","SIM","NÃO","ENCARGOS DE GESTÃO","FUNCIONÁRIOS","PESSOAL",2120,"ASSESSORIA DA PRESIDÊNCIA"]
[null,null,null,0,0,0,0,0,0,{"$f":"D818*'Série - IPCA'!$C$444/'Série - IPCA'!$C$385","v":0},{"$f":"E818*'Série - IPCA'!$C$444/'Série - IPCA'!$C$398","v":0},{"$f":"F818*'Série - IPCA'!$C$444/'Série - IPCA'!$C$411","v":0},{"$f":"G818*'Série - IPCA'!$C$444/'Série - IPCA'!$C$424","v":0},{"$f":"H818*'Série - IPCA'!$C$444/'Série - IPCA'!$C$437","v":0},0,null,"N","SIM","NÃO","ENCARGOS DE GESTÃO","FUNCIONÁRIOS","PESSOAL",2130,"ASSESSORIA DE RELAÇÕES INSTITUCIONAIS E NOVOS NEGÓCIOS"]
[null,null,null,0,0,0,0,0,0,{"$f":"D819*'Série - IPCA'!$C$444/'Série - IPCA'!$C$385","v":0},{"$f":"E819*'Série - IPCA'!$C$444/'Série - IPCA'!$C$398","v":0},{"$f":"F819*'Série - IPCA'!$C$444/'Série - IPCA'!$C$411","v":0},{"$f":"G819*'Série - IPCA'!$C$444/'Série - IPCA'!$C$424","v":0},{"$f":"H819*'Série - IPCA'!$C$444/'Série - IPCA'!$C$437","v":0},0,null,"N","SIM","NÃO","ENCARGOS DE GESTÃO","FUNCIONÁRIOS","PESSOAL",2140,"ASSESSORIA DTC"]
[null,null,null,0,0,0,0,0,0,{"$f":"D820*'Série - IPCA'!$C$444/'Série - IPCA'!$C$385","v":0},{"$f":"E820*'Série - IPCA'!$C$444/'Série - IPCA'!$C$398","v":0},{"$f":"F820*'Série - IPCA'!$C$444/'Série - IPCA'!$C$411","v":0},{"$f":"G820*'Série - IPCA'!$C$444/'Série - IPCA'!$C$424","v":0},{"$f":"H820*'Série - IPCA'!$C$444/'Série - IPCA'!$C$437","v":0},0,null,"N","SIM","NÃO","ENCARGOS DE GESTÃO","FUNCIONÁRIOS","PESSOAL",2300,"DIRETORIA COLEGIADA - DAF"]
[null,null,null,0,0,0,0,0,0,{"$f":"D821*'Série - IPCA'!$C$444/'Série - IPCA'!$C$385","v":0},{"$f":"E821*'Série - IPCA'!$C$444/'Série - IPCA'!$C$398","v":0},{"$f":"F821*'Série - IPCA'!$C$444/'Série - IPCA'!$C$411","v":0},{"$f":"G821*'Série - IPCA'!$C$444/'Série - IPCA'!$C$424","v":0},{"$f":"H821*'Série - IPCA'!$C$444/'Série - IPCA'!$C$437","v":0},0,null,"N","SIM","NÃO","ENCARGOS DE GESTÃO","FUNCIONÁRIOS","PESSOAL",2410,"ASSESSORIA DE SEGURANÇA DO TRABALHO"]
[null,null,null,0,0,0,0,0,0,{"$f":"D822*'Série - IPCA'!$C$444/'Série - IPCA'!$C$385","v":0},{"$f":"E822*'Série - IPCA'!$C$444/'Série - IPCA'!$C$398","v":0},{"$f":"F822*'Série - IPCA'!$C$444/'Série - IPCA'!$C$411","v":0},{"$f":"G822*'Série - IPCA'!$C$444/'Série - IPCA'!$C$424","v":0},{"$f":"H822*'Série - IPCA'!$C$444/'Série - IPCA'!$C$437","v":0},0,null,"N","SIM","NÃO","ENCARGOS DE GESTÃO","FUNCIONÁRIOS","PESSOAL",3200,"GERÊNCIA DE PLANEJAMENTO E MEIO AMBIENTE"]
[null,null,null,0,0,0,0,0,0,{"$f":"D823*'Série - IPCA'!$C$444/'Série - IPCA'!$C$385","v":0},{"$f":"E823*'Série - IPCA'!$C$444/'Série - IPCA'!$C$398","v":0},{"$f":"F823*'Série - IPCA'!$C$444/'Série - IPCA'!$C$411","v":0},{"$f":"G823*'Série - IPCA'!$C$444/'Série - IPCA'!$C$424","v":0},{"$f":"H823*'Série - IPCA'!$C$444/'Série - IPCA'!$C$437","v":0},0,null,"N","SIM","NÃO","ENCARGOS DE GESTÃO","FUNCIONÁRIOS","PESSOAL",3300,"GERÊNCIA JURÍDICA"]
[null,null,null,0,0,0,0,0,0,{"$f":"D824*'Série - IPCA'!$C$444/'Série - IPCA'!$C$385","v":0},{"$f":"E824*'Série - IPCA'!$C$444/'Série - IPCA'!$C$398","v":0},{"$f":"F824*'Série - IPCA'!$C$444/'Série - IPCA'!$C$411","v":0},{"$f":"G824*'Série - IPCA'!$C$444/'Série - IPCA'!$C$424","v":0},{"$f":"H824*'Série - IPCA'!$C$444/'Série - IPCA'!$C$437","v":0},0,null,"N","SIM","NÃO","ENCARGOS DE GESTÃO","FUNCIONÁRIOS","PESSOAL",3500,"ASSESSORIA DE COMUNICAÇÃO INSTITUCIONAL"]
[null,null,null,0,0,0,0,0,0,{"$f":"D825*'Série - IPCA'!$C$444/'Série - IPCA'!$C$385","v":0},{"$f":"E825*'Série - IPCA'!$C$444/'Série - IPCA'!$C$398","v":0},{"$f":"F825*'Série - IPCA'!$C$444/'Série - IPCA'!$C$411","v":0},{"$f":"G825*'Série - IPCA'!$C$444/'Série - IPCA'!$C$424","v":0},{"$f":"H825*'Série - IPCA'!$C$444/'Série - IPCA'!$C$437","v":0},0,null,"N","SIM","NÃO","ENCARGOS DE GESTÃO","FUNCIONÁRIOS","PESSOAL",3600,"GERÊNCIA DE GOVERNANÇA, RISCO E COMPLIANCE"]
[null,null,null,0,0,0,0,0,0,{"$f":"D826*'Série - IPCA'!$C$444/'Série - IPCA'!$C$385","v":0},{"$f":"E826*'Série - IPCA'!$C$444/'Série - IPCA'!$C$398","v":0},{"$f":"F826*'Série - IPCA'!$C$444/'Série - IPCA'!$C$411","v":0},{"$f":"G826*'Série - IPCA'!$C$444/'Série - IPCA'!$C$424","v":0},{"$f":"H826*'Série - IPCA'!$C$444/'Série - IPCA'!$C$437","v":0},0,null,"N","SIM","NÃO","ENCARGOS DE GESTÃO","FUNCIONÁRIOS","PESSOAL",3700,"GERÊNCIA DE REGULAÇÃO"]
[null,null,null,0,0,0,0,0,0,{"$f":"D827*'Série - IPCA'!$C$444/'Série - IPCA'!$C$385","v":0},{"$f":"E827*'Série - IPCA'!$C$444/'Série - IPCA'!$C$398","v":0},{"$f":"F827*'Série - IPCA'!$C$444/'Série - IPCA'!$C$411","v":0},{"$f":"G827*'Série - IPCA'!$C$444/'Série - IPCA'!$C$424","v":0},{"$f":"H827*'Série - IPCA'!$C$444/'Série - IPCA'!$C$437","v":0},0,null,"N","SIM","NÃO","ENCARGOS DE GESTÃO","FUNCIONÁRIOS","PESSOAL",4100,"GERÊNCIA DE SERVIÇOS CORPORATIVOS"]
[null,null,null,0,0,0,0,0,0,{"$f":"D828*'Série - IPCA'!$C$444/'Série - IPCA'!$C$385","v":0},{"$f":"E828*'Série - IPCA'!$C$444/'Série - IPCA'!$C$398","v":0},{"$f":"F828*'Série - IPCA'!$C$444/'Série - IPCA'!$C$411","v":0},{"$f":"G828*'Série - IPCA'!$C$444/'Série - IPCA'!$C$424","v":0},{"$f":"H828*'Série - IPCA'!$C$444/'Série - IPCA'!$C$437","v":0},0,null,"N","SIM","NÃO","ENCARGOS DE GESTÃO","FUNCIONÁRIOS","PESSOAL",4200,"GERÊNCIA FINANCEIRA"]
[null,null,null,0,0,0,0,0,0,{"$f":"D829*'Série - IPCA'!$C$444/'Série - IPCA'!$C$385","v":0},{"$f":"E829*'Série - IPCA'!$C$444/'Série - IPCA'!$C$398","v":0},{"$f":"F829*'Série - IPCA'!$C$444/'Série - IPCA'!$C$411","v":0},{"$f":"G829*'Série - IPCA'!$C$444/'Série - IPCA'!$C$424","v":0},{"$f":"H829*'Série - IPCA'!$C$444/'Série - IPCA'!$C$437","v":0},0,null,"N","SIM","NÃO","ENCARGOS DE GESTÃO","FUNCIONÁRIOS","PESSOAL",4300,"GERÊNCIA DE TECNOLOGIA E SISTEMAS DE INFORMAÇÃO"]
[null,null,null,0,0,0,0,0,0,{"$f":"D830*'Série - IPCA'!$C$444/'Série - IPCA'!$C$385","v":0},{"$f":"E830*'Série - IPCA'!$C$444/'Série - IPCA'!$C$398","v":0},{"$f":"F830*'Série - IPCA'!$C$444/'Série - IPCA'!$C$411","v":0},{"$f":"G830*'Série - IPCA'!$C$444/'Série - IPCA'!$C$424","v":0},{"$f":"H830*'Série - IPCA'!$C$444/'Série - IPCA'!$C$437","v":0},0,null,"N","SIM","NÃO","ENCARGOS DE GESTÃO","FUNCIONÁRIOS","PESSOAL",4500,"GERÊNCIA CONTÁBIL"]
[null,null,null,101735.11,59688.52,31916.720000000001,66078.55,61168.67,64117.514000000003,{"$f":"D831*'Série - IPCA'!$C$444/'Série - IPCA'!$C$385","v":132975.59817905285},{"$f":"E831*'Série - IPCA'!$C$444/'Série - IPCA'!$C$398","v":74645.403538499842},{"$f":"F831*'Série - IPCA'!$C$444/'Série - IPCA'!$C$411","v":36265.788713473718},{"$f":"G831*'Série - IPCA'!$C$444/'Série - IPCA'!$C$424","v":70976.553345962326},{"$f":"H831*'Série - IPCA'!$C$444/'Série - IPCA'!$C$437","v":62800.598643127836},75532.788484023316,null,"N","SIM","NÃO","OPEX","FUNCIONÁRIOS","PESSOAL",5100,"GERÊNCIA DE ENGENHARIA"]
[null,null,null,178329.69,160476.12,191765.97,185892.29,203769.9,184046.79400000002,{"$f":"D832*'Série - IPCA'!$C$444/'Série - IPCA'!$C$385","v":233090.5938061605},{"$f":"E832*'Série - IPCA'!$C$444/'Série - IPCA'!$C$398","v":200688.58694591062},{"$f":"F832*'Série - IPCA'!$C$444/'Série - IPCA'!$C$411","v":217896.58055258621},{"$f":"G832*'Série - IPCA'!$C$444/'Série - IPCA'!$C$424","v":199671.36139924527},{"$f":"H832*'Série - IPCA'!$C$444/'Série - IPCA'!$C$437","v":209206.3094628393},212110.6864333484,null,"N","SIM","NÃO","OPEX","FUNCIONÁRIOS","PESSOAL",5200,"GERÊNCIA DE OPERAÇÕES"]
[null,null,null,115685.17,84306.46,153768.47,127230.96,140850.81,124368.374,{"$f":"D833*'Série - IPCA'!$C$444/'Série - IPCA'!$C$385","v":151209.39743610064},{"$f":"E833*'Série - IPCA'!$C$444/'Série - IPCA'!$C$398","v":105432.16229188455},{"$f":"F833*'Série - IPCA'!$C$444/'Série - IPCA'!$C$411","v":174721.42638134875},{"$f":"G833*'Série - IPCA'!$C$444/'Série - IPCA'!$C$424","v":136661.82172123931},{"$f":"H833*'Série - IPCA'!$C$444/'Série - IPCA'!$C$437","v":144608.59108706232},142526.67978352713,null,"N","SIM","NÃO","ENCARGOS DE COMERCIALIZAÇÃO","FUNCIONÁRIOS","PESSOAL",5300,"GERÊNCIA COMERCIAL"]
[null,null,null,0,17055.310000000001,1015.58,-1679.95,-1509.5,2976.2880000000005,{"$f":"D834*'Série - IPCA'!$C$444/'Série - IPCA'!$C$385","v":0},{"$f":"E834*'Série - IPCA'!$C$444/'Série - IPCA'!$C$398","v":21329.067925024978},{"$f":"F834*'Série - IPCA'!$C$444/'Série - IPCA'!$C$411","v":1153.9659996901196},{"$f":"G834*'Série - IPCA'!$C$444/'Série - IPCA'!$C$424","v":-1804.4745351335555},{"$f":"H834*'Série - IPCA'!$C$444/'Série - IPCA'!$C$437","v":-1549.7721897795304},3825.7574399604027,null,"N","SIM","NÃO","ENCARGOS DE GESTÃO","FUNCIONÁRIOS","PESSOAL",1005,"AUDITORIA INTERNA"]
[null,null,null,0,0,9407.57,2462.27,-9457.08,482.55200000000002,{"$f":"D835*'Série - IPCA'!$C$444/'Série - IPCA'!$C$385","v":0},{"$f":"E835*'Série - IPCA'!$C$444/'Série - IPCA'!$C$398","v":0},{"$f":"F835*'Série - IPCA'!$C$444/'Série - IPCA'!$C$411","v":10689.473916092064},{"$f":"G835*'Série - IPCA'!$C$444/'Série - IPCA'!$C$424","v":2644.7831861801237},{"$f":"H835*'Série - IPCA'!$C$444/'Série - IPCA'!$C$437","v":-9709.3869364161656},724.97403317120438,null,"N","SIM","NÃO","ENCARGOS DE GESTÃO","FUNCIONÁRIOS","PESSOAL",1010,"GOVERNANÇA SOCIETÁRIA"]
[null,null,null,7833.43,-1330.75,-196.05,-3658.95,-692.11,391.11400000000003,{"$f":"D836*'Série - IPCA'!$C$444/'Série - IPCA'!$C$385","v":10238.894321181133},{"$f":"E836*'Série - IPCA'!$C$444/'Série - IPCA'!$C$398","v":-1664.2123269073966},{"$f":"F836*'Série - IPCA'!$C$444/'Série - IPCA'!$C$411","v":-222.76436542591227},{"$f":"G836*'Série - IPCA'!$C$444/'Série - IPCA'!$C$424","v":-3930.165838463598},{"$f":"H836*'Série - IPCA'!$C$444/'Série - IPCA'!$C$437","v":-710.57491240033835},742.23537559677777,null,"N","SIM","NÃO","ENCARGOS DE GESTÃO","FUNCIONÁRIOS","PESSOAL",2110,"ASSESSORIA DA DIRETORIA EXECUTIVA"]
[null,null,null,12258.1,352.2,1048.3599999999999,-3253.56,1901.49,{"$f":"AVERAGE(D837:H837)","v":2461.3180000000002},{"$f":"D837*'Série - IPCA'!$C$444/'Série - IPCA'!$C$385","v":16022.277658505975},{"$f":"E837*'Série - IPCA'!$C$444/'Série - IPCA'!$C$398","v":440.4550678465414},{"$f":"F837*'Série - IPCA'!$C$444/'Série - IPCA'!$C$411","v":1191.2127015450617},{"$f":"G837*'Série - IPCA'!$C$444/'Série - IPCA'!$C$424","v":-3494.7267290866575},{"$f":"H837*'Série - IPCA'!$C$444/'Série - IPCA'!$C$437","v":1952.2201531261207},{"$f":"AVERAGE(J837:N837)","v":3222.2877703874074},null,"N","SIM","NÃO","ENCARGOS DE GESTÃO","FUNCIONÁRIOS","PESSOAL",2120,"ASSESSORIA DA PRESIDÊNCIA"]
[null,null,null,0,1599.88,1273.6099999999999,-171.03,449.99,630.49,{"$f":"D838*'Série - IPCA'!$C$444/'Série - IPCA'!$C$385","v":0},{"$f":"E838*'Série - IPCA'!$C$444/'Série - IPCA'!$C$398","v":2000.7815273887697},{"$f":"F838*'Série - IPCA'!$C$444/'Série - IPCA'!$C$411","v":1447.155947207835},{"$f":"G838*'Série - IPCA'!$C$444/'Série - IPCA'!$C$424","v":-183.70741971123664},{"$f":"H838*'Série - IPCA'!$C$444/'Série - IPCA'!$C$437","v":461.99535454050402},745.2450818851745,null,"N","SIM","NÃO","ENCARGOS DE GESTÃO","FUNCIONÁRIOS","PESSOAL",2130,"ASSESSORIA DE RELAÇÕES INSTITUCIONAIS E NOVOS NEGÓCIOS"]
[null,null,null,0,0,0,0,7239.18,1447.836,{"$f":"D839*'Série - IPCA'!$C$444/'Série - IPCA'!$C$385","v":0},{"$f":"E839*'Série - IPCA'!$C$444/'Série - IPCA'!$C$398","v":0},{"$f":"F839*'Série - IPCA'!$C$444/'Série - IPCA'!$C$411","v":0},{"$f":"G839*'Série - IPCA'!$C$444/'Série - IPCA'!$C$424","v":0},{"$f":"H839*'Série - IPCA'!$C$444/'Série - IPCA'!$C$437","v":7432.3152307440751},1486.463046148815,null,"N","SIM","NÃO","ENCARGOS DE GESTÃO","FUNCIONÁRIOS","PESSOAL",2140,"ASSESSORIA DTC"]
[null,null,null,0,5731.95,7272.17,0,0,2600.8239999999996,{"$f":"D840*'Série - IPCA'!$C$444/'Série - IPCA'!$C$385","v":0},{"$f":"E840*'Série - IPCA'!$C$444/'Série - IPCA'!$C$398","v":7168.2749180663914},{"$f":"F840*'Série - IPCA'!$C$444/'Série - IPCA'!$C$411","v":8263.097859318319},{"$f":"G840*'Série - IPCA'!$C$444/'Série - IPCA'!$C$424","v":0},{"$f":"H840*'Série - IPCA'!$C$444/'Série - IPCA'!$C$437","v":0},3086.2745554769417,null,"N","SIM","NÃO","ENCARGOS DE GESTÃO","FUNCIONÁRIOS","PESSOAL",2300,"DIRETORIA COLEGIADA - DAF"]
[null,null,null,19636.89,8356.73,-1863.11,11169.27,-10927.2,5274.5159999999996,{"$f":"D841*'Série - IPCA'!$C$444/'Série - IPCA'!$C$385","v":25666.922600528575},{"$f":"E841*'Série - IPCA'!$C$444/'Série - IPCA'!$C$398","v":10450.778191724101},{"$f":"F841*'Série - IPCA'!$C$444/'Série - IPCA'!$C$411","v":-2116.9829985650158},{"$f":"G841*'Série - IPCA'!$C$444/'Série - IPCA'!$C$424","v":11997.18044646041},{"$f":"H841*'Série - IPCA'!$C$444/'Série - IPCA'!$C$437","v":-11218.728500933346},6955.8339478429461,null,"N","SIM","NÃO","ENCARGOS DE GESTÃO","FUNCIONÁRIOS","PESSOAL",2410,"ASSESSORIA DE SEGURANÇA DO TRABALHO"]
[null,null,null,33178.300000000003,30185.7,34589.56,33692.089999999997,22624.18,30853.965999999997,{"$f":"D842*'Série - IPCA'!$C$444/'Série - IPCA'!$C$385","v":43366.584938710628},{"$f":"E842*'Série - IPCA'!$C$444/'Série - IPCA'!$C$398","v":37749.700572104906},{"$f":"F842*'Série - IPCA'!$C$444/'Série - IPCA'!$C$411","v":39302.837968689193},{"$f":"G842*'Série - IPCA'!$C$444/'Série - IPCA'!$C$424","v":36189.480901472009},{"$f":"H842*'Série - IPCA'!$C$444/'Série - IPCA'!$C$437","v":23227.774084508947},35967.275693097137,null,"N","SIM","NÃO","ENCARGOS DE GESTÃO","FUNCIONÁRIOS","PESSOAL",3200,"GERÊNCIA DE PLANEJAMENTO E MEIO AMBIENTE"]
[null,null,null,19727.849999999999,17705.64,23433.19,27552.34,22707.11,22225.225999999999,{"$f":"D843*'Série - IPCA'!$C$444/'Série - IPCA'!$C$385","v":25785.814302816674},{"$f":"E843*'Série - IPCA'!$C$444/'Série - IPCA'!$C$398","v":22142.3590785532},{"$f":"F843*'Série - IPCA'!$C$444/'Série - IPCA'!$C$411","v":26626.267280055254},{"$f":"G843*'Série - IPCA'!$C$444/'Série - IPCA'!$C$424","v":29594.628359975988},{"$f":"H843*'Série - IPCA'!$C$444/'Série - IPCA'!$C$437","v":23312.916587124659},25492.397121705155,null,"N","SIM","NÃO","ENCARGOS DE GESTÃO","FUNCIONÁRIOS","PESSOAL",3300,"GERÊNCIA JURÍDICA"]
[null,null,null,16723.080000000002,-1343.51,-257.02999999999997,727.57,-5983.29,1973.364,{"$f":"D844*'Série - IPCA'!$C$444/'Série - IPCA'!$C$385","v":21858.349260114381},{"$f":"E844*'Série - IPCA'!$C$444/'Série - IPCA'!$C$398","v":-1680.1697563955336},{"$f":"F844*'Série - IPCA'!$C$444/'Série - IPCA'!$C$411","v":-292.0536844959052},{"$f":"G844*'Série - IPCA'!$C$444/'Série - IPCA'!$C$424","v":781.50036461032835},{"$f":"H844*'Série - IPCA'!$C$444/'Série - IPCA'!$C$437","v":-6142.919142355724},2904.9414082955091,null,"N","SIM","NÃO","ENCARGOS DE GESTÃO","FUNCIONÁRIOS","PESSOAL",3500,"ASSESSORIA DE COMUNICAÇÃO INSTITUCIONAL"]
[null,null,null,35939.15,28883.5,30682.59,59421.13,32025.09,37390.292000000001,{"$f":"D845*'Série - IPCA'!$C$444/'Série - IPCA'!$C$385","v":46975.227817581428},{"$f":"E845*'Série - IPCA'!$C$444/'Série - IPCA'!$C$398","v":36121.192368386088},{"$f":"F845*'Série - IPCA'!$C$444/'Série - IPCA'!$C$411","v":34863.492430366954},{"$f":"G845*'Série - IPCA'!$C$444/'Série - IPCA'!$C$424","v":63825.659057627046},{"$f":"H845*'Série - IPCA'!$C$444/'Série - IPCA'!$C$437","v":32879.492452591287},42933.012825310565,null,"N","SIM","NÃO","ENCARGOS DE GESTÃO","FUNCIONÁRIOS","PESSOAL",3600,"GERÊNCIA DE GOVERNANÇA, RISCO E COMPLIANCE"]
[null,null,null,0,10478.18,-3630.66,-262.5,-558.71,1205.2620000000002,{"$f":"D846*'Série - IPCA'!$C$444/'Série - IPCA'!$C$385","v":0},{"$f":"E846*'Série - IPCA'!$C$444/'Série - IPCA'!$C$398","v":13103.825902351713},{"$f":"F846*'Série - IPCA'!$C$444/'Série - IPCA'!$C$411","v":-4125.3847027658376},{"$f":"G846*'Série - IPCA'!$C$444/'Série - IPCA'!$C$424","v":-281.95753770800223},{"$f":"H846*'Série - IPCA'!$C$444/'Série - IPCA'!$C$437","v":-573.61591265433685},1624.5735498447073,null,"N","SIM","NÃO","ENCARGOS DE GESTÃO","FUNCIONÁRIOS","PESSOAL",3700,"GERÊNCIA DE REGULAÇÃO"]
[null,null,null,99268.69,66650.13,84364.13,92249.73,35777.29,75661.993999999992,{"$f":"D847*'Série - IPCA'!$C$444/'Série - IPCA'!$C$385","v":129751.79791127134},{"$f":"E847*'Série - IPCA'!$C$444/'Série - IPCA'!$C$398","v":83351.469423994349},{"$f":"F847*'Série - IPCA'!$C$444/'Série - IPCA'!$C$411","v":95859.841286198251},{"$f":"G847*'Série - IPCA'!$C$444/'Série - IPCA'!$C$424","v":99087.644666773413},{"$f":"H847*'Série - IPCA'!$C$444/'Série - IPCA'!$C$437","v":36731.797991174091},88956.510255882298,null,"N","SIM","NÃO","ENCARGOS DE GESTÃO","FUNCIONÁRIOS","PESSOAL",4100,"GERÊNCIA DE SERVIÇOS CORPORATIVOS"]
[null,null,null,39352.589999999997,27119.4,34098.92,36549.35,41333.19,35690.689999999995,{"$f":"D848*'Série - IPCA'!$C$444/'Série - IPCA'!$C$385","v":51436.855920684735},{"$f":"E848*'Série - IPCA'!$C$444/'Série - IPCA'!$C$398","v":33915.040224183693},{"$f":"F848*'Série - IPCA'!$C$444/'Série - IPCA'!$C$411","v":38745.341879668187},{"$f":"G848*'Série - IPCA'!$C$444/'Série - IPCA'!$C$424","v":39258.532307916073},{"$f":"H848*'Série - IPCA'!$C$444/'Série - IPCA'!$C$437","v":42435.924727971775},41158.339012084893,null,"N","SIM","NÃO","ENCARGOS DE GESTÃO","FUNCIONÁRIOS","PESSOAL",4200,"GERÊNCIA FINANCEIRA"]
[null,null,null,40918.26,39344.019999999997,42580.61,37786.519999999997,39197.32,39965.346000000005,{"$f":"D849*'Série - IPCA'!$C$444/'Série - IPCA'!$C$385","v":53483.306794930591},{"$f":"E849*'Série - IPCA'!$C$444/'Série - IPCA'!$C$398","v":49202.932988233057},{"$f":"F849*'Série - IPCA'!$C$444/'Série - IPCA'!$C$411","v":48382.772589126522},{"$f":"G849*'Série - IPCA'!$C$444/'Série - IPCA'!$C$424","v":40587.406239063537},{"$f":"H849*'Série - IPCA'!$C$444/'Série - IPCA'!$C$437","v":40243.071513672723},46379.898025005285,null,"N","SIM","NÃO","ENCARGOS DE GESTÃO","FUNCIONÁRIOS","PESSOAL",4300,"GERÊNCIA DE TECNOLOGIA E SISTEMAS DE INFORMAÇÃO"]
[null,null,null,23511.4,30020.68,26424.48,36274.11,32943.54,29834.841999999997,{"$f":"D850*'Série - IPCA'!$C$444/'Série - IPCA'!$C$385","v":30731.204586371241},{"$f":"E850*'Série - IPCA'!$C$444/'Série - IPCA'!$C$398","v":37543.329489492644},{"$f":"F850*'Série - IPCA'!$C$444/'Série - IPCA'!$C$411","v":30025.159494566233},{"$f":"G850*'Série - IPCA'!$C$444/'Série - IPCA'!$C$424","v":38962.890431044645},{"$f":"H850*'Série - IPCA'!$C$444/'Série - IPCA'!$C$437","v":33822.445925730077},34217.00598544097,null,"N","SIM","NÃO","ENCARGOS DE GESTÃO","FUNCIONÁRIOS","PESSOAL",4500,"GERÊNCIA CONTÁBIL"]
[null,null,null,813.92,0,0,0,29035.040000000001,5969.7919999999995,{"$f":"D851*'Série - IPCA'!$C$444/'Série - IPCA'!$C$385","v":1063.855918275359},{"$f":"E851*'Série - IPCA'!$C$444/'Série - IPCA'!$C$398","v":0},{"$f":"F851*'Série - IPCA'!$C$444/'Série - IPCA'!$C$411","v":0},{"$f":"G851*'Série - IPCA'!$C$444/'Série - IPCA'!$C$424","v":0},{"$f":"H851*'Série - IPCA'!$C$444/'Série - IPCA'!$C$437","v":29809.670434671254},6174.7052705893229,null,"N","SIM","NÃO","ENCARGOS DE GESTÃO","FUNCIONÁRIOS","PESSOAL",4600,"GERÊNCIA DE PESSOAS E CULTURA"]
[null,null,null,0,0,0,0,0,0,{"$f":"D852*'Série - IPCA'!$C$444/'Série - IPCA'!$C$385","v":0},{"$f":"E852*'Série - IPCA'!$C$444/'Série - IPCA'!$C$398","v":0},{"$f":"F852*'Série - IPCA'!$C$444/'Série - IPCA'!$C$411","v":0},{"$f":"G852*'Série - IPCA'!$C$444/'Série - IPCA'!$C$424","v":0},{"$f":"H852*'Série - IPCA'!$C$444/'Série - IPCA'!$C$437","v":0},0,null,"N","SIM","NÃO","OPEX","FUNCIONÁRIOS","PESSOAL",5100,"GERÊNCIA DE ENGENHARIA"]
[null,null,null,0,0,0,0,0,0,{"$f":"D853*'Série - IPCA'!$C$444/'Série - IPCA'!$C$385","v":0},{"$f":"E853*'Série - IPCA'!$C$444/'Série - IPCA'!$C$398","v":0},{"$f":"F853*'Série - IPCA'!$C$444/'Série - IPCA'!$C$411","v":0},{"$f":"G853*'Série - IPCA'!$C$444/'Série - IPCA'!$C$424","v":0},{"$f":"H853*'Série - IPCA'!$C$444/'Série - IPCA'!$C$437","v":0},0,null,"N","SIM","NÃO","OPEX","FUNCIONÁRIOS","PESSOAL",5200,"GERÊNCIA DE OPERAÇÕES"]
[null,null,null,0,0,0,142952.76999999999,134060.32999999999,55402.619999999995,{"$f":"D854*'Série - IPCA'!$C$444/'Série - IPCA'!$C$385","v":0},{"$f":"E854*'Série - IPCA'!$C$444/'Série - IPCA'!$C$398","v":0},{"$f":"F854*'Série - IPCA'!$C$444/'Série - IPCA'!$C$411","v":0},{"$f":"G854*'Série - IPCA'!$C$444/'Série - IPCA'!$C$424","v":153548.99442947947},{"$f":"H854*'Série - IPCA'!$C$444/'Série - IPCA'!$C$437","v":137636.94679474426},58237.188244844743,null,"N","SIM","NÃO","ENCARGOS DE GESTÃO","FIXO","TRIBUTOS_E_TAXAS_FISCAIS",9999,"RATEIO"]
[null,null,null,0,436.28,986.33,0,0,284.52200000000005,{"$f":"D855*'Série - IPCA'!$C$444/'Série - IPCA'!$C$385","v":0},{"$f":"E855*'Série - IPCA'!$C$444/'Série - IPCA'!$C$398","v":545.60402328247903},{"$f":"F855*'Série - IPCA'!$C$444/'Série - IPCA'!$C$411","v":1120.7303063021682},{"$f":"G855*'Série - IPCA'!$C$444/'Série - IPCA'!$C$424","v":0},{"$f":"H855*'Série - IPCA'!$C$444/'Série - IPCA'!$C$437","v":0},333.26686591692942,null,"N","SIM","NÃO","ENCARGOS DE GESTÃO","FIXO","TRIBUTOS_E_TAXAS_FISCAIS",2200,"DIRETORIA COLEGIADA - PRESIDÊNCIA"]
[null,null,null,82.04,0,0,0,0,16.408000000000001,{"$f":"D856*'Série - IPCA'!$C$444/'Série - IPCA'!$C$385","v":107.23257756943002},{"$f":"E856*'Série - IPCA'!$C$444/'Série - IPCA'!$C$398","v":0},{"$f":"F856*'Série - IPCA'!$C$444/'Série - IPCA'!$C$411","v":0},{"$f":"G856*'Série - IPCA'!$C$444/'Série - IPCA'!$C$424","v":0},{"$f":"H856*'Série - IPCA'!$C$444/'Série - IPCA'!$C$437","v":0},21.446515513886006,null,"N","SIM","NÃO","ENCARGOS DE GESTÃO","FIXO","TRIBUTOS_E_TAXAS_FISCAIS",4200,"GERÊNCIA FINANCEIRA"]
[null,null,null,0,0,1063.51,0,0,212.702,{"$f":"D857*'Série - IPCA'!$C$444/'Série - IPCA'!$C$385","v":0},{"$f":"E857*'Série - IPCA'!$C$444/'Série - IPCA'!$C$398","v":0},{"$f":"F857*'Série - IPCA'!$C$444/'Série - IPCA'!$C$411","v":1208.4270863254881},{"$f":"G857*'Série - IPCA'!$C$444/'Série - IPCA'!$C$424","v":0},{"$f":"H857*'Série - IPCA'!$C$444/'Série - IPCA'!$C$437","v":0},241.68541726509761,null,"N","SIM","NÃO","ENCARGOS DE GESTÃO","FIXO","TRIBUTOS_E_TAXAS_FISCAIS",5100,"GERÊNCIA DE ENGENHARIA"]
[null,null,null,0,0,0,0,10509.49,2101.8980000000001,{"$f":"D858*'Série - IPCA'!$C$444/'Série - IPCA'!$C$385","v":0},{"$f":"E858*'Série - IPCA'!$C$444/'Série - IPCA'!$C$398","v":0},{"$f":"F858*'Série - IPCA'!$C$444/'Série - IPCA'!$C$411","v":0},{"$f":"G858*'Série - IPCA'!$C$444/'Série - IPCA'!$C$424","v":0},{"$f":"H858*'Série - IPCA'!$C$444/'Série - IPCA'!$C$437","v":10789.874349629728},2157.9748699259458,null,"N","SIM","NÃO","ENCARGOS DE GESTÃO","FIXO","TRIBUTOS_E_TAXAS_FISCAIS",4100,"GERÊNCIA DE SERVIÇOS CORPORATIVOS"]
[null,null,null,850,0,0,0,0,170,{"$f":"D859*'Série - IPCA'!$C$444/'Série - IPCA'!$C$385","v":1111.0152478548939},{"$f":"E859*'Série - IPCA'!$C$444/'Série - IPCA'!$C$398","v":0},{"$f":"F859*'Série - IPCA'!$C$444/'Série - IPCA'!$C$411","v":0},{"$f":"G859*'Série - IPCA'!$C$444/'Série - IPCA'!$C$424","v":0},{"$f":"H859*'Série - IPCA'!$C$444/'Série - IPCA'!$C$437","v":0},222.20304957097878,null,"N","SIM","NÃO","ENCARGOS DE GESTÃO","FIXO","DESPESAS_GERAIS",3400,"MARKETING"]
[null,null,null,146.65,0,0,0,0,29.330000000000002,{"$f":"D860*'Série - IPCA'!$C$444/'Série - IPCA'!$C$385","v":191.68280717402376},{"$f":"E860*'Série - IPCA'!$C$444/'Série - IPCA'!$C$398","v":0},{"$f":"F860*'Série - IPCA'!$C$444/'Série - IPCA'!$C$411","v":0},{"$f":"G860*'Série - IPCA'!$C$444/'Série - IPCA'!$C$424","v":0},{"$f":"H860*'Série - IPCA'!$C$444/'Série - IPCA'!$C$437","v":0},38.33656143480475,null,"N","SIM","NÃO","OPEX","FUNCIONÁRIOS","DESPESAS_GERAIS",5100,"GERÊNCIA DE ENGENHARIA"]
[null,null,null,5196.7,0,0,0,0,1039.3399999999999,{"$f":"D861*'Série - IPCA'!$C$444/'Série - IPCA'!$C$385","v":6792.4858100323854},{"$f":"E861*'Série - IPCA'!$C$444/'Série - IPCA'!$C$398","v":0},{"$f":"F861*'Série - IPCA'!$C$444/'Série - IPCA'!$C$411","v":0},{"$f":"G861*'Série - IPCA'!$C$444/'Série - IPCA'!$C$424","v":0},{"$f":"H861*'Série - IPCA'!$C$444/'Série - IPCA'!$C$437","v":0},1358.4971620064771,null,"N","SIM","NÃO","OPEX","FUNCIONÁRIOS","DESPESAS_GERAIS",5200,"GERÊNCIA DE OPERAÇÕES"]
[null,null,null,28.5,0,0,0,0,5.7,{"$f":"D862*'Série - IPCA'!$C$444/'Série - IPCA'!$C$385","v":37.251687722193509},{"$f":"E862*'Série - IPCA'!$C$444/'Série - IPCA'!$C$398","v":0},{"$f":"F862*'Série - IPCA'!$C$444/'Série - IPCA'!$C$411","v":0},{"$f":"G862*'Série - IPCA'!$C$444/'Série - IPCA'!$C$424","v":0},{"$f":"H862*'Série - IPCA'!$C$444/'Série - IPCA'!$C$437","v":0},7.4503375444387014,null,"N","SIM","NÃO","ENCARGOS DE COMERCIALIZAÇÃO","FUNCIONÁRIOS","DESPESAS_GERAIS",5300,"GERÊNCIA COMERCIAL"]
[null,null,null,281.2,0,0,0,0,56.239999999999995,{"$f":"D863*'Série - IPCA'!$C$444/'Série - IPCA'!$C$385","v":367.54998552564257},{"$f":"E863*'Série - IPCA'!$C$444/'Série - IPCA'!$C$398","v":0},{"$f":"F863*'Série - IPCA'!$C$444/'Série - IPCA'!$C$411","v":0},{"$f":"G863*'Série - IPCA'!$C$444/'Série - IPCA'!$C$424","v":0},{"$f":"H863*'Série - IPCA'!$C$444/'Série - IPCA'!$C$437","v":0},73.509997105128519,null,"N","SIM","NÃO","ENCARGOS DE GESTÃO","FUNCIONÁRIOS","DESPESAS_GERAIS",1002,"CONSELHO FISCAL"]
[null,null,null,8715.52,0,0,0,0,1743.104,{"$f":"D864*'Série - IPCA'!$C$444/'Série - IPCA'!$C$385","v":11391.853662334453},{"$f":"E864*'Série - IPCA'!$C$444/'Série - IPCA'!$C$398","v":0},{"$f":"F864*'Série - IPCA'!$C$444/'Série - IPCA'!$C$411","v":0},{"$f":"G864*'Série - IPCA'!$C$444/'Série - IPCA'!$C$424","v":0},{"$f":"H864*'Série - IPCA'!$C$444/'Série - IPCA'!$C$437","v":0},2278.3707324668908,null,"N","SIM","NÃO","ENCARGOS DE GESTÃO","FUNCIONÁRIOS","DESPESAS_GERAIS",2200,"DIRETORIA COLEGIADA - PRESIDÊNCIA"]
[null,null,null,227.86,0,0,0,0,45.572000000000003,{"$f":"D865*'Série - IPCA'!$C$444/'Série - IPCA'!$C$385","v":297.83051103084256},{"$f":"E865*'Série - IPCA'!$C$444/'Série - IPCA'!$C$398","v":0},{"$f":"F865*'Série - IPCA'!$C$444/'Série - IPCA'!$C$411","v":0},{"$f":"G865*'Série - IPCA'!$C$444/'Série - IPCA'!$C$424","v":0},{"$f":"H865*'Série - IPCA'!$C$444/'Série - IPCA'!$C$437","v":0},59.566102206168509,null,"N","SIM","NÃO","ENCARGOS DE GESTÃO","FUNCIONÁRIOS","DESPESAS_GERAIS",2300,"DIRETORIA COLEGIADA - DAF"]
[null,null,null,541.14,0,0,0,0,108.22799999999999,{"$f":"D866*'Série - IPCA'!$C$444/'Série - IPCA'!$C$385","v":707.311519087291},{"$f":"E866*'Série - IPCA'!$C$444/'Série - IPCA'!$C$398","v":0},{"$f":"F866*'Série - IPCA'!$C$444/'Série - IPCA'!$C$411","v":0},{"$f":"G866*'Série - IPCA'!$C$444/'Série - IPCA'!$C$424","v":0},{"$f":"H866*'Série - IPCA'!$C$444/'Série - IPCA'!$C$437","v":0},141.46230381745821,null,"N","SIM","NÃO","ENCARGOS DE GESTÃO","FUNCIONÁRIOS","DESPESAS_GERAIS",3100,"SMS"]
[null,null,null,151.77000000000001,0,0,0,0,30.354000000000003,{"$f":"D867*'Série - IPCA'!$C$444/'Série - IPCA'!$C$385","v":198.37504019639681},{"$f":"E867*'Série - IPCA'!$C$444/'Série - IPCA'!$C$398","v":0},{"$f":"F867*'Série - IPCA'!$C$444/'Série - IPCA'!$C$411","v":0},{"$f":"G867*'Série - IPCA'!$C$444/'Série - IPCA'!$C$424","v":0},{"$f":"H867*'Série - IPCA'!$C$444/'Série - IPCA'!$C$437","v":0},39.675008039279362,null,"N","SIM","NÃO","ENCARGOS DE GESTÃO","FUNCIONÁRIOS","DESPESAS_GERAIS",3200,"GERÊNCIA DE PLANEJAMENTO E MEIO AMBIENTE"]
[null,null,null,9,0,0,0,0,1.8,{"$f":"D868*'Série - IPCA'!$C$444/'Série - IPCA'!$C$385","v":11.763690859640054},{"$f":"E868*'Série - IPCA'!$C$444/'Série - IPCA'!$C$398","v":0},{"$f":"F868*'Série - IPCA'!$C$444/'Série - IPCA'!$C$411","v":0},{"$f":"G868*'Série - IPCA'!$C$444/'Série - IPCA'!$C$424","v":0},{"$f":"H868*'Série - IPCA'!$C$444/'Série - IPCA'!$C$437","v":0},2.3527381719280109,null,"N","SIM","NÃO","ENCARGOS DE GESTÃO","FUNCIONÁRIOS","DESPESAS_GERAIS",3400,"MARKETING"]
[null,null,null,34.28,0,0,0,0,6.8559999999999999,{"$f":"D869*'Série - IPCA'!$C$444/'Série - IPCA'!$C$385","v":44.806591407606788},{"$f":"E869*'Série - IPCA'!$C$444/'Série - IPCA'!$C$398","v":0},{"$f":"F869*'Série - IPCA'!$C$444/'Série - IPCA'!$C$411","v":0},{"$f":"G869*'Série - IPCA'!$C$444/'Série - IPCA'!$C$424","v":0},{"$f":"H869*'Série - IPCA'!$C$444/'Série - IPCA'!$C$437","v":0},8.9613182815213577,null,"N","SIM","NÃO","ENCARGOS DE GESTÃO","FUNCIONÁRIOS","DESPESAS_GERAIS",3600,"GERÊNCIA DE GOVERNANÇA, RISCO E COMPLIANCE"]
[null,null,null,7547.15,0,0,0,0,1509.4299999999998,{"$f":"D870*'Série - IPCA'!$C$444/'Série - IPCA'!$C$385","v":9864.7043857036042},{"$f":"E870*'Série - IPCA'!$C$444/'Série - IPCA'!$C$398","v":0},{"$f":"F870*'Série - IPCA'!$C$444/'Série - IPCA'!$C$411","v":0},{"$f":"G870*'Série - IPCA'!$C$444/'Série - IPCA'!$C$424","v":0},{"$f":"H870*'Série - IPCA'!$C$444/'Série - IPCA'!$C$437","v":0},1972.9408771407209,null,"N","SIM","NÃO","ENCARGOS DE GESTÃO","FUNCIONÁRIOS","DESPESAS_GERAIS",4100,"GERÊNCIA DE SERVIÇOS CORPORATIVOS"]
[null,null,null,19.25,0,0,0,0,3.85,{"$f":"D871*'Série - IPCA'!$C$444/'Série - IPCA'!$C$385","v":25.161227672007893},{"$f":"E871*'Série - IPCA'!$C$444/'Série - IPCA'!$C$398","v":0},{"$f":"F871*'Série - IPCA'!$C$444/'Série - IPCA'!$C$411","v":0},{"$f":"G871*'Série - IPCA'!$C$444/'Série - IPCA'!$C$424","v":0},{"$f":"H871*'Série - IPCA'!$C$444/'Série - IPCA'!$C$437","v":0},5.0322455344015786,null,"N","SIM","NÃO","ENCARGOS DE GESTÃO","FUNCIONÁRIOS","DESPESAS_GERAIS",4200,"GERÊNCIA FINANCEIRA"]
[null,null,null,222.27,0,0,0,0,44.454000000000001,{"$f":"D872*'Série - IPCA'!$C$444/'Série - IPCA'!$C$385","v":290.52395193024392},{"$f":"E872*'Série - IPCA'!$C$444/'Série - IPCA'!$C$398","v":0},{"$f":"F872*'Série - IPCA'!$C$444/'Série - IPCA'!$C$411","v":0},{"$f":"G872*'Série - IPCA'!$C$444/'Série - IPCA'!$C$424","v":0},{"$f":"H872*'Série - IPCA'!$C$444/'Série - IPCA'!$C$437","v":0},58.104790386048784,null,"N","SIM","NÃO","ENCARGOS DE GESTÃO","FUNCIONÁRIOS","DESPESAS_GERAIS",4300,"GERÊNCIA DE TECNOLOGIA E SISTEMAS DE INFORMAÇÃO"]
[null,null,null,159.4,0,0,0,0,31.880000000000003,{"$f":"D873*'Série - IPCA'!$C$444/'Série - IPCA'!$C$385","v":208.34803589184722},{"$f":"E873*'Série - IPCA'!$C$444/'Série - IPCA'!$C$398","v":0},{"$f":"F873*'Série - IPCA'!$C$444/'Série - IPCA'!$C$411","v":0},{"$f":"G873*'Série - IPCA'!$C$444/'Série - IPCA'!$C$424","v":0},{"$f":"H873*'Série - IPCA'!$C$444/'Série - IPCA'!$C$437","v":0},41.669607178369446,null,"N","SIM","NÃO","ENCARGOS DE GESTÃO","FUNCIONÁRIOS","DESPESAS_GERAIS",4500,"GERÊNCIA CONTÁBIL"]
[null,null,null,477.85,0,0,0,0,95.570000000000007,{"$f":"D874*'Série - IPCA'!$C$444/'Série - IPCA'!$C$385","v":624.58663080877773},{"$f":"E874*'Série - IPCA'!$C$444/'Série - IPCA'!$C$398","v":0},{"$f":"F874*'Série - IPCA'!$C$444/'Série - IPCA'!$C$411","v":0},{"$f":"G874*'Série - IPCA'!$C$444/'Série - IPCA'!$C$424","v":0},{"$f":"H874*'Série - IPCA'!$C$444/'Série - IPCA'!$C$437","v":0},124.91732616175554,null,"N","SIM","NÃO","ENCARGOS DE GESTÃO","FUNCIONÁRIOS","DESPESAS_GERAIS",4600,"GERÊNCIA DE PESSOAS E CULTURA"]
[null,null,null,0,0,3323.52,12456.06,10228.5,5201.616,{"$f":"D875*'Série - IPCA'!$C$444/'Série - IPCA'!$C$385","v":0},{"$f":"E875*'Série - IPCA'!$C$444/'Série - IPCA'!$C$398","v":0},{"$f":"F875*'Série - IPCA'!$C$444/'Série - IPCA'!$C$411","v":3776.392878247018},{"$f":"G875*'Série - IPCA'!$C$444/'Série - IPCA'!$C$424","v":13379.352408164334},{"$f":"H875*'Série - IPCA'!$C$444/'Série - IPCA'!$C$437","v":10501.387772878388},5531.426611857948,null,"N","SIM","NÃO","ENCARGOS DE GESTÃO","FIXO","MATERIAIS_MANUTENÇÃO",4100,"GERÊNCIA DE SERVIÇOS CORPORATIVOS"]
[null,null,null,805.09,0,0,0,0,161.018,{"$f":"D876*'Série - IPCA'!$C$444/'Série - IPCA'!$C$385","v":1052.3144304652903},{"$f":"E876*'Série - IPCA'!$C$444/'Série - IPCA'!$C$398","v":0},{"$f":"F876*'Série - IPCA'!$C$444/'Série - IPCA'!$C$411","v":0},{"$f":"G876*'Série - IPCA'!$C$444/'Série - IPCA'!$C$424","v":0},{"$f":"H876*'Série - IPCA'!$C$444/'Série - IPCA'!$C$437","v":0},210.46288609305807,null,"N","SIM","NÃO","ENCARGOS DE GESTÃO","FUNCIONÁRIOS","PESSOAL",4100,"GERÊNCIA DE SERVIÇOS CORPORATIVOS"]
[null,null,null,3596.19,1406.15,74009.89,0,0,15802.446,{"$f":"D877*'Série - IPCA'!$C$444/'Série - IPCA'!$C$385","v":4700.4963813921077},{"$f":"E877*'Série - IPCA'!$C$444/'Série - IPCA'!$C$398","v":1758.5062284282067},{"$f":"F877*'Série - IPCA'!$C$444/'Série - IPCA'!$C$411","v":84094.701255249005},{"$f":"G877*'Série - IPCA'!$C$444/'Série - IPCA'!$C$424","v":0},{"$f":"H877*'Série - IPCA'!$C$444/'Série - IPCA'!$C$437","v":0},18110.740773013862,null,"N","SIM","NÃO","OPEX","FIXO","DESPESAS_GERAIS",5100,"GERÊNCIA DE ENGENHARIA"]
[null,null,null,8854.82,64001.760000000002,0,0,0,14571.316000000001,{"$f":"D878*'Série - IPCA'!$C$444/'Série - IPCA'!$C$385","v":11573.929455306439},{"$f":"E878*'Série - IPCA'!$C$444/'Série - IPCA'!$C$398","v":80039.464915099554},{"$f":"F878*'Série - IPCA'!$C$444/'Série - IPCA'!$C$411","v":0},{"$f":"G878*'Série - IPCA'!$C$444/'Série - IPCA'!$C$424","v":0},{"$f":"H878*'Série - IPCA'!$C$444/'Série - IPCA'!$C$437","v":0},18322.678874081197,null,"N","SIM","NÃO","OPEX","FIXO","DESPESAS_GERAIS",5200,"GERÊNCIA DE OPERAÇÕES"]
[null,null,null,-309306.82,0,1266.82,406.12,874.97,-61351.782000000007,{"$f":"D879*'Série - IPCA'!$C$444/'Série - IPCA'!$C$385","v":-404287.75680648128},{"$f":"E879*'Série - IPCA'!$C$444/'Série - IPCA'!$C$398","v":0},{"$f":"F879*'Série - IPCA'!$C$444/'Série - IPCA'!$C$411","v":1439.4407212897431},{"$f":"G879*'Série - IPCA'!$C$444/'Série - IPCA'!$C$424","v":436.2232198627575},{"$f":"H879*'Série - IPCA'!$C$444/'Série - IPCA'!$C$437","v":898.31346332652913},-80302.755880400451,null,"N","SIM","NÃO","OPEX","FIXO","DESPESAS_GERAIS",5200,"GERÊNCIA DE OPERAÇÕES"]
[null,null,null,-8674.5,75322.77,0,0,13.82,13332.418000000001,{"$f":"D880*'Série - IPCA'!$C$444/'Série - IPCA'!$C$385","v":-11338.23737354974},{"$f":"E880*'Série - IPCA'!$C$444/'Série - IPCA'!$C$398","v":94197.31905377467},{"$f":"F880*'Série - IPCA'!$C$444/'Série - IPCA'!$C$411","v":0},{"$f":"G880*'Série - IPCA'!$C$444/'Série - IPCA'!$C$424","v":0},{"$f":"H880*'Série - IPCA'!$C$444/'Série - IPCA'!$C$437","v":14.188705970687717},16574.654077239124,null,"N","SIM","NÃO","ENCARGOS DE COMERCIALIZAÇÃO","FIXO","DESPESAS_GERAIS",5300,"GERÊNCIA COMERCIAL"]
[null,null,null,0,8.17,0,0,0,1.6339999999999999,{"$f":"D881*'Série - IPCA'!$C$444/'Série - IPCA'!$C$385","v":0},{"$f":"E881*'Série - IPCA'!$C$444/'Série - IPCA'!$C$398","v":10.217256968501543},{"$f":"F881*'Série - IPCA'!$C$444/'Série - IPCA'!$C$411","v":0},{"$f":"G881*'Série - IPCA'!$C$444/'Série - IPCA'!$C$424","v":0},{"$f":"H881*'Série - IPCA'!$C$444/'Série - IPCA'!$C$437","v":0},2.0434513937003085,null,"N","SIM","NÃO","ENCARGOS DE GESTÃO","FIXO","DESPESAS_GERAIS",1005,"AUDITORIA INTERNA"]
[null,null,null,0,16.399999999999999,0,0,0,3.28,{"$f":"D882*'Série - IPCA'!$C$444/'Série - IPCA'!$C$385","v":0},{"$f":"E882*'Série - IPCA'!$C$444/'Série - IPCA'!$C$398","v":20.509548871900282},{"$f":"F882*'Série - IPCA'!$C$444/'Série - IPCA'!$C$411","v":0},{"$f":"G882*'Série - IPCA'!$C$444/'Série - IPCA'!$C$424","v":0},{"$f":"H882*'Série - IPCA'!$C$444/'Série - IPCA'!$C$437","v":0},4.1019097743800561,null,"N","SIM","NÃO","ENCARGOS DE GESTÃO","FIXO","DESPESAS_GERAIS",2110,"ASSESSORIA DA DIRETORIA EXECUTIVA"]
[null,null,null,0,24.53,0,0,0,4.9060000000000006,{"$f":"D883*'Série - IPCA'!$C$444/'Série - IPCA'!$C$385","v":0},{"$f":"E883*'Série - IPCA'!$C$444/'Série - IPCA'!$C$398","v":30.676782550470364},{"$f":"F883*'Série - IPCA'!$C$444/'Série - IPCA'!$C$411","v":0},{"$f":"G883*'Série - IPCA'!$C$444/'Série - IPCA'!$C$424","v":0},{"$f":"H883*'Série - IPCA'!$C$444/'Série - IPCA'!$C$437","v":0},6.1353565100940726,null,"N","SIM","NÃO","ENCARGOS DE GESTÃO","FIXO","DESPESAS_GERAIS",2120,"ASSESSORIA DA PRESIDÊNCIA"]
[null,null,null,0,8.1300000000000008,0,0,0,1.6260000000000001,{"$f":"D884*'Série - IPCA'!$C$444/'Série - IPCA'!$C$385","v":0},{"$f":"E884*'Série - IPCA'!$C$444/'Série - IPCA'!$C$398","v":10.167233678570081},{"$f":"F884*'Série - IPCA'!$C$444/'Série - IPCA'!$C$411","v":0},{"$f":"G884*'Série - IPCA'!$C$444/'Série - IPCA'!$C$424","v":0},{"$f":"H884*'Série - IPCA'!$C$444/'Série - IPCA'!$C$437","v":0},2.0334467357140165,null,"N","SIM","NÃO","ENCARGOS DE GESTÃO","FIXO","DESPESAS_GERAIS",2310,"ASSESSORIA DAF"]
[null,null,null,0,14.81,0,0,0,2.9620000000000002,{"$f":"D885*'Série - IPCA'!$C$444/'Série - IPCA'!$C$385","v":0},{"$f":"E885*'Série - IPCA'!$C$444/'Série - IPCA'!$C$398","v":18.521123097124587},{"$f":"F885*'Série - IPCA'!$C$444/'Série - IPCA'!$C$411","v":0},{"$f":"G885*'Série - IPCA'!$C$444/'Série - IPCA'!$C$424","v":0},{"$f":"H885*'Série - IPCA'!$C$444/'Série - IPCA'!$C$437","v":0},3.7042246194249175,null,"N","SIM","NÃO","ENCARGOS DE GESTÃO","FIXO","DESPESAS_GERAIS",2410,"ASSESSORIA DE SEGURANÇA DO TRABALHO"]
[null,null,null,0,0,166.1,0,0,33.22,{"$f":"D886*'Série - IPCA'!$C$444/'Série - IPCA'!$C$385","v":0},{"$f":"E886*'Série - IPCA'!$C$444/'Série - IPCA'!$C$398","v":0},{"$f":"F886*'Série - IPCA'!$C$444/'Série - IPCA'!$C$411","v":188.73328792269331},{"$f":"G886*'Série - IPCA'!$C$444/'Série - IPCA'!$C$424","v":0},{"$f":"H886*'Série - IPCA'!$C$444/'Série - IPCA'!$C$437","v":0},37.74665758453866,null,"N","SIM","NÃO","ENCARGOS DE GESTÃO","FIXO","DESPESAS_GERAIS",3100,"SMS"]
[null,null,null,0,98.13,0,0,0,19.625999999999998,{"$f":"D887*'Série - IPCA'!$C$444/'Série - IPCA'!$C$385","v":0},{"$f":"E887*'Série - IPCA'!$C$444/'Série - IPCA'!$C$398","v":122.71963602436431},{"$f":"F887*'Série - IPCA'!$C$444/'Série - IPCA'!$C$411","v":0},{"$f":"G887*'Série - IPCA'!$C$444/'Série - IPCA'!$C$424","v":0},{"$f":"H887*'Série - IPCA'!$C$444/'Série - IPCA'!$C$437","v":0},24.543927204872862,null,"N","SIM","NÃO","ENCARGOS DE GESTÃO","FIXO","DESPESAS_GERAIS",3200,"GERÊNCIA DE PLANEJAMENTO E MEIO AMBIENTE"]
[null,null,null,0,32.659999999999997,0,0,0,6.5319999999999991,{"$f":"D888*'Série - IPCA'!$C$444/'Série - IPCA'!$C$385","v":0},{"$f":"E888*'Série - IPCA'!$C$444/'Série - IPCA'!$C$398","v":40.844016229040434},{"$f":"F888*'Série - IPCA'!$C$444/'Série - IPCA'!$C$411","v":0},{"$f":"G888*'Série - IPCA'!$C$444/'Série - IPCA'!$C$424","v":0},{"$f":"H888*'Série - IPCA'!$C$444/'Série - IPCA'!$C$437","v":0},8.1688032458080873,null,"N","SIM","NÃO","ENCARGOS DE GESTÃO","FIXO","DESPESAS_GERAIS",3300,"GERÊNCIA JURÍDICA"]
[null,null,null,0,32.659999999999997,0,0,0,6.5319999999999991,{"$f":"D889*'Série - IPCA'!$C$444/'Série - IPCA'!$C$385","v":0},{"$f":"E889*'Série - IPCA'!$C$444/'Série - IPCA'!$C$398","v":40.844016229040434},{"$f":"F889*'Série - IPCA'!$C$444/'Série - IPCA'!$C$411","v":0},{"$f":"G889*'Série - IPCA'!$C$444/'Série - IPCA'!$C$424","v":0},{"$f":"H889*'Série - IPCA'!$C$444/'Série - IPCA'!$C$437","v":0},8.1688032458080873,null,"N","SIM","NÃO","ENCARGOS DE GESTÃO","FIXO","DESPESAS_GERAIS",3500,"ASSESSORIA DE COMUNICAÇÃO INSTITUCIONAL"]
[null,null,null,0,57.32,0,0,0,11.464,{"$f":"D890*'Série - IPCA'!$C$444/'Série - IPCA'!$C$385","v":0},{"$f":"E890*'Série - IPCA'!$C$444/'Série - IPCA'!$C$398","v":71.683374471788071},{"$f":"F890*'Série - IPCA'!$C$444/'Série - IPCA'!$C$411","v":0},{"$f":"G890*'Série - IPCA'!$C$444/'Série - IPCA'!$C$424","v":0},{"$f":"H890*'Série - IPCA'!$C$444/'Série - IPCA'!$C$437","v":0},14.336674894357614,null,"N","SIM","NÃO","ENCARGOS DE GESTÃO","FIXO","DESPESAS_GERAIS",3600,"GERÊNCIA DE GOVERNANÇA, RISCO E COMPLIANCE"]
[null,null,null,0,0,18.82,0,0,3.7640000000000002,{"$f":"D891*'Série - IPCA'!$C$444/'Série - IPCA'!$C$385","v":0},{"$f":"E891*'Série - IPCA'!$C$444/'Série - IPCA'!$C$398","v":0},{"$f":"F891*'Série - IPCA'!$C$444/'Série - IPCA'!$C$411","v":21.384470070470126},{"$f":"G891*'Série - IPCA'!$C$444/'Série - IPCA'!$C$424","v":0},{"$f":"H891*'Série - IPCA'!$C$444/'Série - IPCA'!$C$437","v":0},4.276894014094025,null,"N","SIM","NÃO","ENCARGOS DE GESTÃO","FIXO","DESPESAS_GERAIS",3700,"GERÊNCIA DE REGULAÇÃO"]
[null,null,null,29914.080000000002,44829.27,14680.83,59907.68,61202.89,42106.95,{"$f":"D892*'Série - IPCA'!$C$444/'Série - IPCA'!$C$385","v":39099.998830060154},{"$f":"E892*'Série - IPCA'!$C$444/'Série - IPCA'!$C$398","v":56062.689265647146},{"$f":"F892*'Série - IPCA'!$C$444/'Série - IPCA'!$C$411","v":16681.284258483527},{"$f":"G892*'Série - IPCA'!$C$444/'Série - IPCA'!$C$424","v":64348.274067043545},{"$f":"H892*'Série - IPCA'!$C$444/'Série - IPCA'!$C$437","v":62835.73160393224},47805.595605033326,null,"N","SIM","NÃO","ENCARGOS DE GESTÃO","FIXO","DESPESAS_GERAIS",4100,"GERÊNCIA DE SERVIÇOS CORPORATIVOS"]
[null,null,null,0,73.59,0,0,0,14.718,{"$f":"D893*'Série - IPCA'!$C$444/'Série - IPCA'!$C$385","v":0},{"$f":"E893*'Série - IPCA'!$C$444/'Série - IPCA'!$C$398","v":92.030347651411091},{"$f":"F893*'Série - IPCA'!$C$444/'Série - IPCA'!$C$411","v":0},{"$f":"G893*'Série - IPCA'!$C$444/'Série - IPCA'!$C$424","v":0},{"$f":"H893*'Série - IPCA'!$C$444/'Série - IPCA'!$C$437","v":0},18.406069530282217,null,"N","SIM","NÃO","ENCARGOS DE GESTÃO","FIXO","DESPESAS_GERAIS",4200,"GERÊNCIA FINANCEIRA"]
[null,null,null,198.8,1230.26,0,0,0,285.81200000000001,{"$f":"D894*'Série - IPCA'!$C$444/'Série - IPCA'!$C$385","v":259.84686032182697},{"$f":"E894*'Série - IPCA'!$C$444/'Série - IPCA'!$C$398","v":1538.5413167770757},{"$f":"F894*'Série - IPCA'!$C$444/'Série - IPCA'!$C$411","v":0},{"$f":"G894*'Série - IPCA'!$C$444/'Série - IPCA'!$C$424","v":0},{"$f":"H894*'Série - IPCA'!$C$444/'Série - IPCA'!$C$437","v":0},359.67763541978059,null,"N","SIM","NÃO","ENCARGOS DE GESTÃO","FIXO","DESPESAS_GERAIS",4300,"GERÊNCIA DE TECNOLOGIA E SISTEMAS DE INFORMAÇÃO"]
[null,null,null,0,49.06,0,0,0,9.8120000000000012,{"$f":"D895*'Série - IPCA'!$C$444/'Série - IPCA'!$C$385","v":0},{"$f":"E895*'Série - IPCA'!$C$444/'Série - IPCA'!$C$398","v":61.353565100940727},{"$f":"F895*'Série - IPCA'!$C$444/'Série - IPCA'!$C$411","v":0},{"$f":"G895*'Série - IPCA'!$C$444/'Série - IPCA'!$C$424","v":0},{"$f":"H895*'Série - IPCA'!$C$444/'Série - IPCA'!$C$437","v":0},12.270713020188145,null,"N","SIM","NÃO","ENCARGOS DE GESTÃO","FIXO","DESPESAS_GERAIS",4500,"GERÊNCIA CONTÁBIL"]
[null,null,null,3711.21,0,0,0,0,742.24199999999996,{"$f":"D896*'Série - IPCA'!$C$444/'Série - IPCA'!$C$385","v":4850.8363505783072},{"$f":"E896*'Série - IPCA'!$C$444/'Série - IPCA'!$C$398","v":0},{"$f":"F896*'Série - IPCA'!$C$444/'Série - IPCA'!$C$411","v":0},{"$f":"G896*'Série - IPCA'!$C$444/'Série - IPCA'!$C$424","v":0},{"$f":"H896*'Série - IPCA'!$C$444/'Série - IPCA'!$C$437","v":0},970.16727011566149,null,"N","SIM","NÃO","ENCARGOS DE COMERCIALIZAÇÃO","FIXO","DESPESAS_GERAIS",5400,"GERÊNCIA COMERCIAL (inativo)"]
[null,null,null,4423.17,0,0,0,0,884.63400000000001,{"$f":"D897*'Série - IPCA'!$C$444/'Série - IPCA'!$C$385","v":5781.4227221815672},{"$f":"E897*'Série - IPCA'!$C$444/'Série - IPCA'!$C$398","v":0},{"$f":"F897*'Série - IPCA'!$C$444/'Série - IPCA'!$C$411","v":0},{"$f":"G897*'Série - IPCA'!$C$444/'Série - IPCA'!$C$424","v":0},{"$f":"H897*'Série - IPCA'!$C$444/'Série - IPCA'!$C$437","v":0},1156.2845444363134,null,"N","SIM","NÃO","ENCARGOS DE COMERCIALIZAÇÃO","FIXO","DESPESAS_GERAIS",5400,"GERÊNCIA COMERCIAL (inativo)"]
[null,null,null,2213.71,0,0,0,0,442.74200000000002,{"$f":"D898*'Série - IPCA'!$C$444/'Série - IPCA'!$C$385","v":2893.4888992104206},{"$f":"E898*'Série - IPCA'!$C$444/'Série - IPCA'!$C$398","v":0},{"$f":"F898*'Série - IPCA'!$C$444/'Série - IPCA'!$C$411","v":0},{"$f":"G898*'Série - IPCA'!$C$444/'Série - IPCA'!$C$424","v":0},{"$f":"H898*'Série - IPCA'!$C$444/'Série - IPCA'!$C$437","v":0},578.69777984208417,null,"N","SIM","NÃO","ENCARGOS DE COMERCIALIZAÇÃO","FIXO","DESPESAS_GERAIS",5500,"GERÊNCIA COMERCIAL (inativo)"]
[null,null,null,776.08,0,0,0,0,155.21600000000001,{"$f":"D899*'Série - IPCA'!$C$444/'Série - IPCA'!$C$385","v":1014.3961335943839},{"$f":"E899*'Série - IPCA'!$C$444/'Série - IPCA'!$C$398","v":0},{"$f":"F899*'Série - IPCA'!$C$444/'Série - IPCA'!$C$411","v":0},{"$f":"G899*'Série - IPCA'!$C$444/'Série - IPCA'!$C$424","v":0},{"$f":"H899*'Série - IPCA'!$C$444/'Série - IPCA'!$C$437","v":0},202.87922671887677,null,"N","SIM","NÃO","ENCARGOS DE GESTÃO","FIXO","DESPESAS_GERAIS",9999,"RATEIO"]
[null,null,null,1768.41,0,0,0,0,353.68200000000002,{"$f":"D900*'Série - IPCA'!$C$444/'Série - IPCA'!$C$385","v":2311.4476170106745},{"$f":"E900*'Série - IPCA'!$C$444/'Série - IPCA'!$C$398","v":0},{"$f":"F900*'Série - IPCA'!$C$444/'Série - IPCA'!$C$411","v":0},{"$f":"G900*'Série - IPCA'!$C$444/'Série - IPCA'!$C$424","v":0},{"$f":"H900*'Série - IPCA'!$C$444/'Série - IPCA'!$C$437","v":0},462.28952340213493,null,"N","SIM","NÃO","ENCARGOS DE GESTÃO","FIXO","DESPESAS_GERAIS",2200,"DIRETORIA COLEGIADA - PRESIDÊNCIA"]
[null,null,null,1878.68,0,0,0,0,{"$f":"AVERAGE(D901:H901)","v":375.73599999999999},{"$f":"D901*'Série - IPCA'!$C$444/'Série - IPCA'!$C$385","v":2455.5789715765086},{"$f":"E901*'Série - IPCA'!$C$444/'Série - IPCA'!$C$398","v":0},{"$f":"F901*'Série - IPCA'!$C$444/'Série - IPCA'!$C$411","v":0},{"$f":"G901*'Série - IPCA'!$C$444/'Série - IPCA'!$C$424","v":0},{"$f":"H901*'Série - IPCA'!$C$444/'Série - IPCA'!$C$437","v":0},{"$f":"AVERAGE(J901:N901)","v":491.11579431530174},null,"N","SIM","NÃO","ENCARGOS DE GESTÃO","FIXO","DESPESAS_GERAIS",3100,"SMS"]
[null,null,null,1106.8399999999999,0,0,0,0,221.36799999999999,{"$f":"D902*'Série - IPCA'!$C$444/'Série - IPCA'!$C$385","v":1446.7248434537776},{"$f":"E902*'Série - IPCA'!$C$444/'Série - IPCA'!$C$398","v":0},{"$f":"F902*'Série - IPCA'!$C$444/'Série - IPCA'!$C$411","v":0},{"$f":"G902*'Série - IPCA'!$C$444/'Série - IPCA'!$C$424","v":0},{"$f":"H902*'Série - IPCA'!$C$444/'Série - IPCA'!$C$437","v":0},289.34496869075554,null,"N","SIM","NÃO","ENCARGOS DE GESTÃO","FIXO","DESPESAS_GERAIS",3200,"GERÊNCIA DE PLANEJAMENTO E MEIO AMBIENTE"]
[null,null,null,1327.36,0,0,0,0,265.47199999999998,{"$f":"D903*'Série - IPCA'!$C$444/'Série - IPCA'!$C$385","v":1734.9614110502023},{"$f":"E903*'Série - IPCA'!$C$444/'Série - IPCA'!$C$398","v":0},{"$f":"F903*'Série - IPCA'!$C$444/'Série - IPCA'!$C$411","v":0},{"$f":"G903*'Série - IPCA'!$C$444/'Série - IPCA'!$C$424","v":0},{"$f":"H903*'Série - IPCA'!$C$444/'Série - IPCA'!$C$437","v":0},346.99228221004046,null,"N","SIM","NÃO","ENCARGOS DE GESTÃO","FIXO","DESPESAS_GERAIS",3300,"GERÊNCIA JURÍDICA"]
[null,null,null,1547.89,0,0,0,0,309.57800000000003,{"$f":"D904*'Série - IPCA'!$C$444/'Série - IPCA'!$C$385","v":2023.2110494142494},{"$f":"E904*'Série - IPCA'!$C$444/'Série - IPCA'!$C$398","v":0},{"$f":"F904*'Série - IPCA'!$C$444/'Série - IPCA'!$C$411","v":0},{"$f":"G904*'Série - IPCA'!$C$444/'Série - IPCA'!$C$424","v":0},{"$f":"H904*'Série - IPCA'!$C$444/'Série - IPCA'!$C$437","v":0},404.6422098828499,null,"N","SIM","NÃO","ENCARGOS DE GESTÃO","FIXO","DESPESAS_GERAIS",3400,"MARKETING"]
[null,null,null,665.87,0,0,0,0,133.17400000000001,{"$f":"D905*'Série - IPCA'!$C$444/'Série - IPCA'!$C$385","v":870.34320363428026},{"$f":"E905*'Série - IPCA'!$C$444/'Série - IPCA'!$C$398","v":0},{"$f":"F905*'Série - IPCA'!$C$444/'Série - IPCA'!$C$411","v":0},{"$f":"G905*'Série - IPCA'!$C$444/'Série - IPCA'!$C$424","v":0},{"$f":"H905*'Série - IPCA'!$C$444/'Série - IPCA'!$C$437","v":0},174.06864072685605,null,"N","SIM","NÃO","ENCARGOS DE GESTÃO","FIXO","DESPESAS_GERAIS",3600,"GERÊNCIA DE GOVERNANÇA, RISCO E COMPLIANCE"]
[null,null,null,2875.26,0,0,0,0,575.05200000000002,{"$f":"D906*'Série - IPCA'!$C$444/'Série - IPCA'!$C$385","v":3758.185531232074},{"$f":"E906*'Série - IPCA'!$C$444/'Série - IPCA'!$C$398","v":0},{"$f":"F906*'Série - IPCA'!$C$444/'Série - IPCA'!$C$411","v":0},{"$f":"G906*'Série - IPCA'!$C$444/'Série - IPCA'!$C$424","v":0},{"$f":"H906*'Série - IPCA'!$C$444/'Série - IPCA'!$C$437","v":0},751.63710624641476,null,"N","SIM","NÃO","ENCARGOS DE GESTÃO","FIXO","DESPESAS_GERAIS",4100,"GERÊNCIA DE SERVIÇOS CORPORATIVOS"]
[null,null,null,2434.23,0,0,0,0,486.846,{"$f":"D907*'Série - IPCA'!$C$444/'Série - IPCA'!$C$385","v":3181.7254668068454},{"$f":"E907*'Série - IPCA'!$C$444/'Série - IPCA'!$C$398","v":0},{"$f":"F907*'Série - IPCA'!$C$444/'Série - IPCA'!$C$411","v":0},{"$f":"G907*'Série - IPCA'!$C$444/'Série - IPCA'!$C$424","v":0},{"$f":"H907*'Série - IPCA'!$C$444/'Série - IPCA'!$C$437","v":0},636.34509336136909,null,"N","SIM","NÃO","ENCARGOS DE GESTÃO","FIXO","DESPESAS_GERAIS",4200,"GERÊNCIA FINANCEIRA"]
[null,null,null,2748.05,0,0,0,0,549.61,{"$f":"D908*'Série - IPCA'!$C$444/'Série - IPCA'!$C$385","v":3591.9122963148725},{"$f":"E908*'Série - IPCA'!$C$444/'Série - IPCA'!$C$398","v":0},{"$f":"F908*'Série - IPCA'!$C$444/'Série - IPCA'!$C$411","v":0},{"$f":"G908*'Série - IPCA'!$C$444/'Série - IPCA'!$C$424","v":0},{"$f":"H908*'Série - IPCA'!$C$444/'Série - IPCA'!$C$437","v":0},718.38245926297452,null,"N","SIM","NÃO","ENCARGOS DE GESTÃO","FIXO","DESPESAS_GERAIS",4300,"GERÊNCIA DE TECNOLOGIA E SISTEMAS DE INFORMAÇÃO"]
[null,null,null,1768.41,0,0,0,0,353.68200000000002,{"$f":"D909*'Série - IPCA'!$C$444/'Série - IPCA'!$C$385","v":2311.4476170106745},{"$f":"E909*'Série - IPCA'!$C$444/'Série - IPCA'!$C$398","v":0},{"$f":"F909*'Série - IPCA'!$C$444/'Série - IPCA'!$C$411","v":0},{"$f":"G909*'Série - IPCA'!$C$444/'Série - IPCA'!$C$424","v":0},{"$f":"H909*'Série - IPCA'!$C$444/'Série - IPCA'!$C$437","v":0},462.28952340213493,null,"N","SIM","NÃO","ENCARGOS DE GESTÃO","FIXO","DESPESAS_GERAIS",4500,"GERÊNCIA CONTÁBIL"]
[null,null,null,1547.89,0,0,0,0,309.57800000000003,{"$f":"D910*'Série - IPCA'!$C$444/'Série - IPCA'!$C$385","v":2023.2110494142494},{"$f":"E910*'Série - IPCA'!$C$444/'Série - IPCA'!$C$398","v":0},{"$f":"F910*'Série - IPCA'!$C$444/'Série - IPCA'!$C$411","v":0},{"$f":"G910*'Série - IPCA'!$C$444/'Série - IPCA'!$C$424","v":0},{"$f":"H910*'Série - IPCA'!$C$444/'Série - IPCA'!$C$437","v":0},404.6422098828499,null,"N","SIM","NÃO","ENCARGOS DE GESTÃO","FIXO","DESPESAS_GERAIS",4600,"GERÊNCIA DE PESSOAS E CULTURA"]
[null,null,null,-121882.85,0,0,0,0,-24376.57,{"$f":"D911*'Série - IPCA'!$C$444/'Série - IPCA'!$C$385","v":-159310.24094354222},{"$f":"E911*'Série - IPCA'!$C$444/'Série - IPCA'!$C$398","v":0},{"$f":"F911*'Série - IPCA'!$C$444/'Série - IPCA'!$C$411","v":0},{"$f":"G911*'Série - IPCA'!$C$444/'Série - IPCA'!$C$424","v":0},{"$f":"H911*'Série - IPCA'!$C$444/'Série - IPCA'!$C$437","v":0},-31862.048188708442,null,"N","SIM","NÃO","OPEX","EXTENSÃO","MATERIAIS_MANUTENÇÃO",5100,"GERÊNCIA DE ENGENHARIA"]
[null,null,null,1993.18,0,0,0,0,398.63600000000002,{"$f":"D912*'Série - IPCA'!$C$444/'Série - IPCA'!$C$385","v":2605.2392608463738},{"$f":"E912*'Série - IPCA'!$C$444/'Série - IPCA'!$C$398","v":0},{"$f":"F912*'Série - IPCA'!$C$444/'Série - IPCA'!$C$411","v":0},{"$f":"G912*'Série - IPCA'!$C$444/'Série - IPCA'!$C$424","v":0},{"$f":"H912*'Série - IPCA'!$C$444/'Série - IPCA'!$C$437","v":0},521.04785216927473,null,"N","SIM","NÃO","ENCARGOS DE COMERCIALIZAÇÃO","FIXO","MATERIAIS_MANUTENÇÃO",5300,"GERÊNCIA COMERCIAL"]
[null,null,null,450,0,0,0,0,90,{"$f":"D913*'Série - IPCA'!$C$444/'Série - IPCA'!$C$385","v":588.18454298200265},{"$f":"E913*'Série - IPCA'!$C$444/'Série - IPCA'!$C$398","v":0},{"$f":"F913*'Série - IPCA'!$C$444/'Série - IPCA'!$C$411","v":0},{"$f":"G913*'Série - IPCA'!$C$444/'Série - IPCA'!$C$424","v":0},{"$f":"H913*'Série - IPCA'!$C$444/'Série - IPCA'!$C$437","v":0},117.63690859640053,null,"N","SIM","NÃO","ENCARGOS DE COMERCIALIZAÇÃO","FIXO","MATERIAIS_MANUTENÇÃO",5500,"GERÊNCIA COMERCIAL (inativo)"]
[null,null,null,0,684.72,5.53,369.09,301.18,272.10399999999998,{"$f":"D914*'Série - IPCA'!$C$444/'Série - IPCA'!$C$385","v":0},{"$f":"E914*'Série - IPCA'!$C$444/'Série - IPCA'!$C$398","v":856.2986770468026},{"$f":"F914*'Série - IPCA'!$C$444/'Série - IPCA'!$C$411","v":6.2835345106110427},{"$f":"G914*'Série - IPCA'!$C$444/'Série - IPCA'!$C$424","v":396.44840987674866},{"$f":"H914*'Série - IPCA'!$C$444/'Série - IPCA'!$C$437","v":309.2152289617747},313.6491700791874,null,"N","SIM","NÃO","OPEX","FIXO","MATERIAIS_MANUTENÇÃO",5100,"GERÊNCIA DE ENGENHARIA"]
[null,null,null,15.41,2990.57,3221.03,3357.01,4484.3599999999997,2813.6760000000004,{"$f":"D915*'Série - IPCA'!$C$444/'Série - IPCA'!$C$385","v":20.142052905228137},{"$f":"E915*'Série - IPCA'!$C$444/'Série - IPCA'!$C$398","v":3739.9537542584658},{"$f":"F915*'Série - IPCA'!$C$444/'Série - IPCA'!$C$411","v":3659.9372811416793},{"$f":"G915*'Série - IPCA'!$C$444/'Série - IPCA'!$C$424","v":3605.8448520424399},{"$f":"H915*'Série - IPCA'!$C$444/'Série - IPCA'!$C$437","v":4603.9989512817056},3125.9753783259039,null,"N","SIM","NÃO","OPEX","FIXO","MATERIAIS_MANUTENÇÃO",5200,"GERÊNCIA DE OPERAÇÕES"]
[null,null,null,4189.26,10482.86,3103682.81,780891.64,27178.66,785285.04600000009,{"$f":"D916*'Série - IPCA'!$C$444/'Série - IPCA'!$C$385","v":5475.6843967395216},{"$f":"E916*'Série - IPCA'!$C$444/'Série - IPCA'!$C$398","v":13109.678627273697},{"$f":"F916*'Série - IPCA'!$C$444/'Série - IPCA'!$C$411","v":3526600.0084313299},{"$f":"G916*'Série - IPCA'!$C$444/'Série - IPCA'!$C$424","v":838774.41535681393},{"$f":"H916*'Série - IPCA'!$C$444/'Série - IPCA'!$C$437","v":27903.763778385779},882372.71011810843,null,"N","SIM","NÃO","OPEX","FIXO","MATERIAIS_MANUTENÇÃO",5100,"GERÊNCIA DE ENGENHARIA"]
[null,null,null,6841.24,11844.16,11743.87,87779.7,174173.33,58476.46,{"$f":"D917*'Série - IPCA'!$C$444/'Série - IPCA'!$C$385","v":8942.0258285115469},{"$f":"E917*'Série - IPCA'!$C$444/'Série - IPCA'!$C$398","v":14812.096241866248},{"$f":"F917*'Série - IPCA'!$C$444/'Série - IPCA'!$C$411","v":13344.125213947504},{"$f":"G917*'Série - IPCA'!$C$444/'Série - IPCA'!$C$424","v":94286.278372369983},{"$f":"H917*'Série - IPCA'!$C$444/'Série - IPCA'!$C$437","v":178820.12788028669},62040.930707396394,null,"N","SIM","NÃO","OPEX","FIXO","MATERIAIS_MANUTENÇÃO",5200,"GERÊNCIA DE OPERAÇÕES"]
[null,null,null,5144.6000000000004,6384.16,10348.780000000001,4725.5200000000004,10427.719999999999,7406.1559999999999,{"$f":"D918*'Série - IPCA'!$C$444/'Série - IPCA'!$C$385","v":6724.3871107226914},{"$f":"E918*'Série - IPCA'!$C$444/'Série - IPCA'!$C$398","v":7983.9171662213967},{"$f":"F918*'Série - IPCA'!$C$444/'Série - IPCA'!$C$411","v":11758.936034850154},{"$f":"G918*'Série - IPCA'!$C$444/'Série - IPCA'!$C$424","v":5075.7942231996904},{"$f":"H918*'Série - IPCA'!$C$444/'Série - IPCA'!$C$437","v":10705.922794837896},8449.7914659663656,null,"N","NÃO","NÃO","ENCARGOS DE COMERCIALIZAÇÃO","FIXO","MATERIAIS_MANUTENÇÃO",5300,"GERÊNCIA COMERCIAL"]
[null,null,null,4763.32,679.45,0,0,0,1088.5539999999999,{"$f":"D919*'Série - IPCA'!$C$444/'Série - IPCA'!$C$385","v":6226.0248828378517},{"$f":"E919*'Série - IPCA'!$C$444/'Série - IPCA'!$C$398","v":849.70810859833227},{"$f":"F919*'Série - IPCA'!$C$444/'Série - IPCA'!$C$411","v":0},{"$f":"G919*'Série - IPCA'!$C$444/'Série - IPCA'!$C$424","v":0},{"$f":"H919*'Série - IPCA'!$C$444/'Série - IPCA'!$C$437","v":0},1415.1465982872367,null,"N","NÃO","NÃO","ENCARGOS DE COMERCIALIZAÇÃO","FIXO","MATERIAIS_MANUTENÇÃO",5500,"GERÊNCIA COMERCIAL (inativo)"]
[null,null,null,2909.78,1413.06,47,479.5,0,969.86800000000005,{"$f":"D920*'Série - IPCA'!$C$444/'Série - IPCA'!$C$385","v":3803.305821062605},{"$f":"E920*'Série - IPCA'!$C$444/'Série - IPCA'!$C$398","v":1767.1477517638668},{"$f":"F920*'Série - IPCA'!$C$444/'Série - IPCA'!$C$411","v":53.404362025084801},{"$f":"G920*'Série - IPCA'!$C$444/'Série - IPCA'!$C$424","v":515.04243554661741},{"$f":"H920*'Série - IPCA'!$C$444/'Série - IPCA'!$C$437","v":0},1227.7800740796349,null,"N","NÃO","NÃO","ENCARGOS DE GESTÃO","FIXO","MATERIAIS_MANUTENÇÃO",2100,"SECRETARIA"]
[null,null,null,0,3141.53,2983.85,2297.65,1431.73,1970.952,{"$f":"D921*'Série - IPCA'!$C$444/'Série - IPCA'!$C$385","v":0},{"$f":"E921*'Série - IPCA'!$C$444/'Série - IPCA'!$C$398","v":3928.7416504598109},{"$f":"F921*'Série - IPCA'!$C$444/'Série - IPCA'!$C$411","v":3390.4384176287081},{"$f":"G921*'Série - IPCA'!$C$444/'Série - IPCA'!$C$424","v":2467.9609010087288},{"$f":"H921*'Série - IPCA'!$C$444/'Série - IPCA'!$C$437","v":1469.9273516217602},2251.4136641438013,null,"N","NÃO","NÃO","ENCARGOS DE GESTÃO","FIXO","MATERIAIS_MANUTENÇÃO",2110,"ASSESSORIA DA DIRETORIA EXECUTIVA"]
[null,null,null,0,0,30,0,82,22.4,{"$f":"D922*'Série - IPCA'!$C$444/'Série - IPCA'!$C$385","v":0},{"$f":"E922*'Série - IPCA'!$C$444/'Série - IPCA'!$C$398","v":0},{"$f":"F922*'Série - IPCA'!$C$444/'Série - IPCA'!$C$411","v":34.087890654309447},{"$f":"G922*'Série - IPCA'!$C$444/'Série - IPCA'!$C$424","v":0},{"$f":"H922*'Série - IPCA'!$C$444/'Série - IPCA'!$C$437","v":84.187690998291814},23.655116330520251,null,"N","NÃO","NÃO","ENCARGOS DE GESTÃO","FIXO","MATERIAIS_MANUTENÇÃO",2120,"ASSESSORIA DA PRESIDÊNCIA"]
[null,null,null,0,0,0,0,15,3,{"$f":"D923*'Série - IPCA'!$C$444/'Série - IPCA'!$C$385","v":0},{"$f":"E923*'Série - IPCA'!$C$444/'Série - IPCA'!$C$398","v":0},{"$f":"F923*'Série - IPCA'!$C$444/'Série - IPCA'!$C$411","v":0},{"$f":"G923*'Série - IPCA'!$C$444/'Série - IPCA'!$C$424","v":0},{"$f":"H923*'Série - IPCA'!$C$444/'Série - IPCA'!$C$437","v":15.400187377736307},3.0800374755472615,null,"N","NÃO","NÃO","ENCARGOS DE GESTÃO","FIXO","MATERIAIS_MANUTENÇÃO",2140,"ASSESSORIA DTC"]
[null,null,null,3475.6,1995.67,0,837,289,1319.4540000000002,{"$f":"D924*'Série - IPCA'!$C$444/'Série - IPCA'!$C$385","v":4542.8759946405526},{"$f":"E924*'Série - IPCA'!$C$444/'Série - IPCA'!$C$398","v":2495.7494754381246},{"$f":"F924*'Série - IPCA'!$C$444/'Série - IPCA'!$C$411","v":0},{"$f":"G924*'Série - IPCA'!$C$444/'Série - IPCA'!$C$424","v":899.04174880608696},{"$f":"H924*'Série - IPCA'!$C$444/'Série - IPCA'!$C$437","v":296.71027681105284},1646.8754991391634,null,"N","NÃO","NÃO","ENCARGOS DE GESTÃO","FIXO","MATERIAIS_MANUTENÇÃO",2200,"DIRETORIA COLEGIADA - PRESIDÊNCIA"]
[null,null,null,441.04,228.39,0,0,59,145.68600000000001,{"$f":"D925*'Série - IPCA'!$C$444/'Série - IPCA'!$C$385","v":576.47313519285001},{"$f":"E925*'Série - IPCA'!$C$444/'Série - IPCA'!$C$398","v":285.62047968617719},{"$f":"F925*'Série - IPCA'!$C$444/'Série - IPCA'!$C$411","v":0},{"$f":"G925*'Série - IPCA'!$C$444/'Série - IPCA'!$C$424","v":0},{"$f":"H925*'Série - IPCA'!$C$444/'Série - IPCA'!$C$437","v":60.574070352429473},184.53353704629131,null,"N","NÃO","NÃO","ENCARGOS DE GESTÃO","FIXO","MATERIAIS_MANUTENÇÃO",2300,"DIRETORIA COLEGIADA - DAF"]
[null,null,null,441.04,133.38999999999999,0,243,104,184.286,{"$f":"D926*'Série - IPCA'!$C$444/'Série - IPCA'!$C$385","v":576.47313519285001},{"$f":"E926*'Série - IPCA'!$C$444/'Série - IPCA'!$C$398","v":166.8151660989499},{"$f":"F926*'Série - IPCA'!$C$444/'Série - IPCA'!$C$411","v":0},{"$f":"G926*'Série - IPCA'!$C$444/'Série - IPCA'!$C$424","v":261.01212062112199},{"$f":"H926*'Série - IPCA'!$C$444/'Série - IPCA'!$C$437","v":106.77463248563839},222.21501087971205,null,"N","NÃO","NÃO","ENCARGOS DE GESTÃO","FIXO","MATERIAIS_MANUTENÇÃO",2400,"DIRETORIA COLEGIADA - DTC"]
[null,null,null,0,0,7.26,0,70,15.452000000000002,{"$f":"D927*'Série - IPCA'!$C$444/'Série - IPCA'!$C$385","v":0},{"$f":"E927*'Série - IPCA'!$C$444/'Série - IPCA'!$C$398","v":0},{"$f":"F927*'Série - IPCA'!$C$444/'Série - IPCA'!$C$411","v":8.2492695383428867},{"$f":"G927*'Série - IPCA'!$C$444/'Série - IPCA'!$C$424","v":0},{"$f":"H927*'Série - IPCA'!$C$444/'Série - IPCA'!$C$437","v":71.867541096102755},16.023362126889129,null,"N","NÃO","NÃO","ENCARGOS DE GESTÃO","FIXO","MATERIAIS_MANUTENÇÃO",2410,"ASSESSORIA DE SEGURANÇA DO TRABALHO"]
[null,null,null,874.27,0,352.13,120.86,481.24,365.7,{"$f":"D928*'Série - IPCA'!$C$444/'Série - IPCA'!$C$385","v":1142.7380008730568},{"$f":"E928*'Série - IPCA'!$C$444/'Série - IPCA'!$C$398","v":0},{"$f":"F928*'Série - IPCA'!$C$444/'Série - IPCA'!$C$411","v":400.11229787006624},{"$f":"G928*'Série - IPCA'!$C$444/'Série - IPCA'!$C$424","v":129.81862098053008},{"$f":"H928*'Série - IPCA'!$C$444/'Série - IPCA'!$C$437","v":494.07907824412138},433.3495995935549,null,"N","NÃO","NÃO","ENCARGOS DE GESTÃO","FIXO","MATERIAIS_MANUTENÇÃO",3100,"SMS"]
[null,null,null,256.33999999999997,1633.71,532.45000000000005,258.43,557.74,647.73400000000004,{"$f":"D929*'Série - IPCA'!$C$444/'Série - IPCA'!$C$385","v":335.05605721779233},{"$f":"E929*'Série - IPCA'!$C$444/'Série - IPCA'!$C$398","v":2043.0887248483059},{"$f":"F929*'Série - IPCA'!$C$444/'Série - IPCA'!$C$411","v":605.00324596290227},{"$f":"G929*'Série - IPCA'!$C$444/'Série - IPCA'!$C$424","v":277.58585321858669},{"$f":"H929*'Série - IPCA'!$C$444/'Série - IPCA'!$C$437","v":572.62003387057655},766.67078302363279,null,"N","NÃO","NÃO","ENCARGOS DE GESTÃO","FIXO","MATERIAIS_MANUTENÇÃO",3200,"GERÊNCIA DE PLANEJAMENTO E MEIO AMBIENTE"]
[null,null,null,970.26,1732.84,1814.09,492.58,440.11,1089.9759999999999,{"$f":"D930*'Série - IPCA'!$C$444/'Série - IPCA'!$C$385","v":1268.2042992749289},{"$f":"E930*'Série - IPCA'!$C$444/'Série - IPCA'!$C$398","v":2167.0589431209564},{"$f":"F930*'Série - IPCA'!$C$444/'Série - IPCA'!$C$411","v":2061.283385235874},{"$f":"G930*'Série - IPCA'!$C$444/'Série - IPCA'!$C$424","v":529.0919768541246},{"$f":"H930*'Série - IPCA'!$C$444/'Série - IPCA'!$C$437","v":451.85176445436838},1295.4980737880503,null,"N","NÃO","NÃO","ENCARGOS DE GESTÃO","FIXO","MATERIAIS_MANUTENÇÃO",3300,"GERÊNCIA JURÍDICA"]
[null,null,null,1793.87,0,0,0,0,358.774,{"$f":"D931*'Série - IPCA'!$C$444/'Série - IPCA'!$C$385","v":2344.7257913758335},{"$f":"E931*'Série - IPCA'!$C$444/'Série - IPCA'!$C$398","v":0},{"$f":"F931*'Série - IPCA'!$C$444/'Série - IPCA'!$C$411","v":0},{"$f":"G931*'Série - IPCA'!$C$444/'Série - IPCA'!$C$424","v":0},{"$f":"H931*'Série - IPCA'!$C$444/'Série - IPCA'!$C$437","v":0},468.9451582751667,null,"N","NÃO","NÃO","ENCARGOS DE GESTÃO","FIXO","MATERIAIS_MANUTENÇÃO",3400,"MARKETING"]
[null,null,null,0,468.1,816.51,179.79,344.67,361.81400000000002,{"$f":"D932*'Série - IPCA'!$C$444/'Série - IPCA'!$C$385","v":0},{"$f":"E932*'Série - IPCA'!$C$444/'Série - IPCA'!$C$398","v":585.39755042295872},{"$f":"F932*'Série - IPCA'!$C$444/'Série - IPCA'!$C$411","v":927.77011993834026},{"$f":"G932*'Série - IPCA'!$C$444/'Série - IPCA'!$C$424","v":193.1167455410351},{"$f":"H932*'Série - IPCA'!$C$444/'Série - IPCA'!$C$437","v":353.86550556562486},412.02998429359178,null,"N","NÃO","NÃO","ENCARGOS DE GESTÃO","FIXO","MATERIAIS_MANUTENÇÃO",3500,"ASSESSORIA DE COMUNICAÇÃO INSTITUCIONAL"]
[null,null,null,377.69,1044.27,654.21,71.87,84.47,446.50199999999995,{"$f":"D933*'Série - IPCA'!$C$444/'Série - IPCA'!$C$385","v":493.66982230860577},{"$f":"E933*'Série - IPCA'!$C$444/'Série - IPCA'!$C$398","v":1305.9455244182504},{"$f":"F933*'Série - IPCA'!$C$444/'Série - IPCA'!$C$411","v":743.35463149852615},{"$f":"G933*'Série - IPCA'!$C$444/'Série - IPCA'!$C$424","v":77.197288514568072},{"$f":"H933*'Série - IPCA'!$C$444/'Série - IPCA'!$C$437","v":86.723588519825725},541.37817105195529,null,"N","NÃO","NÃO","ENCARGOS DE GESTÃO","FIXO","MATERIAIS_MANUTENÇÃO",3600,"GERÊNCIA DE GOVERNANÇA, RISCO E COMPLIANCE"]
[null,null,null,0,0,651.20000000000005,321.05,644.41,323.33199999999999,{"$f":"D934*'Série - IPCA'!$C$444/'Série - IPCA'!$C$385","v":0},{"$f":"E934*'Série - IPCA'!$C$444/'Série - IPCA'!$C$398","v":0},{"$f":"F934*'Série - IPCA'!$C$444/'Série - IPCA'!$C$411","v":739.93447980287715},{"$f":"G934*'Série - IPCA'!$C$444/'Série - IPCA'!$C$424","v":344.84749516630137},{"$f":"H934*'Série - IPCA'!$C$444/'Série - IPCA'!$C$437","v":661.60231653913695},349.27685830166308,null,"N","NÃO","NÃO","ENCARGOS DE GESTÃO","FIXO","MATERIAIS_MANUTENÇÃO",3700,"GERÊNCIA DE REGULAÇÃO"]
[null,null,null,19782.97,33363.94,14821.74,43844.45,68911.929999999993,36145.006000000001,{"$f":"D935*'Série - IPCA'!$C$444/'Série - IPCA'!$C$385","v":25857.860373948159},{"$f":"E935*'Série - IPCA'!$C$444/'Série - IPCA'!$C$398","v":41724.351096899314},{"$f":"F935*'Série - IPCA'!$C$444/'Série - IPCA'!$C$411","v":16841.395080886818},{"$f":"G935*'Série - IPCA'!$C$444/'Série - IPCA'!$C$424","v":47094.373958710923},{"$f":"H935*'Série - IPCA'!$C$444/'Série - IPCA'!$C$437","v":70750.442304096519},40453.684562908347,null,"N","NÃO","NÃO","ENCARGOS DE GESTÃO","FIXO","MATERIAIS_MANUTENÇÃO",4100,"GERÊNCIA DE SERVIÇOS CORPORATIVOS"]
[null,null,null,4624.71,6244.52,2803.09,3670.77,1881.41,3844.9,{"$f":"D936*'Série - IPCA'!$C$444/'Série - IPCA'!$C$385","v":6044.8509728317731},{"$f":"E936*'Série - IPCA'!$C$444/'Série - IPCA'!$C$398","v":7809.2858610706571},{"$f":"F936*'Série - IPCA'!$C$444/'Série - IPCA'!$C$411","v":3185.0475138062757},{"$f":"G936*'Série - IPCA'!$C$444/'Série - IPCA'!$C$424","v":3942.8619835901077},{"$f":"H936*'Série - IPCA'!$C$444/'Série - IPCA'!$C$437","v":1931.6044356231243},4582.7301533843874,null,"N","NÃO","NÃO","ENCARGOS DE GESTÃO","FIXO","MATERIAIS_MANUTENÇÃO",4200,"GERÊNCIA FINANCEIRA"]
[null,null,null,700.99,1136.54,399.4,382.81,201.96,564.33999999999992,{"$f":"D937*'Série - IPCA'!$C$444/'Série - IPCA'!$C$385","v":916.24773952212013},{"$f":"E937*'Série - IPCA'!$C$444/'Série - IPCA'!$C$398","v":1421.3367484676553},{"$f":"F937*'Série - IPCA'!$C$444/'Série - IPCA'!$C$411","v":453.8234509110398},{"$f":"G937*'Série - IPCA'!$C$444/'Série - IPCA'!$C$424","v":411.18539051428695},{"$f":"H937*'Série - IPCA'!$C$444/'Série - IPCA'!$C$437","v":207.34812285384163},681.98829045378875,null,"N","NÃO","NÃO","ENCARGOS DE GESTÃO","FIXO","MATERIAIS_MANUTENÇÃO",4300,"GERÊNCIA DE TECNOLOGIA E SISTEMAS DE INFORMAÇÃO"]
[null,null,null,1105.27,2251.08,991.71,1553.95,2608.0300000000002,1702.0079999999998,{"$f":"D938*'Série - IPCA'!$C$444/'Série - IPCA'!$C$385","v":1444.6727329371515},{"$f":"E938*'Série - IPCA'!$C$444/'Série - IPCA'!$C$398","v":2815.1606874730055},{"$f":"F938*'Série - IPCA'!$C$444/'Série - IPCA'!$C$411","v":1126.8434013595074},{"$f":"G938*'Série - IPCA'!$C$444/'Série - IPCA'!$C$424","v":1669.1349170337144},{"$f":"H938*'Série - IPCA'!$C$444/'Série - IPCA'!$C$437","v":2677.6100457838415},1946.6843569174441,null,"N","NÃO","NÃO","ENCARGOS DE GESTÃO","FIXO","MATERIAIS_MANUTENÇÃO",4500,"GERÊNCIA CONTÁBIL"]
[null,null,null,2530.27,329.59,0,0,174,606.77200000000005,{"$f":"D939*'Série - IPCA'!$C$444/'Série - IPCA'!$C$385","v":3307.2571190468266},{"$f":"E939*'Série - IPCA'!$C$444/'Série - IPCA'!$C$398","v":412.17940321278132},{"$f":"F939*'Série - IPCA'!$C$444/'Série - IPCA'!$C$411","v":0},{"$f":"G939*'Série - IPCA'!$C$444/'Série - IPCA'!$C$424","v":0},{"$f":"H939*'Série - IPCA'!$C$444/'Série - IPCA'!$C$437","v":178.64217358174116},779.61573916826978,null,"N","NÃO","NÃO","ENCARGOS DE GESTÃO","FIXO","MATERIAIS_MANUTENÇÃO",4600,"GERÊNCIA DE PESSOAS E CULTURA"]
[null,null,null,0,0,0,0,0,0,{"$f":"D940*'Série - IPCA'!$C$444/'Série - IPCA'!$C$385","v":0},{"$f":"E940*'Série - IPCA'!$C$444/'Série - IPCA'!$C$398","v":0},{"$f":"F940*'Série - IPCA'!$C$444/'Série - IPCA'!$C$411","v":0},{"$f":"G940*'Série - IPCA'!$C$444/'Série - IPCA'!$C$424","v":0},{"$f":"H940*'Série - IPCA'!$C$444/'Série - IPCA'!$C$437","v":0},0,null,"N","SIM","NÃO","ENCARGOS DE COMERCIALIZAÇÃO","FIXO","MATERIAIS_MANUTENÇÃO",5200,"GERÊNCIA DE OPERAÇÕES"]
[null,null,null,0,0,489.27,704.94,1350.06,508.85399999999998,{"$f":"D941*'Série - IPCA'!$C$444/'Série - IPCA'!$C$385","v":0},{"$f":"E941*'Série - IPCA'!$C$444/'Série - IPCA'!$C$398","v":0},{"$f":"F941*'Série - IPCA'!$C$444/'Série - IPCA'!$C$411","v":555.93940868113282},{"$f":"G941*'Série - IPCA'!$C$444/'Série - IPCA'!$C$424","v":757.19293955001558},{"$f":"H941*'Série - IPCA'!$C$444/'Série - IPCA'!$C$437","v":1386.0784647457785},539.84216259538539,null,"N","SIM","NÃO","ENCARGOS DE COMERCIALIZAÇÃO","FIXO","MATERIAIS_MANUTENÇÃO",5300,"GERÊNCIA COMERCIAL"]
[null,null,null,0,0,0,137.59,0,27.518000000000001,{"$f":"D942*'Série - IPCA'!$C$444/'Série - IPCA'!$C$385","v":0},{"$f":"E942*'Série - IPCA'!$C$444/'Série - IPCA'!$C$398","v":0},{"$f":"F942*'Série - IPCA'!$C$444/'Série - IPCA'!$C$411","v":0},{"$f":"G942*'Série - IPCA'!$C$444/'Série - IPCA'!$C$424","v":147.78871471712009},{"$f":"H942*'Série - IPCA'!$C$444/'Série - IPCA'!$C$437","v":0},29.557742943424017,null,"N","SIM","NÃO","ENCARGOS DE GESTÃO","FIXO","MATERIAIS_MANUTENÇÃO",2110,"ASSESSORIA DA DIRETORIA EXECUTIVA"]
[null,null,null,0,0,0,47.79,0,9.5579999999999998,{"$f":"D943*'Série - IPCA'!$C$444/'Série - IPCA'!$C$385","v":0},{"$f":"E943*'Série - IPCA'!$C$444/'Série - IPCA'!$C$398","v":0},{"$f":"F943*'Série - IPCA'!$C$444/'Série - IPCA'!$C$411","v":0},{"$f":"G943*'Série - IPCA'!$C$444/'Série - IPCA'!$C$424","v":51.332383722153999},{"$f":"H943*'Série - IPCA'!$C$444/'Série - IPCA'!$C$437","v":0},10.2664767444308,null,"N","SIM","NÃO","ENCARGOS DE GESTÃO","FIXO","MATERIAIS_MANUTENÇÃO",2400,"DIRETORIA COLEGIADA - DTC"]
[null,null,null,0,59839.43,43975.16,28079.09,418558.85,110090.50600000001,{"$f":"D944*'Série - IPCA'!$C$444/'Série - IPCA'!$C$385","v":0},{"$f":"E944*'Série - IPCA'!$C$444/'Série - IPCA'!$C$398","v":74834.128905588776},{"$f":"F944*'Série - IPCA'!$C$444/'Série - IPCA'!$C$411","v":49967.348186192095},{"$f":"G944*'Série - IPCA'!$C$444/'Série - IPCA'!$C$424","v":30160.42315231005},{"$f":"H944*'Série - IPCA'!$C$444/'Série - IPCA'!$C$437","v":429725.64790732157},116937.5096302825,null,"N","SIM","NÃO","ENCARGOS DE GESTÃO","FIXO","MATERIAIS_MANUTENÇÃO",2410,"ASSESSORIA DE SEGURANÇA DO TRABALHO"]
[null,null,null,41604.15,0,1174.0899999999999,669.54,3934.06,9476.3679999999986,{"$f":"D945*'Série - IPCA'!$C$444/'Série - IPCA'!$C$385","v":54379.817675343751},{"$f":"E945*'Série - IPCA'!$C$444/'Série - IPCA'!$C$398","v":0},{"$f":"F945*'Série - IPCA'!$C$444/'Série - IPCA'!$C$411","v":1334.0750512772727},{"$f":"G945*'Série - IPCA'!$C$444/'Série - IPCA'!$C$424","v":719.16895160767911},{"$f":"H945*'Série - IPCA'!$C$444/'Série - IPCA'!$C$437","v":4039.0174103504864},12094.415817715837,null,"N","SIM","NÃO","ENCARGOS DE GESTÃO","FIXO","MATERIAIS_MANUTENÇÃO",3100,"SMS"]
[null,null,null,0,14207.92,0,92.87,0,2860.1580000000004,{"$f":"D946*'Série - IPCA'!$C$444/'Série - IPCA'!$C$385","v":0},{"$f":"E946*'Série - IPCA'!$C$444/'Série - IPCA'!$C$398","v":17768.172537076189},{"$f":"F946*'Série - IPCA'!$C$444/'Série - IPCA'!$C$411","v":0},{"$f":"G946*'Série - IPCA'!$C$444/'Série - IPCA'!$C$424","v":99.753891531208254},{"$f":"H946*'Série - IPCA'!$C$444/'Série - IPCA'!$C$437","v":0},3573.5852857214791,null,"N","SIM","NÃO","ENCARGOS DE GESTÃO","FIXO","MATERIAIS_MANUTENÇÃO",3200,"GERÊNCIA DE PLANEJAMENTO E MEIO AMBIENTE"]
[null,null,null,0,0,0,137.94999999999999,0,27.589999999999996,{"$f":"D947*'Série - IPCA'!$C$444/'Série - IPCA'!$C$385","v":0},{"$f":"E947*'Série - IPCA'!$C$444/'Série - IPCA'!$C$398","v":0},{"$f":"F947*'Série - IPCA'!$C$444/'Série - IPCA'!$C$411","v":0},{"$f":"G947*'Série - IPCA'!$C$444/'Série - IPCA'!$C$424","v":148.17539934026246},{"$f":"H947*'Série - IPCA'!$C$444/'Série - IPCA'!$C$437","v":0},29.635079868052493,null,"N","SIM","NÃO","ENCARGOS DE GESTÃO","FIXO","MATERIAIS_MANUTENÇÃO",3600,"GERÊNCIA DE GOVERNANÇA, RISCO E COMPLIANCE"]
[null,null,null,0,318.3,1442.14,653.1,956.77,674.06200000000001,{"$f":"D948*'Série - IPCA'!$C$444/'Série - IPCA'!$C$385","v":0},{"$f":"E948*'Série - IPCA'!$C$444/'Série - IPCA'!$C$398","v":398.06032962962558},{"$f":"F948*'Série - IPCA'!$C$444/'Série - IPCA'!$C$411","v":1638.6503542735279},{"$f":"G948*'Série - IPCA'!$C$444/'Série - IPCA'!$C$424","v":701.51035381750944},{"$f":"H948*'Série - IPCA'!$C$444/'Série - IPCA'!$C$437","v":982.29581849311774},744.10337124275611,null,"N","SIM","NÃO","ENCARGOS DE GESTÃO","FIXO","MATERIAIS_MANUTENÇÃO",4100,"GERÊNCIA DE SERVIÇOS CORPORATIVOS"]
[null,null,null,124225.27,0,0,0,0,24845.054,{"$f":"D949*'Série - IPCA'!$C$444/'Série - IPCA'!$C$385","v":162371.96369281309},{"$f":"E949*'Série - IPCA'!$C$444/'Série - IPCA'!$C$398","v":0},{"$f":"F949*'Série - IPCA'!$C$444/'Série - IPCA'!$C$411","v":0},{"$f":"G949*'Série - IPCA'!$C$444/'Série - IPCA'!$C$424","v":0},{"$f":"H949*'Série - IPCA'!$C$444/'Série - IPCA'!$C$437","v":0},32474.392738562619,null,"N","SIM","NÃO","ENCARGOS DE GESTÃO","FIXO","MATERIAIS_MANUTENÇÃO",3100,"SMS"]
[null,null,null,0,9256.23,0,23738.21,21984.9,10995.868,{"$f":"D950*'Série - IPCA'!$C$444/'Série - IPCA'!$C$385","v":0},{"$f":"E950*'Série - IPCA'!$C$444/'Série - IPCA'!$C$398","v":11575.6769240579},{"$f":"F950*'Série - IPCA'!$C$444/'Série - IPCA'!$C$411","v":0},{"$f":"G950*'Série - IPCA'!$C$444/'Série - IPCA'!$C$424","v":25497.779966458955},{"$f":"H950*'Série - IPCA'!$C$444/'Série - IPCA'!$C$437","v":22571.438632052996},11928.97910451397,null,"N","SIM","NÃO","ENCARGOS DE GESTÃO","FIXO","MATERIAIS_MANUTENÇÃO",3200,"GERÊNCIA DE PLANEJAMENTO E MEIO AMBIENTE"]
[null,null,null,0,26584.52,0,0,0,5316.9040000000005,{"$f":"D951*'Série - IPCA'!$C$444/'Série - IPCA'!$C$385","v":0},{"$f":"E951*'Série - IPCA'!$C$444/'Série - IPCA'!$C$398","v":33246.128791220151},{"$f":"F951*'Série - IPCA'!$C$444/'Série - IPCA'!$C$411","v":0},{"$f":"G951*'Série - IPCA'!$C$444/'Série - IPCA'!$C$424","v":0},{"$f":"H951*'Série - IPCA'!$C$444/'Série - IPCA'!$C$437","v":0},6649.2257582440307,null,"N","SIM","NÃO","ENCARGOS DE GESTÃO","FIXO","MATERIAIS_MANUTENÇÃO",4100,"GERÊNCIA DE SERVIÇOS CORPORATIVOS"]
[null,null,null,0,0,0,0,40000,8000,{"$f":"D952*'Série - IPCA'!$C$444/'Série - IPCA'!$C$385","v":0},{"$f":"E952*'Série - IPCA'!$C$444/'Série - IPCA'!$C$398","v":0},{"$f":"F952*'Série - IPCA'!$C$444/'Série - IPCA'!$C$411","v":0},{"$f":"G952*'Série - IPCA'!$C$444/'Série - IPCA'!$C$424","v":0},{"$f":"H952*'Série - IPCA'!$C$444/'Série - IPCA'!$C$437","v":41067.166340630152},8213.4332681260312,null,"N","NÃO","SIM","ENCARGOS DE GESTÃO","FIXO","DESPESA GERAIS",3200,"GERÊNCIA DE PLANEJAMENTO E MEIO AMBIENTE"]
[null,null,null,0,0,0,0,-195.73,-39.146000000000001,{"$f":"D953*'Série - IPCA'!$C$444/'Série - IPCA'!$C$385","v":0},{"$f":"E953*'Série - IPCA'!$C$444/'Série - IPCA'!$C$398","v":0},{"$f":"F953*'Série - IPCA'!$C$444/'Série - IPCA'!$C$411","v":0},{"$f":"G953*'Série - IPCA'!$C$444/'Série - IPCA'!$C$424","v":0},{"$f":"H953*'Série - IPCA'!$C$444/'Série - IPCA'!$C$437","v":-200.95191169628845},-40.190382339257688,null,"N","NÃO","SIM","ENCARGOS DE GESTÃO","FIXO","DESPESA GERAIS",4100,"GERÊNCIA DE SERVIÇOS CORPORATIVOS"]
[null,null,null,0,0,0,0,229.9,45.980000000000004,{"$f":"D954*'Série - IPCA'!$C$444/'Série - IPCA'!$C$385","v":0},{"$f":"E954*'Série - IPCA'!$C$444/'Série - IPCA'!$C$398","v":0},{"$f":"F954*'Série - IPCA'!$C$444/'Série - IPCA'!$C$411","v":0},{"$f":"G954*'Série - IPCA'!$C$444/'Série - IPCA'!$C$424","v":0},{"$f":"H954*'Série - IPCA'!$C$444/'Série - IPCA'!$C$437","v":236.03353854277179},47.206707708554362,null,"N","NÃO","SIM","OPEX","FIXO","DESPESAS_GERAIS",9999,"RATEIO"]
[null,null,null,0,0,8,0,0,1.6,{"$f":"D955*'Série - IPCA'!$C$444/'Série - IPCA'!$C$385","v":0},{"$f":"E955*'Série - IPCA'!$C$444/'Série - IPCA'!$C$398","v":0},{"$f":"F955*'Série - IPCA'!$C$444/'Série - IPCA'!$C$411","v":9.0901041744825193},{"$f":"G955*'Série - IPCA'!$C$444/'Série - IPCA'!$C$424","v":0},{"$f":"H955*'Série - IPCA'!$C$444/'Série - IPCA'!$C$437","v":0},1.8180208348965039,null,"N","NÃO","SIM","OPEX","FIXO","DESPESAS_GERAIS",1001,"CONSELHO DE ADMINISTRAÇÃO"]
[null,null,null,0,0,439,0,0,87.8,{"$f":"D956*'Série - IPCA'!$C$444/'Série - IPCA'!$C$385","v":0},{"$f":"E956*'Série - IPCA'!$C$444/'Série - IPCA'!$C$398","v":0},{"$f":"F956*'Série - IPCA'!$C$444/'Série - IPCA'!$C$411","v":498.81946657472821},{"$f":"G956*'Série - IPCA'!$C$444/'Série - IPCA'!$C$424","v":0},{"$f":"H956*'Série - IPCA'!$C$444/'Série - IPCA'!$C$437","v":0},99.763893314945648,null,"N","NÃO","SIM","OPEX","FIXO","DESPESAS_GERAIS",1005,"AUDITORIA INTERNA"]
[null,null,null,0,0,144,8,0,30.4,{"$f":"D957*'Série - IPCA'!$C$444/'Série - IPCA'!$C$385","v":0},{"$f":"E957*'Série - IPCA'!$C$444/'Série - IPCA'!$C$398","v":0},{"$f":"F957*'Série - IPCA'!$C$444/'Série - IPCA'!$C$411","v":163.62187514068535},{"$f":"G957*'Série - IPCA'!$C$444/'Série - IPCA'!$C$424","v":8.592991625386734},{"$f":"H957*'Série - IPCA'!$C$444/'Série - IPCA'!$C$437","v":0},34.442973353214413,null,"N","NÃO","SIM","OPEX","FIXO","DESPESAS_GERAIS",1010,"GOVERNANÇA SOCIETÁRIA"]
[null,null,null,0,0,395.01,0,374.9,153.982,{"$f":"D958*'Série - IPCA'!$C$444/'Série - IPCA'!$C$385","v":0},{"$f":"E958*'Série - IPCA'!$C$444/'Série - IPCA'!$C$398","v":0},{"$f":"F958*'Série - IPCA'!$C$444/'Série - IPCA'!$C$411","v":448.8352562452925},{"$f":"G958*'Série - IPCA'!$C$444/'Série - IPCA'!$C$424","v":0},{"$f":"H958*'Série - IPCA'!$C$444/'Série - IPCA'!$C$437","v":384.9020165275561},166.74745455456974,null,"N","NÃO","SIM","OPEX","FIXO","DESPESAS_GERAIS",2100,"SECRETARIA"]
[null,null,null,0,0,40,0,0,8,{"$f":"D959*'Série - IPCA'!$C$444/'Série - IPCA'!$C$385","v":0},{"$f":"E959*'Série - IPCA'!$C$444/'Série - IPCA'!$C$398","v":0},{"$f":"F959*'Série - IPCA'!$C$444/'Série - IPCA'!$C$411","v":45.450520872412596},{"$f":"G959*'Série - IPCA'!$C$444/'Série - IPCA'!$C$424","v":0},{"$f":"H959*'Série - IPCA'!$C$444/'Série - IPCA'!$C$437","v":0},9.0901041744825193,null,"N","NÃO","SIM","OPEX","FIXO","DESPESAS_GERAIS",2110,"ASSESSORIA DA DIRETORIA EXECUTIVA"]
[null,null,null,0,0,8,0,229.9,47.58,{"$f":"D960*'Série - IPCA'!$C$444/'Série - IPCA'!$C$385","v":0},{"$f":"E960*'Série - IPCA'!$C$444/'Série - IPCA'!$C$398","v":0},{"$f":"F960*'Série - IPCA'!$C$444/'Série - IPCA'!$C$411","v":9.0901041744825193},{"$f":"G960*'Série - IPCA'!$C$444/'Série - IPCA'!$C$424","v":0},{"$f":"H960*'Série - IPCA'!$C$444/'Série - IPCA'!$C$437","v":236.03353854277179},49.024728543450863,null,"N","NÃO","SIM","OPEX","FIXO","DESPESAS_GERAIS",2120,"ASSESSORIA DA PRESIDÊNCIA"]
[null,null,null,0,19.079999999999998,505.25,1076.44,286,377.35399999999998,{"$f":"D961*'Série - IPCA'!$C$444/'Série - IPCA'!$C$385","v":0},{"$f":"E961*'Série - IPCA'!$C$444/'Série - IPCA'!$C$398","v":23.861109297308374},{"$f":"F961*'Série - IPCA'!$C$444/'Série - IPCA'!$C$411","v":574.09689176966162},{"$f":"G961*'Série - IPCA'!$C$444/'Série - IPCA'!$C$424","v":1156.229988153912},{"$f":"H961*'Série - IPCA'!$C$444/'Série - IPCA'!$C$437","v":293.63023933550556},409.56364571127756,null,"N","NÃO","SIM","OPEX","FIXO","DESPESAS_GERAIS",2200,"DIRETORIA COLEGIADA - PRESIDÊNCIA"]
[null,null,null,0,0,650.45000000000005,612.11,117,275.91199999999998,{"$f":"D962*'Série - IPCA'!$C$444/'Série - IPCA'!$C$385","v":0},{"$f":"E962*'Série - IPCA'!$C$444/'Série - IPCA'!$C$398","v":0},{"$f":"F962*'Série - IPCA'!$C$444/'Série - IPCA'!$C$411","v":739.08228253651941},{"$f":"G962*'Série - IPCA'!$C$444/'Série - IPCA'!$C$424","v":657.48201297693424},{"$f":"H962*'Série - IPCA'!$C$444/'Série - IPCA'!$C$437","v":120.12146154634318},303.33715141195933,null,"N","NÃO","SIM","OPEX","FIXO","DESPESAS_GERAIS",2300,"DIRETORIA COLEGIADA - DAF"]
[null,null,null,0,0,0,0,37.799999999999997,7.56,{"$f":"D963*'Série - IPCA'!$C$444/'Série - IPCA'!$C$385","v":0},{"$f":"E963*'Série - IPCA'!$C$444/'Série - IPCA'!$C$398","v":0},{"$f":"F963*'Série - IPCA'!$C$444/'Série - IPCA'!$C$411","v":0},{"$f":"G963*'Série - IPCA'!$C$444/'Série - IPCA'!$C$424","v":0},{"$f":"H963*'Série - IPCA'!$C$444/'Série - IPCA'!$C$437","v":38.808472191895497},7.7616944383790996,null,"N","NÃO","SIM","OPEX","FIXO","DESPESAS_GERAIS",2400,"DIRETORIA COLEGIADA - DTC"]
[null,null,null,0,0,24,77,335.88,87.376000000000005,{"$f":"D964*'Série - IPCA'!$C$444/'Série - IPCA'!$C$385","v":0},{"$f":"E964*'Série - IPCA'!$C$444/'Série - IPCA'!$C$398","v":0},{"$f":"F964*'Série - IPCA'!$C$444/'Série - IPCA'!$C$411","v":27.270312523447558},{"$f":"G964*'Série - IPCA'!$C$444/'Série - IPCA'!$C$424","v":82.707544394347309},{"$f":"H964*'Série - IPCA'!$C$444/'Série - IPCA'!$C$437","v":344.8409957622714},90.963770536013243,null,"N","NÃO","SIM","OPEX","FIXO","DESPESAS_GERAIS",3200,"GERÊNCIA DE PLANEJAMENTO E MEIO AMBIENTE"]
[null,null,null,0,1210,51,868.43,536.51,{"$f":"AVERAGE(D965:H965)","v":533.18799999999987},{"$f":"D965*'Série - IPCA'!$C$444/'Série - IPCA'!$C$385","v":0},{"$f":"E965*'Série - IPCA'!$C$444/'Série - IPCA'!$C$398","v":1513.2045204267893},{"$f":"F965*'Série - IPCA'!$C$444/'Série - IPCA'!$C$411","v":57.949414112326068},{"$f":"G965*'Série - IPCA'!$C$444/'Série - IPCA'!$C$424","v":932.80146465432517},{"$f":"H965*'Série - IPCA'!$C$444/'Série - IPCA'!$C$437","v":550.82363533528701},{"$f":"AVERAGE(J965:N965)","v":610.95580690574548},null,"N","NÃO","SIM","OPEX","FIXO","DESPESAS_GERAIS",3300,"GERÊNCIA JURÍDICA"]
[null,null,null,0,0,-19,0,0,-3.8,{"$f":"D966*'Série - IPCA'!$C$444/'Série - IPCA'!$C$385","v":0},{"$f":"E966*'Série - IPCA'!$C$444/'Série - IPCA'!$C$398","v":0},{"$f":"F966*'Série - IPCA'!$C$444/'Série - IPCA'!$C$411","v":-21.588997414395983},{"$f":"G966*'Série - IPCA'!$C$444/'Série - IPCA'!$C$424","v":0},{"$f":"H966*'Série - IPCA'!$C$444/'Série - IPCA'!$C$437","v":0},-4.317799482879197,null,"N","NÃO","SIM","OPEX","FIXO","DESPESAS_GERAIS",3400,"MARKETING"]
[null,null,null,0,6.9,124.97,14,444.7,118.11399999999999,{"$f":"D967*'Série - IPCA'!$C$444/'Série - IPCA'!$C$385","v":0},{"$f":"E967*'Série - IPCA'!$C$444/'Série - IPCA'!$C$398","v":8.6290175131775584},{"$f":"F967*'Série - IPCA'!$C$444/'Série - IPCA'!$C$411","v":141.99878983563505},{"$f":"G967*'Série - IPCA'!$C$444/'Série - IPCA'!$C$424","v":15.037735344426785},{"$f":"H967*'Série - IPCA'!$C$444/'Série - IPCA'!$C$437","v":456.56422179195567},124.44595289703902,null,"N","NÃO","SIM","OPEX","FIXO","DESPESAS_GERAIS",3600,"GERÊNCIA DE GOVERNANÇA, RISCO E COMPLIANCE"]
[null,null,null,0,308,79.8,0,0,77.56,{"$f":"D968*'Série - IPCA'!$C$444/'Série - IPCA'!$C$385","v":0},{"$f":"E968*'Série - IPCA'!$C$444/'Série - IPCA'!$C$398","v":385.17933247227359},{"$f":"F968*'Série - IPCA'!$C$444/'Série - IPCA'!$C$411","v":90.673789140463143},{"$f":"G968*'Série - IPCA'!$C$444/'Série - IPCA'!$C$424","v":0},{"$f":"H968*'Série - IPCA'!$C$444/'Série - IPCA'!$C$437","v":0},95.170624322547354,null,"N","NÃO","SIM","OPEX","FIXO","DESPESAS_GERAIS",2410,"ASSESSORIA DE SEGURANÇA DO TRABALHO"]
[null,null,null,0,0,417.1,130,0,109.42,{"$f":"D969*'Série - IPCA'!$C$444/'Série - IPCA'!$C$385","v":0},{"$f":"E969*'Série - IPCA'!$C$444/'Série - IPCA'!$C$398","v":0},{"$f":"F969*'Série - IPCA'!$C$444/'Série - IPCA'!$C$411","v":473.9353063970824},{"$f":"G969*'Série - IPCA'!$C$444/'Série - IPCA'!$C$424","v":139.63611391253443},{"$f":"H969*'Série - IPCA'!$C$444/'Série - IPCA'!$C$437","v":0},122.71428406192335,null,"N","NÃO","SIM","OPEX","FIXO","DESPESAS_GERAIS",3100,"SMS"]
[null,null,null,0,717.55,847.96,496.93,616.71,535.83000000000004,{"$f":"D970*'Série - IPCA'!$C$444/'Série - IPCA'!$C$385","v":0},{"$f":"E970*'Série - IPCA'!$C$444/'Série - IPCA'!$C$398","v":897.35529225805158},{"$f":"F970*'Série - IPCA'!$C$444/'Série - IPCA'!$C$411","v":963.50559197427469},{"$f":"G970*'Série - IPCA'!$C$444/'Série - IPCA'!$C$424","v":533.76441605042874},{"$f":"H970*'Série - IPCA'!$C$444/'Série - IPCA'!$C$437","v":633.16330384825062},605.55772082620115,null,"N","NÃO","SIM","OPEX","FIXO","DESPESAS_GERAIS",3500,"ASSESSORIA DE COMUNICAÇÃO INSTITUCIONAL"]
[null,null,null,0,0,66,93107242.069999993,29.9,18621467.594000001,{"$f":"D971*'Série - IPCA'!$C$444/'Série - IPCA'!$C$385","v":0},{"$f":"E971*'Série - IPCA'!$C$444/'Série - IPCA'!$C$398","v":0},{"$f":"F971*'Série - IPCA'!$C$444/'Série - IPCA'!$C$411","v":74.993359439480784},{"$f":"G971*'Série - IPCA'!$C$444/'Série - IPCA'!$C$424","v":100008718.92129566},{"$f":"H971*'Série - IPCA'!$C$444/'Série - IPCA'!$C$437","v":30.697706839621038},20001764.922472388,null,"SIM","NÃO","SIM","OPEX","FIXO","DESPESAS_GERAIS",4200,"GERÊNCIA FINANCEIRA"]
[null,null,null,0,0,1522.6,null,0,380.65,{"$f":"D972*'Série - IPCA'!$C$444/'Série - IPCA'!$C$385","v":0},{"$f":"E972*'Série - IPCA'!$C$444/'Série - IPCA'!$C$398","v":0},{"$f":"F972*'Série - IPCA'!$C$444/'Série - IPCA'!$C$411","v":1730.0740770083855},{"$f":"G972*'Série - IPCA'!$C$444/'Série - IPCA'!$C$424","v":0},{"$f":"H972*'Série - IPCA'!$C$444/'Série - IPCA'!$C$437","v":0},346.01481540167708,null,"N","NÃO","SIM","OPEX","FIXO","DESPESAS_GERAIS",3700,"GERÊNCIA DE REGULAÇÃO"]
[null,null,null,0,12351.23,29017.279999999999,21151.78,4128.68,13329.794,{"$f":"D973*'Série - IPCA'!$C$444/'Série - IPCA'!$C$385","v":0},{"$f":"E973*'Série - IPCA'!$C$444/'Série - IPCA'!$C$398","v":15446.228982504934},{"$f":"F973*'Série - IPCA'!$C$444/'Série - IPCA'!$C$411","v":32971.262257516013},{"$f":"G973*'Série - IPCA'!$C$444/'Série - IPCA'!$C$424","v":22719.633550252824},{"$f":"H973*'Série - IPCA'!$C$444/'Série - IPCA'!$C$437","v":4238.8297081808223},15075.190899690919,null,"N","NÃO","SIM","OPEX","FIXO","DESPESAS_GERAIS",4100,"GERÊNCIA DE SERVIÇOS CORPORATIVOS"]
[null,null,null,0,57.8,24,8,17.5,21.46,{"$f":"D974*'Série - IPCA'!$C$444/'Série - IPCA'!$C$385","v":0},{"$f":"E974*'Série - IPCA'!$C$444/'Série - IPCA'!$C$398","v":72.283653950965629},{"$f":"F974*'Série - IPCA'!$C$444/'Série - IPCA'!$C$411","v":27.270312523447558},{"$f":"G974*'Série - IPCA'!$C$444/'Série - IPCA'!$C$424","v":8.592991625386734},{"$f":"H974*'Série - IPCA'!$C$444/'Série - IPCA'!$C$437","v":17.966885274025689},25.222768674765121,null,"N","NÃO","SIM","OPEX","FIXO","DESPESAS_GERAIS",4300,"GERÊNCIA DE TECNOLOGIA E SISTEMAS DE INFORMAÇÃO"]
[null,null,null,0,598.79999999999995,404,574.49,413.82,398.22199999999998,{"$f":"D975*'Série - IPCA'!$C$444/'Série - IPCA'!$C$385","v":0},{"$f":"E975*'Série - IPCA'!$C$444/'Série - IPCA'!$C$398","v":748.84865027401759},{"$f":"F975*'Série - IPCA'!$C$444/'Série - IPCA'!$C$411","v":459.05026081136725},{"$f":"G975*'Série - IPCA'!$C$444/'Série - IPCA'!$C$424","v":617.07346985855315},{"$f":"H975*'Série - IPCA'!$C$444/'Série - IPCA'!$C$437","v":424.86036937698918},449.96655006418553,null,"N","NÃO","SIM","OPEX","FIXO","DESPESAS_GERAIS",4500,"GERÊNCIA CONTÁBIL"]
[null,null,null,0,0,0,0,0,0,{"$f":"D976*'Série - IPCA'!$C$444/'Série - IPCA'!$C$385","v":0},{"$f":"E976*'Série - IPCA'!$C$444/'Série - IPCA'!$C$398","v":0},{"$f":"F976*'Série - IPCA'!$C$444/'Série - IPCA'!$C$411","v":0},{"$f":"G976*'Série - IPCA'!$C$444/'Série - IPCA'!$C$424","v":0},{"$f":"H976*'Série - IPCA'!$C$444/'Série - IPCA'!$C$437","v":0},0,null,"N","NÃO","SIM","OPEX","FIXO","DESPESAS_GERAIS",4600,"GERÊNCIA DE PESSOAS E CULTURA"]
[null,null,null,0,1142.3,64,107,474.9,357.64,{"$f":"D977*'Série - IPCA'!$C$444/'Série - IPCA'!$C$385","v":0},{"$f":"E977*'Série - IPCA'!$C$444/'Série - IPCA'!$C$398","v":1428.5401022177862},{"$f":"F977*'Série - IPCA'!$C$444/'Série - IPCA'!$C$411","v":72.720833395860154},{"$f":"G977*'Série - IPCA'!$C$444/'Série - IPCA'!$C$424","v":114.93126298954758},{"$f":"H977*'Série - IPCA'!$C$444/'Série - IPCA'!$C$437","v":487.56993237913144},420.75242619646508,null,"N","NÃO","SIM","OPEX","FIXO","DESPESAS_GERAIS",5100,"GERÊNCIA DE ENGENHARIA"]
[null,null,null,0,325,9239.5,12961.22,0,4505.1440000000002,{"$f":"D978*'Série - IPCA'!$C$444/'Série - IPCA'!$C$385","v":0},{"$f":"E978*'Série - IPCA'!$C$444/'Série - IPCA'!$C$398","v":406.43923069314587},{"$f":"F978*'Série - IPCA'!$C$444/'Série - IPCA'!$C$411","v":10498.502190016405},{"$f":"G978*'Série - IPCA'!$C$444/'Série - IPCA'!$C$424","v":13921.95686434938},{"$f":"H978*'Série - IPCA'!$C$444/'Série - IPCA'!$C$437","v":0},4965.3796570117865,null,"N","NÃO","SIM","OPEX","FIXO","DESPESAS_GERAIS",5200,"GERÊNCIA DE OPERAÇÕES"]
[null,null,null,0,0,3225.52,12165.4,5687.38,4215.66,{"$f":"D979*'Série - IPCA'!$C$444/'Série - IPCA'!$C$385","v":0},{"$f":"E979*'Série - IPCA'!$C$444/'Série - IPCA'!$C$398","v":0},{"$f":"F979*'Série - IPCA'!$C$444/'Série - IPCA'!$C$411","v":3665.0391021096075},{"$f":"G979*'Série - IPCA'!$C$444/'Série - IPCA'!$C$424","v":13067.147539934971},{"$f":"H979*'Série - IPCA'!$C$444/'Série - IPCA'!$C$437","v":5839.1145125593284},4514.2602309207814,null,"N","NÃO","SIM","OPEX","FIXO","DESPESAS_GERAIS",5300,"GERÊNCIA COMERCIAL"]
[null,null,null,0,0,39359.160000000003,0,0,7871.8320000000003,{"$f":"D980*'Série - IPCA'!$C$444/'Série - IPCA'!$C$385","v":0},{"$f":"E980*'Série - IPCA'!$C$444/'Série - IPCA'!$C$398","v":0},{"$f":"F980*'Série - IPCA'!$C$444/'Série - IPCA'!$C$411","v":44722.358077515681},{"$f":"G980*'Série - IPCA'!$C$444/'Série - IPCA'!$C$424","v":0},{"$f":"H980*'Série - IPCA'!$C$444/'Série - IPCA'!$C$437","v":0},8944.4716155031365,null,"N","NÃO","SIM","OPEX","FIXO","DESPESAS_GERAIS",5300,"GERÊNCIA COMERCIAL"]
[null,null,null,0,0,0,0,15,3,{"$f":"D981*'Série - IPCA'!$C$444/'Série - IPCA'!$C$385","v":0},{"$f":"E981*'Série - IPCA'!$C$444/'Série - IPCA'!$C$398","v":0},{"$f":"F981*'Série - IPCA'!$C$444/'Série - IPCA'!$C$411","v":0},{"$f":"G981*'Série - IPCA'!$C$444/'Série - IPCA'!$C$424","v":0},{"$f":"H981*'Série - IPCA'!$C$444/'Série - IPCA'!$C$437","v":15.400187377736307},3.0800374755472615,null,"N","NÃO","SIM","OPEX","FIXO","DESPESAS_GERAIS",5400,"GERÊNCIA COMERCIAL (inativo)"]
[null,null,null,-39487087.57,0,0,0,0,-7897417.5140000004,{"$f":"D982*'Série - IPCA'!$C$444/'Série - IPCA'!$C$385","v":-51612654.569001712},{"$f":"E982*'Série - IPCA'!$C$444/'Série - IPCA'!$C$398","v":0},{"$f":"F982*'Série - IPCA'!$C$444/'Série - IPCA'!$C$411","v":0},{"$f":"G982*'Série - IPCA'!$C$444/'Série - IPCA'!$C$424","v":0},{"$f":"H982*'Série - IPCA'!$C$444/'Série - IPCA'!$C$437","v":0},-10322530.913800342,null,"SIM","NÃO","SIM","OPEX","FIXO","MATERIAIS_MANUTENÇÃO",4200,"GERÊNCIA FINANCEIRA"]
[null,null,null,1890.52,921.42,0,0,0,562.38800000000003,{"$f":"D983*'Série - IPCA'!$C$444/'Série - IPCA'!$C$385","v":2471.0547604407461},{"$f":"E983*'Série - IPCA'!$C$444/'Série - IPCA'!$C$398","v":1152.3114952162414},{"$f":"F983*'Série - IPCA'!$C$444/'Série - IPCA'!$C$411","v":0},{"$f":"G983*'Série - IPCA'!$C$444/'Série - IPCA'!$C$424","v":0},{"$f":"H983*'Série - IPCA'!$C$444/'Série - IPCA'!$C$437","v":0},724.67325113139748,null,"N","SIM","SIM","OPEX","FIXO","DESPESAS_GERAIS",5100,"GERÊNCIA DE ENGENHARIA"]
[null,null,null,4654.96,2268.7800000000002,0,0,0,1384.748,{"$f":"D984*'Série - IPCA'!$C$444/'Série - IPCA'!$C$385","v":6084.3900448877848},{"$f":"E984*'Série - IPCA'!$C$444/'Série - IPCA'!$C$398","v":2837.2959932676786},{"$f":"F984*'Série - IPCA'!$C$444/'Série - IPCA'!$C$411","v":0},{"$f":"G984*'Série - IPCA'!$C$444/'Série - IPCA'!$C$424","v":0},{"$f":"H984*'Série - IPCA'!$C$444/'Série - IPCA'!$C$437","v":0},1784.3372076310927,null,"N","SIM","SIM","OPEX","FIXO","DESPESAS_GERAIS",5200,"GERÊNCIA DE OPERAÇÕES"]
[null,null,null,1047.81,2211.19,0,0,0,651.79999999999995,{"$f":"D985*'Série - IPCA'!$C$444/'Série - IPCA'!$C$385","v":1369.5681021821606},{"$f":"E985*'Série - IPCA'!$C$444/'Série - IPCA'!$C$398","v":2765.2749615888529},{"$f":"F985*'Série - IPCA'!$C$444/'Série - IPCA'!$C$411","v":0},{"$f":"G985*'Série - IPCA'!$C$444/'Série - IPCA'!$C$424","v":0},{"$f":"H985*'Série - IPCA'!$C$444/'Série - IPCA'!$C$437","v":0},826.9686127542027,null,"N","SIM","SIM","ENCARGOS DE COMERCIALIZAÇÃO","FIXO","DESPESAS_GERAIS",5300,"GERÊNCIA COMERCIAL"]
[null,null,null,0,198.85,0,0,0,39.769999999999996,{"$f":"D986*'Série - IPCA'!$C$444/'Série - IPCA'!$C$385","v":0},{"$f":"E986*'Série - IPCA'!$C$444/'Série - IPCA'!$C$398","v":248.67828007179094},{"$f":"F986*'Série - IPCA'!$C$444/'Série - IPCA'!$C$411","v":0},{"$f":"G986*'Série - IPCA'!$C$444/'Série - IPCA'!$C$424","v":0},{"$f":"H986*'Série - IPCA'!$C$444/'Série - IPCA'!$C$437","v":0},49.735656014358185,null,"N","SIM","SIM","ENCARGOS DE GESTÃO","FIXO","DESPESAS_GERAIS",2110,"ASSESSORIA DA DIRETORIA EXECUTIVA"]
[null,null,null,929.65,453.1,0,0,0,276.55,{"$f":"D987*'Série - IPCA'!$C$444/'Série - IPCA'!$C$385","v":1215.1239119627085},{"$f":"E987*'Série - IPCA'!$C$444/'Série - IPCA'!$C$398","v":566.63881669865964},{"$f":"F987*'Série - IPCA'!$C$444/'Série - IPCA'!$C$411","v":0},{"$f":"G987*'Série - IPCA'!$C$444/'Série - IPCA'!$C$424","v":0},{"$f":"H987*'Série - IPCA'!$C$444/'Série - IPCA'!$C$437","v":0},356.3525457322736,null,"N","SIM","SIM","ENCARGOS DE GESTÃO","FIXO","DESPESAS_GERAIS",2200,"DIRETORIA COLEGIADA - PRESIDÊNCIA"]
[null,null,null,231.86,113,0,0,0,68.972000000000008,{"$f":"D988*'Série - IPCA'!$C$444/'Série - IPCA'!$C$385","v":303.05881807957144},{"$f":"E988*'Série - IPCA'!$C$444/'Série - IPCA'!$C$398","v":141.3157940563861},{"$f":"F988*'Série - IPCA'!$C$444/'Série - IPCA'!$C$411","v":0},{"$f":"G988*'Série - IPCA'!$C$444/'Série - IPCA'!$C$424","v":0},{"$f":"H988*'Série - IPCA'!$C$444/'Série - IPCA'!$C$437","v":0},88.874922427191507,null,"N","SIM","SIM","ENCARGOS DE GESTÃO","FIXO","DESPESAS_GERAIS",2300,"DIRETORIA COLEGIADA - DAF"]
[null,null,null,231.86,113,0,0,0,68.972000000000008,{"$f":"D989*'Série - IPCA'!$C$444/'Série - IPCA'!$C$385","v":303.05881807957144},{"$f":"E989*'Série - IPCA'!$C$444/'Série - IPCA'!$C$398","v":141.3157940563861},{"$f":"F989*'Série - IPCA'!$C$444/'Série - IPCA'!$C$411","v":0},{"$f":"G989*'Série - IPCA'!$C$444/'Série - IPCA'!$C$424","v":0},{"$f":"H989*'Série - IPCA'!$C$444/'Série - IPCA'!$C$437","v":0},88.874922427191507,null,"N","SIM","SIM","ENCARGOS DE GESTÃO","FIXO","DESPESAS_GERAIS",2400,"DIRETORIA COLEGIADA - DTC"]
[null,null,null,987.62,0,0,0,0,197.524,{"$f":"D990*'Série - IPCA'!$C$444/'Série - IPCA'!$C$385","v":1290.8951518664123},{"$f":"E990*'Série - IPCA'!$C$444/'Série - IPCA'!$C$398","v":0},{"$f":"F990*'Série - IPCA'!$C$444/'Série - IPCA'!$C$411","v":0},{"$f":"G990*'Série - IPCA'!$C$444/'Série - IPCA'!$C$424","v":0},{"$f":"H990*'Série - IPCA'!$C$444/'Série - IPCA'!$C$437","v":0},258.17903037328244,null,"N","SIM","SIM","ENCARGOS DE GESTÃO","FIXO","DESPESAS_GERAIS",3100,"SMS"]
[null,null,null,581.87,857.23,0,0,0,287.82,{"$f":"D991*'Série - IPCA'!$C$444/'Série - IPCA'!$C$385","v":760.5487556109731},{"$f":"E991*'Série - IPCA'!$C$444/'Série - IPCA'!$C$398","v":1072.0366206987244},{"$f":"F991*'Série - IPCA'!$C$444/'Série - IPCA'!$C$411","v":0},{"$f":"G991*'Série - IPCA'!$C$444/'Série - IPCA'!$C$424","v":0},{"$f":"H991*'Série - IPCA'!$C$444/'Série - IPCA'!$C$437","v":0},366.51707526193951,null,"N","SIM","SIM","ENCARGOS DE GESTÃO","FIXO","DESPESAS_GERAIS",3200,"GERÊNCIA DE PLANEJAMENTO E MEIO AMBIENTE"]
[null,null,null,697.8,340.1,0,0,0,207.58,{"$f":"D992*'Série - IPCA'!$C$444/'Série - IPCA'!$C$385","v":912.07816465075882},{"$f":"E992*'Série - IPCA'!$C$444/'Série - IPCA'!$C$398","v":425.3230226422736},{"$f":"F992*'Série - IPCA'!$C$444/'Série - IPCA'!$C$411","v":0},{"$f":"G992*'Série - IPCA'!$C$444/'Série - IPCA'!$C$424","v":0},{"$f":"H992*'Série - IPCA'!$C$444/'Série - IPCA'!$C$437","v":0},267.48023745860644,null,"N","SIM","SIM","ENCARGOS DE GESTÃO","FIXO","DESPESAS_GERAIS",3300,"GERÊNCIA JURÍDICA"]
[null,null,null,0,396.6,0,0,0,79.320000000000007,{"$f":"D993*'Série - IPCA'!$C$444/'Série - IPCA'!$C$385","v":0},{"$f":"E993*'Série - IPCA'!$C$444/'Série - IPCA'!$C$398","v":495.98091967046668},{"$f":"F993*'Série - IPCA'!$C$444/'Série - IPCA'!$C$411","v":0},{"$f":"G993*'Série - IPCA'!$C$444/'Série - IPCA'!$C$424","v":0},{"$f":"H993*'Série - IPCA'!$C$444/'Série - IPCA'!$C$437","v":0},99.196183934093341,null,"N","SIM","SIM","ENCARGOS DE GESTÃO","FIXO","DESPESAS_GERAIS",3500,"ASSESSORIA DE COMUNICAÇÃO INSTITUCIONAL"]
[null,null,null,349.99,170.59,0,0,18600,3824.1160000000004,{"$f":"D994*'Série - IPCA'!$C$444/'Série - IPCA'!$C$385","v":457.46379599615813},{"$f":"E994*'Série - IPCA'!$C$444/'Série - IPCA'!$C$398","v":213.33682573521156},{"$f":"F994*'Série - IPCA'!$C$444/'Série - IPCA'!$C$411","v":0},{"$f":"G994*'Série - IPCA'!$C$444/'Série - IPCA'!$C$424","v":0},{"$f":"H994*'Série - IPCA'!$C$444/'Série - IPCA'!$C$437","v":19096.232348393019},3953.4065940248779,null,"N","SIM","SIM","ENCARGOS DE GESTÃO","FIXO","DESPESAS_GERAIS",3600,"GERÊNCIA DE GOVERNANÇA, RISCO E COMPLIANCE"]
[null,null,null,1511.53,736.7,0,0,0,449.64600000000002,{"$f":"D995*'Série - IPCA'!$C$444/'Série - IPCA'!$C$385","v":1975.6857383413032},{"$f":"E995*'Série - IPCA'!$C$444/'Série - IPCA'!$C$398","v":921.30394231274033},{"$f":"F995*'Série - IPCA'!$C$444/'Série - IPCA'!$C$411","v":0},{"$f":"G995*'Série - IPCA'!$C$444/'Série - IPCA'!$C$424","v":0},{"$f":"H995*'Série - IPCA'!$C$444/'Série - IPCA'!$C$437","v":0},579.39793613080872,null,"N","SIM","SIM","ENCARGOS DE GESTÃO","FIXO","DESPESAS_GERAIS",4100,"GERÊNCIA DE SERVIÇOS CORPORATIVOS"]
[null,null,null,1279.67,623.70000000000005,0,0,0,380.67400000000004,{"$f":"D996*'Série - IPCA'!$C$444/'Série - IPCA'!$C$385","v":1672.6269202617323},{"$f":"E996*'Série - IPCA'!$C$444/'Série - IPCA'!$C$398","v":779.98814825635418},{"$f":"F996*'Série - IPCA'!$C$444/'Série - IPCA'!$C$411","v":0},{"$f":"G996*'Série - IPCA'!$C$444/'Série - IPCA'!$C$424","v":0},{"$f":"H996*'Série - IPCA'!$C$444/'Série - IPCA'!$C$437","v":0},490.52301370361727,null,"N","SIM","SIM","ENCARGOS DE GESTÃO","FIXO","DESPESAS_GERAIS",4200,"GERÊNCIA FINANCEIRA"]
[null,null,null,1444.64,704.1,0,0,0,429.74800000000005,{"$f":"D997*'Série - IPCA'!$C$444/'Série - IPCA'!$C$385","v":1888.2553737189344},{"$f":"E997*'Série - IPCA'!$C$444/'Série - IPCA'!$C$398","v":880.53496101859696},{"$f":"F997*'Série - IPCA'!$C$444/'Série - IPCA'!$C$411","v":0},{"$f":"G997*'Série - IPCA'!$C$444/'Série - IPCA'!$C$424","v":0},{"$f":"H997*'Série - IPCA'!$C$444/'Série - IPCA'!$C$437","v":0},553.75806694750622,null,"N","SIM","SIM","ENCARGOS DE GESTÃO","FIXO","DESPESAS_GERAIS",4300,"GERÊNCIA DE TECNOLOGIA E SISTEMAS DE INFORMAÇÃO"]
[null,null,null,929.65,453.1,0,0,0,276.55,{"$f":"D998*'Série - IPCA'!$C$444/'Série - IPCA'!$C$385","v":1215.1239119627085},{"$f":"E998*'Série - IPCA'!$C$444/'Série - IPCA'!$C$398","v":566.63881669865964},{"$f":"F998*'Série - IPCA'!$C$444/'Série - IPCA'!$C$411","v":0},{"$f":"G998*'Série - IPCA'!$C$444/'Série - IPCA'!$C$424","v":0},{"$f":"H998*'Série - IPCA'!$C$444/'Série - IPCA'!$C$437","v":0},356.3525457322736,null,"N","SIM","SIM","ENCARGOS DE GESTÃO","FIXO","DESPESAS_GERAIS",4500,"GERÊNCIA CONTÁBIL"]
[null,null,null,813.73,396.6,0,0,0,242.06599999999997,{"$f":"D999*'Série - IPCA'!$C$444/'Série - IPCA'!$C$385","v":1063.6075736905448},{"$f":"E999*'Série - IPCA'!$C$444/'Série - IPCA'!$C$398","v":495.98091967046668},{"$f":"F999*'Série - IPCA'!$C$444/'Série - IPCA'!$C$411","v":0},{"$f":"G999*'Série - IPCA'!$C$444/'Série - IPCA'!$C$424","v":0},{"$f":"H999*'Série - IPCA'!$C$444/'Série - IPCA'!$C$437","v":0},311.91769867220228,null,"N","SIM","SIM","ENCARGOS DE GESTÃO","FIXO","DESPESAS_GERAIS",4600,"GERÊNCIA DE PESSOAS E CULTURA"]
[null,null,null,2021.2,0,0,0,0,404.24,{"$f":"D1000*'Série - IPCA'!$C$444/'Série - IPCA'!$C$385","v":2641.8635517227199},{"$f":"E1000*'Série - IPCA'!$C$444/'Série - IPCA'!$C$398","v":0},{"$f":"F1000*'Série - IPCA'!$C$444/'Série - IPCA'!$C$411","v":0},{"$f":"G1000*'Série - IPCA'!$C$444/'Série - IPCA'!$C$424","v":0},{"$f":"H1000*'Série - IPCA'!$C$444/'Série - IPCA'!$C$437","v":0},528.37271034454398,null,"N","SIM","NÃO","ENCARGOS DE COMERCIALIZAÇÃO","FIXO","VIAGENS_REPRESENTAÇÕES",5400,"GERÊNCIA COMERCIAL (inativo)"]
[null,null,null,3149.11,0,0,0,0,629.822,{"$f":"D1001*'Série - IPCA'!$C$444/'Série - IPCA'!$C$385","v":4116.1285025556772},{"$f":"E1001*'Série - IPCA'!$C$444/'Série - IPCA'!$C$398","v":0},{"$f":"F1001*'Série - IPCA'!$C$444/'Série - IPCA'!$C$411","v":0},{"$f":"G1001*'Série - IPCA'!$C$444/'Série - IPCA'!$C$424","v":0},{"$f":"H1001*'Série - IPCA'!$C$444/'Série - IPCA'!$C$437","v":0},823.22570051113541,null,"N","SIM","NÃO","ENCARGOS DE GESTÃO","FIXO","VIAGENS_REPRESENTAÇÕES",3400,"MARKETING"]
[null,null,null,2732.53,0,0,0,0,546.50600000000009,{"$f":"D1002*'Série - IPCA'!$C$444/'Série - IPCA'!$C$385","v":3571.6264649658042},{"$f":"E1002*'Série - IPCA'!$C$444/'Série - IPCA'!$C$398","v":0},{"$f":"F1002*'Série - IPCA'!$C$444/'Série - IPCA'!$C$411","v":0},{"$f":"G1002*'Série - IPCA'!$C$444/'Série - IPCA'!$C$424","v":0},{"$f":"H1002*'Série - IPCA'!$C$444/'Série - IPCA'!$C$437","v":0},714.32529299316082,null,"N","SIM","NÃO","ENCARGOS DE GESTÃO","FIXO","VIAGENS_REPRESENTAÇÕES",4600,"GERÊNCIA DE PESSOAS E CULTURA"]
[null,null,null,46513.8,8394.42,358,44467.33,32514.240000000002,26449.558000000001,{"$f":"D1003*'Série - IPCA'!$C$444/'Série - IPCA'!$C$385","v":60797.107100791734},{"$f":"E1003*'Série - IPCA'!$C$444/'Série - IPCA'!$C$398","v":10497.912636662022},{"$f":"F1003*'Série - IPCA'!$C$444/'Série - IPCA'!$C$411","v":406.78216180809272},{"$f":"G1003*'Série - IPCA'!$C$444/'Série - IPCA'!$C$424","v":47763.42428666354},{"$f":"H1003*'Série - IPCA'!$C$444/'Série - IPCA'!$C$437","v":33381.69256297926},30569.383749780933,null,"N","SIM","NÃO","OPEX","FIXO","VIAGENS_REPRESENTAÇÕES",5100,"GERÊNCIA DE ENGENHARIA"]
[null,null,null,15325.56,1211.44,3338.7,6475.91,13985.78,8067.4780000000001,{"$f":"D1004*'Série - IPCA'!$C$444/'Série - IPCA'!$C$385","v":20031.683343429471},{"$f":"E1004*'Série - IPCA'!$C$444/'Série - IPCA'!$C$398","v":1515.005358864322},{"$f":"F1004*'Série - IPCA'!$C$444/'Série - IPCA'!$C$411","v":3793.6413509180989},{"$f":"G1004*'Série - IPCA'!$C$444/'Série - IPCA'!$C$424","v":6955.9300495947755},{"$f":"H1004*'Série - IPCA'!$C$444/'Série - IPCA'!$C$437","v":14358.908841586459},9331.0337888786253,null,"N","SIM","NÃO","OPEX","FIXO","VIAGENS_REPRESENTAÇÕES",5200,"GERÊNCIA DE OPERAÇÕES"]
[null,null,null,12341.49,533.5,2564.12,5992.29,651.65,4416.6100000000006,{"$f":"D1005*'Série - IPCA'!$C$444/'Série - IPCA'!$C$385","v":16131.274789704348},{"$f":"E1005*'Série - IPCA'!$C$444/'Série - IPCA'!$C$398","v":667.18562946090253},{"$f":"F1005*'Série - IPCA'!$C$444/'Série - IPCA'!$C$411","v":2913.5147394842647},{"$f":"G1005*'Série - IPCA'!$C$444/'Série - IPCA'!$C$424","v":6436.4622233610844},{"$f":"H1005*'Série - IPCA'!$C$444/'Série - IPCA'!$C$437","v":669.03547364679093},5363.4945711314776,null,"N","SIM","NÃO","ENCARGOS DE COMERCIALIZAÇÃO","FIXO","VIAGENS_REPRESENTAÇÕES",5300,"GERÊNCIA COMERCIAL"]
[null,null,null,32056.59,7815.67,1737.84,6174.67,3851.16,10327.185999999998,{"$f":"D1006*'Série - IPCA'!$C$444/'Série - IPCA'!$C$385","v":41900.423863803197},{"$f":"E1006*'Série - IPCA'!$C$444/'Série - IPCA'!$C$398","v":9774.1381604661528},{"$f":"F1006*'Série - IPCA'!$C$444/'Série - IPCA'!$C$411","v":1974.6433298228378},{"$f":"G1006*'Série - IPCA'!$C$444/'Série - IPCA'!$C$424","v":6632.3609499408376},{"$f":"H1006*'Série - IPCA'!$C$444/'Série - IPCA'!$C$437","v":3953.9057081095302},12847.094402428511,null,"N","SIM","NÃO","ENCARGOS DE GESTÃO","FIXO","VIAGENS_REPRESENTAÇÕES",1001,"CONSELHO DE ADMINISTRAÇÃO"]
[null,null,null,2177.6999999999998,618.94000000000005,0,0,0,559.32799999999997,{"$f":"D1007*'Série - IPCA'!$C$444/'Série - IPCA'!$C$385","v":2846.4210650042382},{"$f":"E1007*'Série - IPCA'!$C$444/'Série - IPCA'!$C$398","v":774.03537675450991},{"$f":"F1007*'Série - IPCA'!$C$444/'Série - IPCA'!$C$411","v":0},{"$f":"G1007*'Série - IPCA'!$C$444/'Série - IPCA'!$C$424","v":0},{"$f":"H1007*'Série - IPCA'!$C$444/'Série - IPCA'!$C$437","v":0},724.09128835174965,null,"N","SIM","NÃO","ENCARGOS DE GESTÃO","FIXO","VIAGENS_REPRESENTAÇÕES",1002,"CONSELHO FISCAL"]
[null,null,null,0,0,0,3048.18,4044.49,1418.5340000000001,{"$f":"D1008*'Série - IPCA'!$C$444/'Série - IPCA'!$C$385","v":0},{"$f":"E1008*'Série - IPCA'!$C$444/'Série - IPCA'!$C$398","v":0},{"$f":"F1008*'Série - IPCA'!$C$444/'Série - IPCA'!$C$411","v":0},{"$f":"G1008*'Série - IPCA'!$C$444/'Série - IPCA'!$C$424","v":3274.1231515839168},{"$f":"H1008*'Série - IPCA'!$C$444/'Série - IPCA'!$C$437","v":4152.3935898253812},1485.3033482818596,null,"N","SIM","SIM","ENCARGOS DE GESTÃO","FIXO","VIAGENS_REPRESENTAÇÕES",1004,"COMITÊ DE AUDITORIA ESTATUTÁRIA"]
[null,null,null,0,3165.79,0,0,547.89,742.73599999999999,{"$f":"D1009*'Série - IPCA'!$C$444/'Série - IPCA'!$C$385","v":0},{"$f":"E1009*'Série - IPCA'!$C$444/'Série - IPCA'!$C$398","v":3959.0807758032433},{"$f":"F1009*'Série - IPCA'!$C$444/'Série - IPCA'!$C$411","v":0},{"$f":"G1009*'Série - IPCA'!$C$444/'Série - IPCA'!$C$424","v":0},{"$f":"H1009*'Série - IPCA'!$C$444/'Série - IPCA'!$C$437","v":562.50724415919638},904.31760399248799,null,"N","SIM","NÃO","ENCARGOS DE GESTÃO","FIXO","VIAGENS_REPRESENTAÇÕES",1005,"AUDITORIA INTERNA"]
[null,null,null,0,0,4296.4399999999996,39680,12273.4,11249.968000000001,{"$f":"D1010*'Série - IPCA'!$C$444/'Série - IPCA'!$C$385","v":0},{"$f":"E1010*'Série - IPCA'!$C$444/'Série - IPCA'!$C$398","v":0},{"$f":"F1010*'Série - IPCA'!$C$444/'Série - IPCA'!$C$411","v":4881.8858974267096},{"$f":"G1010*'Série - IPCA'!$C$444/'Série - IPCA'!$C$424","v":42621.238461918198},{"$f":"H1010*'Série - IPCA'!$C$444/'Série - IPCA'!$C$437","v":12600.843984127252},12020.79366869443,null,"N","SIM","NÃO","ENCARGOS DE GESTÃO","FIXO","VIAGENS_REPRESENTAÇÕES",2120,"ASSESSORIA DA PRESIDÊNCIA"]
[null,null,null,0,0,0,0,14993.58,2998.7159999999999,{"$f":"D1011*'Série - IPCA'!$C$444/'Série - IPCA'!$C$385","v":0},{"$f":"E1011*'Série - IPCA'!$C$444/'Série - IPCA'!$C$398","v":0},{"$f":"F1011*'Série - IPCA'!$C$444/'Série - IPCA'!$C$411","v":0},{"$f":"G1011*'Série - IPCA'!$C$444/'Série - IPCA'!$C$424","v":0},{"$f":"H1011*'Série - IPCA'!$C$444/'Série - IPCA'!$C$437","v":15393.596097538637},3078.7192195077273,null,"N","SIM","NÃO","ENCARGOS DE GESTÃO","FIXO","VIAGENS_REPRESENTAÇÕES",2130,"ASSESSORIA DE RELAÇÕES INSTITUCIONAIS E NOVOS NEGÓCIOS"]
[null,null,null,0,0,0,0,3943.78,788.75600000000009,{"$f":"D1012*'Série - IPCA'!$C$444/'Série - IPCA'!$C$385","v":0},{"$f":"E1012*'Série - IPCA'!$C$444/'Série - IPCA'!$C$398","v":0},{"$f":"F1012*'Série - IPCA'!$C$444/'Série - IPCA'!$C$411","v":0},{"$f":"G1012*'Série - IPCA'!$C$444/'Série - IPCA'!$C$424","v":0},{"$f":"H1012*'Série - IPCA'!$C$444/'Série - IPCA'!$C$437","v":4048.9967317712599},809.79934635425195,null,"N","SIM","NÃO","ENCARGOS DE GESTÃO","FIXO","VIAGENS_REPRESENTAÇÕES",2140,"ASSESSORIA DTC"]
[null,null,null,19002.97,0,0,11051.23,19605.13,9931.866,{"$f":"D1013*'Série - IPCA'!$C$444/'Série - IPCA'!$C$385","v":24838.340499446022},{"$f":"E1013*'Série - IPCA'!$C$444/'Série - IPCA'!$C$398","v":0},{"$f":"F1013*'Série - IPCA'!$C$444/'Série - IPCA'!$C$411","v":0},{"$f":"G1013*'Série - IPCA'!$C$444/'Série - IPCA'!$C$424","v":11870.390855027828},{"$f":"H1013*'Série - IPCA'!$C$444/'Série - IPCA'!$C$437","v":20128.178370991958},11367.381945093162,null,"N","SIM","NÃO","ENCARGOS DE GESTÃO","FIXO","VIAGENS_REPRESENTAÇÕES",2300,"DIRETORIA COLEGIADA - DAF"]
[null,null,null,0,0,2298.9,6979.81,2656.81,2387.1040000000003,{"$f":"D1014*'Série - IPCA'!$C$444/'Série - IPCA'!$C$385","v":0},{"$f":"E1014*'Série - IPCA'!$C$444/'Série - IPCA'!$C$398","v":0},{"$f":"F1014*'Série - IPCA'!$C$444/'Série - IPCA'!$C$411","v":2612.1550608397329},{"$f":"G1014*'Série - IPCA'!$C$444/'Série - IPCA'!$C$424","v":7497.1811095988232},{"$f":"H1014*'Série - IPCA'!$C$444/'Série - IPCA'!$C$437","v":2727.6914551362402},2567.4055251149593,null,"N","SIM","NÃO","ENCARGOS DE GESTÃO","FIXO","VIAGENS_REPRESENTAÇÕES",2310,"ASSESSORIA DAF"]
[null,null,null,88373.28,17855.8,6984.16,34590.47,63547.65,42270.272000000004,{"$f":"D1015*'Série - IPCA'!$C$444/'Série - IPCA'!$C$385","v":115510.66068582347},{"$f":"E1015*'Série - IPCA'!$C$444/'Série - IPCA'!$C$398","v":22330.146508955921},{"$f":"F1015*'Série - IPCA'!$C$444/'Série - IPCA'!$C$411","v":7935.8427464067299},{"$f":"G1015*'Série - IPCA'!$C$444/'Série - IPCA'!$C$424","v":37154.452378523878},{"$f":"H1015*'Série - IPCA'!$C$444/'Série - IPCA'!$C$437","v":65243.047827653645},49634.830029472731,null,"N","SIM","NÃO","ENCARGOS DE GESTÃO","FIXO","VIAGENS_REPRESENTAÇÕES",2200,"DIRETORIA COLEGIADA - PRESIDÊNCIA"]
[null,null,null,18417.439999999999,4578.26,0,17200.16,31026.639999999999,14244.5,{"$f":"D1016*'Série - IPCA'!$C$444/'Série - IPCA'!$C$385","v":24073.007842885458},{"$f":"E1016*'Série - IPCA'!$C$444/'Série - IPCA'!$C$398","v":5725.490684040622},{"$f":"F1016*'Série - IPCA'!$C$444/'Série - IPCA'!$C$411","v":0},{"$f":"G1016*'Série - IPCA'!$C$444/'Série - IPCA'!$C$424","v":18475.103854413985},{"$f":"H1016*'Série - IPCA'!$C$444/'Série - IPCA'!$C$437","v":31854.404646771229},16025.601405622259,null,"N","SIM","NÃO","ENCARGOS DE GESTÃO","FIXO","VIAGENS_REPRESENTAÇÕES",2400,"DIRETORIA COLEGIADA - DTC"]
[null,null,null,0,0,0,4353.84,9473.1200000000008,2765.3920000000003,{"$f":"D1017*'Série - IPCA'!$C$444/'Série - IPCA'!$C$385","v":0},{"$f":"E1017*'Série - IPCA'!$C$444/'Série - IPCA'!$C$398","v":0},{"$f":"F1017*'Série - IPCA'!$C$444/'Série - IPCA'!$C$411","v":0},{"$f":"G1017*'Série - IPCA'!$C$444/'Série - IPCA'!$C$424","v":4676.5638322842224},{"$f":"H1017*'Série - IPCA'!$C$444/'Série - IPCA'!$C$437","v":9725.8548701187574},2880.4837404805958,null,"N","SIM","NÃO","ENCARGOS DE GESTÃO","FIXO","VIAGENS_REPRESENTAÇÕES",2410,"ASSESSORIA DE SEGURANÇA DO TRABALHO"]
[null,null,null,3559.67,0,716,0,0,855.13400000000001,{"$f":"D1018*'Série - IPCA'!$C$444/'Série - IPCA'!$C$385","v":4652.7619380372125},{"$f":"E1018*'Série - IPCA'!$C$444/'Série - IPCA'!$C$398","v":0},{"$f":"F1018*'Série - IPCA'!$C$444/'Série - IPCA'!$C$411","v":813.56432361618545},{"$f":"G1018*'Série - IPCA'!$C$444/'Série - IPCA'!$C$424","v":0},{"$f":"H1018*'Série - IPCA'!$C$444/'Série - IPCA'!$C$437","v":0},1093.2652523306795,null,"N","SIM","NÃO","ENCARGOS DE GESTÃO","FIXO","VIAGENS_REPRESENTAÇÕES",3100,"SMS"]
[null,null,null,29195.4,3714.78,2614.4,7234.38,1930.72,8937.9359999999997,{"$f":"D1019*'Série - IPCA'!$C$444/'Série - IPCA'!$C$385","v":38160.628902615026},{"$f":"E1019*'Série - IPCA'!$C$444/'Série - IPCA'!$C$398","v":4645.6379242901066},{"$f":"F1019*'Série - IPCA'!$C$444/'Série - IPCA'!$C$411","v":2970.6460442208877},{"$f":"G1019*'Série - IPCA'!$C$444/'Série - IPCA'!$C$424","v":7770.62084435816},{"$f":"H1019*'Série - IPCA'!$C$444/'Série - IPCA'!$C$437","v":1982.2299849295362},11105.952740082745,null,"N","SIM","NÃO","ENCARGOS DE GESTÃO","FIXO","VIAGENS_REPRESENTAÇÕES",3200,"GERÊNCIA DE PLANEJAMENTO E MEIO AMBIENTE"]
[null,null,null,24420.07,1819.13,0,1713.21,1003.07,5791.0959999999995,{"$f":"D1020*'Série - IPCA'!$C$444/'Série - IPCA'!$C$385","v":31918.906027863366},{"$f":"E1020*'Série - IPCA'!$C$444/'Série - IPCA'!$C$398","v":2274.9716853256073},{"$f":"F1020*'Série - IPCA'!$C$444/'Série - IPCA'!$C$411","v":0},{"$f":"G1020*'Série - IPCA'!$C$444/'Série - IPCA'!$C$424","v":1840.1998978161007},{"$f":"H1020*'Série - IPCA'!$C$444/'Série - IPCA'!$C$437","v":1029.8310635323971},7412.781734907493,null,"N","SIM","NÃO","ENCARGOS DE GESTÃO","FIXO","VIAGENS_REPRESENTAÇÕES",3300,"GERÊNCIA JURÍDICA"]
[null,null,null,2264.1999999999998,2409.13,0,0,4993.6899999999996,1933.404,{"$f":"D1021*'Série - IPCA'!$C$444/'Série - IPCA'!$C$385","v":2959.4832049330007},{"$f":"E1021*'Série - IPCA'!$C$444/'Série - IPCA'!$C$398","v":3012.8152118147032},{"$f":"F1021*'Série - IPCA'!$C$444/'Série - IPCA'!$C$411","v":0},{"$f":"G1021*'Série - IPCA'!$C$444/'Série - IPCA'!$C$424","v":0},{"$f":"H1021*'Série - IPCA'!$C$444/'Série - IPCA'!$C$437","v":5126.9174470885337},2219.8431727672478,null,"N","SIM","NÃO","ENCARGOS DE GESTÃO","FIXO","VIAGENS_REPRESENTAÇÕES",3600,"GERÊNCIA DE GOVERNANÇA, RISCO E COMPLIANCE"]
[null,null,null,0,0,0,3578.28,9771.9599999999991,2670.0479999999998,{"$f":"D1022*'Série - IPCA'!$C$444/'Série - IPCA'!$C$385","v":0},{"$f":"E1022*'Série - IPCA'!$C$444/'Série - IPCA'!$C$398","v":0},{"$f":"F1022*'Série - IPCA'!$C$444/'Série - IPCA'!$C$411","v":0},{"$f":"G1022*'Série - IPCA'!$C$444/'Série - IPCA'!$C$424","v":3843.5162591611056},{"$f":"H1022*'Série - IPCA'!$C$444/'Série - IPCA'!$C$437","v":10032.667669849603},2775.2367858021416,null,"N","SIM","NÃO","ENCARGOS DE GESTÃO","FIXO","VIAGENS_REPRESENTAÇÕES",3500,"ASSESSORIA DE COMUNICAÇÃO INSTITUCIONAL"]
[null,null,null,0,0,3151.52,1391.02,4894.95,1887.498,{"$f":"D1023*'Série - IPCA'!$C$444/'Série - IPCA'!$C$385","v":0},{"$f":"E1023*'Série - IPCA'!$C$444/'Série - IPCA'!$C$398","v":0},{"$f":"F1023*'Série - IPCA'!$C$444/'Série - IPCA'!$C$411","v":3580.9556384956436},{"$f":"G1023*'Série - IPCA'!$C$444/'Série - IPCA'!$C$424","v":1494.1279013431817},{"$f":"H1023*'Série - IPCA'!$C$444/'Série - IPCA'!$C$437","v":5025.5431469766881},2020.125337363103,null,"N","SIM","NÃO","ENCARGOS DE GESTÃO","FIXO","VIAGENS_REPRESENTAÇÕES",3700,"GERÊNCIA DE REGULAÇÃO"]
[null,null,null,905.5,858.75,0,1372.3,10488.25,2724.96,{"$f":"D1024*'Série - IPCA'!$C$444/'Série - IPCA'!$C$385","v":1183.5580081560076},{"$f":"E1024*'Série - IPCA'!$C$444/'Série - IPCA'!$C$398","v":1073.9375057161201},{"$f":"F1024*'Série - IPCA'!$C$444/'Série - IPCA'!$C$411","v":0},{"$f":"G1024*'Série - IPCA'!$C$444/'Série - IPCA'!$C$424","v":1474.0203009397767},{"$f":"H1024*'Série - IPCA'!$C$444/'Série - IPCA'!$C$437","v":10768.067684302854},2899.9166998229516,null,"N","SIM","NÃO","ENCARGOS DE GESTÃO","FIXO","VIAGENS_REPRESENTAÇÕES",4100,"GERÊNCIA DE SERVIÇOS CORPORATIVOS"]
[null,null,null,14875.03,264.94,0,0,16464.919999999998,6320.9780000000001,{"$f":"D1025*'Série - IPCA'!$C$444/'Série - IPCA'!$C$385","v":19442.806049763512},{"$f":"E1025*'Série - IPCA'!$C$444/'Série - IPCA'!$C$398","v":331.32926086105249},{"$f":"F1025*'Série - IPCA'!$C$444/'Série - IPCA'!$C$411","v":0},{"$f":"G1025*'Série - IPCA'!$C$444/'Série - IPCA'!$C$424","v":0},{"$f":"H1025*'Série - IPCA'!$C$444/'Série - IPCA'!$C$437","v":16904.190210629204},7335.6651042507538,null,"N","SIM","NÃO","ENCARGOS DE GESTÃO","FIXO","VIAGENS_REPRESENTAÇÕES",4200,"GERÊNCIA FINANCEIRA"]
[null,null,null,20902.830000000002,79.8,0,0,4640.58,5124.6419999999998,{"$f":"D1026*'Série - IPCA'!$C$444/'Série - IPCA'!$C$385","v":27321.603356845546},{"$f":"E1026*'Série - IPCA'!$C$444/'Série - IPCA'!$C$398","v":99.796463413270899},{"$f":"F1026*'Série - IPCA'!$C$444/'Série - IPCA'!$C$411","v":0},{"$f":"G1026*'Série - IPCA'!$C$444/'Série - IPCA'!$C$424","v":0},{"$f":"H1026*'Série - IPCA'!$C$444/'Série - IPCA'!$C$437","v":4764.3867694250366},6437.1573179367706,null,"N","SIM","NÃO","ENCARGOS DE GESTÃO","FIXO","VIAGENS_REPRESENTAÇÕES",4300,"GERÊNCIA DE TECNOLOGIA E SISTEMAS DE INFORMAÇÃO"]
[null,null,null,6648.8,0,0,0,688.56,1467.4720000000002,{"$f":"D1027*'Série - IPCA'!$C$444/'Série - IPCA'!$C$385","v":8690.4919763971993},{"$f":"E1027*'Série - IPCA'!$C$444/'Série - IPCA'!$C$398","v":0},{"$f":"F1027*'Série - IPCA'!$C$444/'Série - IPCA'!$C$411","v":0},{"$f":"G1027*'Série - IPCA'!$C$444/'Série - IPCA'!$C$424","v":0},{"$f":"H1027*'Série - IPCA'!$C$444/'Série - IPCA'!$C$437","v":706.93020138760744},1879.4844355569614,null,"N","SIM","NÃO","ENCARGOS DE GESTÃO","FIXO","VIAGENS_REPRESENTAÇÕES",4500,"GERÊNCIA CONTÁBIL"]
[null,null,null,0,340116,0,87500,462000,177923.20000000001,{"$f":"D1028*'Série - IPCA'!$C$444/'Série - IPCA'!$C$385","v":0},{"$f":"E1028*'Série - IPCA'!$C$444/'Série - IPCA'!$C$398","v":425343.03195824614},{"$f":"F1028*'Série - IPCA'!$C$444/'Série - IPCA'!$C$411","v":0},{"$f":"G1028*'Série - IPCA'!$C$444/'Série - IPCA'!$C$424","v":93985.84590266741},{"$f":"H1028*'Série - IPCA'!$C$444/'Série - IPCA'!$C$437","v":474325.77123427822},198730.92981903834,null,"N","NÃO","SIM","ENCARGOS DE GESTÃO","FIXO","DESPESAS_INSTITUCIONAIS",3500,"ASSESSORIA DE COMUNICAÇÃO INSTITUCIONAL"]
[null,null,null,384796.56,0,0,0,0,{"$f":"AVERAGE(D1029:H1029)","v":76959.312000000005},{"$f":"D1029*'Série - IPCA'!$C$444/'Série - IPCA'!$C$385","v":502958.64174365957},{"$f":"E1029*'Série - IPCA'!$C$444/'Série - IPCA'!$C$398","v":0},{"$f":"F1029*'Série - IPCA'!$C$444/'Série - IPCA'!$C$411","v":0},{"$f":"G1029*'Série - IPCA'!$C$444/'Série - IPCA'!$C$424","v":0},{"$f":"H1029*'Série - IPCA'!$C$444/'Série - IPCA'!$C$437","v":0},{"$f":"AVERAGE(J1029:N1029)","v":100591.72834873191},null,"N","SIM","NÃO","ENCARGOS DE COMERCIALIZAÇÃO","VOLUME S/ TERMOELÉTRICA","DESPESAS_GERAIS",5300,"GERÊNCIA COMERCIAL"]
[null,null,null,844.43,0,0,0,0,168.886,{"$f":"D1030*'Série - IPCA'!$C$444/'Série - IPCA'!$C$385","v":1103.7348302895389},{"$f":"E1030*'Série - IPCA'!$C$444/'Série - IPCA'!$C$398","v":0},{"$f":"F1030*'Série - IPCA'!$C$444/'Série - IPCA'!$C$411","v":0},{"$f":"G1030*'Série - IPCA'!$C$444/'Série - IPCA'!$C$424","v":0},{"$f":"H1030*'Série - IPCA'!$C$444/'Série - IPCA'!$C$437","v":0},220.74696605790777,null,"N","SIM","NÃO","ENCARGOS DE COMERCIALIZAÇÃO","VOLUME S/ TERMOELÉTRICA","DESPESAS_GERAIS",5400,"GERÊNCIA COMERCIAL (inativo)"]
[null,null,null,0,-251553.88,-444272.9,-944655.5,0,-328096.45600000001,{"$f":"D1031*'Série - IPCA'!$C$444/'Série - IPCA'!$C$385","v":0},{"$f":"E1031*'Série - IPCA'!$C$444/'Série - IPCA'!$C$398","v":-314588.81681561825},{"$f":"F1031*'Série - IPCA'!$C$444/'Série - IPCA'!$C$411","v":-504810.86786243186},{"$f":"G1031*'Série - IPCA'!$C$444/'Série - IPCA'!$C$424","v":-1014677.1000469397},{"$f":"H1031*'Série - IPCA'!$C$444/'Série - IPCA'!$C$437","v":0},-366815.35694499797,null,"S","NÃO","SIM","OPEX","FIXO","DESPESA GERAIS",4100,"GERÊNCIA DE SERVIÇOS CORPORATIVOS"]
[null,null,null,126183.01,109316.93,7904.32,0,0,48680.851999999999,{"$f":"D1032*'Série - IPCA'!$C$444/'Série - IPCA'!$C$385","v":164930.88015320772},{"$f":"E1032*'Série - IPCA'!$C$444/'Série - IPCA'!$C$398","v":136709.81209518915},{"$f":"F1032*'Série - IPCA'!$C$444/'Série - IPCA'!$C$411","v":8981.3865285557076},{"$f":"G1032*'Série - IPCA'!$C$444/'Série - IPCA'!$C$424","v":0},{"$f":"H1032*'Série - IPCA'!$C$444/'Série - IPCA'!$C$437","v":0},62124.415755390517,null,"N","SIM","NÃO","OPEX","FUNCIONÁRIOS","PESSOAL",5100,"GERÊNCIA DE ENGENHARIA"]
[null,null,null,581377.14,577119.16,620779.89,690515.67,757196.38,645397.64799999993,{"$f":"D1033*'Série - IPCA'!$C$444/'Série - IPCA'!$C$385","v":759904.54975796409},{"$f":"E1033*'Série - IPCA'!$C$444/'Série - IPCA'!$C$398","v":721734.97664207558},{"$f":"F1033*'Série - IPCA'!$C$444/'Série - IPCA'!$C$411","v":705369.233690475},{"$f":"G1033*'Série - IPCA'!$C$444/'Série - IPCA'!$C$424","v":741699.42118853866},{"$f":"H1033*'Série - IPCA'!$C$444/'Série - IPCA'!$C$437","v":777397.74224957498},741221.18470572564,null,"N","SIM","NÃO","OPEX","FUNCIONÁRIOS","PESSOAL",5200,"GERÊNCIA DE OPERAÇÕES"]
[null,null,null,14195.51,0,0,0,0,2839.1019999999999,{"$f":"D1034*'Série - IPCA'!$C$444/'Série - IPCA'!$C$385","v":18554.621248325446},{"$f":"E1034*'Série - IPCA'!$C$444/'Série - IPCA'!$C$398","v":0},{"$f":"F1034*'Série - IPCA'!$C$444/'Série - IPCA'!$C$411","v":0},{"$f":"G1034*'Série - IPCA'!$C$444/'Série - IPCA'!$C$424","v":0},{"$f":"H1034*'Série - IPCA'!$C$444/'Série - IPCA'!$C$437","v":0},3710.9242496650891,null,"N","SIM","NÃO","OPEX","FUNCIONÁRIOS","PESSOAL",2410,"ASSESSORIA DE SEGURANÇA DO TRABALHO"]
[null,null,null,0,0,97429.2,111496.35,123125.81,66410.271999999997,{"$f":"D1035*'Série - IPCA'!$C$444/'Série - IPCA'!$C$385","v":0},{"$f":"E1035*'Série - IPCA'!$C$444/'Série - IPCA'!$C$398","v":0},{"$f":"F1035*'Série - IPCA'!$C$444/'Série - IPCA'!$C$411","v":110705.19720456153},{"$f":"G1035*'Série - IPCA'!$C$444/'Série - IPCA'!$C$424","v":119760.90022639853},{"$f":"H1035*'Série - IPCA'!$C$444/'Série - IPCA'!$C$437","v":126410.70300237059},71375.360086666129,null,"N","SIM","NÃO","ENCARGOS DE COMERCIALIZAÇÃO","FUNCIONÁRIOS","PESSOAL",5300,"GERÊNCIA COMERCIAL"]
[null,null,null,0,78534.210000000006,90197.54,103983.93,122702.31,79083.597999999998,{"$f":"D1036*'Série - IPCA'!$C$444/'Série - IPCA'!$C$385","v":0},{"$f":"E1036*'Série - IPCA'!$C$444/'Série - IPCA'!$C$398","v":98213.488909212188},{"$f":"F1036*'Série - IPCA'!$C$444/'Série - IPCA'!$C$411","v":102488.12936025675},{"$f":"G1036*'Série - IPCA'!$C$444/'Série - IPCA'!$C$424","v":111691.62995810003},{"$f":"H1036*'Série - IPCA'!$C$444/'Série - IPCA'!$C$437","v":125975.90437873916},87673.830521261625,null,"N","SIM","NÃO","ENCARGOS DE GESTÃO","FUNCIONÁRIOS","PESSOAL",2410,"ASSESSORIA DE SEGURANÇA DO TRABALHO"]
[null,null,null,36386.559999999998,0,0,0,0,7277.3119999999999,{"$f":"D1037*'Série - IPCA'!$C$444/'Série - IPCA'!$C$385","v":47560.027031749378},{"$f":"E1037*'Série - IPCA'!$C$444/'Série - IPCA'!$C$398","v":0},{"$f":"F1037*'Série - IPCA'!$C$444/'Série - IPCA'!$C$411","v":0},{"$f":"G1037*'Série - IPCA'!$C$444/'Série - IPCA'!$C$424","v":0},{"$f":"H1037*'Série - IPCA'!$C$444/'Série - IPCA'!$C$437","v":0},9512.0054063498756,null,"N",null,"sim","ENCARGOS DE GESTÃO","FIXO","DESPESAS_GERAIS",3400,"MARKETING"]
[null,null,null,0,20230.48,0,0,0,4046.096,{"$f":"D1038*'Série - IPCA'!$C$444/'Série - IPCA'!$C$385","v":0},{"$f":"E1038*'Série - IPCA'!$C$444/'Série - IPCA'!$C$398","v":25299.879162317146},{"$f":"F1038*'Série - IPCA'!$C$444/'Série - IPCA'!$C$411","v":0},{"$f":"G1038*'Série - IPCA'!$C$444/'Série - IPCA'!$C$424","v":0},{"$f":"H1038*'Série - IPCA'!$C$444/'Série - IPCA'!$C$437","v":0},5059.9758324634295,null,"N","SIM","NÃO","ENCARGOS DE GESTÃO","FIXO","DESPESAS_GERAIS",2120,"ASSESSORIA DA PRESIDÊNCIA"]
[null,null,null,61065.89,0,0,0,0,12213.178,{"$f":"D1039*'Série - IPCA'!$C$444/'Série - IPCA'!$C$385","v":79817.805780976109},{"$f":"E1039*'Série - IPCA'!$C$444/'Série - IPCA'!$C$398","v":0},{"$f":"F1039*'Série - IPCA'!$C$444/'Série - IPCA'!$C$411","v":0},{"$f":"G1039*'Série - IPCA'!$C$444/'Série - IPCA'!$C$424","v":0},{"$f":"H1039*'Série - IPCA'!$C$444/'Série - IPCA'!$C$437","v":0},15963.561156195221,null,"N","NÃO","SIM","ENCARGOS DE COMERCIALIZAÇÃO","NÚMERO DE CLIENTES","PESSOAL",5400,"GERÊNCIA COMERCIAL (inativo)"]
[null,null,null,45161.23,0,0,0,0,9032.246000000001,{"$f":"D1040*'Série - IPCA'!$C$444/'Série - IPCA'!$C$385","v":59029.194284566918},{"$f":"E1040*'Série - IPCA'!$C$444/'Série - IPCA'!$C$398","v":0},{"$f":"F1040*'Série - IPCA'!$C$444/'Série - IPCA'!$C$411","v":0},{"$f":"G1040*'Série - IPCA'!$C$444/'Série - IPCA'!$C$424","v":0},{"$f":"H1040*'Série - IPCA'!$C$444/'Série - IPCA'!$C$437","v":0},11805.838856913384,null,"N","NÃO","SIM","ENCARGOS DE COMERCIALIZAÇÃO","NÚMERO DE CLIENTES","PESSOAL",5500,"GERÊNCIA COMERCIAL (inativo)"]
[null,null,null,26610.92,0,0,0,0,5322.1839999999993,{"$f":"D1041*'Série - IPCA'!$C$444/'Série - IPCA'!$C$385","v":34782.515152290296},{"$f":"E1041*'Série - IPCA'!$C$444/'Série - IPCA'!$C$398","v":0},{"$f":"F1041*'Série - IPCA'!$C$444/'Série - IPCA'!$C$411","v":0},{"$f":"G1041*'Série - IPCA'!$C$444/'Série - IPCA'!$C$424","v":0},{"$f":"H1041*'Série - IPCA'!$C$444/'Série - IPCA'!$C$437","v":0},6956.5030304580596,null,"N","NÃO","SIM","ENCARGOS DE GESTÃO","FIXO","PESSOAL",2100,"SECRETARIA"]
[null,null,null,20299.439999999999,0,0,0,0,4059.8879999999999,{"$f":"D1042*'Série - IPCA'!$C$444/'Série - IPCA'!$C$385","v":26532.92630931241},{"$f":"E1042*'Série - IPCA'!$C$444/'Série - IPCA'!$C$398","v":0},{"$f":"F1042*'Série - IPCA'!$C$444/'Série - IPCA'!$C$411","v":0},{"$f":"G1042*'Série - IPCA'!$C$444/'Série - IPCA'!$C$424","v":0},{"$f":"H1042*'Série - IPCA'!$C$444/'Série - IPCA'!$C$437","v":0},5306.5852618624822,null,"N","NÃO","SIM","ENCARGOS DE GESTÃO","FIXO","PESSOAL",2400,"DIRETORIA COLEGIADA - DTC"]
[null,null,null,42060.9,0,0,0,0,8412.18,{"$f":"D1043*'Série - IPCA'!$C$444/'Série - IPCA'!$C$385","v":54976.824986470485},{"$f":"E1043*'Série - IPCA'!$C$444/'Série - IPCA'!$C$398","v":0},{"$f":"F1043*'Série - IPCA'!$C$444/'Série - IPCA'!$C$411","v":0},{"$f":"G1043*'Série - IPCA'!$C$444/'Série - IPCA'!$C$424","v":0},{"$f":"H1043*'Série - IPCA'!$C$444/'Série - IPCA'!$C$437","v":0},10995.364997294097,null,"N","NÃO","SIM","ENCARGOS DE GESTÃO","FIXO","PESSOAL",3400,"MARKETING"]
[null,null,null,244594.38,205251.7,134060.39000000001,149893.03,177598.11,182279.522,{"$f":"D1044*'Série - IPCA'!$C$444/'Série - IPCA'!$C$385","v":319703.63025836961},{"$f":"E1044*'Série - IPCA'!$C$444/'Série - IPCA'!$C$398","v":256684.13245064727},{"$f":"F1044*'Série - IPCA'!$C$444/'Série - IPCA'!$C$411","v":152327.86384646935},{"$f":"G1044*'Série - IPCA'!$C$444/'Série - IPCA'!$C$424","v":161003.6939367303},{"$f":"H1044*'Série - IPCA'!$C$444/'Série - IPCA'!$C$437","v":182336.27812878825},214411.11972420095,null,"N","NÃO","SIM","OPEX","FUNCIONÁRIOS","PESSOAL",5100,"GERÊNCIA DE ENGENHARIA"]
[null,null,null,473429.24,443124.45,492391.96,518360.71,552910.98,496043.46799999999,{"$f":"D1045*'Série - IPCA'!$C$444/'Série - IPCA'!$C$385","v":618808.35814159305},{"$f":"E1045*'Série - IPCA'!$C$444/'Série - IPCA'!$C$398","v":554163.57095176424},{"$f":"F1045*'Série - IPCA'!$C$444/'Série - IPCA'!$C$411","v":559486.7763847037},{"$f":"G1045*'Série - IPCA'!$C$444/'Série - IPCA'!$C$424","v":556783.65499494015},{"$f":"H1045*'Série - IPCA'!$C$444/'Série - IPCA'!$C$437","v":567662.17968052067},571380.90803070436,null,"N","NÃO","SIM","OPEX","FUNCIONÁRIOS","PESSOAL",5200,"GERÊNCIA DE OPERAÇÕES"]
[null,null,null,171342.13,232304.76,343090.09,363480.94,404736.23,302990.82999999996,{"$f":"D1046*'Série - IPCA'!$C$444/'Série - IPCA'!$C$385","v":223957.31650580646},{"$f":"E1046*'Série - IPCA'!$C$444/'Série - IPCA'!$C$398","v":290516.20904847962},{"$f":"F1046*'Série - IPCA'!$C$444/'Série - IPCA'!$C$411","v":389840.5824165729},{"$f":"G1046*'Série - IPCA'!$C$444/'Série - IPCA'!$C$424","v":390423.58417596226},{"$f":"H1046*'Série - IPCA'!$C$444/'Série - IPCA'!$C$437","v":415534.25203723856},342054.38883681194,null,"N","NÃO","SIM","ENCARGOS DE COMERCIALIZAÇÃO","NÚMERO DE CLIENTES","PESSOAL",5300,"GERÊNCIA COMERCIAL"]
[null,null,null,38444.949999999997,37595.800000000003,32567.14,32269.439999999999,54144.18,39004.301999999996,{"$f":"D1047*'Série - IPCA'!$C$444/'Série - IPCA'!$C$385","v":50250.500768257654},{"$f":"E1047*'Série - IPCA'!$C$444/'Série - IPCA'!$C$398","v":47016.640090133456},{"$f":"F1047*'Série - IPCA'!$C$444/'Série - IPCA'!$C$411","v":37004.836908119578},{"$f":"G1047*'Série - IPCA'!$C$444/'Série - IPCA'!$C$424","v":34661.378459489955},{"$f":"H1047*'Série - IPCA'!$C$444/'Série - IPCA'!$C$437","v":55588.701160925506},44904.411477385227,null,"N","NÃO","SIM","ENCARGOS DE GESTÃO","FIXO","PESSOAL",1001,"CONSELHO DE ADMINISTRAÇÃO"]
[null,null,null,0,32830.17,39098.120000000003,43393.98,45732.49,32210.952000000001,{"$f":"D1048*'Série - IPCA'!$C$444/'Série - IPCA'!$C$385","v":0},{"$f":"E1048*'Série - IPCA'!$C$444/'Série - IPCA'!$C$398","v":41056.827810231371},{"$f":"F1048*'Série - IPCA'!$C$444/'Série - IPCA'!$C$411","v":44425.747978302315},{"$f":"G1048*'Série - IPCA'!$C$444/'Série - IPCA'!$C$424","v":46610.513341524929},{"$f":"H1048*'Série - IPCA'!$C$444/'Série - IPCA'!$C$437","v":46952.594350030122},35809.136696017747,null,"N","NÃO","SIM","ENCARGOS DE GESTÃO","FIXO","PESSOAL",1005,"AUDITORIA INTERNA"]
[null,null,null,0,0,38867.19,34214.69,27510.639999999999,20118.504000000001,{"$f":"D1049*'Série - IPCA'!$C$444/'Série - IPCA'!$C$385","v":0},{"$f":"E1049*'Série - IPCA'!$C$444/'Série - IPCA'!$C$398","v":0},{"$f":"F1049*'Série - IPCA'!$C$444/'Série - IPCA'!$C$411","v":44163.35075867566},{"$f":"G1049*'Série - IPCA'!$C$444/'Série - IPCA'!$C$424","v":36750.818079400407},{"$f":"H1049*'Série - IPCA'!$C$444/'Série - IPCA'!$C$437","v":28244.600725429835},21831.753912701177,null,"N","NÃO","SIM","ENCARGOS DE GESTÃO","FIXO","PESSOAL",1010,"GOVERNANÇA SOCIETÁRIA"]
[null,null,null,11299.37,30225.19,15638.79,10244.129999999999,6002.22,14681.939999999999,{"$f":"D1050*'Série - IPCA'!$C$444/'Série - IPCA'!$C$385","v":14769.143954299005},{"$f":"E1050*'Série - IPCA'!$C$444/'Série - IPCA'!$C$398","v":37799.086065089738},{"$f":"F1050*'Série - IPCA'!$C$444/'Série - IPCA'!$C$411","v":17769.778782856938},{"$f":"G1050*'Série - IPCA'!$C$444/'Série - IPCA'!$C$424","v":11003.465412421623},{"$f":"H1050*'Série - IPCA'!$C$444/'Série - IPCA'!$C$437","v":6162.3541788264283},17500.765678698743,null,"N","NÃO","SIM","ENCARGOS DE GESTÃO","FIXO","PESSOAL",2110,"ASSESSORIA DA DIRETORIA EXECUTIVA"]
[null,null,null,19844.3,54633.2,59505.56,61951.7,68074.740000000005,52801.9,{"$f":"D1051*'Série - IPCA'!$C$444/'Série - IPCA'!$C$385","v":25938.023391772793},{"$f":"E1051*'Série - IPCA'!$C$444/'Série - IPCA'!$C$398","v":68323.310087091624},{"$f":"F1051*'Série - IPCA'!$C$444/'Série - IPCA'!$C$411","v":67613.967420115005},{"$f":"G1051*'Série - IPCA'!$C$444/'Série - IPCA'!$C$424","v":66543.80490980891},{"$f":"H1051*'Série - IPCA'!$C$444/'Série - IPCA'!$C$437","v":69890.916779378735},59662.00451763341,null,"N","NÃO","SIM","ENCARGOS DE GESTÃO","FIXO","PESSOAL",2120,"ASSESSORIA DA PRESIDÊNCIA"]
[null,null,null,0,4083.26,27104.47,30015.360000000001,31578.57,18556.332000000002,{"$f":"D1052*'Série - IPCA'!$C$444/'Série - IPCA'!$C$385","v":0},{"$f":"E1052*'Série - IPCA'!$C$444/'Série - IPCA'!$C$398","v":5106.452471138753},{"$f":"F1052*'Série - IPCA'!$C$444/'Série - IPCA'!$C$411","v":30797.806986767027},{"$f":"G1052*'Série - IPCA'!$C$444/'Série - IPCA'!$C$424","v":32240.217139120996},{"$f":"H1052*'Série - IPCA'!$C$444/'Série - IPCA'!$C$437","v":32421.059674730826},20113.107254351522,null,"N","NÃO","SIM","ENCARGOS DE GESTÃO","FIXO","PESSOAL",2130,"ASSESSORIA DE RELAÇÕES INSTITUCIONAIS E NOVOS NEGÓCIOS"]
[null,null,null,66027.199999999997,83530.61,88674.47,89936.38,95009.15,84635.562000000005,{"$f":"D1053*'Série - IPCA'!$C$444/'Série - IPCA'!$C$385","v":86302.618791958419},{"$f":"E1053*'Série - IPCA'!$C$444/'Série - IPCA'!$C$398","v":104461.89805455139},{"$f":"F1053*'Série - IPCA'!$C$444/'Série - IPCA'!$C$411","v":100757.52123962811},{"$f":"G1053*'Série - IPCA'!$C$444/'Série - IPCA'!$C$424","v":96602.820019699881},{"$f":"H1053*'Série - IPCA'!$C$444/'Série - IPCA'!$C$437","v":97543.914173297031},97133.754455826973,null,"N","NÃO","SIM","ENCARGOS DE GESTÃO","FIXO","PESSOAL",2200,"DIRETORIA COLEGIADA - PRESIDÊNCIA"]
[null,null,null,0,20272.95,25004.81,0,0,9055.5519999999997,{"$f":"D1054*'Série - IPCA'!$C$444/'Série - IPCA'!$C$385","v":0},{"$f":"E1054*'Série - IPCA'!$C$444/'Série - IPCA'!$C$398","v":25352.991390401883},{"$f":"F1054*'Série - IPCA'!$C$444/'Série - IPCA'!$C$411","v":28412.040970392783},{"$f":"G1054*'Série - IPCA'!$C$444/'Série - IPCA'!$C$424","v":0},{"$f":"H1054*'Série - IPCA'!$C$444/'Série - IPCA'!$C$437","v":0},10753.006472158933,null,"N","NÃO","SIM","ENCARGOS DE GESTÃO","FIXO","PESSOAL",2300,"DIRETORIA COLEGIADA - DAF"]
[null,null,null,20106.77,55052.99,71181.070000000007,81515.460000000006,92269.39,64025.136000000013,{"$f":"D1055*'Série - IPCA'!$C$444/'Série - IPCA'!$C$385","v":26281.091829542765},{"$f":"E1055*'Série - IPCA'!$C$444/'Série - IPCA'!$C$398","v":68848.292009099838},{"$f":"F1055*'Série - IPCA'!$C$444/'Série - IPCA'!$C$411","v":80880.417693891563},{"$f":"G1055*'Série - IPCA'!$C$444/'Série - IPCA'!$C$424","v":87557.708139943425},{"$f":"H1055*'Série - IPCA'!$C$444/'Série - IPCA'!$C$437","v":94731.05968196191},71659.713870887907,null,"N","NÃO","SIM","ENCARGOS DE GESTÃO","FIXO","PESSOAL",2410,"ASSESSORIA DE SEGURANÇA DO TRABALHO"]
[null,null,null,48958.99,33000.26,0,0,0,16391.849999999999,{"$f":"D1056*'Série - IPCA'!$C$444/'Série - IPCA'!$C$385","v":63993.158128912088},{"$f":"E1056*'Série - IPCA'!$C$444/'Série - IPCA'!$C$398","v":41269.539344842444},{"$f":"F1056*'Série - IPCA'!$C$444/'Série - IPCA'!$C$411","v":0},{"$f":"G1056*'Série - IPCA'!$C$444/'Série - IPCA'!$C$424","v":0},{"$f":"H1056*'Série - IPCA'!$C$444/'Série - IPCA'!$C$437","v":0},21052.539494750905,null,"N","NÃO","SIM","ENCARGOS DE GESTÃO","FIXO","PESSOAL",3100,"SMS"]
[null,null,null,65435.45,51125.02,93548.27,103168.56,107230,84101.459999999992,{"$f":"D1057*'Série - IPCA'!$C$444/'Série - IPCA'!$C$385","v":85529.156117937091},{"$f":"E1057*'Série - IPCA'!$C$444/'Série - IPCA'!$C$398","v":63936.042455297524},{"$f":"F1057*'Série - IPCA'!$C$444/'Série - IPCA'!$C$411","v":106295.43995532722},{"$f":"G1057*'Série - IPCA'!$C$444/'Série - IPCA'!$C$424","v":110815.82151040109},{"$f":"H1057*'Série - IPCA'!$C$444/'Série - IPCA'!$C$437","v":110090.80616764427},95333.453241321433,null,"N","NÃO","SIM","ENCARGOS DE GESTÃO","FIXO","PESSOAL",3200,"GERÊNCIA DE PLANEJAMENTO E MEIO AMBIENTE"]
[null,null,null,59322.65,50926.54,60344.66,69781.94,75119.39,63099.036,{"$f":"D1058*'Série - IPCA'!$C$444/'Série - IPCA'!$C$385","v":77539.257286069565},{"$f":"E1058*'Série - IPCA'!$C$444/'Série - IPCA'!$C$398","v":63687.826890657605},{"$f":"F1058*'Série - IPCA'!$C$444/'Série - IPCA'!$C$411","v":68567.405721716044},{"$f":"G1058*'Série - IPCA'!$C$444/'Série - IPCA'!$C$424","v":74954.453252904947},{"$f":"H1058*'Série - IPCA'!$C$444/'Série - IPCA'!$C$437","v":77123.512113416728},72374.491052952973,null,"N","NÃO","SIM","ENCARGOS DE GESTÃO","FIXO","PESSOAL",3300,"GERÊNCIA JURÍDICA"]
[null,null,null,21611.040000000001,51114.82,56900.13,53149.9,46467.21,45848.619999999995,{"$f":"D1059*'Série - IPCA'!$C$444/'Série - IPCA'!$C$385","v":28247.288190590625},{"$f":"E1059*'Série - IPCA'!$C$444/'Série - IPCA'!$C$398","v":63923.286516364999},{"$f":"F1059*'Série - IPCA'!$C$444/'Série - IPCA'!$C$411","v":64653.513655199749},{"$f":"G1059*'Série - IPCA'!$C$444/'Série - IPCA'!$C$424","v":57089.580698767801},{"$f":"H1059*'Série - IPCA'!$C$444/'Série - IPCA'!$C$437","v":47706.916061374824},52324.1170244596,null,"N","NÃO","SIM","ENCARGOS DE GESTÃO","FIXO","PESSOAL",3500,"ASSESSORIA DE COMUNICAÇÃO INSTITUCIONAL"]
[null,null,null,55952.18,82138.98,69434.58,106893.22,93822.45,81648.281999999992,{"$f":"D1060*'Série - IPCA'!$C$444/'Série - IPCA'!$C$385","v":73133.794271437233},{"$f":"E1060*'Série - IPCA'!$C$444/'Série - IPCA'!$C$398","v":102721.55028036828},{"$f":"F1060*'Série - IPCA'!$C$444/'Série - IPCA'!$C$411","v":78895.945688930064},{"$f":"G1060*'Série - IPCA'!$C$444/'Série - IPCA'!$C$424","v":114816.56803382772},{"$f":"H1060*'Série - IPCA'!$C$444/'Série - IPCA'!$C$437","v":96325.554015886388},93178.682458089927,null,"N","NÃO","SIM","ENCARGOS DE GESTÃO","FIXO","PESSOAL",3600,"GERÊNCIA DE GOVERNANÇA, RISCO E COMPLIANCE"]
[null,null,null,0,4603.5600000000004,32919.339999999997,36766.160000000003,38437.730000000003,22545.358,{"$f":"D1061*'Série - IPCA'!$C$444/'Série - IPCA'!$C$385","v":0},{"$f":"E1061*'Série - IPCA'!$C$444/'Série - IPCA'!$C$398","v":5757.1304149222724},{"$f":"F1061*'Série - IPCA'!$C$444/'Série - IPCA'!$C$411","v":37405.02874440117},{"$f":"G1061*'Série - IPCA'!$C$444/'Série - IPCA'!$C$424","v":39491.413122203594},{"$f":"H1061*'Série - IPCA'!$C$444/'Série - IPCA'!$C$437","v":39463.21629165575},24423.357714636561,null,"N","NÃO","SIM","ENCARGOS DE GESTÃO","FIXO","PESSOAL",3700,"GERÊNCIA DE REGULAÇÃO"]
[null,null,null,155414.13,250604.67,275909.23,224645.79,225983.51,226511.46600000001,{"$f":"D1062*'Série - IPCA'!$C$444/'Série - IPCA'!$C$385","v":203138.19783776792},{"$f":"E1062*'Série - IPCA'!$C$444/'Série - IPCA'!$C$398","v":313401.75163972215},{"$f":"F1062*'Série - IPCA'!$C$444/'Série - IPCA'!$C$411","v":313505.45542515715},{"$f":"G1062*'Série - IPCA'!$C$444/'Série - IPCA'!$C$424","v":241297.42401854836},{"$f":"H1062*'Série - IPCA'!$C$444/'Série - IPCA'!$C$437","v":232012.55988523643},260671.0777612864,null,"N","NÃO","SIM","ENCARGOS DE GESTÃO","FIXO","PESSOAL",4100,"GERÊNCIA DE SERVIÇOS CORPORATIVOS"]
[null,null,null,77184.600000000006,77473.460000000006,91799.28,94030.19,101433.78,88384.262000000017,{"$f":"D1063*'Série - IPCA'!$C$444/'Série - IPCA'!$C$385","v":100886.19705833042},{"$f":"E1063*'Série - IPCA'!$C$444/'Série - IPCA'!$C$398","v":96886.933789342191},{"$f":"F1063*'Série - IPCA'!$C$444/'Série - IPCA'!$C$411","v":104308.12729281122},{"$f":"G1063*'Série - IPCA'!$C$444/'Série - IPCA'!$C$424","v":101000.07940044043},{"$f":"H1063*'Série - IPCA'!$C$444/'Série - IPCA'!$C$437","v":104139.9478954721},101444.25708727927,null,"N","NÃO","SIM","ENCARGOS DE GESTÃO","FIXO","PESSOAL",4200,"GERÊNCIA FINANCEIRA"]
[null,null,null,113210,114428.5,110505.79,96430.15,104000.32000000001,107714.952,{"$f":"D1064*'Série - IPCA'!$C$444/'Série - IPCA'!$C$385","v":147974.16024665008},{"$f":"E1064*'Série - IPCA'!$C$444/'Série - IPCA'!$C$398","v":143102.2507980635},{"$f":"F1064*'Série - IPCA'!$C$444/'Série - IPCA'!$C$411","v":125563.64287293606},{"$f":"G1064*'Série - IPCA'!$C$444/'Série - IPCA'!$C$424","v":103577.93392309832},{"$f":"H1064*'Série - IPCA'!$C$444/'Série - IPCA'!$C$437","v":106774.96102296913},125398.58977274343,null,"N","NÃO","SIM","ENCARGOS DE GESTÃO","FIXO","PESSOAL",4300,"GERÊNCIA DE TECNOLOGIA E SISTEMAS DE INFORMAÇÃO"]
[null,null,null,76722.2,74751,80862.850000000006,89782.25,96250.01,83673.662000000011,{"$f":"D1065*'Série - IPCA'!$C$444/'Série - IPCA'!$C$385","v":100281.80476349735},{"$f":"E1065*'Série - IPCA'!$C$444/'Série - IPCA'!$C$398","v":93482.27364167184},{"$f":"F1065*'Série - IPCA'!$C$444/'Série - IPCA'!$C$411","v":91881.466293194229},{"$f":"G1065*'Série - IPCA'!$C$444/'Série - IPCA'!$C$424","v":96437.265294797253},{"$f":"H1065*'Série - IPCA'!$C$444/'Série - IPCA'!$C$437","v":98817.879273932878},96180.13785341871,null,"N","NÃO","SIM","ENCARGOS DE GESTÃO","FIXO","PESSOAL",4500,"GERÊNCIA CONTÁBIL"]
[null,null,null,54433.87,0,0,0,14113.28,13709.430000000002,{"$f":"D1066*'Série - IPCA'!$C$444/'Série - IPCA'!$C$385","v":71149.246552648343},{"$f":"E1066*'Série - IPCA'!$C$444/'Série - IPCA'!$C$398","v":0},{"$f":"F1066*'Série - IPCA'!$C$444/'Série - IPCA'!$C$411","v":0},{"$f":"G1066*'Série - IPCA'!$C$444/'Série - IPCA'!$C$424","v":0},{"$f":"H1066*'Série - IPCA'!$C$444/'Série - IPCA'!$C$437","v":14489.810434297218},17127.811397389112,null,"N","NÃO","SIM","ENCARGOS DE GESTÃO","FIXO","PESSOAL",4600,"GERÊNCIA DE PESSOAS E CULTURA"]
[null,null,null,4007.56,3317.67,1323.97,3698.37,5616.44,3592.8019999999997,{"$f":"D1067*'Série - IPCA'!$C$444/'Série - IPCA'!$C$385","v":5238.1885490510103},{"$f":"E1067*'Série - IPCA'!$C$444/'Série - IPCA'!$C$398","v":4149.0192076730136},{"$f":"F1067*'Série - IPCA'!$C$444/'Série - IPCA'!$C$411","v":1504.3781529862028},{"$f":"G1067*'Série - IPCA'!$C$444/'Série - IPCA'!$C$424","v":3972.5078046976914},{"$f":"H1067*'Série - IPCA'!$C$444/'Série - IPCA'!$C$437","v":5766.2818930542198},4126.0751214924276,null,"N","NÃO","NÃO","OPEX","FUNCIONÁRIOS","PESSOAL",5100,"GERÊNCIA DE ENGENHARIA"]
[null,null,null,9867.68,9329.41,7673.17,7200.13,11397.68,9093.6139999999996,{"$f":"D1068*'Série - IPCA'!$C$444/'Série - IPCA'!$C$385","v":12897.81522465033},{"$f":"E1068*'Série - IPCA'!$C$444/'Série - IPCA'!$C$398","v":11667.194532987513},{"$f":"F1068*'Série - IPCA'!$C$444/'Série - IPCA'!$C$411","v":8718.7393310642547},{"$f":"G1068*'Série - IPCA'!$C$444/'Série - IPCA'!$C$424","v":7733.8320989619733},{"$f":"H1068*'Série - IPCA'!$C$444/'Série - IPCA'!$C$437","v":11701.760511431838},10543.868339819182,null,"N","NÃO","NÃO","OPEX","FUNCIONÁRIOS","PESSOAL",5200,"GERÊNCIA DE OPERAÇÕES"]
[null,null,null,2221.1799999999998,6761.73,4699.74,3370.36,4850.92,4380.7860000000001,{"$f":"D1069*'Série - IPCA'!$C$444/'Série - IPCA'!$C$385","v":2903.2527626239216},{"$f":"E1069*'Série - IPCA'!$C$444/'Série - IPCA'!$C$398","v":8456.0995057069686},{"$f":"F1069*'Série - IPCA'!$C$444/'Série - IPCA'!$C$411","v":5340.1407741228095},{"$f":"G1069*'Série - IPCA'!$C$444/'Série - IPCA'!$C$424","v":3620.1844068173045},{"$f":"H1069*'Série - IPCA'!$C$444/'Série - IPCA'!$C$437","v":4980.3384636272403},5060.0031825796495,null,"N","NÃO","NÃO","ENCARGOS DE COMERCIALIZAÇÃO","FUNCIONÁRIOS","PESSOAL",5300,"GERÊNCIA COMERCIAL"]
[null,null,null,0,0,59.85,167.17,253.87,96.177999999999997,{"$f":"D1070*'Série - IPCA'!$C$444/'Série - IPCA'!$C$385","v":0},{"$f":"E1070*'Série - IPCA'!$C$444/'Série - IPCA'!$C$398","v":0},{"$f":"F1070*'Série - IPCA'!$C$444/'Série - IPCA'!$C$411","v":68.005341855347353},{"$f":"G1070*'Série - IPCA'!$C$444/'Série - IPCA'!$C$424","v":179.56130125198752},{"$f":"H1070*'Série - IPCA'!$C$444/'Série - IPCA'!$C$437","v":260.64303797239438},101.64193621594585,null,"N","NÃO","NÃO","ENCARGOS DE GESTÃO","FUNCIONÁRIOS","PESSOAL",1005,"AUDITORIA INTERNA"]
[null,null,null,0,608.03,120.61,336.92,511.65,315.44200000000001,{"$f":"D1071*'Série - IPCA'!$C$444/'Série - IPCA'!$C$385","v":0},{"$f":"E1071*'Série - IPCA'!$C$444/'Série - IPCA'!$C$398","v":760.39152442570298},{"$f":"F1071*'Série - IPCA'!$C$444/'Série - IPCA'!$C$411","v":137.0446830605421},{"$f":"G1071*'Série - IPCA'!$C$444/'Série - IPCA'!$C$424","v":361.89384230316227},{"$f":"H1071*'Série - IPCA'!$C$444/'Série - IPCA'!$C$437","v":525.30039145458534},356.92608824879852,null,"N","NÃO","NÃO","ENCARGOS DE GESTÃO","FUNCIONÁRIOS","PESSOAL",2110,"ASSESSORIA DA DIRETORIA EXECUTIVA"]
[null,null,null,0,0,180.46,504.09,765.52,290.01400000000001,{"$f":"D1072*'Série - IPCA'!$C$444/'Série - IPCA'!$C$385","v":0},{"$f":"E1072*'Série - IPCA'!$C$444/'Série - IPCA'!$C$398","v":0},{"$f":"F1072*'Série - IPCA'!$C$444/'Série - IPCA'!$C$411","v":205.05002491588945},{"$f":"G1072*'Série - IPCA'!$C$444/'Série - IPCA'!$C$424","v":541.45514355514979},{"$f":"H1072*'Série - IPCA'!$C$444/'Série - IPCA'!$C$437","v":785.94342942697983},306.48971957960384,null,"N","NÃO","NÃO","ENCARGOS DE GESTÃO","FUNCIONÁRIOS","PESSOAL",2120,"ASSESSORIA DA PRESIDÊNCIA"]
[null,null,null,1970.7,1385.58,0,554.22,0,782.1,{"$f":"D1073*'Série - IPCA'!$C$444/'Série - IPCA'!$C$385","v":2575.8561752325172},{"$f":"E1073*'Série - IPCA'!$C$444/'Série - IPCA'!$C$398","v":1732.7817515809506},{"$f":"F1073*'Série - IPCA'!$C$444/'Série - IPCA'!$C$411","v":0},{"$f":"G1073*'Série - IPCA'!$C$444/'Série - IPCA'!$C$424","v":595.30097732772947},{"$f":"H1073*'Série - IPCA'!$C$444/'Série - IPCA'!$C$437","v":0},980.78778082823953,null,"N","NÃO","NÃO","ENCARGOS DE GESTÃO","FUNCIONÁRIOS","PESSOAL",2200,"DIRETORIA COLEGIADA - PRESIDÊNCIA"]
[null,null,null,491.49,345.56,0,0,0,167.41,{"$f":"D1074*'Série - IPCA'!$C$444/'Série - IPCA'!$C$385","v":642.41515784494345},{"$f":"E1074*'Série - IPCA'!$C$444/'Série - IPCA'!$C$398","v":432.15120171791841},{"$f":"F1074*'Série - IPCA'!$C$444/'Série - IPCA'!$C$411","v":0},{"$f":"G1074*'Série - IPCA'!$C$444/'Série - IPCA'!$C$424","v":0},{"$f":"H1074*'Série - IPCA'!$C$444/'Série - IPCA'!$C$437","v":0},214.91327191257238,null,"N","NÃO","NÃO","ENCARGOS DE GESTÃO","FUNCIONÁRIOS","PESSOAL",2300,"DIRETORIA COLEGIADA - DAF"]
[null,null,null,0,0,59.85,167.17,253.87,96.177999999999997,{"$f":"D1075*'Série - IPCA'!$C$444/'Série - IPCA'!$C$385","v":0},{"$f":"E1075*'Série - IPCA'!$C$444/'Série - IPCA'!$C$398","v":0},{"$f":"F1075*'Série - IPCA'!$C$444/'Série - IPCA'!$C$411","v":68.005341855347353},{"$f":"G1075*'Série - IPCA'!$C$444/'Série - IPCA'!$C$424","v":179.56130125198752},{"$f":"H1075*'Série - IPCA'!$C$444/'Série - IPCA'!$C$437","v":260.64303797239438},101.64193621594585,null,"N","NÃO","NÃO","ENCARGOS DE GESTÃO","FUNCIONÁRIOS","PESSOAL",2310,"ASSESSORIA DAF"]
[null,null,null,491.49,345.56,0,0,0,167.41,{"$f":"D1076*'Série - IPCA'!$C$444/'Série - IPCA'!$C$385","v":642.41515784494345},{"$f":"E1076*'Série - IPCA'!$C$444/'Série - IPCA'!$C$398","v":432.15120171791841},{"$f":"F1076*'Série - IPCA'!$C$444/'Série - IPCA'!$C$411","v":0},{"$f":"G1076*'Série - IPCA'!$C$444/'Série - IPCA'!$C$424","v":0},{"$f":"H1076*'Série - IPCA'!$C$444/'Série - IPCA'!$C$437","v":0},214.91327191257238,null,"N","NÃO","NÃO","ENCARGOS DE GESTÃO","FUNCIONÁRIOS","PESSOAL",2400,"DIRETORIA COLEGIADA - DTC"]
[null,null,null,0,0,220,0,0,44,{"$f":"D1077*'Série - IPCA'!$C$444/'Série - IPCA'!$C$385","v":0},{"$f":"E1077*'Série - IPCA'!$C$444/'Série - IPCA'!$C$398","v":0},{"$f":"F1077*'Série - IPCA'!$C$444/'Série - IPCA'!$C$411","v":249.97786479826931},{"$f":"G1077*'Série - IPCA'!$C$444/'Série - IPCA'!$C$424","v":0},{"$f":"H1077*'Série - IPCA'!$C$444/'Série - IPCA'!$C$437","v":0},49.995572959653863,null,"N","NÃO","NÃO","ENCARGOS DE GESTÃO","FUNCIONÁRIOS","PESSOAL",2410,"ASSESSORIA DE SEGURANÇA DO TRABALHO"]
[null,null,null,1233.46,2833.71,1071.83,2016.36,3062.08,2043.4879999999998,{"$f":"D1078*'Série - IPCA'!$C$444/'Série - IPCA'!$C$385","v":1612.2269030812913},{"$f":"E1078*'Série - IPCA'!$C$444/'Série - IPCA'!$C$398","v":3543.7874227922293},{"$f":"F1078*'Série - IPCA'!$C$444/'Série - IPCA'!$C$411","v":1217.8807946669497},{"$f":"G1078*'Série - IPCA'!$C$444/'Série - IPCA'!$C$424","v":2165.8205742205992},{"$f":"H1078*'Série - IPCA'!$C$444/'Série - IPCA'!$C$437","v":3143.7737177079193},2336.6978824937978,null,"N","NÃO","NÃO","ENCARGOS DE GESTÃO","FUNCIONÁRIOS","PESSOAL",3200,"GERÊNCIA DE PLANEJAMENTO E MEIO AMBIENTE"]
[null,null,null,1479.22,1040.01,240.3,671.26,1019.4,890.0379999999999,{"$f":"D1079*'Série - IPCA'!$C$444/'Série - IPCA'!$C$385","v":1933.4540881551959},{"$f":"E1079*'Série - IPCA'!$C$444/'Série - IPCA'!$C$398","v":1300.6180440405496},{"$f":"F1079*'Série - IPCA'!$C$444/'Série - IPCA'!$C$411","v":273.04400414101872},{"$f":"G1079*'Série - IPCA'!$C$444/'Série - IPCA'!$C$424","v":721.0164448071373},{"$f":"H1079*'Série - IPCA'!$C$444/'Série - IPCA'!$C$437","v":1046.5967341909593},1054.9458630669722,null,"N","NÃO","NÃO","ENCARGOS DE GESTÃO","FUNCIONÁRIOS","PESSOAL",3300,"GERÊNCIA JURÍDICA"]
[null,null,null,0,1212.79,35819.980000000003,15496.68,1019.4,10709.77,{"$f":"D1080*'Série - IPCA'!$C$444/'Série - IPCA'!$C$385","v":0},{"$f":"E1080*'Série - IPCA'!$C$444/'Série - IPCA'!$C$398","v":1516.6936448995089},{"$f":"F1080*'Série - IPCA'!$C$444/'Série - IPCA'!$C$411","v":40700.918715985048},{"$f":"G1080*'Série - IPCA'!$C$444/'Série - IPCA'!$C$424","v":16645.355182662261},{"$f":"H1080*'Série - IPCA'!$C$444/'Série - IPCA'!$C$437","v":1046.5967341909593},11981.912855547556,null,"N","NÃO","NÃO","ENCARGOS DE GESTÃO","FUNCIONÁRIOS","PESSOAL",3500,"ASSESSORIA DE COMUNICAÇÃO INSTITUCIONAL"]
[null,null,null,741.97,521.66,421.68,1177.92,14852.81,3543.2080000000001,{"$f":"D1081*'Série - IPCA'!$C$444/'Série - IPCA'!$C$385","v":969.81174523634786},{"$f":"E1081*'Série - IPCA'!$C$444/'Série - IPCA'!$C$398","v":652.37873564118911},{"$f":"F1081*'Série - IPCA'!$C$444/'Série - IPCA'!$C$411","v":479.13939103697362},{"$f":"G1081*'Série - IPCA'!$C$444/'Série - IPCA'!$C$424","v":1265.2320869219427},{"$f":"H1081*'Série - IPCA'!$C$444/'Série - IPCA'!$C$437","v":15249.070472394373},3723.1264862461658,null,"N","NÃO","NÃO","ENCARGOS DE GESTÃO","FUNCIONÁRIOS","PESSOAL",3600,"GERÊNCIA DE GOVERNANÇA, RISCO E COMPLIANCE"]
[null,null,null,3204.16,23191.08,79750.320000000007,77567.98,87252.27,54193.161999999997,{"$f":"D1082*'Série - IPCA'!$C$444/'Série - IPCA'!$C$385","v":4188.0830783138081},{"$f":"E1082*'Série - IPCA'!$C$444/'Série - IPCA'!$C$398","v":29002.352966594466},{"$f":"F1082*'Série - IPCA'!$C$444/'Série - IPCA'!$C$411","v":90617.339593539611},{"$f":"G1082*'Série - IPCA'!$C$444/'Série - IPCA'!$C$424","v":83317.625317270693},{"$f":"H1082*'Série - IPCA'!$C$444/'Série - IPCA'!$C$437","v":89580.087142189339},59341.097619581582,null,"N","NÃO","NÃO","ENCARGOS DE GESTÃO","FUNCIONÁRIOS","PESSOAL",4100,"GERÊNCIA DE SERVIÇOS CORPORATIVOS"]
[null,null,null,2712.66,1907.24,541.37,1516.55,2296.56,1794.8759999999997,{"$f":"D1083*'Série - IPCA'!$C$444/'Série - IPCA'!$C$385","v":3545.6548497012436},{"$f":"E1083*'Série - IPCA'!$C$444/'Série - IPCA'!$C$398","v":2385.1604872221401},{"$f":"F1083*'Série - IPCA'!$C$444/'Série - IPCA'!$C$411","v":615.13871211745015},{"$f":"G1083*'Série - IPCA'!$C$444/'Série - IPCA'!$C$424","v":1628.9626811850312},{"$f":"H1083*'Série - IPCA'!$C$444/'Série - IPCA'!$C$437","v":2357.8302882809394},2106.5494037013609,null,"N","NÃO","NÃO","ENCARGOS DE GESTÃO","FUNCIONÁRIOS","PESSOAL",4200,"GERÊNCIA FINANCEIRA"]
[null,null,null,3062.39,2153.13,481.53,1345.09,2042.7,1816.9680000000001,{"$f":"D1084*'Série - IPCA'!$C$444/'Série - IPCA'!$C$385","v":4002.778805739234},{"$f":"E1084*'Série - IPCA'!$C$444/'Série - IPCA'!$C$398","v":2692.6661562533332},{"$f":"F1084*'Série - IPCA'!$C$444/'Série - IPCA'!$C$411","v":547.14473289232092},{"$f":"G1084*'Série - IPCA'!$C$444/'Série - IPCA'!$C$424","v":1444.7933881739302},{"$f":"H1084*'Série - IPCA'!$C$444/'Série - IPCA'!$C$437","v":2097.1975171001304},2156.9161200317894,null,"N","NÃO","NÃO","ENCARGOS DE GESTÃO","FUNCIONÁRIOS","PESSOAL",4300,"GERÊNCIA DE TECNOLOGIA E SISTEMAS DE INFORMAÇÃO"]
[null,null,null,1970.7,1385.58,360.91,1008.18,1531.05,1251.2840000000001,{"$f":"D1085*'Série - IPCA'!$C$444/'Série - IPCA'!$C$385","v":2575.8561752325172},{"$f":"E1085*'Série - IPCA'!$C$444/'Série - IPCA'!$C$398","v":1732.7817515809506},{"$f":"F1085*'Série - IPCA'!$C$444/'Série - IPCA'!$C$411","v":410.08868720156084},{"$f":"G1085*'Série - IPCA'!$C$444/'Série - IPCA'!$C$424","v":1082.9102871102996},{"$f":"H1085*'Série - IPCA'!$C$444/'Série - IPCA'!$C$437","v":1571.8971256455447},1474.7068053541745,null,"N","NÃO","NÃO","ENCARGOS DE GESTÃO","FUNCIONÁRIOS","PESSOAL",4500,"GERÊNCIA CONTÁBIL"]
[null,null,null,-33546.230000000003,0,0,0,0,-6709.246000000001,{"$f":"D1086*'Série - IPCA'!$C$444/'Série - IPCA'!$C$385","v":-43847.497691820332},{"$f":"E1086*'Série - IPCA'!$C$444/'Série - IPCA'!$C$398","v":0},{"$f":"F1086*'Série - IPCA'!$C$444/'Série - IPCA'!$C$411","v":0},{"$f":"G1086*'Série - IPCA'!$C$444/'Série - IPCA'!$C$424","v":0},{"$f":"H1086*'Série - IPCA'!$C$444/'Série - IPCA'!$C$437","v":0},-8769.4995383640671,null,"N","NÃO","SIM","ENCARGOS DE COMERCIALIZAÇÃO","NÚMERO DE CLIENTES","PESSOAL",5400,"GERÊNCIA COMERCIAL (inativo)"]
[null,null,null,-1575.05,0,0,0,0,-315.01,{"$f":"D1087*'Série - IPCA'!$C$444/'Série - IPCA'!$C$385","v":-2058.7112542751188},{"$f":"E1087*'Série - IPCA'!$C$444/'Série - IPCA'!$C$398","v":0},{"$f":"F1087*'Série - IPCA'!$C$444/'Série - IPCA'!$C$411","v":0},{"$f":"G1087*'Série - IPCA'!$C$444/'Série - IPCA'!$C$424","v":0},{"$f":"H1087*'Série - IPCA'!$C$444/'Série - IPCA'!$C$437","v":0},-411.74225085502377,null,"N","NÃO","SIM","ENCARGOS DE COMERCIALIZAÇÃO","NÚMERO DE CLIENTES","PESSOAL",5500,"GERÊNCIA COMERCIAL (inativo)"]
[null,null,null,-2884.11,0,0,0,0,-576.822,{"$f":"D1088*'Série - IPCA'!$C$444/'Série - IPCA'!$C$385","v":-3769.7531605773866},{"$f":"E1088*'Série - IPCA'!$C$444/'Série - IPCA'!$C$398","v":0},{"$f":"F1088*'Série - IPCA'!$C$444/'Série - IPCA'!$C$411","v":0},{"$f":"G1088*'Série - IPCA'!$C$444/'Série - IPCA'!$C$424","v":0},{"$f":"H1088*'Série - IPCA'!$C$444/'Série - IPCA'!$C$437","v":0},-753.95063211547733,null,"N","NÃO","SIM","ENCARGOS DE GESTÃO","FIXO","PESSOAL",2100,"SECRETARIA"]
[null,null,null,6883.92,0,0,0,0,1376.7840000000001,{"$f":"D1089*'Série - IPCA'!$C$444/'Série - IPCA'!$C$385","v":8997.8118647214851},{"$f":"E1089*'Série - IPCA'!$C$444/'Série - IPCA'!$C$398","v":0},{"$f":"F1089*'Série - IPCA'!$C$444/'Série - IPCA'!$C$411","v":0},{"$f":"G1089*'Série - IPCA'!$C$444/'Série - IPCA'!$C$424","v":0},{"$f":"H1089*'Série - IPCA'!$C$444/'Série - IPCA'!$C$437","v":0},1799.5623729442971,null,"N","NÃO","SIM","ENCARGOS DE GESTÃO","FIXO","PESSOAL",2400,"DIRETORIA COLEGIADA - DTC"]
[null,null,null,-10226.5,0,0,0,0,-2045.3,{"$f":"D1090*'Série - IPCA'!$C$444/'Série - IPCA'!$C$385","v":-13366.820508456556},{"$f":"E1090*'Série - IPCA'!$C$444/'Série - IPCA'!$C$398","v":0},{"$f":"F1090*'Série - IPCA'!$C$444/'Série - IPCA'!$C$411","v":0},{"$f":"G1090*'Série - IPCA'!$C$444/'Série - IPCA'!$C$424","v":0},{"$f":"H1090*'Série - IPCA'!$C$444/'Série - IPCA'!$C$437","v":0},-2673.3641016913111,null,"N","NÃO","SIM","ENCARGOS DE GESTÃO","FIXO","PESSOAL",3400,"MARKETING"]
[null,null,null,350685.42,173366.85,87107.9,178464.35,160880.78,190101.06,{"$f":"D1091*'Série - IPCA'!$C$444/'Série - IPCA'!$C$385","v":458372.76331811486},{"$f":"E1091*'Série - IPCA'!$C$444/'Série - IPCA'!$C$398","v":216809.5050513662},{"$f":"F1091*'Série - IPCA'!$C$444/'Série - IPCA'!$C$411","v":98977.485677550721},{"$f":"G1091*'Série - IPCA'!$C$444/'Série - IPCA'!$C$424","v":191692.83312251087},{"$f":"H1091*'Série - IPCA'!$C$444/'Série - IPCA'!$C$437","v":165172.94383175811},226205.10620026017,null,"N","NÃO","SIM","OPEX","FUNCIONÁRIOS","PESSOAL",5100,"GERÊNCIA DE ENGENHARIA"]
[null,null,null,535612.26,365734.53,279667.94,510372.47,457840.46,429845.53200000001,{"$f":"D1092*'Série - IPCA'!$C$444/'Série - IPCA'!$C$385","v":700086.33858590585},{"$f":"E1092*'Série - IPCA'!$C$444/'Série - IPCA'!$C$398","v":457381.11080344394},{"$f":"F1092*'Série - IPCA'!$C$444/'Série - IPCA'!$C$411","v":317776.33860786585},{"$f":"G1092*'Série - IPCA'!$C$444/'Série - IPCA'!$C$424","v":548203.2950672427},{"$f":"H1092*'Série - IPCA'!$C$444/'Série - IPCA'!$C$437","v":470055.25820726564},498700.46825434483,null,"N","NÃO","SIM","OPEX","FUNCIONÁRIOS","PESSOAL",5200,"GERÊNCIA DE OPERAÇÕES"]
[null,null,null,438192.35,219015.08,222550.9,392264.74,361717.29,{"$f":"AVERAGE(D1093:H1093)","v":326748.07199999999},{"$f":"D1093*'Série - IPCA'!$C$444/'Série - IPCA'!$C$385","v":572751.03805102163},{"$f":"E1093*'Série - IPCA'!$C$444/'Série - IPCA'!$C$398","v":273896.37115507014},{"$f":"F1093*'Série - IPCA'!$C$444/'Série - IPCA'!$C$411","v":252876.35814060521},{"$f":"G1093*'Série - IPCA'!$C$444/'Série - IPCA'!$C$424","v":421340.95321931306},{"$f":"H1093*'Série - IPCA'!$C$444/'Série - IPCA'!$C$437","v":371367.60291779885},{"$f":"AVERAGE(J1093:N1093)","v":378446.4646967618},null,"N","NÃO","SIM","ENCARGOS DE COMERCIALIZAÇÃO","NÚMERO DE CLIENTES","PESSOAL",5300,"GERÊNCIA COMERCIAL"]
[null,null,null,0,27521.34,22979.83,40190.620000000003,36081.53,25354.664000000001,{"$f":"D1094*'Série - IPCA'!$C$444/'Série - IPCA'!$C$385","v":0},{"$f":"E1094*'Série - IPCA'!$C$444/'Série - IPCA'!$C$398","v":34417.699253060011},{"$f":"F1094*'Série - IPCA'!$C$444/'Série - IPCA'!$C$411","v":26111.131076487334},{"$f":"G1094*'Série - IPCA'!$C$444/'Série - IPCA'!$C$424","v":43169.707634887578},{"$f":"H1094*'Série - IPCA'!$C$444/'Série - IPCA'!$C$437","v":37044.154858360926},28148.538564559167,null,"N","NÃO","SIM","ENCARGOS DE GESTÃO","FIXO","PESSOAL",1005,"AUDITORIA INTERNA"]
[null,null,null,0,0,-2233.65,36943.160000000003,-6410.54,5659.7939999999999,{"$f":"D1095*'Série - IPCA'!$C$444/'Série - IPCA'!$C$385","v":0},{"$f":"E1095*'Série - IPCA'!$C$444/'Série - IPCA'!$C$398","v":0},{"$f":"F1095*'Série - IPCA'!$C$444/'Série - IPCA'!$C$411","v":-2538.0138986666102},{"$f":"G1095*'Série - IPCA'!$C$444/'Série - IPCA'!$C$424","v":39681.533061915274},{"$f":"H1095*'Série - IPCA'!$C$444/'Série - IPCA'!$C$437","v":-6581.5678128315803},6112.390270083416,null,"N","NÃO","SIM","ENCARGOS DE GESTÃO","FIXO","PESSOAL",1010,"GOVERNANÇA SOCIETÁRIA"]
[null,null,null,47339.199999999997,26216.86,12958.71,8201.9500000000007,7537.68,20450.879999999997,{"$f":"D1096*'Série - IPCA'!$C$444/'Série - IPCA'!$C$385","v":61875.968260296933},{"$f":"E1096*'Série - IPCA'!$C$444/'Série - IPCA'!$C$398","v":32786.3397218151},{"$f":"F1096*'Série - IPCA'!$C$444/'Série - IPCA'!$C$411","v":14724.502983363545},{"$f":"G1096*'Série - IPCA'!$C$444/'Série - IPCA'!$C$424","v":8809.9109577300896},{"$f":"H1096*'Série - IPCA'!$C$444/'Série - IPCA'!$C$437","v":7738.7789595610275},25187.100176553336,null,"N","NÃO","SIM","ENCARGOS DE GESTÃO","FIXO","PESSOAL",2110,"ASSESSORIA DA DIRETORIA EXECUTIVA"]
[null,null,null,94447.57,43905.599999999999,36660.410000000003,64117.279999999999,57191.7,59264.512000000002,{"$f":"D1097*'Série - IPCA'!$C$444/'Série - IPCA'!$C$385","v":123450.22399157936},{"$f":"E1097*'Série - IPCA'!$C$444/'Série - IPCA'!$C$398","v":54907.563960372259},{"$f":"F1097*'Série - IPCA'!$C$444/'Série - IPCA'!$C$411","v":41655.868247405095},{"$f":"G1097*'Série - IPCA'!$C$444/'Série - IPCA'!$C$424","v":68869.906260322037},{"$f":"H1097*'Série - IPCA'!$C$444/'Série - IPCA'!$C$437","v":58717.526430085425},69520.217777952828,null,"N","NÃO","SIM","ENCARGOS DE GESTÃO","FIXO","PESSOAL",2120,"ASSESSORIA DA PRESIDÊNCIA"]
[null,null,null,0,23737.22,16967.64,29675.58,26629.18,19401.923999999999,{"$f":"D1098*'Série - IPCA'!$C$444/'Série - IPCA'!$C$385","v":0},{"$f":"E1098*'Série - IPCA'!$C$444/'Série - IPCA'!$C$398","v":29685.345955673711},{"$f":"F1098*'Série - IPCA'!$C$444/'Série - IPCA'!$C$411","v":19279.701899389573},{"$f":"G1098*'Série - IPCA'!$C$444/'Série - IPCA'!$C$424","v":31875.251302311761},{"$f":"H1098*'Série - IPCA'!$C$444/'Série - IPCA'!$C$437","v":27339.624114364538},21635.984654347918,null,"N","NÃO","SIM","ENCARGOS DE GESTÃO","FIXO","PESSOAL",2130,"ASSESSORIA DE RELAÇÕES INSTITUCIONAIS E NOVOS NEGÓCIOS"]
[null,null,null,0,0,0,0,28595.85,5719.17,{"$f":"D1099*'Série - IPCA'!$C$444/'Série - IPCA'!$C$385","v":0},{"$f":"E1099*'Série - IPCA'!$C$444/'Série - IPCA'!$C$398","v":0},{"$f":"F1099*'Série - IPCA'!$C$444/'Série - IPCA'!$C$411","v":0},{"$f":"G1099*'Série - IPCA'!$C$444/'Série - IPCA'!$C$424","v":0},{"$f":"H1099*'Série - IPCA'!$C$444/'Série - IPCA'!$C$437","v":29358.763215042713},5871.7526430085427,null,"N","NÃO","SIM","ENCARGOS DE GESTÃO","FIXO","PESSOAL",2140,"ASSESSORIA DTC"]
[null,null,null,-24657.78,0,2438.13,0,0,-4443.9299999999994,{"$f":"D1100*'Série - IPCA'!$C$444/'Série - IPCA'!$C$385","v":-32229.611245001703},{"$f":"E1100*'Série - IPCA'!$C$444/'Série - IPCA'!$C$398","v":0},{"$f":"F1100*'Série - IPCA'!$C$444/'Série - IPCA'!$C$411","v":2770.3569613663831},{"$f":"G1100*'Série - IPCA'!$C$444/'Série - IPCA'!$C$424","v":0},{"$f":"H1100*'Série - IPCA'!$C$444/'Série - IPCA'!$C$437","v":0},-5891.8508567270637,null,"N","NÃO","SIM","ENCARGOS DE GESTÃO","FIXO","PESSOAL",2200,"DIRETORIA COLEGIADA - PRESIDÊNCIA"]
[null,null,null,0,21952.799999999999,-24902.59,0,0,-589.9580000000002,{"$f":"D1101*'Série - IPCA'!$C$444/'Série - IPCA'!$C$385","v":0},{"$f":"E1101*'Série - IPCA'!$C$444/'Série - IPCA'!$C$398","v":27453.78198018613},{"$f":"F1101*'Série - IPCA'!$C$444/'Série - IPCA'!$C$411","v":-28295.892164303332},{"$f":"G1101*'Série - IPCA'!$C$444/'Série - IPCA'!$C$424","v":0},{"$f":"H1101*'Série - IPCA'!$C$444/'Série - IPCA'!$C$437","v":0},-168.42203682344044,null,"N","NÃO","SIM","ENCARGOS DE GESTÃO","FIXO","PESSOAL",2300,"DIRETORIA COLEGIADA - DAF"]
[null,null,null,81174.28,57522.559999999998,43704.57,89906.41,81030.789999999994,70667.721999999994,{"$f":"D1102*'Série - IPCA'!$C$444/'Série - IPCA'!$C$385","v":106101.01507487362},{"$f":"E1102*'Série - IPCA'!$C$444/'Série - IPCA'!$C$398","v":71936.692412000993},{"$f":"F1102*'Série - IPCA'!$C$444/'Série - IPCA'!$C$411","v":49659.886775120438},{"$f":"G1102*'Série - IPCA'!$C$444/'Série - IPCA'!$C$424","v":96570.628524823274},{"$f":"H1102*'Série - IPCA'!$C$444/'Série - IPCA'!$C$437","v":83192.62329106676},81492.169215577029,null,"N","NÃO","SIM","ENCARGOS DE GESTÃO","FIXO","PESSOAL",2410,"ASSESSORIA DE SEGURANÇA DO TRABALHO"]
[null,null,null,-36879.25,0,8127.07,0,0,-5750.4359999999997,{"$f":"D1103*'Série - IPCA'!$C$444/'Série - IPCA'!$C$385","v":-48204.01068170894},{"$f":"E1103*'Série - IPCA'!$C$444/'Série - IPCA'!$C$398","v":0},{"$f":"F1103*'Série - IPCA'!$C$444/'Série - IPCA'!$C$411","v":9234.4891166639572},{"$f":"G1103*'Série - IPCA'!$C$444/'Série - IPCA'!$C$424","v":0},{"$f":"H1103*'Série - IPCA'!$C$444/'Série - IPCA'!$C$437","v":0},-7793.9043130089967,null,"N","NÃO","SIM","ENCARGOS DE GESTÃO","FIXO","PESSOAL",3100,"SMS"]
[null,null,null,107225.02,77481.36,66196.399999999994,107098.07,96355.08,90871.186000000002,{"$f":"D1104*'Série - IPCA'!$C$444/'Série - IPCA'!$C$385","v":140151.33196652468},{"$f":"E1104*'Série - IPCA'!$C$444/'Série - IPCA'!$C$398","v":96896.813389103641},{"$f":"F1104*'Série - IPCA'!$C$444/'Série - IPCA'!$C$411","v":75216.521496964328},{"$f":"G1104*'Série - IPCA'!$C$444/'Série - IPCA'!$C$424","v":115036.60232563529},{"$f":"H1104*'Série - IPCA'!$C$444/'Série - IPCA'!$C$437","v":98925.752453118141},105245.40432626921,null,"N","NÃO","SIM","ENCARGOS DE GESTÃO","FIXO","PESSOAL",3200,"GERÊNCIA DE PLANEJAMENTO E MEIO AMBIENTE"]
[null,null,null,78947.27,55353.89,49418.71,75591.23,67426.350000000006,65347.489999999991,{"$f":"D1105*'Série - IPCA'!$C$444/'Série - IPCA'!$C$385","v":103190.14205472617},{"$f":"E1105*'Série - IPCA'!$C$444/'Série - IPCA'!$C$398","v":69224.592207609297},{"$f":"F1105*'Série - IPCA'!$C$444/'Série - IPCA'!$C$411","v":56152.65275856763},{"$f":"G1105*'Série - IPCA'!$C$444/'Série - IPCA'!$C$424","v":81194.350792835306},{"$f":"H1105*'Série - IPCA'!$C$444/'Série - IPCA'!$C$437","v":69225.228279788702},75797.393218705416,null,"N","NÃO","SIM","ENCARGOS DE GESTÃO","FIXO","PESSOAL",3300,"GERÊNCIA JURÍDICA"]
[null,null,null,87920.24,48550.45,41222.239999999998,49000.61,44071.99,54153.105999999992,{"$f":"D1106*'Série - IPCA'!$C$444/'Série - IPCA'!$C$385","v":114918.50262948444},{"$f":"E1106*'Série - IPCA'!$C$444/'Série - IPCA'!$C$398","v":60716.330916326282},{"$f":"F1106*'Série - IPCA'!$C$444/'Série - IPCA'!$C$411","v":46839.306988190037},{"$f":"G1106*'Série - IPCA'!$C$444/'Série - IPCA'!$C$424","v":52632.728921105176},{"$f":"H1106*'Série - IPCA'!$C$444/'Série - IPCA'!$C$437","v":45247.793607314714},64070.932612484125,null,"N","NÃO","SIM","ENCARGOS DE GESTÃO","FIXO","PESSOAL",3500,"ASSESSORIA DE COMUNICAÇÃO INSTITUCIONAL"]
[null,null,null,172544.79,81903.05,67145.649999999994,159304.57,110166.6,118212.932,{"$f":"D1107*'Série - IPCA'!$C$444/'Série - IPCA'!$C$385","v":225529.28544461256},{"$f":"E1107*'Série - IPCA'!$C$444/'Série - IPCA'!$C$398","v":102426.50041053003},{"$f":"F1107*'Série - IPCA'!$C$444/'Série - IPCA'!$C$411","v":76295.119170417776},{"$f":"G1107*'Série - IPCA'!$C$444/'Série - IPCA'!$C$424","v":171112.85448697937},{"$f":"H1107*'Série - IPCA'!$C$444/'Série - IPCA'!$C$437","v":113105.75218454165},137693.90233941627,null,"N","NÃO","SIM","ENCARGOS DE GESTÃO","FIXO","PESSOAL",3600,"GERÊNCIA DE GOVERNANÇA, RISCO E COMPLIANCE"]
[null,null,null,0,20320.95,20096.45,34869.4,31287.58,21314.876,{"$f":"D1108*'Série - IPCA'!$C$444/'Série - IPCA'!$C$385","v":0},{"$f":"E1108*'Série - IPCA'!$C$444/'Série - IPCA'!$C$398","v":25413.019338319642},{"$f":"F1108*'Série - IPCA'!$C$444/'Série - IPCA'!$C$411","v":22834.853004659908},{"$f":"G1108*'Série - IPCA'!$C$444/'Série - IPCA'!$C$424","v":37454.057772782522},{"$f":"H1108*'Série - IPCA'!$C$444/'Série - IPCA'!$C$437","v":32122.306306394326},23564.847284431282,null,"N","NÃO","SIM","ENCARGOS DE GESTÃO","FIXO","PESSOAL",3700,"GERÊNCIA DE REGULAÇÃO"]
[null,null,null,307337.31,196076.03,255828.36,256192.84,351312.79,273349.46599999996,{"$f":"D1109*'Série - IPCA'!$C$444/'Série - IPCA'!$C$385","v":401713.45605259575},{"$f":"E1109*'Série - IPCA'!$C$444/'Série - IPCA'!$C$398","v":245209.20243251135},{"$f":"F1109*'Série - IPCA'!$C$444/'Série - IPCA'!$C$411","v":290688.30539837707},{"$f":"G1109*'Série - IPCA'!$C$444/'Série - IPCA'!$C$424","v":275182.86607550544},{"$f":"H1109*'Série - IPCA'!$C$444/'Série - IPCA'!$C$437","v":360685.51961302169},314695.86991440231,null,"N","NÃO","SIM","ENCARGOS DE GESTÃO","FIXO","PESSOAL",4100,"GERÊNCIA DE SERVIÇOS CORPORATIVOS"]
[null,null,null,136938.89000000001,72881.7,62019.839999999997,107483.48,96252.21,95115.224000000017,{"$f":"D1110*'Série - IPCA'!$C$444/'Série - IPCA'!$C$385","v":178989.64095802832},{"$f":"E1110*'Série - IPCA'!$C$444/'Série - IPCA'!$C$398","v":91144.56024494968},{"$f":"F1110*'Série - IPCA'!$C$444/'Série - IPCA'!$C$411","v":70470.850810592237},{"$f":"G1110*'Série - IPCA'!$C$444/'Série - IPCA'!$C$424","v":115450.58043842782},{"$f":"H1110*'Série - IPCA'!$C$444/'Série - IPCA'!$C$437","v":98820.137968081632},110975.15408401594,null,"N","NÃO","SIM","ENCARGOS DE GESTÃO","FIXO","PESSOAL",4200,"GERÊNCIA FINANCEIRA"]
[null,null,null,165873.68,102324.55,47926.61,110126.45,87578.75,102766.008,{"$f":"D1111*'Série - IPCA'!$C$444/'Série - IPCA'!$C$385","v":216809.63258565104},{"$f":"E1111*'Série - IPCA'!$C$444/'Série - IPCA'!$C$398","v":127965.26579391489},{"$f":"F1111*'Série - IPCA'!$C$444/'Série - IPCA'!$C$411","v":54457.234703724462},{"$f":"G1111*'Série - IPCA'!$C$444/'Série - IPCA'!$C$424","v":118289.45782294635},{"$f":"H1111*'Série - IPCA'!$C$444/'Série - IPCA'!$C$437","v":89915.277353861573},121487.37365201965,null,"N","NÃO","SIM","ENCARGOS DE GESTÃO","FIXO","PESSOAL",4300,"GERÊNCIA DE TECNOLOGIA E SISTEMAS DE INFORMAÇÃO"]
[null,null,null,107322.99,69940.210000000006,61369.93,102802.33,92838.88,86854.868000000002,{"$f":"D1112*'Série - IPCA'!$C$444/'Série - IPCA'!$C$385","v":140279.38627691567},{"$f":"E1112*'Série - IPCA'!$C$444/'Série - IPCA'!$C$398","v":87465.985067437141},{"$f":"F1112*'Série - IPCA'!$C$444/'Série - IPCA'!$C$411","v":69732.382110087507},{"$f":"G1112*'Série - IPCA'!$C$444/'Série - IPCA'!$C$424","v":110422.44509503043},{"$f":"H1112*'Série - IPCA'!$C$444/'Série - IPCA'!$C$437","v":95315.743195945048},100643.18834908315,null,"N","NÃO","SIM","ENCARGOS DE GESTÃO","FIXO","PESSOAL",4500,"GERÊNCIA CONTÁBIL"]
[null,null,null,-17846.32,0,4876.24,0,192781.72,35962.328000000001,{"$f":"D1113*'Série - IPCA'!$C$444/'Série - IPCA'!$C$385","v":-23326.510162467945},{"$f":"E1113*'Série - IPCA'!$C$444/'Série - IPCA'!$C$398","v":0},{"$f":"F1113*'Série - IPCA'!$C$444/'Série - IPCA'!$C$411","v":5540.6911974723298},{"$f":"G1113*'Série - IPCA'!$C$444/'Série - IPCA'!$C$424","v":0},{"$f":"H1113*'Série - IPCA'!$C$444/'Série - IPCA'!$C$437","v":197924.97406681968},36027.831020364814,null,"N","NÃO","SIM","ENCARGOS DE GESTÃO","FIXO","PESSOAL",4600,"GERÊNCIA DE PESSOAS E CULTURA"]
[null,null,null,285857.64,12656.48,19772.599999999999,34863.78,20218.93,74673.885999999999,{"$f":"D1114*'Série - IPCA'!$C$444/'Série - IPCA'!$C$385","v":373637.87853625306},{"$f":"E1114*'Série - IPCA'!$C$444/'Série - IPCA'!$C$398","v":15827.96921379442},{"$f":"F1114*'Série - IPCA'!$C$444/'Série - IPCA'!$C$411","v":22466.874225046635},{"$f":"G1114*'Série - IPCA'!$C$444/'Série - IPCA'!$C$424","v":37448.021196165682},{"$f":"H1114*'Série - IPCA'!$C$444/'Série - IPCA'!$C$437","v":20758.354038488931},94027.819441949745,null,"N","NÃO","SIM","ENCARGOS DE GESTÃO","FIXO","PESSOAL",4200,"GERÊNCIA FINANCEIRA"]
[null,null,null,6241.15,72417.27,15489877.74,-11007.98,242656.29,3160036.8939999999,{"$f":"D1115*'Série - IPCA'!$C$444/'Série - IPCA'!$C$385","v":8157.6621342936132},{"$f":"E1115*'Série - IPCA'!$C$444/'Série - IPCA'!$C$398","v":90563.752331377953},{"$f":"F1115*'Série - IPCA'!$C$444/'Série - IPCA'!$C$411","v":17600575.288324732},{"$f":"G1115*'Série - IPCA'!$C$444/'Série - IPCA'!$C$424","v":-11823.934994053081},{"$f":"H1115*'Série - IPCA'!$C$444/'Série - IPCA'!$C$437","v":249130.15562575471},3587320.5846844213,null,"N","NÃO","SIM","ENCARGOS DE GESTÃO","FIXO","DESPESA GERAIS",4200,"GERÊNCIA FINANCEIRA"]
[null,null,null,0,0,852603.24,1279856.28,1353247.8,697141.46400000004,{"$f":"D1116*'Série - IPCA'!$C$444/'Série - IPCA'!$C$385","v":0},{"$f":"E1116*'Série - IPCA'!$C$444/'Série - IPCA'!$C$398","v":0},{"$f":"F1116*'Série - IPCA'!$C$444/'Série - IPCA'!$C$411","v":968781.53388766525},{"$f":"G1116*'Série - IPCA'!$C$444/'Série - IPCA'!$C$424","v":1374724.2869673274},{"$f":"H1116*'Série - IPCA'!$C$444/'Série - IPCA'!$C$437","v":1389351.312567295},746571.42668445758,null,"N","NÃO","SIM","ENCARGOS DE GESTÃO","FIXO","DESPESAS_GERAIS",4200,"GERÊNCIA FINANCEIRA"]
[null,null,null,782189.26,829355.76,0,0,0,322309.00400000002,{"$f":"D1117*'Série - IPCA'!$C$444/'Série - IPCA'!$C$385","v":1022381.4053745131},{"$f":"E1117*'Série - IPCA'!$C$444/'Série - IPCA'!$C$398","v":1037177.5909702441},{"$f":"F1117*'Série - IPCA'!$C$444/'Série - IPCA'!$C$411","v":0},{"$f":"G1117*'Série - IPCA'!$C$444/'Série - IPCA'!$C$424","v":0},{"$f":"H1117*'Série - IPCA'!$C$444/'Série - IPCA'!$C$437","v":0},411911.79926895146,null,"N","NÃO","SIM","ENCARGOS DE GESTÃO","FIXO","DESPESAS_GERAIS",4200,"GERÊNCIA FINANCEIRA"]
[null,null,null,677486.16,0,0,0,0,135497.23200000002,{"$f":"D1118*'Série - IPCA'!$C$444/'Série - IPCA'!$C$385","v":885526.41643607116},{"$f":"E1118*'Série - IPCA'!$C$444/'Série - IPCA'!$C$398","v":0},{"$f":"F1118*'Série - IPCA'!$C$444/'Série - IPCA'!$C$411","v":0},{"$f":"G1118*'Série - IPCA'!$C$444/'Série - IPCA'!$C$424","v":0},{"$f":"H1118*'Série - IPCA'!$C$444/'Série - IPCA'!$C$437","v":0},177105.28328721423,null,"N","SIM","SIM","ENCARGOS DE GESTÃO","VOLUME S/ TERMOELÉTRICA","DESPESAS_GERAIS",5300,"GERÊNCIA COMERCIAL"]
[null,null,null,0,0,152712.26999999999,696307.07,-1082199.06,-46635.944000000018,{"$f":"D1119*'Série - IPCA'!$C$444/'Série - IPCA'!$C$385","v":0},{"$f":"E1119*'Série - IPCA'!$C$444/'Série - IPCA'!$C$398","v":0},{"$f":"F1119*'Série - IPCA'!$C$444/'Série - IPCA'!$C$411","v":173521.30537771271},{"$f":"G1119*'Série - IPCA'!$C$444/'Série - IPCA'!$C$424","v":747920.1026509467},{"$f":"H1119*'Série - IPCA'!$C$444/'Série - IPCA'!$C$437","v":-1111071.2202673398},-37925.962447736085,null,"N","SIM","SIM","ENCARGOS DE GESTÃO","VOLUME S/ TERMOELÉTRICA","DESPESAS_GERAIS",5300,"GERÊNCIA COMERCIAL"]
[null,null,null,0,1973655.17,-723405.56,-641187.48,1367745.7,395361.56599999999,{"$f":"D1120*'Série - IPCA'!$C$444/'Série - IPCA'!$C$385","v":0},{"$f":"E1120*'Série - IPCA'!$C$444/'Série - IPCA'!$C$398","v":2468218.1198410769},{"$f":"F1120*'Série - IPCA'!$C$444/'Série - IPCA'!$C$411","v":-821978.98759998323},{"$f":"G1120*'Série - IPCA'!$C$444/'Série - IPCA'!$C$424","v":-688714.830742853},{"$f":"H1120*'Série - IPCA'!$C$444/'Série - IPCA'!$C$437","v":1404236.0043395406},472352.06116755621,null,"N","SIM","SIM","OPEX","VOLUME S/ TERMOELÉTRICA","DESPESAS_GERAIS",5300,"GERÊNCIA COMERCIAL"]
[null,null,null,0,0,0,0,0,0,{"$f":"D1121*'Série - IPCA'!$C$444/'Série - IPCA'!$C$385","v":0},{"$f":"E1121*'Série - IPCA'!$C$444/'Série - IPCA'!$C$398","v":0},{"$f":"F1121*'Série - IPCA'!$C$444/'Série - IPCA'!$C$411","v":0},{"$f":"G1121*'Série - IPCA'!$C$444/'Série - IPCA'!$C$424","v":0},{"$f":"H1121*'Série - IPCA'!$C$444/'Série - IPCA'!$C$437","v":0},0,null,"N","SIM","SIM","OPEX","VOLUME S/ TERMOELÉTRICA","DESPESAS_GERAIS",5400,"GERÊNCIA COMERCIAL (inativo)"]
[null,null,null,792161.6,48113.37,0,0,0,168054.99400000001,{"$f":"D1122*'Série - IPCA'!$C$444/'Série - IPCA'!$C$385","v":1035416.0192530935},{"$f":"E1122*'Série - IPCA'!$C$444/'Série - IPCA'!$C$398","v":60169.726427245179},{"$f":"F1122*'Série - IPCA'!$C$444/'Série - IPCA'!$C$411","v":0},{"$f":"G1122*'Série - IPCA'!$C$444/'Série - IPCA'!$C$424","v":0},{"$f":"H1122*'Série - IPCA'!$C$444/'Série - IPCA'!$C$437","v":0},219117.14913606775,null,"N","NÃO","SIM","ENCARGOS DE GESTÃO","FIXO","PESSOAL",4100,"GERÊNCIA DE SERVIÇOS CORPORATIVOS"]
[null,null,null,0,0,149,0,0,29.8,{"$f":"D1123*'Série - IPCA'!$C$444/'Série - IPCA'!$C$385","v":0},{"$f":"E1123*'Série - IPCA'!$C$444/'Série - IPCA'!$C$398","v":0},{"$f":"F1123*'Série - IPCA'!$C$444/'Série - IPCA'!$C$411","v":169.30319024973693},{"$f":"G1123*'Série - IPCA'!$C$444/'Série - IPCA'!$C$424","v":0},{"$f":"H1123*'Série - IPCA'!$C$444/'Série - IPCA'!$C$437","v":0},33.860638049947383,null,"N","SIM","NÃO","ENCARGOS DE GESTÃO","FIXO","DESPESAS_INSTITUCIONAIS",2410,"ASSESSORIA DE SEGURANÇA DO TRABALHO"]
[null,null,null,107213.74,36555.480000000003,0,0,0,28753.844000000001,{"$f":"D1124*'Série - IPCA'!$C$444/'Série - IPCA'!$C$385","v":140136.58814064725},{"$f":"E1124*'Série - IPCA'!$C$444/'Série - IPCA'!$C$398","v":45715.634365595943},{"$f":"F1124*'Série - IPCA'!$C$444/'Série - IPCA'!$C$411","v":0},{"$f":"G1124*'Série - IPCA'!$C$444/'Série - IPCA'!$C$424","v":0},{"$f":"H1124*'Série - IPCA'!$C$444/'Série - IPCA'!$C$437","v":0},37170.444501248639,null,"N","SIM","NÃO","ENCARGOS DE GESTÃO","FIXO","DESPESAS_INSTITUCIONAIS",3400,"MARKETING"]
[null,null,null,0,93046.14,129648.24,213324.62,265506.59999999998,140305.12,{"$f":"D1125*'Série - IPCA'!$C$444/'Série - IPCA'!$C$385","v":0},{"$f":"E1125*'Série - IPCA'!$C$444/'Série - IPCA'!$C$398","v":116361.85095558999},{"$f":"F1125*'Série - IPCA'!$C$444/'Série - IPCA'!$C$411","v":147314.50095478896},{"$f":"G1125*'Série - IPCA'!$C$444/'Série - IPCA'!$C$424","v":229137.08414360092},{"$f":"H1125*'Série - IPCA'!$C$444/'Série - IPCA'!$C$437","v":272590.09266837884},153080.70574447175,null,"N","SIM","NÃO","ENCARGOS DE GESTÃO","FIXO","DESPESAS_INSTITUCIONAIS",4100,"GERÊNCIA DE SERVIÇOS CORPORATIVOS"]
[null,null,null,0,181044.45,0,36000,112050,65818.89,{"$f":"D1126*'Série - IPCA'!$C$444/'Série - IPCA'!$C$385","v":0},{"$f":"E1126*'Série - IPCA'!$C$444/'Série - IPCA'!$C$398","v":226410.97532081144},{"$f":"F1126*'Série - IPCA'!$C$444/'Série - IPCA'!$C$411","v":0},{"$f":"G1126*'Série - IPCA'!$C$444/'Série - IPCA'!$C$424","v":38668.4623142403},{"$f":"H1126*'Série - IPCA'!$C$444/'Série - IPCA'!$C$437","v":115039.39971169022},76023.767469348386,null,"N","NÃO","NÃO","ENCARGOS DE COMERCIALIZAÇÃO","FIXO","DESPESAS_INSTITUCIONAIS",5300,"GERÊNCIA COMERCIAL"]
[null,null,null,586178.46,0,0,0,0,117235.692,{"$f":"D1127*'Série - IPCA'!$C$444/'Série - IPCA'!$C$385","v":766180.2435577648},{"$f":"E1127*'Série - IPCA'!$C$444/'Série - IPCA'!$C$398","v":0},{"$f":"F1127*'Série - IPCA'!$C$444/'Série - IPCA'!$C$411","v":0},{"$f":"G1127*'Série - IPCA'!$C$444/'Série - IPCA'!$C$424","v":0},{"$f":"H1127*'Série - IPCA'!$C$444/'Série - IPCA'!$C$437","v":0},153236.04871155295,null,"N","NÃO","NÃO","ENCARGOS DE COMERCIALIZAÇÃO","FIXO","DESPESAS_INSTITUCIONAIS",5400,"GERÊNCIA COMERCIAL (inativo)"]
[null,null,null,0,849641.34,1034896.39,719758.78,1041303.35,729119.97199999995,{"$f":"D1128*'Série - IPCA'!$C$444/'Série - IPCA'!$C$385","v":0},{"$f":"E1128*'Série - IPCA'!$C$444/'Série - IPCA'!$C$398","v":1062546.3772144418},{"$f":"F1128*'Série - IPCA'!$C$444/'Série - IPCA'!$C$411","v":1175914.4993619863},{"$f":"G1128*'Série - IPCA'!$C$444/'Série - IPCA'!$C$424","v":773110.1461048217},{"$f":"H1128*'Série - IPCA'!$C$444/'Série - IPCA'!$C$437","v":1069084.4471376354},816131.09396377706,null,"N","NÃO","NÃO","ENCARGOS DE GESTÃO","FIXO","DESPESAS_INSTITUCIONAIS",3500,"ASSESSORIA DE COMUNICAÇÃO INSTITUCIONAL"]
[null,null,null,-155926.57,121845.53,-23159.67,-314087.95,-235416.41,-121349.01400000001,{"$f":"D1129*'Série - IPCA'!$C$444/'Série - IPCA'!$C$385","v":-203807.99625378058},{"$f":"E1129*'Série - IPCA'!$C$444/'Série - IPCA'!$C$398","v":152377.85685107269},{"$f":"F1129*'Série - IPCA'!$C$444/'Série - IPCA'!$C$411","v":-26315.476618329696},{"$f":"G1129*'Série - IPCA'!$C$444/'Série - IPCA'!$C$424","v":-337369.39049811091},{"$f":"H1129*'Série - IPCA'!$C$444/'Série - IPCA'!$C$437","v":-241697.12171959967},-131362.42564774962,null,"N","NÃO","SIM","OPEX","FIXO","DESPESAS_GERAIS",9999,"RATEIO"]
[null,null,null,0,-1659.18,-822.04,-125056.38,-176023.55,-60712.23,{"$f":"D1130*'Série - IPCA'!$C$444/'Série - IPCA'!$C$385","v":0},{"$f":"E1130*'Série - IPCA'!$C$444/'Série - IPCA'!$C$398","v":-2074.9410547121656},{"$f":"F1130*'Série - IPCA'!$C$444/'Série - IPCA'!$C$411","v":-934.05365444895131},{"$f":"G1130*'Série - IPCA'!$C$444/'Série - IPCA'!$C$424","v":-134326.05325514762},{"$f":"H1130*'Série - IPCA'!$C$444/'Série - IPCA'!$C$437","v":-180719.71019295568},-63610.951631452888,null,"N","NÃO","SIM","OPEX","FIXO","DESPESAS_GERAIS",9999,"RATEIO"]
[null,null,null,-1173611,-1951613.78,-3438979.63,-3322632.18,-3158875.17,-2609142.352,{"$f":"D1131*'Série - IPCA'!$C$444/'Série - IPCA'!$C$385","v":-1533999.6659414473},{"$f":"E1131*'Série - IPCA'!$C$444/'Série - IPCA'!$C$398","v":-2440653.5487795151},{"$f":"F1131*'Série - IPCA'!$C$444/'Série - IPCA'!$C$411","v":-3907585.3863279191},{"$f":"G1131*'Série - IPCA'!$C$444/'Série - IPCA'!$C$424","v":-3568918.8121225582},{"$f":"H1131*'Série - IPCA'!$C$444/'Série - IPCA'!$C$437","v":-3243151.3013919089},-2938861.7429126697,null,"N","NÃO","SIM","OPEX","FIXO","DESPESAS_GERAIS",9999,"RATEIO"]
[null,null,null,-104599.7,-98841.16,-57863.32,-57482.01,-21988.93,-68155.024000000005,{"$f":"D1132*'Série - IPCA'!$C$444/'Série - IPCA'!$C$385","v":-136719.83720123244},{"$f":"E1132*'Série - IPCA'!$C$444/'Série - IPCA'!$C$398","v":-123609.00009605582},{"$f":"F1132*'Série - IPCA'!$C$444/'Série - IPCA'!$C$411","v":-65747.950835177238},{"$f":"G1132*'Série - IPCA'!$C$444/'Série - IPCA'!$C$424","v":-61742.80381754956},{"$f":"H1132*'Série - IPCA'!$C$444/'Série - IPCA'!$C$437","v":-22575.576149061813},-82079.033619815367,null,"N","NÃO","SIM","OPEX","FIXO","DESPESAS_GERAIS",9999,"RATEIO"]
[null,null,null,-150222.31,-30318,-173693.46,-230214.38,-248523.92,-166594.41400000002,{"$f":"D1133*'Série - IPCA'!$C$444/'Série - IPCA'!$C$385","v":-196352.09056233498},{"$f":"E1133*'Série - IPCA'!$C$444/'Série - IPCA'!$C$398","v":-37915.152603553215},{"$f":"F1133*'Série - IPCA'!$C$444/'Série - IPCA'!$C$411","v":-197361.45572828906},{"$f":"G1133*'Série - IPCA'!$C$444/'Série - IPCA'!$C$424","v":-247278.77992294991},{"$f":"H1133*'Série - IPCA'!$C$444/'Série - IPCA'!$C$437","v":-255154.32905663652},-186812.36157475275,null,"N","NÃO","SIM","OPEX","FIXO","DESPESAS_GERAIS",9999,"RATEIO"]
[null,null,null,-678191.38,-195380.35,-1672458.66,-4410707.28,-4988587.53,-2389065.04,{"$f":"D1134*'Série - IPCA'!$C$444/'Série - IPCA'!$C$385","v":-886448.1931102972},{"$f":"E1134*'Série - IPCA'!$C$444/'Série - IPCA'!$C$398","v":-244339.19737402335},{"$f":"F1134*'Série - IPCA'!$C$444/'Série - IPCA'!$C$411","v":-1900352.9308644303},{"$f":"G1134*'Série - IPCA'!$C$444/'Série - IPCA'!$C$424","v":-4737646.3398840372},{"$f":"H1134*'Série - IPCA'!$C$444/'Série - IPCA'!$C$437","v":-5121678.8474825826},-2578093.1017430741,null,"N","NÃO","SIM","OPEX","FIXO","DESPESAS_GERAIS",9999,"RATEIO"]
[null,null,null,-5368423.8600000003,-119833.49,0,0,0,-1097651.4700000002,{"$f":"D1135*'Série - IPCA'!$C$444/'Série - IPCA'!$C$385","v":-7016942.0769506199},{"$f":"E1135*'Série - IPCA'!$C$444/'Série - IPCA'!$C$398","v":-149861.63534423013},{"$f":"F1135*'Série - IPCA'!$C$444/'Série - IPCA'!$C$411","v":0},{"$f":"G1135*'Série - IPCA'!$C$444/'Série - IPCA'!$C$424","v":0},{"$f":"H1135*'Série - IPCA'!$C$444/'Série - IPCA'!$C$437","v":0},-1433360.7424589701,null,"N","NÃO","SIM","OPEX","FIXO","DESPESAS_GERAIS",9999,"RATEIO"]
[null,null,null,-314098.56,-1346233.74,-311508.65999999997,-854249.67,-3312036.08,-1227625.3419999999,{"$f":"D1136*'Série - IPCA'!$C$444/'Série - IPCA'!$C$385","v":-410550.92881090037},{"$f":"E1136*'Série - IPCA'!$C$444/'Série - IPCA'!$C$398","v":-1683576.0172884818},{"$f":"F1136*'Série - IPCA'!$C$444/'Série - IPCA'!$C$411","v":-353955.77133168199},{"$f":"G1136*'Série - IPCA'!$C$444/'Série - IPCA'!$C$424","v":-917570.03253742272},{"$f":"H1136*'Série - IPCA'!$C$444/'Série - IPCA'!$C$437","v":-3400398.4155882159},-1353210.2331113406,null,"N","NÃO","SIM","OPEX","FIXO","DESPESAS_GERAIS",9999,"RATEIO"]
[null,null,null,0,0,0,-244314.99,-42451.38,-57353.273999999998,{"$f":"D1137*'Série - IPCA'!$C$444/'Série - IPCA'!$C$385","v":0},{"$f":"E1137*'Série - IPCA'!$C$444/'Série - IPCA'!$C$398","v":0},{"$f":"F1137*'Série - IPCA'!$C$444/'Série - IPCA'!$C$411","v":0},{"$f":"G1137*'Série - IPCA'!$C$444/'Série - IPCA'!$C$424","v":-262424.58287830546},{"$f":"H1137*'Série - IPCA'!$C$444/'Série - IPCA'!$C$437","v":-43583.947096232499},-61201.705994907592,null,"N","NÃO","SIM","OPEX","FIXO","DESPESAS_GERAIS",9999,"RATEIO"]
[null,null,null,0,0,0,0,-475957.02,-95191.40400000001,{"$f":"D1138*'Série - IPCA'!$C$444/'Série - IPCA'!$C$385","v":0},{"$f":"E1138*'Série - IPCA'!$C$444/'Série - IPCA'!$C$398","v":0},{"$f":"F1138*'Série - IPCA'!$C$444/'Série - IPCA'!$C$411","v":0},{"$f":"G1138*'Série - IPCA'!$C$444/'Série - IPCA'!$C$424","v":0},{"$f":"H1138*'Série - IPCA'!$C$444/'Série - IPCA'!$C$437","v":-488655.1527832658},-97731.030556653161,null,"N","NÃO","SIM","OPEX","FIXO","DESPESAS_GERAIS",9999,"RATEIO"]
[null,null,null,-389135.79,81942.16,-181773.71,-664974.29,-669064.13,-364601.15199999994,{"$f":"D1139*'Série - IPCA'!$C$444/'Série - IPCA'!$C$385","v":-508630.34844242351},{"$f":"E1139*'Série - IPCA'!$C$444/'Série - IPCA'!$C$398","v":102475.41068226051},{"$f":"F1139*'Série - IPCA'!$C$444/'Série - IPCA'!$C$411","v":-206542.74501027184},{"$f":"G1139*'Série - IPCA'!$C$444/'Série - IPCA'!$C$424","v":-714264.81313343614},{"$f":"H1139*'Série - IPCA'!$C$444/'Série - IPCA'!$C$437","v":-686914.19798147492},-402775.33877706918,null,"N","NÃO","SIM","OPEX","FIXO","DESPESAS_GERAIS",9999,"RATEIO"]
[null,null,null,0,-36182.74,0,0,0,-7236.5479999999998,{"$f":"D1140*'Série - IPCA'!$C$444/'Série - IPCA'!$C$385","v":0},{"$f":"E1140*'Série - IPCA'!$C$444/'Série - IPCA'!$C$398","v":-45249.492338369586},{"$f":"F1140*'Série - IPCA'!$C$444/'Série - IPCA'!$C$411","v":0},{"$f":"G1140*'Série - IPCA'!$C$444/'Série - IPCA'!$C$424","v":0},{"$f":"H1140*'Série - IPCA'!$C$444/'Série - IPCA'!$C$437","v":0},-9049.8984676739165,null,"N","NÃO","SIM","OPEX","FIXO","DESPESAS_GERAIS",9999,"RATEIO"]
[null,null,null,0,0,0,0,964.26,192.852,{"$f":"D1141*'Série - IPCA'!$C$444/'Série - IPCA'!$C$385","v":0},{"$f":"E1141*'Série - IPCA'!$C$444/'Série - IPCA'!$C$398","v":0},{"$f":"F1141*'Série - IPCA'!$C$444/'Série - IPCA'!$C$411","v":0},{"$f":"G1141*'Série - IPCA'!$C$444/'Série - IPCA'!$C$424","v":0},{"$f":"H1141*'Série - IPCA'!$C$444/'Série - IPCA'!$C$437","v":989.9856453904008},197.99712907808015,null,"N","SIM","NÃO","OPEX","FUNCIONÁRIOS","DESPESAS_GERAIS",5100,"GERÊNCIA DE ENGENHARIA"]
[null,null,null,0,0,0,0,1648.18,329.63600000000002,{"$f":"D1142*'Série - IPCA'!$C$444/'Série - IPCA'!$C$385","v":0},{"$f":"E1142*'Série - IPCA'!$C$444/'Série - IPCA'!$C$398","v":0},{"$f":"F1142*'Série - IPCA'!$C$444/'Série - IPCA'!$C$411","v":0},{"$f":"G1142*'Série - IPCA'!$C$444/'Série - IPCA'!$C$424","v":0},{"$f":"H1142*'Série - IPCA'!$C$444/'Série - IPCA'!$C$437","v":1692.1520554824951},338.43041109649903,null,"N","SIM","NÃO","OPEX","FUNCIONÁRIOS","DESPESAS_GERAIS",5200,"GERÊNCIA DE OPERAÇÕES"]
[null,null,null,0,0,0,0,832.83,166.566,{"$f":"D1143*'Série - IPCA'!$C$444/'Série - IPCA'!$C$385","v":0},{"$f":"E1143*'Série - IPCA'!$C$444/'Série - IPCA'!$C$398","v":0},{"$f":"F1143*'Série - IPCA'!$C$444/'Série - IPCA'!$C$411","v":0},{"$f":"G1143*'Série - IPCA'!$C$444/'Série - IPCA'!$C$424","v":0},{"$f":"H1143*'Série - IPCA'!$C$444/'Série - IPCA'!$C$437","v":855.04920358667528},171.00984071733507,null,"N","SIM","NÃO","ENCARGOS DE COMERCIALIZAÇÃO","FUNCIONÁRIOS","DESPESAS_GERAIS",5300,"GERÊNCIA COMERCIAL"]
[null,null,null,0,0,0,18.3,175.01,38.661999999999999,{"$f":"D1144*'Série - IPCA'!$C$444/'Série - IPCA'!$C$385","v":0},{"$f":"E1144*'Série - IPCA'!$C$444/'Série - IPCA'!$C$398","v":0},{"$f":"F1144*'Série - IPCA'!$C$444/'Série - IPCA'!$C$411","v":0},{"$f":"G1144*'Série - IPCA'!$C$444/'Série - IPCA'!$C$424","v":19.656468343072156},{"$f":"H1144*'Série - IPCA'!$C$444/'Série - IPCA'!$C$437","v":179.67911953184205},39.867117574982842,null,"N","SIM","NÃO","ENCARGOS DE GESTÃO","FUNCIONÁRIOS","PESSOAL",3500,"ASSESSORIA DE COMUNICAÇÃO INSTITUCIONAL"]
[null,null,null,0,0,0,0,43.59,8.718,{"$f":"D1145*'Série - IPCA'!$C$444/'Série - IPCA'!$C$385","v":0},{"$f":"E1145*'Série - IPCA'!$C$444/'Série - IPCA'!$C$398","v":0},{"$f":"F1145*'Série - IPCA'!$C$444/'Série - IPCA'!$C$411","v":0},{"$f":"G1145*'Série - IPCA'!$C$444/'Série - IPCA'!$C$424","v":0},{"$f":"H1145*'Série - IPCA'!$C$444/'Série - IPCA'!$C$437","v":44.752944519701707},8.950588903940341,null,"N","SIM","NÃO","ENCARGOS DE GESTÃO","FUNCIONÁRIOS","PESSOAL",1005,"AUDITORIA INTERNA"]
[null,null,null,0,0,0,0,87.84,17.568000000000001,{"$f":"D1146*'Série - IPCA'!$C$444/'Série - IPCA'!$C$385","v":0},{"$f":"E1146*'Série - IPCA'!$C$444/'Série - IPCA'!$C$398","v":0},{"$f":"F1146*'Série - IPCA'!$C$444/'Série - IPCA'!$C$411","v":0},{"$f":"G1146*'Série - IPCA'!$C$444/'Série - IPCA'!$C$424","v":0},{"$f":"H1146*'Série - IPCA'!$C$444/'Série - IPCA'!$C$437","v":90.183497284023815},18.036699456804762,null,"N","SIM","NÃO","ENCARGOS DE GESTÃO","FUNCIONÁRIOS","PESSOAL",2110,"ASSESSORIA DA DIRETORIA EXECUTIVA"]
[null,null,null,0,0,0,0,131.43,26.286000000000001,{"$f":"D1147*'Série - IPCA'!$C$444/'Série - IPCA'!$C$385","v":0},{"$f":"E1147*'Série - IPCA'!$C$444/'Série - IPCA'!$C$398","v":0},{"$f":"F1147*'Série - IPCA'!$C$444/'Série - IPCA'!$C$411","v":0},{"$f":"G1147*'Série - IPCA'!$C$444/'Série - IPCA'!$C$424","v":0},{"$f":"H1147*'Série - IPCA'!$C$444/'Série - IPCA'!$C$437","v":134.93644180372553},26.987288360745104,null,"N","SIM","NÃO","ENCARGOS DE GESTÃO","FUNCIONÁRIOS","PESSOAL",2120,"ASSESSORIA DA PRESIDÊNCIA"]
[null,null,null,0,0,0,0,43.59,8.718,{"$f":"D1148*'Série - IPCA'!$C$444/'Série - IPCA'!$C$385","v":0},{"$f":"E1148*'Série - IPCA'!$C$444/'Série - IPCA'!$C$398","v":0},{"$f":"F1148*'Série - IPCA'!$C$444/'Série - IPCA'!$C$411","v":0},{"$f":"G1148*'Série - IPCA'!$C$444/'Série - IPCA'!$C$424","v":0},{"$f":"H1148*'Série - IPCA'!$C$444/'Série - IPCA'!$C$437","v":44.752944519701707},8.950588903940341,null,"N","SIM","NÃO","ENCARGOS DE GESTÃO","FUNCIONÁRIOS","PESSOAL",2310,"ASSESSORIA DAF"]
[null,null,null,0,0,0,0,525.71,105.14200000000001,{"$f":"D1149*'Série - IPCA'!$C$444/'Série - IPCA'!$C$385","v":0},{"$f":"E1149*'Série - IPCA'!$C$444/'Série - IPCA'!$C$398","v":0},{"$f":"F1149*'Série - IPCA'!$C$444/'Série - IPCA'!$C$411","v":0},{"$f":"G1149*'Série - IPCA'!$C$444/'Série - IPCA'!$C$424","v":0},{"$f":"H1149*'Série - IPCA'!$C$444/'Série - IPCA'!$C$437","v":539.73550042331703},107.9471000846634,null,"N","SIM","NÃO","ENCARGOS DE GESTÃO","FUNCIONÁRIOS","PESSOAL",3200,"GERÊNCIA DE PLANEJAMENTO E MEIO AMBIENTE"]
[null,null,null,0,0,0,0,175.01,35.001999999999995,{"$f":"D1150*'Série - IPCA'!$C$444/'Série - IPCA'!$C$385","v":0},{"$f":"E1150*'Série - IPCA'!$C$444/'Série - IPCA'!$C$398","v":0},{"$f":"F1150*'Série - IPCA'!$C$444/'Série - IPCA'!$C$411","v":0},{"$f":"G1150*'Série - IPCA'!$C$444/'Série - IPCA'!$C$424","v":0},{"$f":"H1150*'Série - IPCA'!$C$444/'Série - IPCA'!$C$437","v":179.67911953184205},35.935823906368412,null,"N","SIM","NÃO","ENCARGOS DE GESTÃO","FUNCIONÁRIOS","PESSOAL",3300,"GERÊNCIA JURÍDICA"]
[null,null,null,0,0,0,0,307.11,61.422000000000004,{"$f":"D1151*'Série - IPCA'!$C$444/'Série - IPCA'!$C$385","v":0},{"$f":"E1151*'Série - IPCA'!$C$444/'Série - IPCA'!$C$398","v":0},{"$f":"F1151*'Série - IPCA'!$C$444/'Série - IPCA'!$C$411","v":0},{"$f":"G1151*'Série - IPCA'!$C$444/'Série - IPCA'!$C$424","v":0},{"$f":"H1151*'Série - IPCA'!$C$444/'Série - IPCA'!$C$437","v":315.30343637177316},63.060687274354635,null,"N","SIM","NÃO","ENCARGOS DE GESTÃO","FUNCIONÁRIOS","PESSOAL",3600,"GERÊNCIA DE GOVERNANÇA, RISCO E COMPLIANCE"]
[null,null,null,0,0,0,0,832.83,166.566,{"$f":"D1152*'Série - IPCA'!$C$444/'Série - IPCA'!$C$385","v":0},{"$f":"E1152*'Série - IPCA'!$C$444/'Série - IPCA'!$C$398","v":0},{"$f":"F1152*'Série - IPCA'!$C$444/'Série - IPCA'!$C$411","v":0},{"$f":"G1152*'Série - IPCA'!$C$444/'Série - IPCA'!$C$424","v":0},{"$f":"H1152*'Série - IPCA'!$C$444/'Série - IPCA'!$C$437","v":855.04920358667528},171.00984071733507,null,"N","SIM","NÃO","ENCARGOS DE GESTÃO","FUNCIONÁRIOS","PESSOAL",4100,"GERÊNCIA DE SERVIÇOS CORPORATIVOS"]
[null,null,null,0,0,0,0,394.29,78.858000000000004,{"$f":"D1153*'Série - IPCA'!$C$444/'Série - IPCA'!$C$385","v":0},{"$f":"E1153*'Série - IPCA'!$C$444/'Série - IPCA'!$C$398","v":0},{"$f":"F1153*'Série - IPCA'!$C$444/'Série - IPCA'!$C$411","v":0},{"$f":"G1153*'Série - IPCA'!$C$444/'Série - IPCA'!$C$424","v":0},{"$f":"H1153*'Série - IPCA'!$C$444/'Série - IPCA'!$C$437","v":404.80932541117659},80.96186508223532,null,"N","SIM","NÃO","ENCARGOS DE GESTÃO","FUNCIONÁRIOS","PESSOAL",4200,"GERÊNCIA FINANCEIRA"]
[null,null,null,0,0,0,0,350.7,70.14,{"$f":"D1154*'Série - IPCA'!$C$444/'Série - IPCA'!$C$385","v":0},{"$f":"E1154*'Série - IPCA'!$C$444/'Série - IPCA'!$C$398","v":0},{"$f":"F1154*'Série - IPCA'!$C$444/'Série - IPCA'!$C$411","v":0},{"$f":"G1154*'Série - IPCA'!$C$444/'Série - IPCA'!$C$424","v":0},{"$f":"H1154*'Série - IPCA'!$C$444/'Série - IPCA'!$C$437","v":360.05638089147487},72.011276178294978,null,"N","SIM","NÃO","ENCARGOS DE GESTÃO","FUNCIONÁRIOS","PESSOAL",4300,"GERÊNCIA DE TECNOLOGIA E SISTEMAS DE INFORMAÇÃO"]
[null,null,null,0,0,0,0,262.86,52.572000000000003,{"$f":"D1155*'Série - IPCA'!$C$444/'Série - IPCA'!$C$385","v":0},{"$f":"E1155*'Série - IPCA'!$C$444/'Série - IPCA'!$C$398","v":0},{"$f":"F1155*'Série - IPCA'!$C$444/'Série - IPCA'!$C$411","v":0},{"$f":"G1155*'Série - IPCA'!$C$444/'Série - IPCA'!$C$424","v":0},{"$f":"H1155*'Série - IPCA'!$C$444/'Série - IPCA'!$C$437","v":269.87288360745106},53.974576721490209,null,"N","SIM","NÃO","ENCARGOS DE GESTÃO","FUNCIONÁRIOS","PESSOAL",4500,"GERÊNCIA CONTÁBIL"]
[null,null,null,224505.46,281334.43,268547.3,311180.62,23295.03,221772.56800000003,{"$f":"D1156*'Série - IPCA'!$C$444/'Série - IPCA'!$C$385","v":293445.86974903173},{"$f":"E1156*'Série - IPCA'!$C$444/'Série - IPCA'!$C$398","v":351831.84398982982},{"$f":"F1156*'Série - IPCA'!$C$444/'Série - IPCA'!$C$411","v":305140.36659700121},{"$f":"G1156*'Série - IPCA'!$C$444/'Série - IPCA'!$C$424","v":334246.55770533148},{"$f":"H1156*'Série - IPCA'!$C$444/'Série - IPCA'!$C$437","v":23916.521797999241},261716.23196783866,null,"N","NÃO","NÃO","ENCARGOS DE GESTÃO","FIXO","DESPESAS_INSTITUCIONAIS",2300,"DIRETORIA COLEGIADA - DAF"]
[null,null,null,60640.82,47844.480000000003,20960.77,20859.27,32527.9,{"$f":"AVERAGE(D1157:H1157)","v":36566.648000000001},{"$f":"D1157*'Série - IPCA'!$C$444/'Série - IPCA'!$C$385","v":79262.206661675315},{"$f":"E1157*'Série - IPCA'!$C$444/'Série - IPCA'!$C$398","v":59833.457366503397},{"$f":"F1157*'Série - IPCA'!$C$444/'Série - IPCA'!$C$411","v":23816.947859670996},{"$f":"G1157*'Série - IPCA'!$C$444/'Série - IPCA'!$C$424","v":22405.441552710094},{"$f":"H1157*'Série - IPCA'!$C$444/'Série - IPCA'!$C$437","v":33395.717000284589},{"$f":"AVERAGE(J1157:N1157)","v":43742.754088168884},null,"N","SIM","NÃO","OPEX","FUNCIONÁRIOS","PESSOAL",5100,"GERÊNCIA DE ENGENHARIA"]
[null,null,null,109779.28,122841,121175.26,129864.45,157531.16,128238.23000000001,{"$f":"D1158*'Série - IPCA'!$C$444/'Série - IPCA'!$C$385","v":143489.94585709626},{"$f":"E1158*'Série - IPCA'!$C$444/'Série - IPCA'!$C$398","v":153622.77396177454},{"$f":"F1158*'Série - IPCA'!$C$444/'Série - IPCA'!$C$411","v":137686.96709625059},{"$f":"G1158*'Série - IPCA'!$C$444/'Série - IPCA'!$C$424","v":139490.51641068177},{"$f":"H1158*'Série - IPCA'!$C$444/'Série - IPCA'!$C$437","v":161733.95878881059},147204.83242292274,null,"N","SIM","NÃO","OPEX","FUNCIONÁRIOS","PESSOAL",5200,"GERÊNCIA DE OPERAÇÕES"]
[null,null,null,47073.919999999998,70382.399999999994,63364.87,73734.149999999994,81402.210000000006,67191.509999999995,{"$f":"D1159*'Série - IPCA'!$C$444/'Série - IPCA'!$C$385","v":61529.226936825238},{"$f":"E1159*'Série - IPCA'!$C$444/'Série - IPCA'!$C$398","v":88018.980031806976},{"$f":"F1159*'Série - IPCA'!$C$444/'Série - IPCA'!$C$411","v":71999.158662817776},{"$f":"G1159*'Série - IPCA'!$C$444/'Série - IPCA'!$C$424","v":79199.616681876141},{"$f":"H1159*'Série - IPCA'!$C$444/'Série - IPCA'!$C$437","v":83573.952464122689},76864.186955489757,null,"N","SIM","NÃO","ENCARGOS DE COMERCIALIZAÇÃO","FUNCIONÁRIOS","PESSOAL",5300,"GERÊNCIA COMERCIAL"]
[null,null,null,0,0,5006.51,6408.27,7074.24,3697.8040000000001,{"$f":"D1160*'Série - IPCA'!$C$444/'Série - IPCA'!$C$385","v":0},{"$f":"E1160*'Série - IPCA'!$C$444/'Série - IPCA'!$C$398","v":0},{"$f":"F1160*'Série - IPCA'!$C$444/'Série - IPCA'!$C$411","v":5688.7121813235599},{"$f":"G1160*'Série - IPCA'!$C$444/'Série - IPCA'!$C$424","v":6883.2763054021316},{"$f":"H1160*'Série - IPCA'!$C$444/'Série - IPCA'!$C$437","v":7262.9747703384855},3966.9926514128356,null,"N","SIM","NÃO","ENCARGOS DE GESTÃO","FUNCIONÁRIOS","PESSOAL",1005,"AUDITORIA INTERNA"]
[null,null,null,0,0,7032.61,12816.54,12037.22,6377.2740000000003,{"$f":"D1161*'Série - IPCA'!$C$444/'Série - IPCA'!$C$385","v":0},{"$f":"E1161*'Série - IPCA'!$C$444/'Série - IPCA'!$C$398","v":0},{"$f":"F1161*'Série - IPCA'!$C$444/'Série - IPCA'!$C$411","v":7990.8946898134391},{"$f":"G1161*'Série - IPCA'!$C$444/'Série - IPCA'!$C$424","v":13766.552610804263},{"$f":"H1161*'Série - IPCA'!$C$444/'Série - IPCA'!$C$437","v":12358.362900469001},6823.1620402173403,null,"N","SIM","NÃO","ENCARGOS DE GESTÃO","FUNCIONÁRIOS","PESSOAL",1010,"GOVERNANÇA SOCIETÁRIA"]
[null,null,null,3934.72,8361.2800000000007,7003.24,6019.56,0,5063.76,{"$f":"D1162*'Série - IPCA'!$C$444/'Série - IPCA'!$C$385","v":5142.9810776936574},{"$f":"E1162*'Série - IPCA'!$C$444/'Série - IPCA'!$C$398","v":10456.468340953805},{"$f":"F1162*'Série - IPCA'!$C$444/'Série - IPCA'!$C$411","v":7957.52264486287},{"$f":"G1162*'Série - IPCA'!$C$444/'Série - IPCA'!$C$424","v":6465.7535835641211},{"$f":"H1162*'Série - IPCA'!$C$444/'Série - IPCA'!$C$437","v":0},6004.5451294148907,null,"N","SIM","NÃO","ENCARGOS DE GESTÃO","FUNCIONÁRIOS","PESSOAL",2110,"ASSESSORIA DA DIRETORIA EXECUTIVA"]
[null,null,null,1967.36,5410.24,5990.19,6408.27,7074.24,5370.0599999999995,{"$f":"D1163*'Série - IPCA'!$C$444/'Série - IPCA'!$C$385","v":2571.4905388468287},{"$f":"E1163*'Série - IPCA'!$C$444/'Série - IPCA'!$C$398","v":6765.9501029701096},{"$f":"F1163*'Série - IPCA'!$C$444/'Série - IPCA'!$C$411","v":6806.4313906179295},{"$f":"G1163*'Série - IPCA'!$C$444/'Série - IPCA'!$C$424","v":6883.2763054021316},{"$f":"H1163*'Série - IPCA'!$C$444/'Série - IPCA'!$C$437","v":7262.9747703384855},6058.024621635097,null,"N","SIM","NÃO","ENCARGOS DE GESTÃO","FUNCIONÁRIOS","PESSOAL",2120,"ASSESSORIA DA PRESIDÊNCIA"]
[null,null,null,0,983.68,11980.38,12816.54,14148.48,7985.8160000000007,{"$f":"D1164*'Série - IPCA'!$C$444/'Série - IPCA'!$C$385","v":0},{"$f":"E1164*'Série - IPCA'!$C$444/'Série - IPCA'!$C$398","v":1230.1727459945653},{"$f":"F1164*'Série - IPCA'!$C$444/'Série - IPCA'!$C$411","v":13612.862781235859},{"$f":"G1164*'Série - IPCA'!$C$444/'Série - IPCA'!$C$424","v":13766.552610804263},{"$f":"H1164*'Série - IPCA'!$C$444/'Série - IPCA'!$C$437","v":14525.949540676971},8627.1075357423306,null,"N","SIM","NÃO","ENCARGOS DE GESTÃO","FUNCIONÁRIOS","PESSOAL",2130,"ASSESSORIA DE RELAÇÕES INSTITUCIONAIS E NOVOS NEGÓCIOS"]
[null,null,null,0,983.68,5488.56,0,0,1294.4480000000001,{"$f":"D1165*'Série - IPCA'!$C$444/'Série - IPCA'!$C$385","v":0},{"$f":"E1165*'Série - IPCA'!$C$444/'Série - IPCA'!$C$398","v":1230.1727459945653},{"$f":"F1165*'Série - IPCA'!$C$444/'Série - IPCA'!$C$411","v":6236.4477709872226},{"$f":"G1165*'Série - IPCA'!$C$444/'Série - IPCA'!$C$424","v":0},{"$f":"H1165*'Série - IPCA'!$C$444/'Série - IPCA'!$C$437","v":0},1493.3241033963575,null,"N","SIM","NÃO","ENCARGOS DE GESTÃO","FUNCIONÁRIOS","PESSOAL",2300,"DIRETORIA COLEGIADA - DAF"]
[null,null,null,0,4918.3999999999996,11980.38,16085.46,21827.14,10962.276,{"$f":"D1166*'Série - IPCA'!$C$444/'Série - IPCA'!$C$385","v":0},{"$f":"E1166*'Série - IPCA'!$C$444/'Série - IPCA'!$C$398","v":6150.8637299728261},{"$f":"F1166*'Série - IPCA'!$C$444/'Série - IPCA'!$C$411","v":13612.862781235859},{"$f":"G1166*'Série - IPCA'!$C$444/'Série - IPCA'!$C$424","v":17277.777883811661},{"$f":"H1166*'Série - IPCA'!$C$444/'Série - IPCA'!$C$437","v":22409.469728005552},11890.19482460518,null,"N","SIM","NÃO","ENCARGOS DE GESTÃO","FUNCIONÁRIOS","PESSOAL",2410,"ASSESSORIA DE SEGURANÇA DO TRABALHO"]
[null,null,null,11804.16,20657.28,28475.43,32041.35,35430.800000000003,25681.804,{"$f":"D1167*'Série - IPCA'!$C$444/'Série - IPCA'!$C$385","v":15428.943233080972},{"$f":"E1167*'Série - IPCA'!$C$444/'Série - IPCA'!$C$398","v":25833.62766588587},{"$f":"F1167*'Série - IPCA'!$C$444/'Série - IPCA'!$C$411","v":32355.5781391481},{"$f":"G1167*'Série - IPCA'!$C$444/'Série - IPCA'!$C$424","v":34416.38152701065},{"$f":"H1167*'Série - IPCA'!$C$444/'Série - IPCA'!$C$437","v":36376.063929539974},28882.118898933113,null,"N","SIM","NÃO","ENCARGOS DE GESTÃO","FUNCIONÁRIOS","PESSOAL",3200,"GERÊNCIA DE PLANEJAMENTO E MEIO AMBIENTE"]
[null,null,null,7869.44,0,4514.67,6408.27,13058.84,6370.2440000000006,{"$f":"D1168*'Série - IPCA'!$C$444/'Série - IPCA'!$C$385","v":10285.962155387315},{"$f":"E1168*'Série - IPCA'!$C$444/'Série - IPCA'!$C$398","v":0},{"$f":"F1168*'Série - IPCA'!$C$444/'Série - IPCA'!$C$411","v":5129.8525766763751},{"$f":"G1168*'Série - IPCA'!$C$444/'Série - IPCA'!$C$424","v":6883.2763054021316},{"$f":"H1168*'Série - IPCA'!$C$444/'Série - IPCA'!$C$437","v":13407.238862391865},7141.2659799715375,null,"N","SIM","NÃO","ENCARGOS DE GESTÃO","FUNCIONÁRIOS","PESSOAL",3300,"GERÊNCIA JURÍDICA"]
[null,null,null,5902.08,17706.240000000002,16986.89,17590.349999999999,14148.48,14466.807999999999,{"$f":"D1169*'Série - IPCA'!$C$444/'Série - IPCA'!$C$385","v":7714.4716165404861},{"$f":"E1169*'Série - IPCA'!$C$444/'Série - IPCA'!$C$398","v":22143.109427902178},{"$f":"F1169*'Série - IPCA'!$C$444/'Série - IPCA'!$C$411","v":19301.574962559422},{"$f":"G1169*'Série - IPCA'!$C$444/'Série - IPCA'!$C$424","v":18894.21627970269},{"$f":"H1169*'Série - IPCA'!$C$444/'Série - IPCA'!$C$437","v":14525.949540676971},16515.864365476351,null,"N","SIM","NÃO","ENCARGOS DE GESTÃO","FUNCIONÁRIOS","PESSOAL",3500,"ASSESSORIA DE COMUNICAÇÃO INSTITUCIONAL"]
[null,null,null,9200,9200.0400000000009,9200,4600.0200000000004,0,6440.0120000000006,{"$f":"D1170*'Série - IPCA'!$C$444/'Série - IPCA'!$C$385","v":12025.1062120765},{"$f":"E1170*'Série - IPCA'!$C$444/'Série - IPCA'!$C$398","v":11505.406707526678},{"$f":"F1170*'Série - IPCA'!$C$444/'Série - IPCA'!$C$411","v":10453.619800654898},{"$f":"G1170*'Série - IPCA'!$C$444/'Série - IPCA'!$C$424","v":4940.991667076436},{"$f":"H1170*'Série - IPCA'!$C$444/'Série - IPCA'!$C$437","v":0},7785.0248774669017,null,"S",null,null,"ENCARGOS DE GESTÃO","FIXO","DESPESAS GERAIS",2200,"DIRETORIA COLEGIADA - PRESIDÊNCIA"]
[null,null,null,9200,9200.0400000000009,9200,4600.0200000000004,0,6440.0120000000006,{"$f":"D1171*'Série - IPCA'!$C$444/'Série - IPCA'!$C$385","v":12025.1062120765},{"$f":"E1171*'Série - IPCA'!$C$444/'Série - IPCA'!$C$398","v":11505.406707526678},{"$f":"F1171*'Série - IPCA'!$C$444/'Série - IPCA'!$C$411","v":10453.619800654898},{"$f":"G1171*'Série - IPCA'!$C$444/'Série - IPCA'!$C$424","v":4940.991667076436},{"$f":"H1171*'Série - IPCA'!$C$444/'Série - IPCA'!$C$437","v":0},7785.0248774669017,null,"S",null,null,"ENCARGOS DE GESTÃO","FIXO","DESPESAS GERAIS",2300,"DIRETORIA COLEGIADA - DAF"]
[null,null,null,9200,9200.0400000000009,9200,4736.6000000000004,204.84,6508.2960000000003,{"$f":"D1172*'Série - IPCA'!$C$444/'Série - IPCA'!$C$385","v":12025.1062120765},{"$f":"E1172*'Série - IPCA'!$C$444/'Série - IPCA'!$C$398","v":11505.406707526678},{"$f":"F1172*'Série - IPCA'!$C$444/'Série - IPCA'!$C$411","v":10453.619800654898},{"$f":"G1172*'Série - IPCA'!$C$444/'Série - IPCA'!$C$424","v":5087.6955166008511},{"$f":"H1172*'Série - IPCA'!$C$444/'Série - IPCA'!$C$437","v":210.30495883036699},7856.4266391378578,null,"S",null,null,"ENCARGOS DE GESTÃO","FIXO","DESPESAS GERAIS",2400,"DIRETORIA COLEGIADA - DTC"]
[null,null,null,0,8958.85,19119.79,14815.94,11392.25,10857.366,{"$f":"D1173*'Série - IPCA'!$C$444/'Série - IPCA'!$C$385","v":0},{"$f":"E1173*'Série - IPCA'!$C$444/'Série - IPCA'!$C$398","v":11203.77877506243},{"$f":"F1173*'Série - IPCA'!$C$444/'Série - IPCA'!$C$411","v":21725.110361778643},{"$f":"G1173*'Série - IPCA'!$C$444/'Série - IPCA'!$C$424","v":15914.156042779043},{"$f":"H1173*'Série - IPCA'!$C$444/'Série - IPCA'!$C$437","v":11696.185643601097},12107.846164644241,null,"S",null,null,"ENCARGOS DE GESTÃO","FIXO","DESPESAS GERAIS",3100,"SMS"]
[null,null,null,15185.67,0,0,0,0,3037.134,{"$f":"D1174*'Série - IPCA'!$C$444/'Série - IPCA'!$C$385","v":19848.836375167797},{"$f":"E1174*'Série - IPCA'!$C$444/'Série - IPCA'!$C$398","v":0},{"$f":"F1174*'Série - IPCA'!$C$444/'Série - IPCA'!$C$411","v":0},{"$f":"G1174*'Série - IPCA'!$C$444/'Série - IPCA'!$C$424","v":0},{"$f":"H1174*'Série - IPCA'!$C$444/'Série - IPCA'!$C$437","v":0},3969.7672750335596,null,"S","NÃO",null,"ENCARGOS DE GESTÃO","FIXO","DESPESA GERAIS",3100,"SMS"]
[null,null,null,0,11389.8,0,0,0,2277.96,{"$f":"D1175*'Série - IPCA'!$C$444/'Série - IPCA'!$C$385","v":0},{"$f":"E1175*'Série - IPCA'!$C$444/'Série - IPCA'!$C$398","v":14243.881691534745},{"$f":"F1175*'Série - IPCA'!$C$444/'Série - IPCA'!$C$411","v":0},{"$f":"G1175*'Série - IPCA'!$C$444/'Série - IPCA'!$C$424","v":0},{"$f":"H1175*'Série - IPCA'!$C$444/'Série - IPCA'!$C$437","v":0},2848.7763383069491,null,"S",null,null,"ENCARGOS DE GESTÃO","FIXO","DESPESAS GERAIS",3200,"GERÊNCIA DE PLANEJAMENTO E MEIO AMBIENTE"]
[null,null,null,388.8,0,0,0,0,77.760000000000005,{"$f":"D1176*'Série - IPCA'!$C$444/'Série - IPCA'!$C$385","v":508.1914451364504},{"$f":"E1176*'Série - IPCA'!$C$444/'Série - IPCA'!$C$398","v":0},{"$f":"F1176*'Série - IPCA'!$C$444/'Série - IPCA'!$C$411","v":0},{"$f":"G1176*'Série - IPCA'!$C$444/'Série - IPCA'!$C$424","v":0},{"$f":"H1176*'Série - IPCA'!$C$444/'Série - IPCA'!$C$437","v":0},101.63828902729009,null,"S",null,null,"ENCARGOS DE GESTÃO","FIXO","DESPESAS GERAIS",3400,"MARKETING"]
[null,null,null,317.70999999999998,309692.31,310890.14,327227.88,286804.37,246986.48200000002,{"$f":"D1177*'Série - IPCA'!$C$444/'Série - IPCA'!$C$385","v":415.27135811291572},{"$f":"E1177*'Série - IPCA'!$C$444/'Série - IPCA'!$C$398","v":387295.70531687152},{"$f":"F1177*'Série - IPCA'!$C$444/'Série - IPCA'!$C$411","v":353252.9699274319},{"$f":"G1177*'Série - IPCA'!$C$444/'Série - IPCA'!$C$424","v":351483.30405413191},{"$f":"H1177*'Série - IPCA'!$C$444/'Série - IPCA'!$C$437","v":294456.06925024086},277380.66398135782,null,"S",null,null,"ENCARGOS DE GESTÃO","FIXO","DESPESAS GERAIS",4100,"GERÊNCIA DE SERVIÇOS CORPORATIVOS"]
[null,null,null,159711.76,0,0,0,0,31942.352000000003,{"$f":"D1178*'Série - IPCA'!$C$444/'Série - IPCA'!$C$385","v":208755.53014322513},{"$f":"E1178*'Série - IPCA'!$C$444/'Série - IPCA'!$C$398","v":0},{"$f":"F1178*'Série - IPCA'!$C$444/'Série - IPCA'!$C$411","v":0},{"$f":"G1178*'Série - IPCA'!$C$444/'Série - IPCA'!$C$424","v":0},{"$f":"H1178*'Série - IPCA'!$C$444/'Série - IPCA'!$C$437","v":0},41751.106028645023,null,"S","NÃO",null,"ENCARGOS DE GESTÃO","FIXO","DESPESA GERAIS",4100,"GERÊNCIA DE SERVIÇOS CORPORATIVOS"]
[null,null,null,192655.03,0,0,0,0,38531.006000000001,{"$f":"D1179*'Série - IPCA'!$C$444/'Série - IPCA'!$C$385","v":251814.91283052007},{"$f":"E1179*'Série - IPCA'!$C$444/'Série - IPCA'!$C$398","v":0},{"$f":"F1179*'Série - IPCA'!$C$444/'Série - IPCA'!$C$411","v":0},{"$f":"G1179*'Série - IPCA'!$C$444/'Série - IPCA'!$C$424","v":0},{"$f":"H1179*'Série - IPCA'!$C$444/'Série - IPCA'!$C$437","v":0},50362.982566104016,null,"S","NÃO",null,"ENCARGOS DE GESTÃO","FIXO","VEÍCULOS",4100,"GERÊNCIA DE SERVIÇOS CORPORATIVOS"]
[null,null,null,5018.7700000000004,0,0,0,0,1003.7540000000001,{"$f":"D1180*'Série - IPCA'!$C$444/'Série - IPCA'!$C$385","v":6559.9176417373019},{"$f":"E1180*'Série - IPCA'!$C$444/'Série - IPCA'!$C$398","v":0},{"$f":"F1180*'Série - IPCA'!$C$444/'Série - IPCA'!$C$411","v":0},{"$f":"G1180*'Série - IPCA'!$C$444/'Série - IPCA'!$C$424","v":0},{"$f":"H1180*'Série - IPCA'!$C$444/'Série - IPCA'!$C$437","v":0},1311.9835283474604,null,"S","NÃO",null,"ENCARGOS DE GESTÃO","FIXO","DESPESA GERAIS",4100,"GERÊNCIA DE SERVIÇOS CORPORATIVOS"]
[null,null,null,0,0,0,0,140900.64000000001,28180.128000000004,{"$f":"D1181*'Série - IPCA'!$C$444/'Série - IPCA'!$C$385","v":0},{"$f":"E1181*'Série - IPCA'!$C$444/'Série - IPCA'!$C$398","v":0},{"$f":"F1181*'Série - IPCA'!$C$444/'Série - IPCA'!$C$411","v":0},{"$f":"G1181*'Série - IPCA'!$C$444/'Série - IPCA'!$C$424","v":0},{"$f":"H1181*'Série - IPCA'!$C$444/'Série - IPCA'!$C$437","v":144659.75050953118},28931.950101906237,null,"S",null,null,"ENCARGOS DE GESTÃO","FIXO","DESPESAS GERAIS",4200,"GERÊNCIA FINANCEIRA"]
[null,null,null,215386.61,963091.67,1417540.65,1592388.81,1563559.57,1150393.4619999998,{"$f":"D1182*'Série - IPCA'!$C$444/'Série - IPCA'!$C$385","v":281526.83281620633},{"$f":"E1182*'Série - IPCA'!$C$444/'Série - IPCA'!$C$398","v":1204425.3459746989},{"$f":"F1182*'Série - IPCA'!$C$444/'Série - IPCA'!$C$411","v":1610699.0225079579},{"$f":"G1182*'Série - IPCA'!$C$444/'Série - IPCA'!$C$424","v":1710422.9635861933},{"$f":"H1182*'Série - IPCA'!$C$444/'Série - IPCA'!$C$437","v":1605274.0236168539},1282469.6377003822,null,"S",null,null,"ENCARGOS DE GESTÃO","FIXO","DESPESAS GERAIS",4300,"GERÊNCIA DE TECNOLOGIA E SISTEMAS DE INFORMAÇÃO"]
[null,null,null,390.74,0,0,0,0,78.147999999999996,{"$f":"D1183*'Série - IPCA'!$C$444/'Série - IPCA'!$C$385","v":510.72717405508388},{"$f":"E1183*'Série - IPCA'!$C$444/'Série - IPCA'!$C$398","v":0},{"$f":"F1183*'Série - IPCA'!$C$444/'Série - IPCA'!$C$411","v":0},{"$f":"G1183*'Série - IPCA'!$C$444/'Série - IPCA'!$C$424","v":0},{"$f":"H1183*'Série - IPCA'!$C$444/'Série - IPCA'!$C$437","v":0},102.14543481101677,null,"S","NÃO",null,"ENCARGOS DE GESTÃO","FIXO","DESPESA GERAIS",4300,"GERÊNCIA DE TECNOLOGIA E SISTEMAS DE INFORMAÇÃO"]
[null,null,null,294688.71000000002,0,0,0,0,58937.742000000006,{"$f":"D1184*'Série - IPCA'!$C$444/'Série - IPCA'!$C$385","v":385180.76491845766},{"$f":"E1184*'Série - IPCA'!$C$444/'Série - IPCA'!$C$398","v":0},{"$f":"F1184*'Série - IPCA'!$C$444/'Série - IPCA'!$C$411","v":0},{"$f":"G1184*'Série - IPCA'!$C$444/'Série - IPCA'!$C$424","v":0},{"$f":"H1184*'Série - IPCA'!$C$444/'Série - IPCA'!$C$437","v":0},77036.152983691529,null,"S","NÃO",null,"ENCARGOS DE GESTÃO","FIXO","DESPESA GERAIS",4300,"GERÊNCIA DE TECNOLOGIA E SISTEMAS DE INFORMAÇÃO"]
[null,null,null,0,1709971.5,2359093.58,2659731.17,2106243.09,1767007.868,{"$f":"D1185*'Série - IPCA'!$C$444/'Série - IPCA'!$C$385","v":0},{"$f":"E1185*'Série - IPCA'!$C$444/'Série - IPCA'!$C$398","v":2138460.0029760143},{"$f":"F1185*'Série - IPCA'!$C$444/'Série - IPCA'!$C$411","v":2680550.7999441139},{"$f":"G1185*'Série - IPCA'!$C$444/'Série - IPCA'!$C$424","v":2856880.9586987575},{"$f":"H1185*'Série - IPCA'!$C$444/'Série - IPCA'!$C$437","v":2162435.8832708211},1967665.5289779413,null,"N","SIM","NÃO","ENCARGOS DE GESTÃO","FIXO","ALUGUÉIS",4100,"GERÊNCIA DE SERVIÇOS CORPORATIVOS"]
[null,null,null,0,500081.06,597441.09,766432.2,832064.59,539203.78799999994,{"$f":"D1186*'Série - IPCA'!$C$444/'Série - IPCA'!$C$385","v":0},{"$f":"E1186*'Série - IPCA'!$C$444/'Série - IPCA'!$C$398","v":625392.49634034745},{"$f":"F1186*'Série - IPCA'!$C$444/'Série - IPCA'!$C$411","v":678850.21827704832},{"$f":"G1186*'Série - IPCA'!$C$444/'Série - IPCA'!$C$424","v":823243.18450334121},{"$f":"H1186*'Série - IPCA'!$C$444/'Série - IPCA'!$C$437","v":854263.37309195555},596349.85444253846,null,"N","SIM","NÃO","ENCARGOS DE GESTÃO","FIXO","VEÍCULOS",4100,"GERÊNCIA DE SERVIÇOS CORPORATIVOS"]
[null,null,null,0,0,0,74295.039999999994,449599.66,104778.93999999999,{"$f":"D1187*'Série - IPCA'!$C$444/'Série - IPCA'!$C$385","v":0},{"$f":"E1187*'Série - IPCA'!$C$444/'Série - IPCA'!$C$398","v":0},{"$f":"F1187*'Série - IPCA'!$C$444/'Série - IPCA'!$C$411","v":0},{"$f":"G1187*'Série - IPCA'!$C$444/'Série - IPCA'!$C$424","v":79802.082065971539},{"$f":"H1187*'Série - IPCA'!$C$444/'Série - IPCA'!$C$437","v":461594.60059776902},108279.33653274812,null,"S",null,null,"ENCARGOS DE GESTÃO","FIXO","DESPESAS GERAIS",4300,"GERÊNCIA DE TECNOLOGIA E SISTEMAS DE INFORMAÇÃO"]
[null,null,null,11804.16,23116.48,22485.24,32430.06,42445.440000000002,26456.276000000002,{"$f":"D1188*'Série - IPCA'!$C$444/'Série - IPCA'!$C$385","v":15428.943233080972},{"$f":"E1188*'Série - IPCA'!$C$444/'Série - IPCA'!$C$398","v":28909.059530872284},{"$f":"F1188*'Série - IPCA'!$C$444/'Série - IPCA'!$C$411","v":25549.146748530165},{"$f":"G1188*'Série - IPCA'!$C$444/'Série - IPCA'!$C$424","v":34833.904248848659},{"$f":"H1188*'Série - IPCA'!$C$444/'Série - IPCA'!$C$437","v":43577.848622030913},29659.780476672597,null,"N","SIM","NÃO","ENCARGOS DE GESTÃO","FUNCIONÁRIOS","PESSOAL",3600,"GERÊNCIA DE GOVERNANÇA, RISCO E COMPLIANCE"]
[null,null,null,0,491.84,5990.19,6408.27,7074.24,3992.9080000000004,{"$f":"D1189*'Série - IPCA'!$C$444/'Série - IPCA'!$C$385","v":0},{"$f":"E1189*'Série - IPCA'!$C$444/'Série - IPCA'!$C$398","v":615.08637299728264},{"$f":"F1189*'Série - IPCA'!$C$444/'Série - IPCA'!$C$411","v":6806.4313906179295},{"$f":"G1189*'Série - IPCA'!$C$444/'Série - IPCA'!$C$424","v":6883.2763054021316},{"$f":"H1189*'Série - IPCA'!$C$444/'Série - IPCA'!$C$437","v":7262.9747703384855},4313.5537678711653,null,"N","SIM","NÃO","ENCARGOS DE GESTÃO","FUNCIONÁRIOS","PESSOAL",3700,"GERÊNCIA DE REGULAÇÃO"]
[null,null,null,21149.119999999999,54594.239999999998,59767.73,80451.600000000006,82710.320000000007,59734.601999999999,{"$f":"D1190*'Série - IPCA'!$C$444/'Série - IPCA'!$C$385","v":27643.523292603408},{"$f":"E1190*'Série - IPCA'!$C$444/'Série - IPCA'!$C$398","v":68274.58740269838},{"$f":"F1190*'Série - IPCA'!$C$444/'Série - IPCA'!$C$411","v":67911.861496543017},{"$f":"G1190*'Série - IPCA'!$C$444/'Série - IPCA'!$C$424","v":86414.990631120425},{"$f":"H1190*'Série - IPCA'!$C$444/'Série - IPCA'!$C$437","v":84916.961738168728},67032.384912226786,null,"N","SIM","NÃO","ENCARGOS DE GESTÃO","FUNCIONÁRIOS","PESSOAL",4100,"GERÊNCIA DE SERVIÇOS CORPORATIVOS"]
[null,null,null,29510.400000000001,22624.639999999999,12819.75,13858.34,13958.15,18554.256000000001,{"$f":"D1191*'Série - IPCA'!$C$444/'Série - IPCA'!$C$385","v":38572.358082702427},{"$f":"E1191*'Série - IPCA'!$C$444/'Série - IPCA'!$C$398","v":28293.973157875003},{"$f":"F1191*'Série - IPCA'!$C$444/'Série - IPCA'!$C$411","v":14566.607873852785},{"$f":"G1191*'Série - IPCA'!$C$444/'Série - IPCA'!$C$424","v":14885.574945220247},{"$f":"H1191*'Série - IPCA'!$C$444/'Série - IPCA'!$C$437","v":14330.541696436669},22129.811151217429,null,"N","SIM","NÃO","ENCARGOS DE GESTÃO","FUNCIONÁRIOS","PESSOAL",4200,"GERÊNCIA FINANCEIRA"]
[null,null,null,34054.879999999997,32807.22,30508.02,23963.49,21526.67,28572.056000000004,{"$f":"D1192*'Série - IPCA'!$C$444/'Série - IPCA'!$C$385","v":44512.342286904321},{"$f":"E1192*'Série - IPCA'!$C$444/'Série - IPCA'!$C$398","v":41028.126947633202},{"$f":"F1192*'Série - IPCA'!$C$444/'Série - IPCA'!$C$411","v":34665.134994649525},{"$f":"G1192*'Série - IPCA'!$C$444/'Série - IPCA'!$C$424","v":25739.75861062984},{"$f":"H1192*'Série - IPCA'!$C$444/'Série - IPCA'!$C$437","v":22100.983441246317},33609.269256212647,null,"N","SIM","NÃO","ENCARGOS DE GESTÃO","FUNCIONÁRIOS","PESSOAL",4300,"GERÊNCIA DE TECNOLOGIA E SISTEMAS DE INFORMAÇÃO"]
[null,null,null,0,983.68,11980.38,11182.08,7074.24,6244.0759999999991,{"$f":"D1193*'Série - IPCA'!$C$444/'Série - IPCA'!$C$385","v":0},{"$f":"E1193*'Série - IPCA'!$C$444/'Série - IPCA'!$C$398","v":1230.1727459945653},{"$f":"F1193*'Série - IPCA'!$C$444/'Série - IPCA'!$C$411","v":13612.862781235859},{"$f":"G1193*'Série - IPCA'!$C$444/'Série - IPCA'!$C$424","v":12010.93997430056},{"$f":"H1193*'Série - IPCA'!$C$444/'Série - IPCA'!$C$437","v":7262.9747703384855},6823.3900543738946,null,"N","SIM","NÃO","ENCARGOS DE GESTÃO","FUNCIONÁRIOS","PESSOAL",4500,"GERÊNCIA CONTÁBIL"]
[null,null,null,14755.2,0,0,0,3626.52,3676.3440000000001,{"$f":"D1194*'Série - IPCA'!$C$444/'Série - IPCA'!$C$385","v":19286.179041351214},{"$f":"E1194*'Série - IPCA'!$C$444/'Série - IPCA'!$C$398","v":0},{"$f":"F1194*'Série - IPCA'!$C$444/'Série - IPCA'!$C$411","v":0},{"$f":"G1194*'Série - IPCA'!$C$444/'Série - IPCA'!$C$424","v":0},{"$f":"H1194*'Série - IPCA'!$C$444/'Série - IPCA'!$C$437","v":3723.2725019405511},4601.8903086583532,null,"N","SIM","NÃO","ENCARGOS DE GESTÃO","FUNCIONÁRIOS","PESSOAL",4600,"GERÊNCIA DE PESSOAS E CULTURA"]
[null,null,null,0,0,57.2,342.48,8768.5400000000009,1833.6440000000002,{"$f":"D1195*'Série - IPCA'!$C$444/'Série - IPCA'!$C$385","v":0},{"$f":"E1195*'Série - IPCA'!$C$444/'Série - IPCA'!$C$398","v":0},{"$f":"F1195*'Série - IPCA'!$C$444/'Série - IPCA'!$C$411","v":64.994244847550021},{"$f":"G1195*'Série - IPCA'!$C$444/'Série - IPCA'!$C$424","v":367.86597148280606},{"$f":"H1195*'Série - IPCA'!$C$444/'Série - IPCA'!$C$437","v":9002.4772686117285},1887.0674969884171,null,"N","SIM","NÃO","OPEX","FUNCIONÁRIOS","DESPESAS_INSTITUCIONAIS",5100,"GERÊNCIA DE ENGENHARIA"]
[null,null,null,0,153.05000000000001,280.2,32.130000000000003,15374.06,3167.8879999999999,{"$f":"D1196*'Série - IPCA'!$C$444/'Série - IPCA'!$C$385","v":0},{"$f":"E1196*'Série - IPCA'!$C$444/'Série - IPCA'!$C$398","v":191.40161310026454},{"$f":"F1196*'Série - IPCA'!$C$444/'Série - IPCA'!$C$411","v":318.38089871125021},{"$f":"G1196*'Série - IPCA'!$C$444/'Série - IPCA'!$C$424","v":34.511602615459473},{"$f":"H1196*'Série - IPCA'!$C$444/'Série - IPCA'!$C$437","v":15784.226983770708},3265.7042196395364,null,"N","SIM","NÃO","OPEX","FUNCIONÁRIOS","DESPESAS_INSTITUCIONAIS",5200,"GERÊNCIA DE OPERAÇÕES"]
[null,null,null,6033.68,1804.09,0,0,0,1567.5540000000001,{"$f":"D1197*'Série - IPCA'!$C$444/'Série - IPCA'!$C$385","v":7886.4829184436676},{"$f":"E1197*'Série - IPCA'!$C$444/'Série - IPCA'!$C$398","v":2256.1629283113766},{"$f":"F1197*'Série - IPCA'!$C$444/'Série - IPCA'!$C$411","v":0},{"$f":"G1197*'Série - IPCA'!$C$444/'Série - IPCA'!$C$424","v":0},{"$f":"H1197*'Série - IPCA'!$C$444/'Série - IPCA'!$C$437","v":0},2028.5291693510087,null,"N","SIM","NÃO","OPEX","FUNCIONÁRIOS","DESPESAS_INSTITUCIONAIS",5100,"GERÊNCIA DE ENGENHARIA"]
[null,null,null,14497.94,6801.44,832.08,1047.48,540.1,4743.808,{"$f":"D1198*'Série - IPCA'!$C$444/'Série - IPCA'!$C$385","v":18949.920473512215},{"$f":"E1198*'Série - IPCA'!$C$444/'Série - IPCA'!$C$398","v":8505.7601267864302},{"$f":"F1198*'Série - IPCA'!$C$444/'Série - IPCA'!$C$411","v":945.46173518792693},{"$f":"G1198*'Série - IPCA'!$C$444/'Série - IPCA'!$C$424","v":1125.1233584700119},{"$f":"H1198*'Série - IPCA'!$C$444/'Série - IPCA'!$C$437","v":554.5094135143587},6016.155021494189,null,"N","SIM","NÃO","OPEX","FUNCIONÁRIOS","DESPESAS_INSTITUCIONAIS",5200,"GERÊNCIA DE OPERAÇÕES"]
[null,null,null,0,0,8,12.9,16155.67,3235.3139999999999,{"$f":"D1199*'Série - IPCA'!$C$444/'Série - IPCA'!$C$385","v":0},{"$f":"E1199*'Série - IPCA'!$C$444/'Série - IPCA'!$C$398","v":0},{"$f":"F1199*'Série - IPCA'!$C$444/'Série - IPCA'!$C$411","v":9.0901041744825193},{"$f":"G1199*'Série - IPCA'!$C$444/'Série - IPCA'!$C$424","v":13.856198995936108},{"$f":"H1199*'Série - IPCA'!$C$444/'Série - IPCA'!$C$437","v":16586.689680858206},3321.9271968057246,null,"N","SIM","NÃO","ENCARGOS DE COMERCIALIZAÇÃO","FUNCIONÁRIOS","DESPESAS_INSTITUCIONAIS",5300,"GERÊNCIA COMERCIAL"]
[null,null,null,3183.74,3992.88,0,0,87.8,1452.884,{"$f":"D1200*'Série - IPCA'!$C$444/'Série - IPCA'!$C$385","v":4161.3925708300476},{"$f":"E1200*'Série - IPCA'!$C$444/'Série - IPCA'!$C$398","v":4993.4248475386103},{"$f":"F1200*'Série - IPCA'!$C$444/'Série - IPCA'!$C$411","v":0},{"$f":"G1200*'Série - IPCA'!$C$444/'Série - IPCA'!$C$424","v":0},{"$f":"H1200*'Série - IPCA'!$C$444/'Série - IPCA'!$C$437","v":90.142430117683176},1848.9919696972679,null,"N","SIM","NÃO","ENCARGOS DE COMERCIALIZAÇÃO","FUNCIONÁRIOS","DESPESAS_INSTITUCIONAIS",5300,"GERÊNCIA COMERCIAL"]
[null,null,null,3536,0,0,162.53,0,739.70600000000002,{"$f":"D1201*'Série - IPCA'!$C$444/'Série - IPCA'!$C$385","v":4621.8234310763592},{"$f":"E1201*'Série - IPCA'!$C$444/'Série - IPCA'!$C$398","v":0},{"$f":"F1201*'Série - IPCA'!$C$444/'Série - IPCA'!$C$411","v":0},{"$f":"G1201*'Série - IPCA'!$C$444/'Série - IPCA'!$C$424","v":174.57736610926324},{"$f":"H1201*'Série - IPCA'!$C$444/'Série - IPCA'!$C$437","v":0},959.28015943712455,null,"N","SIM","NÃO","ENCARGOS DE COMERCIALIZAÇÃO","FUNCIONÁRIOS","DESPESAS_INSTITUCIONAIS",5500,"GERÊNCIA COMERCIAL (inativo)"]
[null,null,null,0,0,33,0,0,6.6,{"$f":"D1202*'Série - IPCA'!$C$444/'Série - IPCA'!$C$385","v":0},{"$f":"E1202*'Série - IPCA'!$C$444/'Série - IPCA'!$C$398","v":0},{"$f":"F1202*'Série - IPCA'!$C$444/'Série - IPCA'!$C$411","v":37.496679719740392},{"$f":"G1202*'Série - IPCA'!$C$444/'Série - IPCA'!$C$424","v":0},{"$f":"H1202*'Série - IPCA'!$C$444/'Série - IPCA'!$C$437","v":0},7.4993359439480782,null,"N","SIM","NÃO","ENCARGOS DE GESTÃO","FUNCIONÁRIOS","DESPESAS_INSTITUCIONAIS",1001,"CONSELHO DE ADMINISTRAÇÃO"]
[null,null,null,0,0,0,0,5319.5,1063.9000000000001,{"$f":"D1203*'Série - IPCA'!$C$444/'Série - IPCA'!$C$385","v":0},{"$f":"E1203*'Série - IPCA'!$C$444/'Série - IPCA'!$C$398","v":0},{"$f":"F1203*'Série - IPCA'!$C$444/'Série - IPCA'!$C$411","v":0},{"$f":"G1203*'Série - IPCA'!$C$444/'Série - IPCA'!$C$424","v":0},{"$f":"H1203*'Série - IPCA'!$C$444/'Série - IPCA'!$C$437","v":5461.419783724552},1092.2839567449105,null,"N","SIM","NÃO","ENCARGOS DE GESTÃO","FUNCIONÁRIOS","DESPESAS_INSTITUCIONAIS",1010,"GOVERNANÇA SOCIETÁRIA"]
[null,null,null,0,0,3020.94,8290.02,0,2262.192,{"$f":"D1204*'Série - IPCA'!$C$444/'Série - IPCA'!$C$385","v":0},{"$f":"E1204*'Série - IPCA'!$C$444/'Série - IPCA'!$C$398","v":0},{"$f":"F1204*'Série - IPCA'!$C$444/'Série - IPCA'!$C$411","v":3432.5824131076529},{"$f":"G1204*'Série - IPCA'!$C$444/'Série - IPCA'!$C$424","v":8904.5090542860671},{"$f":"H1204*'Série - IPCA'!$C$444/'Série - IPCA'!$C$437","v":0},2467.4182934787441,null,"N","SIM","NÃO","ENCARGOS DE GESTÃO","FUNCIONÁRIOS","DESPESAS_INSTITUCIONAIS",2100,"SECRETARIA"]
[null,null,null,0,0,0,0,121.4,24.28,{"$f":"D1205*'Série - IPCA'!$C$444/'Série - IPCA'!$C$385","v":0},{"$f":"E1205*'Série - IPCA'!$C$444/'Série - IPCA'!$C$398","v":0},{"$f":"F1205*'Série - IPCA'!$C$444/'Série - IPCA'!$C$411","v":0},{"$f":"G1205*'Série - IPCA'!$C$444/'Série - IPCA'!$C$424","v":0},{"$f":"H1205*'Série - IPCA'!$C$444/'Série - IPCA'!$C$437","v":124.63884984381251},24.927769968762501,null,"N","SIM","NÃO","ENCARGOS DE GESTÃO","FUNCIONÁRIOS","DESPESAS_INSTITUCIONAIS",2120,"ASSESSORIA DA PRESIDÊNCIA"]
[null,null,null,0,0,0,0,11585.36,2317.0720000000001,{"$f":"D1206*'Série - IPCA'!$C$444/'Série - IPCA'!$C$385","v":0},{"$f":"E1206*'Série - IPCA'!$C$444/'Série - IPCA'!$C$398","v":0},{"$f":"F1206*'Série - IPCA'!$C$444/'Série - IPCA'!$C$411","v":0},{"$f":"G1206*'Série - IPCA'!$C$444/'Série - IPCA'!$C$424","v":0},{"$f":"H1206*'Série - IPCA'!$C$444/'Série - IPCA'!$C$437","v":11894.447655902073},2378.8895311804145,null,"N","SIM","NÃO","ENCARGOS DE GESTÃO","FUNCIONÁRIOS","DESPESAS_INSTITUCIONAIS",2110,"ASSESSORIA DA DIRETORIA EXECUTIVA"]
[null,null,null,0,1670.06,523.48,446.58,11582.35,2844.4940000000001,{"$f":"D1207*'Série - IPCA'!$C$444/'Série - IPCA'!$C$385","v":0},{"$f":"E1207*'Série - IPCA'!$C$444/'Série - IPCA'!$C$398","v":2088.5473895735236},{"$f":"F1207*'Série - IPCA'!$C$444/'Série - IPCA'!$C$411","v":594.81096665726375},{"$f":"G1207*'Série - IPCA'!$C$444/'Série - IPCA'!$C$424","v":479.68227500815095},{"$f":"H1207*'Série - IPCA'!$C$444/'Série - IPCA'!$C$437","v":11891.357351634942},3010.8795965747763,null,"N","SIM","NÃO","ENCARGOS DE GESTÃO","FUNCIONÁRIOS","DESPESAS_INSTITUCIONAIS",2200,"DIRETORIA COLEGIADA - PRESIDÊNCIA"]
[null,null,null,0,0,0,0,608.6,121.72,{"$f":"D1208*'Série - IPCA'!$C$444/'Série - IPCA'!$C$385","v":0},{"$f":"E1208*'Série - IPCA'!$C$444/'Série - IPCA'!$C$398","v":0},{"$f":"F1208*'Série - IPCA'!$C$444/'Série - IPCA'!$C$411","v":0},{"$f":"G1208*'Série - IPCA'!$C$444/'Série - IPCA'!$C$424","v":0},{"$f":"H1208*'Série - IPCA'!$C$444/'Série - IPCA'!$C$437","v":624.83693587268772},124.96738717453755,null,"N","SIM","NÃO","ENCARGOS DE GESTÃO","FUNCIONÁRIOS","DESPESAS_INSTITUCIONAIS",2300,"DIRETORIA COLEGIADA - DAF"]
[null,null,null,0,0,83.6,0,0,16.72,{"$f":"D1209*'Série - IPCA'!$C$444/'Série - IPCA'!$C$385","v":0},{"$f":"E1209*'Série - IPCA'!$C$444/'Série - IPCA'!$C$398","v":0},{"$f":"F1209*'Série - IPCA'!$C$444/'Série - IPCA'!$C$411","v":94.991588623342324},{"$f":"G1209*'Série - IPCA'!$C$444/'Série - IPCA'!$C$424","v":0},{"$f":"H1209*'Série - IPCA'!$C$444/'Série - IPCA'!$C$437","v":0},18.998317724668464,null,"N","SIM","NÃO","ENCARGOS DE GESTÃO","FUNCIONÁRIOS","DESPESAS_INSTITUCIONAIS",2310,"ASSESSORIA DAF"]
[null,null,null,0,0,0,327.99,1012.49,268.096,{"$f":"D1210*'Série - IPCA'!$C$444/'Série - IPCA'!$C$385","v":0},{"$f":"E1210*'Série - IPCA'!$C$444/'Série - IPCA'!$C$398","v":0},{"$f":"F1210*'Série - IPCA'!$C$444/'Série - IPCA'!$C$411","v":0},{"$f":"G1210*'Série - IPCA'!$C$444/'Série - IPCA'!$C$424","v":352.30191540132438},{"$f":"H1210*'Série - IPCA'!$C$444/'Série - IPCA'!$C$437","v":1039.5023812056154},278.36085932138792,null,"N","SIM","NÃO","ENCARGOS DE GESTÃO","FUNCIONÁRIOS","DESPESAS_INSTITUCIONAIS",2400,"DIRETORIA COLEGIADA - DTC"]
[null,null,null,0,0,42.3,0,5804.67,1169.394,{"$f":"D1211*'Série - IPCA'!$C$444/'Série - IPCA'!$C$385","v":0},{"$f":"E1211*'Série - IPCA'!$C$444/'Série - IPCA'!$C$398","v":0},{"$f":"F1211*'Série - IPCA'!$C$444/'Série - IPCA'!$C$411","v":48.063925822576323},{"$f":"G1211*'Série - IPCA'!$C$444/'Série - IPCA'!$C$424","v":0},{"$f":"H1211*'Série - IPCA'!$C$444/'Série - IPCA'!$C$437","v":5959.533711061641},1201.5195273768436,null,"N","SIM","NÃO","ENCARGOS DE GESTÃO","FUNCIONÁRIOS","DESPESAS_INSTITUCIONAIS",2410,"ASSESSORIA DE SEGURANÇA DO TRABALHO"]
[null,null,null,0,0,0,0,5804.67,1160.934,{"$f":"D1212*'Série - IPCA'!$C$444/'Série - IPCA'!$C$385","v":0},{"$f":"E1212*'Série - IPCA'!$C$444/'Série - IPCA'!$C$398","v":0},{"$f":"F1212*'Série - IPCA'!$C$444/'Série - IPCA'!$C$411","v":0},{"$f":"G1212*'Série - IPCA'!$C$444/'Série - IPCA'!$C$424","v":0},{"$f":"H1212*'Série - IPCA'!$C$444/'Série - IPCA'!$C$437","v":5959.533711061641},1191.9067422123283,null,"N","SIM","NÃO","ENCARGOS DE GESTÃO","FUNCIONÁRIOS","DESPESAS_INSTITUCIONAIS",3200,"GERÊNCIA DE PLANEJAMENTO E MEIO AMBIENTE"]
[null,null,null,0,0,0,0,5692.94,1138.588,{"$f":"D1213*'Série - IPCA'!$C$444/'Série - IPCA'!$C$385","v":0},{"$f":"E1213*'Série - IPCA'!$C$444/'Série - IPCA'!$C$398","v":0},{"$f":"F1213*'Série - IPCA'!$C$444/'Série - IPCA'!$C$411","v":0},{"$f":"G1213*'Série - IPCA'!$C$444/'Série - IPCA'!$C$424","v":0},{"$f":"H1213*'Série - IPCA'!$C$444/'Série - IPCA'!$C$437","v":5844.8228486806747},1168.964569736135,null,"N","SIM","NÃO","ENCARGOS DE GESTÃO","FUNCIONÁRIOS","DESPESAS_INSTITUCIONAIS",3300,"GERÊNCIA JURÍDICA"]
[null,null,null,0,0,0,0,5864.71,1172.942,{"$f":"D1214*'Série - IPCA'!$C$444/'Série - IPCA'!$C$385","v":0},{"$f":"E1214*'Série - IPCA'!$C$444/'Série - IPCA'!$C$398","v":0},{"$f":"F1214*'Série - IPCA'!$C$444/'Série - IPCA'!$C$411","v":0},{"$f":"G1214*'Série - IPCA'!$C$444/'Série - IPCA'!$C$424","v":0},{"$f":"H1214*'Série - IPCA'!$C$444/'Série - IPCA'!$C$437","v":6021.1755277389266},1204.2351055477852,null,"N","SIM","NÃO","ENCARGOS DE GESTÃO","FUNCIONÁRIOS","DESPESAS_INSTITUCIONAIS",3500,"ASSESSORIA DE COMUNICAÇÃO INSTITUCIONAL"]
[null,null,null,0,0,0,0,20.8,4.16,{"$f":"D1215*'Série - IPCA'!$C$444/'Série - IPCA'!$C$385","v":0},{"$f":"E1215*'Série - IPCA'!$C$444/'Série - IPCA'!$C$398","v":0},{"$f":"F1215*'Série - IPCA'!$C$444/'Série - IPCA'!$C$411","v":0},{"$f":"G1215*'Série - IPCA'!$C$444/'Série - IPCA'!$C$424","v":0},{"$f":"H1215*'Série - IPCA'!$C$444/'Série - IPCA'!$C$437","v":21.354926497127678},4.2709852994255355,null,"N","SIM","NÃO","ENCARGOS DE GESTÃO","FUNCIONÁRIOS","DESPESAS_INSTITUCIONAIS",3600,"GERÊNCIA DE GOVERNANÇA, RISCO E COMPLIANCE"]
[null,null,null,0,0,8,0,6434.65,1288.53,{"$f":"D1216*'Série - IPCA'!$C$444/'Série - IPCA'!$C$385","v":0},{"$f":"E1216*'Série - IPCA'!$C$444/'Série - IPCA'!$C$398","v":0},{"$f":"F1216*'Série - IPCA'!$C$444/'Série - IPCA'!$C$411","v":9.0901041744825193},{"$f":"G1216*'Série - IPCA'!$C$444/'Série - IPCA'!$C$424","v":0},{"$f":"H1216*'Série - IPCA'!$C$444/'Série - IPCA'!$C$437","v":6606.3210473433937},1323.0822303035752,null,"N","SIM","NÃO","ENCARGOS DE GESTÃO","FUNCIONÁRIOS","DESPESAS_INSTITUCIONAIS",3700,"GERÊNCIA DE REGULAÇÃO"]
[null,null,null,0,0,0,215.48,4400.18,923.13199999999995,{"$f":"D1217*'Série - IPCA'!$C$444/'Série - IPCA'!$C$385","v":0},{"$f":"E1217*'Série - IPCA'!$C$444/'Série - IPCA'!$C$398","v":0},{"$f":"F1217*'Série - IPCA'!$C$444/'Série - IPCA'!$C$411","v":0},{"$f":"G1217*'Série - IPCA'!$C$444/'Série - IPCA'!$C$424","v":231.45222942979166},{"$f":"H1217*'Série - IPCA'!$C$444/'Série - IPCA'!$C$437","v":4517.5730997178498},949.80506582952819,null,"N","SIM","NÃO","ENCARGOS DE GESTÃO","FUNCIONÁRIOS","DESPESAS_INSTITUCIONAIS",4100,"GERÊNCIA DE SERVIÇOS CORPORATIVOS"]
[null,null,null,0,0,0,0,11685.54,2337.1080000000002,{"$f":"D1218*'Série - IPCA'!$C$444/'Série - IPCA'!$C$385","v":0},{"$f":"E1218*'Série - IPCA'!$C$444/'Série - IPCA'!$C$398","v":0},{"$f":"F1218*'Série - IPCA'!$C$444/'Série - IPCA'!$C$411","v":0},{"$f":"G1218*'Série - IPCA'!$C$444/'Série - IPCA'!$C$424","v":0},{"$f":"H1218*'Série - IPCA'!$C$444/'Série - IPCA'!$C$437","v":11997.300374002181},2399.4600748004364,null,"N","SIM","NÃO","ENCARGOS DE GESTÃO","FUNCIONÁRIOS","DESPESAS_INSTITUCIONAIS",4200,"GERÊNCIA FINANCEIRA"]
[null,null,null,0,0,0,0,11609.34,2321.8679999999999,{"$f":"D1219*'Série - IPCA'!$C$444/'Série - IPCA'!$C$385","v":0},{"$f":"E1219*'Série - IPCA'!$C$444/'Série - IPCA'!$C$398","v":0},{"$f":"F1219*'Série - IPCA'!$C$444/'Série - IPCA'!$C$411","v":0},{"$f":"G1219*'Série - IPCA'!$C$444/'Série - IPCA'!$C$424","v":0},{"$f":"H1219*'Série - IPCA'!$C$444/'Série - IPCA'!$C$437","v":11919.067422123282},2383.8134844246565,null,"N","SIM","NÃO","ENCARGOS DE GESTÃO","FUNCIONÁRIOS","DESPESAS_INSTITUCIONAIS",4300,"GERÊNCIA DE TECNOLOGIA E SISTEMAS DE INFORMAÇÃO"]
[null,null,null,0,0,0,0,5804.67,1160.934,{"$f":"D1220*'Série - IPCA'!$C$444/'Série - IPCA'!$C$385","v":0},{"$f":"E1220*'Série - IPCA'!$C$444/'Série - IPCA'!$C$398","v":0},{"$f":"F1220*'Série - IPCA'!$C$444/'Série - IPCA'!$C$411","v":0},{"$f":"G1220*'Série - IPCA'!$C$444/'Série - IPCA'!$C$424","v":0},{"$f":"H1220*'Série - IPCA'!$C$444/'Série - IPCA'!$C$437","v":5959.533711061641},1191.9067422123283,null,"N","SIM","NÃO","ENCARGOS DE GESTÃO","FUNCIONÁRIOS","DESPESAS_INSTITUCIONAIS",4500,"GERÊNCIA CONTÁBIL"]
[null,null,null,0,335.63,0,0,0,{"$f":"AVERAGE(D1221:H1221)","v":67.126000000000005},{"$f":"D1221*'Série - IPCA'!$C$444/'Série - IPCA'!$C$385","v":0},{"$f":"E1221*'Série - IPCA'!$C$444/'Série - IPCA'!$C$398","v":419.73291999243241},{"$f":"F1221*'Série - IPCA'!$C$444/'Série - IPCA'!$C$411","v":0},{"$f":"G1221*'Série - IPCA'!$C$444/'Série - IPCA'!$C$424","v":0},{"$f":"H1221*'Série - IPCA'!$C$444/'Série - IPCA'!$C$437","v":0},{"$f":"AVERAGE(J1221:N1221)","v":83.946583998486489},null,"N","SIM","NÃO","ENCARGOS DE GESTÃO","FUNCIONÁRIOS","DESPESAS_INSTITUCIONAIS",1001,"CONSELHO DE ADMINISTRAÇÃO"]
[null,null,null,0,182.58,0,0,0,36.516000000000005,{"$f":"D1222*'Série - IPCA'!$C$444/'Série - IPCA'!$C$385","v":0},{"$f":"E1222*'Série - IPCA'!$C$444/'Série - IPCA'!$C$398","v":228.33130689216793},{"$f":"F1222*'Série - IPCA'!$C$444/'Série - IPCA'!$C$411","v":0},{"$f":"G1222*'Série - IPCA'!$C$444/'Série - IPCA'!$C$424","v":0},{"$f":"H1222*'Série - IPCA'!$C$444/'Série - IPCA'!$C$437","v":0},45.666261378433589,null,"N","SIM","NÃO","ENCARGOS DE GESTÃO","FUNCIONÁRIOS","DESPESAS_INSTITUCIONAIS",1002,"CONSELHO FISCAL"]
[null,null,null,1239.6300000000001,125.08,399.08,3949.69,0,1142.6959999999999,{"$f":"D1223*'Série - IPCA'!$C$444/'Série - IPCA'!$C$385","v":1620.2915667039558},{"$f":"E1223*'Série - IPCA'!$C$444/'Série - IPCA'!$C$398","v":156.42282761568825},{"$f":"F1223*'Série - IPCA'!$C$444/'Série - IPCA'!$C$411","v":453.45984674406054},{"$f":"G1223*'Série - IPCA'!$C$444/'Série - IPCA'!$C$424","v":4242.4566366092158},{"$f":"H1223*'Série - IPCA'!$C$444/'Série - IPCA'!$C$437","v":0},1294.5261755345841,null,"N","SIM","NÃO","ENCARGOS DE GESTÃO","FUNCIONÁRIOS","DESPESAS_INSTITUCIONAIS",2100,"SECRETARIA"]
[null,null,null,0,356.99,0,0,1005.27,272.452,{"$f":"D1224*'Série - IPCA'!$C$444/'Série - IPCA'!$C$385","v":0},{"$f":"E1224*'Série - IPCA'!$C$444/'Série - IPCA'!$C$398","v":446.44535681583432},{"$f":"F1224*'Série - IPCA'!$C$444/'Série - IPCA'!$C$411","v":0},{"$f":"G1224*'Série - IPCA'!$C$444/'Série - IPCA'!$C$424","v":0},{"$f":"H1224*'Série - IPCA'!$C$444/'Série - IPCA'!$C$437","v":1032.0897576811317},295.70702289939317,null,"N","SIM","NÃO","ENCARGOS DE GESTÃO","FUNCIONÁRIOS","DESPESAS_INSTITUCIONAIS",2110,"ASSESSORIA DA DIRETORIA EXECUTIVA"]
[null,null,null,2824.72,7230.24,218.87,0,24144.15,6883.5960000000005,{"$f":"D1225*'Série - IPCA'!$C$444/'Série - IPCA'!$C$385","v":3692.1258716713833},{"$f":"E1225*'Série - IPCA'!$C$444/'Série - IPCA'!$C$398","v":9042.009794851725},{"$f":"F1225*'Série - IPCA'!$C$444/'Série - IPCA'!$C$411","v":248.69388758362365},{"$f":"G1225*'Série - IPCA'!$C$444/'Série - IPCA'!$C$424","v":0},{"$f":"H1225*'Série - IPCA'!$C$444/'Série - IPCA'!$C$437","v":24788.295605078139},7554.2250318369743,null,"N","SIM","NÃO","ENCARGOS DE GESTÃO","FUNCIONÁRIOS","DESPESAS_INSTITUCIONAIS",2200,"DIRETORIA COLEGIADA - PRESIDÊNCIA"]
[null,null,null,704.48,242.89,0,0,1721.3,533.73400000000004,{"$f":"D1226*'Série - IPCA'!$C$444/'Série - IPCA'!$C$385","v":920.80943742213617},{"$f":"E1226*'Série - IPCA'!$C$444/'Série - IPCA'!$C$398","v":303.75392228633291},{"$f":"F1226*'Série - IPCA'!$C$444/'Série - IPCA'!$C$411","v":0},{"$f":"G1226*'Série - IPCA'!$C$444/'Série - IPCA'!$C$424","v":0},{"$f":"H1226*'Série - IPCA'!$C$444/'Série - IPCA'!$C$437","v":1767.2228355531668},598.35723905232715,null,"N","SIM","NÃO","ENCARGOS DE GESTÃO","FUNCIONÁRIOS","DESPESAS_INSTITUCIONAIS",2300,"DIRETORIA COLEGIADA - DAF"]
[null,null,null,704.48,202.89,0,0,1721.84,525.84199999999998,{"$f":"D1227*'Série - IPCA'!$C$444/'Série - IPCA'!$C$385","v":920.80943742213617},{"$f":"E1227*'Série - IPCA'!$C$444/'Série - IPCA'!$C$398","v":253.73063235486879},{"$f":"F1227*'Série - IPCA'!$C$444/'Série - IPCA'!$C$411","v":0},{"$f":"G1227*'Série - IPCA'!$C$444/'Série - IPCA'!$C$424","v":0},{"$f":"H1227*'Série - IPCA'!$C$444/'Série - IPCA'!$C$437","v":1767.7772422987655},588.46346241515403,null,"N","SIM","NÃO","ENCARGOS DE GESTÃO","FUNCIONÁRIOS","DESPESAS_INSTITUCIONAIS",2400,"DIRETORIA COLEGIADA - DTC"]
[null,null,null,0,447.85,772,0,0,243.96999999999997,{"$f":"D1228*'Série - IPCA'!$C$444/'Série - IPCA'!$C$385","v":0},{"$f":"E1228*'Série - IPCA'!$C$444/'Série - IPCA'!$C$398","v":560.07325989515505},{"$f":"F1228*'Série - IPCA'!$C$444/'Série - IPCA'!$C$411","v":877.19505283756314},{"$f":"G1228*'Série - IPCA'!$C$444/'Série - IPCA'!$C$424","v":0},{"$f":"H1228*'Série - IPCA'!$C$444/'Série - IPCA'!$C$437","v":0},287.45366254654363,null,"N","SIM","NÃO","ENCARGOS DE GESTÃO","FUNCIONÁRIOS","DESPESAS_INSTITUCIONAIS",2410,"ASSESSORIA DE SEGURANÇA DO TRABALHO"]
[null,null,null,1767.98,1373.37,0,0,0,628.27,{"$f":"D1229*'Série - IPCA'!$C$444/'Série - IPCA'!$C$385","v":2310.8855740029358},{"$f":"E1229*'Série - IPCA'!$C$444/'Série - IPCA'!$C$398","v":1717.5121423293713},{"$f":"F1229*'Série - IPCA'!$C$444/'Série - IPCA'!$C$411","v":0},{"$f":"G1229*'Série - IPCA'!$C$444/'Série - IPCA'!$C$424","v":0},{"$f":"H1229*'Série - IPCA'!$C$444/'Série - IPCA'!$C$437","v":0},805.67954326646145,null,"N","SIM","NÃO","ENCARGOS DE GESTÃO","FUNCIONÁRIOS","DESPESAS_INSTITUCIONAIS",3200,"GERÊNCIA DE PLANEJAMENTO E MEIO AMBIENTE"]
[null,null,null,2120.2399999999998,725.6,0,0,0,569.16799999999989,{"$f":"D1230*'Série - IPCA'!$C$444/'Série - IPCA'!$C$385","v":2771.3164342492478},{"$f":"E1230*'Série - IPCA'!$C$444/'Série - IPCA'!$C$398","v":907.42247935675891},{"$f":"F1230*'Série - IPCA'!$C$444/'Série - IPCA'!$C$411","v":0},{"$f":"G1230*'Série - IPCA'!$C$444/'Série - IPCA'!$C$424","v":0},{"$f":"H1230*'Série - IPCA'!$C$444/'Série - IPCA'!$C$437","v":0},735.74778272120125,null,"N","SIM","NÃO","ENCARGOS DE GESTÃO","FUNCIONÁRIOS","DESPESAS_INSTITUCIONAIS",3300,"GERÊNCIA JURÍDICA"]
[null,null,null,0,712.04,0,0,0,142.40799999999999,{"$f":"D1231*'Série - IPCA'!$C$444/'Série - IPCA'!$C$385","v":0},{"$f":"E1231*'Série - IPCA'!$C$444/'Série - IPCA'!$C$398","v":890.4645840699925},{"$f":"F1231*'Série - IPCA'!$C$444/'Série - IPCA'!$C$411","v":0},{"$f":"G1231*'Série - IPCA'!$C$444/'Série - IPCA'!$C$424","v":0},{"$f":"H1231*'Série - IPCA'!$C$444/'Série - IPCA'!$C$437","v":0},178.0929168139985,null,"N","SIM","NÃO","ENCARGOS DE GESTÃO","FUNCIONÁRIOS","DESPESAS_INSTITUCIONAIS",3500,"ASSESSORIA DE COMUNICAÇÃO INSTITUCIONAL"]
[null,null,null,1063.44,306.27999999999997,0,0,0,273.94400000000002,{"$f":"D1232*'Série - IPCA'!$C$444/'Série - IPCA'!$C$385","v":1389.997711975069},{"$f":"E1232*'Série - IPCA'!$C$444/'Série - IPCA'!$C$398","v":383.02833100522065},{"$f":"F1232*'Série - IPCA'!$C$444/'Série - IPCA'!$C$411","v":0},{"$f":"G1232*'Série - IPCA'!$C$444/'Série - IPCA'!$C$424","v":0},{"$f":"H1232*'Série - IPCA'!$C$444/'Série - IPCA'!$C$437","v":0},354.60520859605793,null,"N","SIM","NÃO","ENCARGOS DE GESTÃO","FUNCIONÁRIOS","DESPESAS_INSTITUCIONAIS",3600,"GERÊNCIA DE GOVERNANÇA, RISCO E COMPLIANCE"]
[null,null,null,10792.92,5926.07,987.4,4853.71,2561.9699999999998,5024.4139999999998,{"$f":"D1233*'Série - IPCA'!$C$444/'Série - IPCA'!$C$385","v":14107.174928091816},{"$f":"E1233*'Série - IPCA'!$C$444/'Série - IPCA'!$C$398","v":7411.0379441037867},{"$f":"F1233*'Série - IPCA'!$C$444/'Série - IPCA'!$C$411","v":1121.9461077355049},{"$f":"G1233*'Série - IPCA'!$C$444/'Série - IPCA'!$C$424","v":5213.4861727569805},{"$f":"H1233*'Série - IPCA'!$C$444/'Série - IPCA'!$C$437","v":2630.3212037426056},6096.7932712861384,null,"N","SIM","NÃO","ENCARGOS DE GESTÃO","FUNCIONÁRIOS","DESPESAS_INSTITUCIONAIS",4100,"GERÊNCIA DE SERVIÇOS CORPORATIVOS"]
[null,null,null,3888.22,1119.76,0,0,0,1001.5959999999999,{"$f":"D1234*'Série - IPCA'!$C$444/'Série - IPCA'!$C$385","v":5082.2020082521831},{"$f":"E1234*'Série - IPCA'!$C$444/'Série - IPCA'!$C$398","v":1400.3519783414063},{"$f":"F1234*'Série - IPCA'!$C$444/'Série - IPCA'!$C$411","v":0},{"$f":"G1234*'Série - IPCA'!$C$444/'Série - IPCA'!$C$424","v":0},{"$f":"H1234*'Série - IPCA'!$C$444/'Série - IPCA'!$C$437","v":0},1296.510797318718,null,"N","SIM","NÃO","ENCARGOS DE GESTÃO","FUNCIONÁRIOS","DESPESAS_INSTITUCIONAIS",4200,"GERÊNCIA FINANCEIRA"]
[null,null,null,4389.51,1264.1199999999999,0,0,0,1130.7260000000001,{"$f":"D1235*'Série - IPCA'!$C$444/'Série - IPCA'!$C$385","v":5737.4265183665129},{"$f":"E1235*'Série - IPCA'!$C$444/'Série - IPCA'!$C$398","v":1580.8860317040599},{"$f":"F1235*'Série - IPCA'!$C$444/'Série - IPCA'!$C$411","v":0},{"$f":"G1235*'Série - IPCA'!$C$444/'Série - IPCA'!$C$424","v":0},{"$f":"H1235*'Série - IPCA'!$C$444/'Série - IPCA'!$C$437","v":0},1463.6625100141146,null,"N","SIM","NÃO","ENCARGOS DE GESTÃO","FUNCIONÁRIOS","DESPESAS_INSTITUCIONAIS",4300,"GERÊNCIA DE TECNOLOGIA E SISTEMAS DE INFORMAÇÃO"]
[null,null,null,2824.72,813.48,0,0,0,727.64,{"$f":"D1236*'Série - IPCA'!$C$444/'Série - IPCA'!$C$385","v":3692.1258716713833},{"$f":"E1236*'Série - IPCA'!$C$444/'Série - IPCA'!$C$398","v":1017.3236473361854},{"$f":"F1236*'Série - IPCA'!$C$444/'Série - IPCA'!$C$411","v":0},{"$f":"G1236*'Série - IPCA'!$C$444/'Série - IPCA'!$C$424","v":0},{"$f":"H1236*'Série - IPCA'!$C$444/'Série - IPCA'!$C$437","v":0},941.8899038015137,null,"N","SIM","NÃO","ENCARGOS DE GESTÃO","FUNCIONÁRIOS","DESPESAS_INSTITUCIONAIS",4500,"GERÊNCIA CONTÁBIL"]
[null,null,null,683984.72,468297.37,730684.25,733716.26,769515.01,677239.52199999988,{"$f":"D1237*'Série - IPCA'!$C$444/'Série - IPCA'!$C$385","v":894020.53319971787},{"$f":"E1237*'Série - IPCA'!$C$444/'Série - IPCA'!$C$398","v":585644.37784130301},{"$f":"F1237*'Série - IPCA'!$C$444/'Série - IPCA'!$C$411","v":830249.49389420357},{"$f":"G1237*'Série - IPCA'!$C$444/'Série - IPCA'!$C$424","v":788102.20969875949},{"$f":"H1237*'Série - IPCA'!$C$444/'Série - IPCA'!$C$437","v":790045.0229320419},777612.32751320512,null,"N","SIM","NÃO","ENCARGOS DE GESTÃO","FIXO","DESPESAS_INSTITUCIONAIS",1001,"CONSELHO DE ADMINISTRAÇÃO"]
[null,null,null,0,0,129653.67,136876.91,150835.20000000001,83473.156000000003,{"$f":"D1238*'Série - IPCA'!$C$444/'Série - IPCA'!$C$385","v":0},{"$f":"E1238*'Série - IPCA'!$C$444/'Série - IPCA'!$C$398","v":0},{"$f":"F1238*'Série - IPCA'!$C$444/'Série - IPCA'!$C$411","v":147320.67086299739},{"$f":"G1238*'Série - IPCA'!$C$444/'Série - IPCA'!$C$424","v":147022.7676673517},{"$f":"H1238*'Série - IPCA'!$C$444/'Série - IPCA'!$C$437","v":154859.35621055544},89840.5589481809,null,"N","SIM","SIM","ENCARGOS DE GESTÃO","FIXO","DESPESAS_INSTITUCIONAIS",1003,"COMITÊ DE INDICAÇÃO E AVALIAÇÃO"]
[null,null,null,0,0,171868.86,159931.23000000001,181002.12,102560.442,{"$f":"D1239*'Série - IPCA'!$C$444/'Série - IPCA'!$C$385","v":0},{"$f":"E1239*'Série - IPCA'!$C$444/'Série - IPCA'!$C$398","v":0},{"$f":"F1239*'Série - IPCA'!$C$444/'Série - IPCA'!$C$411","v":195288.23021869396},{"$f":"G1239*'Série - IPCA'!$C$444/'Série - IPCA'!$C$424","v":171785.96500347496},{"$f":"H1239*'Série - IPCA'!$C$444/'Série - IPCA'!$C$437","v":185831.1042511675},110581.05989466728,null,"N","SIM","SIM","ENCARGOS DE GESTÃO","FIXO","DESPESAS_INSTITUCIONAIS",1004,"COMITÊ DE AUDITORIA ESTATUTÁRIA"]
[null,null,null,0,229447.33,0,0,0,45889.466,{"$f":"D1240*'Série - IPCA'!$C$444/'Série - IPCA'!$C$385","v":0},{"$f":"E1240*'Série - IPCA'!$C$444/'Série - IPCA'!$C$398","v":286942.75781475805},{"$f":"F1240*'Série - IPCA'!$C$444/'Série - IPCA'!$C$411","v":0},{"$f":"G1240*'Série - IPCA'!$C$444/'Série - IPCA'!$C$424","v":0},{"$f":"H1240*'Série - IPCA'!$C$444/'Série - IPCA'!$C$437","v":0},57388.551562951609,null,"N","SIM","NÃO","ENCARGOS DE GESTÃO","FIXO","DESPESAS_INSTITUCIONAIS",1001,"CONSELHO DE ADMINISTRAÇÃO"]
[null,null,null,165272.28,165119.43,172191.32,168314.72,193126.31,172804.81200000001,{"$f":"D1241*'Série - IPCA'!$C$444/'Série - IPCA'!$C$385","v":216023.55662087465},{"$f":"E1241*'Série - IPCA'!$C$444/'Série - IPCA'!$C$398","v":206495.4280052023},{"$f":"F1241*'Série - IPCA'!$C$444/'Série - IPCA'!$C$411","v":195654.62959270691},{"$f":"G1241*'Série - IPCA'!$C$444/'Série - IPCA'!$C$424","v":180790.87242366414},{"$f":"H1241*'Série - IPCA'!$C$444/'Série - IPCA'!$C$437","v":198278.75743805259},199448.64881610012,null,"N","SIM","NÃO","ENCARGOS DE GESTÃO","FIXO","DESPESAS_INSTITUCIONAIS",1002,"CONSELHO FISCAL"]
[null,null,null,0,0,0,5965.18,0,1193.0360000000001,{"$f":"D1242*'Série - IPCA'!$C$444/'Série - IPCA'!$C$385","v":0},{"$f":"E1242*'Série - IPCA'!$C$444/'Série - IPCA'!$C$398","v":0},{"$f":"F1242*'Série - IPCA'!$C$444/'Série - IPCA'!$C$411","v":0},{"$f":"G1242*'Série - IPCA'!$C$444/'Série - IPCA'!$C$424","v":6407.3427229905546},{"$f":"H1242*'Série - IPCA'!$C$444/'Série - IPCA'!$C$437","v":0},1281.4685445981108,null,"N","SIM","SIM","ENCARGOS DE GESTÃO","FIXO","DESPESAS_INSTITUCIONAIS",1003,"COMITÊ DE INDICAÇÃO E AVALIAÇÃO"]
[null,null,null,0,0,0,0,0,0,{"$f":"D1243*'Série - IPCA'!$C$444/'Série - IPCA'!$C$385","v":0},{"$f":"E1243*'Série - IPCA'!$C$444/'Série - IPCA'!$C$398","v":0},{"$f":"F1243*'Série - IPCA'!$C$444/'Série - IPCA'!$C$411","v":0},{"$f":"G1243*'Série - IPCA'!$C$444/'Série - IPCA'!$C$424","v":0},{"$f":"H1243*'Série - IPCA'!$C$444/'Série - IPCA'!$C$437","v":0},0,null,"N","SIM","SIM","ENCARGOS DE GESTÃO","FIXO","DESPESAS_INSTITUCIONAIS",1004,"COMITÊ DE AUDITORIA ESTATUTÁRIA"]
[null,null,null,0,-0.01,0,0,0,-2E-3,{"$f":"D1244*'Série - IPCA'!$C$444/'Série - IPCA'!$C$385","v":0},{"$f":"E1244*'Série - IPCA'!$C$444/'Série - IPCA'!$C$398","v":-1.2505822482866026E-2},{"$f":"F1244*'Série - IPCA'!$C$444/'Série - IPCA'!$C$411","v":0},{"$f":"G1244*'Série - IPCA'!$C$444/'Série - IPCA'!$C$424","v":0},{"$f":"H1244*'Série - IPCA'!$C$444/'Série - IPCA'!$C$437","v":0},-2.5011644965732055E-3,null,"N","SIM","NÃO","ENCARGOS DE GESTÃO","FIXO","DESPESAS_INSTITUCIONAIS",2200,"DIRETORIA COLEGIADA - PRESIDÊNCIA"]
[null,null,null,0,-0.17,0,0,0,-3.4000000000000002E-2,{"$f":"D1245*'Série - IPCA'!$C$444/'Série - IPCA'!$C$385","v":0},{"$f":"E1245*'Série - IPCA'!$C$444/'Série - IPCA'!$C$398","v":-0.21259898220872245},{"$f":"F1245*'Série - IPCA'!$C$444/'Série - IPCA'!$C$411","v":0},{"$f":"G1245*'Série - IPCA'!$C$444/'Série - IPCA'!$C$424","v":0},{"$f":"H1245*'Série - IPCA'!$C$444/'Série - IPCA'!$C$437","v":0},-4.2519796441744487E-2,null,"N","SIM","NÃO","ENCARGOS DE GESTÃO","FIXO","DESPESAS_INSTITUCIONAIS",4100,"GERÊNCIA DE SERVIÇOS CORPORATIVOS"]
[null,null,null,138,0,0,0,0,27.6,{"$f":"D1246*'Série - IPCA'!$C$444/'Série - IPCA'!$C$385","v":180.37659318114751},{"$f":"E1246*'Série - IPCA'!$C$444/'Série - IPCA'!$C$398","v":0},{"$f":"F1246*'Série - IPCA'!$C$444/'Série - IPCA'!$C$411","v":0},{"$f":"G1246*'Série - IPCA'!$C$444/'Série - IPCA'!$C$424","v":0},{"$f":"H1246*'Série - IPCA'!$C$444/'Série - IPCA'!$C$437","v":0},36.075318636229504,null,"N","SIM","NÃO","ENCARGOS DE GESTÃO","FIXO","DESPESAS_GERAIS",4100,"GERÊNCIA DE SERVIÇOS CORPORATIVOS"]
[null,null,null,35,0,0,0,0,7,{"$f":"D1247*'Série - IPCA'!$C$444/'Série - IPCA'!$C$385","v":45.747686676377988},{"$f":"E1247*'Série - IPCA'!$C$444/'Série - IPCA'!$C$398","v":0},{"$f":"F1247*'Série - IPCA'!$C$444/'Série - IPCA'!$C$411","v":0},{"$f":"G1247*'Série - IPCA'!$C$444/'Série - IPCA'!$C$424","v":0},{"$f":"H1247*'Série - IPCA'!$C$444/'Série - IPCA'!$C$437","v":0},9.149537335275598,null,"N","SIM","NÃO","ENCARGOS DE GESTÃO","FIXO","DESPESAS_GERAIS",4200,"GERÊNCIA FINANCEIRA"]
[null,null,null,0,0,1832003.58,1701093.36,942826.18,895184.62400000007,{"$f":"D1248*'Série - IPCA'!$C$444/'Série - IPCA'!$C$385","v":0},{"$f":"E1248*'Série - IPCA'!$C$444/'Série - IPCA'!$C$398","v":0},{"$f":"F1248*'Série - IPCA'!$C$444/'Série - IPCA'!$C$411","v":2081637.9237781153},{"$f":"G1248*'Série - IPCA'!$C$444/'Série - IPCA'!$C$424","v":1827185.1245601226},{"$f":"H1248*'Série - IPCA'!$C$444/'Série - IPCA'!$C$437","v":967979.98910902266},975360.60748945212,null,"N","SIM","NÃO","ENCARGOS DE COMERCIALIZAÇÃO","VOLUME S/ TERMOELÉTRICA","DESPESAS_GERAIS",5300,"GERÊNCIA COMERCIAL"]
[null,null,null,2847287.44,987155.62,0,0,0,766888.61199999996,{"$f":"D1249*'Série - IPCA'!$C$444/'Série - IPCA'!$C$385","v":3721623.2480773251},{"$f":"E1249*'Série - IPCA'!$C$444/'Série - IPCA'!$C$398","v":1234519.2946683553},{"$f":"F1249*'Série - IPCA'!$C$444/'Série - IPCA'!$C$411","v":0},{"$f":"G1249*'Série - IPCA'!$C$444/'Série - IPCA'!$C$424","v":0},{"$f":"H1249*'Série - IPCA'!$C$444/'Série - IPCA'!$C$437","v":0},991228.50854913611,null,"N","SIM","NÃO","ENCARGOS DE COMERCIALIZAÇÃO","VOLUME S/ TERMOELÉTRICA","DESPESAS_GERAIS",5400,"GERÊNCIA COMERCIAL (inativo)"]
[null,null,null,0,0,0,0,0,0,{"$f":"D1250*'Série - IPCA'!$C$444/'Série - IPCA'!$C$385","v":0},{"$f":"E1250*'Série - IPCA'!$C$444/'Série - IPCA'!$C$398","v":0},{"$f":"F1250*'Série - IPCA'!$C$444/'Série - IPCA'!$C$411","v":0},{"$f":"G1250*'Série - IPCA'!$C$444/'Série - IPCA'!$C$424","v":0},{"$f":"H1250*'Série - IPCA'!$C$444/'Série - IPCA'!$C$437","v":0},0,null,"N","SIM","NÃO","ENCARGOS DE COMERCIALIZAÇÃO","VOLUME S/ TERMOELÉTRICA","DESPESAS_GERAIS",5400,"GERÊNCIA COMERCIAL (inativo)"]
[null,null,null,0,0,0,0,0,0,{"$f":"D1251*'Série - IPCA'!$C$444/'Série - IPCA'!$C$385","v":0},{"$f":"E1251*'Série - IPCA'!$C$444/'Série - IPCA'!$C$398","v":0},{"$f":"F1251*'Série - IPCA'!$C$444/'Série - IPCA'!$C$411","v":0},{"$f":"G1251*'Série - IPCA'!$C$444/'Série - IPCA'!$C$424","v":0},{"$f":"H1251*'Série - IPCA'!$C$444/'Série - IPCA'!$C$437","v":0},0,null,"N","SIM","NÃO","OPEX","FIXO","DESPESAS_GERAIS",9999,"RATEIO"]
[null,null,null,0,-1735803.98,-2040263.72,1008906.42,0,-553432.25600000005,{"$f":"D1252*'Série - IPCA'!$C$444/'Série - IPCA'!$C$385","v":0},{"$f":"E1252*'Série - IPCA'!$C$444/'Série - IPCA'!$C$398","v":-2170765.643893233},{"$f":"F1252*'Série - IPCA'!$C$444/'Série - IPCA'!$C$411","v":-2318276.2197771543},{"$f":"G1252*'Série - IPCA'!$C$444/'Série - IPCA'!$C$424","v":1083690.552232364},{"$f":"H1252*'Série - IPCA'!$C$444/'Série - IPCA'!$C$437","v":0},-681070.26228760462,null,"N","SIM","SIM","OPEX","FIXO","DESPESAS_GERAIS",5300,"GERÊNCIA COMERCIAL"]
[null,null,null,0,0,0,0,16044.1,3208.82,{"$f":"D1253*'Série - IPCA'!$C$444/'Série - IPCA'!$C$385","v":0},{"$f":"E1253*'Série - IPCA'!$C$444/'Série - IPCA'!$C$398","v":0},{"$f":"F1253*'Série - IPCA'!$C$444/'Série - IPCA'!$C$411","v":0},{"$f":"G1253*'Série - IPCA'!$C$444/'Série - IPCA'!$C$424","v":0},{"$f":"H1253*'Série - IPCA'!$C$444/'Série - IPCA'!$C$437","v":16472.143087142606},3294.4286174285212,null,"N","SIM","NÃO","OPEX","FUNCIONÁRIOS","PESSOAL",5100,"GERÊNCIA DE ENGENHARIA"]
[null,null,null,0,0,0,0,8745.44,1749.0880000000002,{"$f":"D1254*'Série - IPCA'!$C$444/'Série - IPCA'!$C$385","v":0},{"$f":"E1254*'Série - IPCA'!$C$444/'Série - IPCA'!$C$398","v":0},{"$f":"F1254*'Série - IPCA'!$C$444/'Série - IPCA'!$C$411","v":0},{"$f":"G1254*'Série - IPCA'!$C$444/'Série - IPCA'!$C$424","v":0},{"$f":"H1254*'Série - IPCA'!$C$444/'Série - IPCA'!$C$437","v":8978.760980050014},1795.7521960100028,null,"N","SIM","NÃO","OPEX","FUNCIONÁRIOS","PESSOAL",5200,"GERÊNCIA DE OPERAÇÕES"]
[null,null,null,0,0,0,20260.599999999999,0,4052.12,{"$f":"D1255*'Série - IPCA'!$C$444/'Série - IPCA'!$C$385","v":0},{"$f":"E1255*'Série - IPCA'!$C$444/'Série - IPCA'!$C$398","v":0},{"$f":"F1255*'Série - IPCA'!$C$444/'Série - IPCA'!$C$411","v":0},{"$f":"G1255*'Série - IPCA'!$C$444/'Série - IPCA'!$C$424","v":21762.395765663805},{"$f":"H1255*'Série - IPCA'!$C$444/'Série - IPCA'!$C$437","v":0},4352.479153132761,null,"N","SIM","NÃO","ENCARGOS DE GESTÃO","FUNCIONÁRIOS","PESSOAL",3200,"GERÊNCIA DE PLANEJAMENTO E MEIO AMBIENTE"]
[null,null,null,0,0,0,0,544.28,108.85599999999999,{"$f":"D1256*'Série - IPCA'!$C$444/'Série - IPCA'!$C$385","v":0},{"$f":"E1256*'Série - IPCA'!$C$444/'Série - IPCA'!$C$398","v":0},{"$f":"F1256*'Série - IPCA'!$C$444/'Série - IPCA'!$C$411","v":0},{"$f":"G1256*'Série - IPCA'!$C$444/'Série - IPCA'!$C$424","v":0},{"$f":"H1256*'Série - IPCA'!$C$444/'Série - IPCA'!$C$437","v":558.80093239695441},111.76018647939088,null,"N","SIM","NÃO","ENCARGOS DE GESTÃO","FUNCIONÁRIOS","PESSOAL",4200,"GERÊNCIA FINANCEIRA"]
[null,null,null,2006174.98,1875277.43,1018330.55,1180908.27,1321622.71,1480462.7880000002,{"$f":"D1257*'Série - IPCA'!$C$444/'Série - IPCA'!$C$385","v":2622224.6972293966},{"$f":"E1257*'Série - IPCA'!$C$444/'Série - IPCA'!$C$398","v":2345188.664570522},{"$f":"F1257*'Série - IPCA'!$C$444/'Série - IPCA'!$C$411","v":1157091.34794476},{"$f":"G1257*'Série - IPCA'!$C$444/'Série - IPCA'!$C$424","v":1268441.8593074919},{"$f":"H1257*'Série - IPCA'!$C$444/'Série - IPCA'!$C$437","v":1356882.4917781102},1749965.8121660561,null,"N","SIM","NÃO","OPEX","FUNCIONÁRIOS","PESSOAL",5100,"GERÊNCIA DE ENGENHARIA"]
[null,null,null,2642169.2000000002,2777191.05,2938636.14,3304531.61,3238630.79,2980231.7579999999,{"$f":"D1258*'Série - IPCA'!$C$444/'Série - IPCA'!$C$385","v":3453517.9630736085},{"$f":"E1258*'Série - IPCA'!$C$444/'Série - IPCA'!$C$398","v":3473105.8272304307},{"$f":"F1258*'Série - IPCA'!$C$444/'Série - IPCA'!$C$411","v":3339063.5804374004},{"$f":"G1258*'Série - IPCA'!$C$444/'Série - IPCA'!$C$424","v":3549476.5563194673},{"$f":"H1258*'Série - IPCA'!$C$444/'Série - IPCA'!$C$437","v":3325034.7342204107},3428039.7322562635,null,"N","SIM","NÃO","OPEX","FUNCIONÁRIOS","PESSOAL",5200,"GERÊNCIA DE OPERAÇÕES"]
[null,null,null,624155.82999999996,0,0,0,0,124831.166,{"$f":"D1259*'Série - IPCA'!$C$444/'Série - IPCA'!$C$385","v":815819.58137356129},{"$f":"E1259*'Série - IPCA'!$C$444/'Série - IPCA'!$C$398","v":0},{"$f":"F1259*'Série - IPCA'!$C$444/'Série - IPCA'!$C$411","v":0},{"$f":"G1259*'Série - IPCA'!$C$444/'Série - IPCA'!$C$424","v":0},{"$f":"H1259*'Série - IPCA'!$C$444/'Série - IPCA'!$C$437","v":0},163163.91627471225,null,"N","SIM","NÃO","ENCARGOS DE COMERCIALIZAÇÃO","FUNCIONÁRIOS","PESSOAL",5400,"GERÊNCIA COMERCIAL (inativo)"]
[null,null,null,355786.68,0,0,0,0,71157.335999999996,{"$f":"D1260*'Série - IPCA'!$C$444/'Série - IPCA'!$C$385","v":465040.50172196457},{"$f":"E1260*'Série - IPCA'!$C$444/'Série - IPCA'!$C$398","v":0},{"$f":"F1260*'Série - IPCA'!$C$444/'Série - IPCA'!$C$411","v":0},{"$f":"G1260*'Série - IPCA'!$C$444/'Série - IPCA'!$C$424","v":0},{"$f":"H1260*'Série - IPCA'!$C$444/'Série - IPCA'!$C$437","v":0},93008.100344392908,null,"N","SIM","NÃO","ENCARGOS DE COMERCIALIZAÇÃO","FUNCIONÁRIOS","PESSOAL",5500,"GERÊNCIA COMERCIAL (inativo)"]
[null,null,null,203381.57,0,0,0,0,40676.313999999998,{"$f":"D1261*'Série - IPCA'!$C$444/'Série - IPCA'!$C$385","v":265835.32400313823},{"$f":"E1261*'Série - IPCA'!$C$444/'Série - IPCA'!$C$398","v":0},{"$f":"F1261*'Série - IPCA'!$C$444/'Série - IPCA'!$C$411","v":0},{"$f":"G1261*'Série - IPCA'!$C$444/'Série - IPCA'!$C$424","v":0},{"$f":"H1261*'Série - IPCA'!$C$444/'Série - IPCA'!$C$437","v":0},53167.064800627646,null,"N","SIM","NÃO","ENCARGOS DE GESTÃO","FUNCIONÁRIOS","PESSOAL",2100,"SECRETARIA"]
[null,null,null,457681.81,0,0,0,0,91536.361999999994,{"$f":"D1262*'Série - IPCA'!$C$444/'Série - IPCA'!$C$385","v":598225.2583245018},{"$f":"E1262*'Série - IPCA'!$C$444/'Série - IPCA'!$C$398","v":0},{"$f":"F1262*'Série - IPCA'!$C$444/'Série - IPCA'!$C$411","v":0},{"$f":"G1262*'Série - IPCA'!$C$444/'Série - IPCA'!$C$424","v":0},{"$f":"H1262*'Série - IPCA'!$C$444/'Série - IPCA'!$C$437","v":0},119645.05166490035,null,"N","SIM","NÃO","ENCARGOS DE GESTÃO","FUNCIONÁRIOS","PESSOAL",2200,"DIRETORIA COLEGIADA - PRESIDÊNCIA"]
[null,null,null,103597.14,0,0,0,0,20719.428,{"$f":"D1263*'Série - IPCA'!$C$444/'Série - IPCA'!$C$385","v":135409.414322539},{"$f":"E1263*'Série - IPCA'!$C$444/'Série - IPCA'!$C$398","v":0},{"$f":"F1263*'Série - IPCA'!$C$444/'Série - IPCA'!$C$411","v":0},{"$f":"G1263*'Série - IPCA'!$C$444/'Série - IPCA'!$C$424","v":0},{"$f":"H1263*'Série - IPCA'!$C$444/'Série - IPCA'!$C$437","v":0},27081.882864507799,null,"N","SIM","NÃO","ENCARGOS DE GESTÃO","FUNCIONÁRIOS","PESSOAL",2400,"DIRETORIA COLEGIADA - DTC"]
[null,null,null,350515.89,0,0,0,0,70103.178,{"$f":"D1264*'Série - IPCA'!$C$444/'Série - IPCA'!$C$385","v":458151.17459462211},{"$f":"E1264*'Série - IPCA'!$C$444/'Série - IPCA'!$C$398","v":0},{"$f":"F1264*'Série - IPCA'!$C$444/'Série - IPCA'!$C$411","v":0},{"$f":"G1264*'Série - IPCA'!$C$444/'Série - IPCA'!$C$424","v":0},{"$f":"H1264*'Série - IPCA'!$C$444/'Série - IPCA'!$C$437","v":0},91630.234918924427,null,"N","SIM","NÃO","ENCARGOS DE GESTÃO","FUNCIONÁRIOS","PESSOAL",3400,"MARKETING"]
[null,null,null,1193992.1000000001,2052279.07,2754620.48,2804974.11,3177124.62,2396598.0759999999,{"$f":"D1265*'Série - IPCA'!$C$444/'Série - IPCA'!$C$385","v":1560639.3281391594},{"$f":"E1265*'Série - IPCA'!$C$444/'Série - IPCA'!$C$398","v":2566543.7734721382},{"$f":"F1265*'Série - IPCA'!$C$444/'Série - IPCA'!$C$411","v":3129973.3905453803},{"$f":"G1265*'Série - IPCA'!$C$444/'Série - IPCA'!$C$424","v":3012889.8795820759},{"$f":"H1265*'Série - IPCA'!$C$444/'Série - IPCA'!$C$437","v":3261887.6313612838},2706386.8006200073,null,"N","SIM","NÃO","ENCARGOS DE COMERCIALIZAÇÃO","FUNCIONÁRIOS","PESSOAL",5300,"GERÊNCIA COMERCIAL"]
[null,null,null,0,174177.77,188168.97,211094.95,231262.87,160940.91199999998,{"$f":"D1266*'Série - IPCA'!$C$444/'Série - IPCA'!$C$385","v":0},{"$f":"E1266*'Série - IPCA'!$C$444/'Série - IPCA'!$C$398","v":217823.62720814676},{"$f":"F1266*'Série - IPCA'!$C$444/'Série - IPCA'!$C$411","v":213809.4424631345},{"$f":"G1266*'Série - IPCA'!$C$444/'Série - IPCA'!$C$424","v":226742.14218892893},{"$f":"H1266*'Série - IPCA'!$C$444/'Série - IPCA'!$C$437","v":237432.76876753816},179161.59612554967,null,"N","SIM","NÃO","ENCARGOS DE GESTÃO","FUNCIONÁRIOS","PESSOAL",1005,"AUDITORIA INTERNA"]
[null,null,null,0,0,512524.23,215117.52,192042.1,183936.77,{"$f":"D1267*'Série - IPCA'!$C$444/'Série - IPCA'!$C$385","v":0},{"$f":"E1267*'Série - IPCA'!$C$444/'Série - IPCA'!$C$398","v":0},{"$f":"F1267*'Série - IPCA'!$C$444/'Série - IPCA'!$C$411","v":582362.33033080492},{"$f":"G1267*'Série - IPCA'!$C$444/'Série - IPCA'!$C$424","v":231062.88097924538},{"$f":"H1267*'Série - IPCA'!$C$444/'Série - IPCA'!$C$437","v":197165.62162759824},202118.1665875297,null,"N","SIM","NÃO","ENCARGOS DE GESTÃO","FUNCIONÁRIOS","PESSOAL",1010,"GOVERNANÇA SOCIETÁRIA"]
[null,null,null,50575.43,186608.55,159718.63,115390.49,76943.66,117847.352,{"$f":"D1268*'Série - IPCA'!$C$444/'Série - IPCA'!$C$385","v":66105.969290373934},{"$f":"E1268*'Série - IPCA'!$C$444/'Série - IPCA'!$C$398","v":233369.34000850288},{"$f":"F1268*'Série - IPCA'!$C$444/'Série - IPCA'!$C$411","v":181482.37316320362},{"$f":"G1268*'Série - IPCA'!$C$444/'Série - IPCA'!$C$424","v":123943.68927740896},{"$f":"H1268*'Série - IPCA'!$C$444/'Série - IPCA'!$C$437","v":78996.452101922274},136779.56476828232,null,"N","SIM","NÃO","ENCARGOS DE GESTÃO","FUNCIONÁRIOS","PESSOAL",2110,"ASSESSORIA DA DIRETORIA EXECUTIVA"]
[null,null,null,149691.92000000001,435744.44,464468.09,566213.74,586247.55000000005,440473.14800000004,{"$f":"D1269*'Série - IPCA'!$C$444/'Série - IPCA'!$C$385","v":195658.83011844117},{"$f":"E1269*'Série - IPCA'!$C$444/'Série - IPCA'!$C$398","v":544934.26145358663},{"$f":"F1269*'Série - IPCA'!$C$444/'Série - IPCA'!$C$411","v":527757.91547786538},{"$f":"G1269*'Série - IPCA'!$C$444/'Série - IPCA'!$C$424","v":608183.74074986263},{"$f":"H1269*'Série - IPCA'!$C$444/'Série - IPCA'!$C$437","v":601888.14131592237},495684.57782313565,null,"N","SIM","NÃO","ENCARGOS DE GESTÃO","FUNCIONÁRIOS","PESSOAL",2120,"ASSESSORIA DA PRESIDÊNCIA"]
[null,null,null,0,7134.43,132889.70000000001,150946.10999999999,166918.46,91577.739999999991,{"$f":"D1270*'Série - IPCA'!$C$444/'Série - IPCA'!$C$385","v":0},{"$f":"E1270*'Série - IPCA'!$C$444/'Série - IPCA'!$C$398","v":8922.1915096433877},{"$f":"F1270*'Série - IPCA'!$C$444/'Série - IPCA'!$C$411","v":150997.65208946622},{"$f":"G1270*'Série - IPCA'!$C$444/'Série - IPCA'!$C$424","v":162134.83238933806},{"$f":"H1270*'Série - IPCA'!$C$444/'Série - IPCA'!$C$437","v":171371.70405354549},98685.276008398636,null,"N","SIM","NÃO","ENCARGOS DE GESTÃO","FUNCIONÁRIOS","PESSOAL",2130,"ASSESSORIA DE RELAÇÕES INSTITUCIONAIS E NOVOS NEGÓCIOS"]
[null,null,null,0,0,0,0,249011.11,49802.221999999994,{"$f":"D1271*'Série - IPCA'!$C$444/'Série - IPCA'!$C$385","v":0},{"$f":"E1271*'Série - IPCA'!$C$444/'Série - IPCA'!$C$398","v":0},{"$f":"F1271*'Série - IPCA'!$C$444/'Série - IPCA'!$C$411","v":0},{"$f":"G1271*'Série - IPCA'!$C$444/'Série - IPCA'!$C$424","v":0},{"$f":"H1271*'Série - IPCA'!$C$444/'Série - IPCA'!$C$437","v":255654.51687587379},51130.903375174756,null,"N","SIM","NÃO","ENCARGOS DE GESTÃO","FUNCIONÁRIOS","PESSOAL",2140,"ASSESSORIA DTC"]
[null,null,null,0,188777.33,202012.3,3154.56,0,78788.838000000003,{"$f":"D1272*'Série - IPCA'!$C$444/'Série - IPCA'!$C$385","v":0},{"$f":"E1272*'Série - IPCA'!$C$444/'Série - IPCA'!$C$398","v":236081.57777694191},{"$f":"F1272*'Série - IPCA'!$C$444/'Série - IPCA'!$C$411","v":229539.1064408519},{"$f":"G1272*'Série - IPCA'!$C$444/'Série - IPCA'!$C$424","v":3388.3884577224972},{"$f":"H1272*'Série - IPCA'!$C$444/'Série - IPCA'!$C$437","v":0},93801.814535103258,null,"N","SIM","NÃO","ENCARGOS DE GESTÃO","FUNCIONÁRIOS","PESSOAL",2300,"DIRETORIA COLEGIADA - DAF"]
[null,null,null,0,0,0,3089.21,0,617.84199999999998,{"$f":"D1273*'Série - IPCA'!$C$444/'Série - IPCA'!$C$385","v":0},{"$f":"E1273*'Série - IPCA'!$C$444/'Série - IPCA'!$C$398","v":0},{"$f":"F1273*'Série - IPCA'!$C$444/'Série - IPCA'!$C$411","v":0},{"$f":"G1273*'Série - IPCA'!$C$444/'Série - IPCA'!$C$424","v":3318.194457382619},{"$f":"H1273*'Série - IPCA'!$C$444/'Série - IPCA'!$C$437","v":0},663.63889147652378,null,"N","SIM","NÃO","ENCARGOS DE GESTÃO","FUNCIONÁRIOS","PESSOAL",2310,"ASSESSORIA DAF"]
[null,null,null,102808.26,356773.48,449031.2,490575.13,574759.35,394789.484,{"$f":"D1274*'Série - IPCA'!$C$444/'Série - IPCA'!$C$385","v":134378.28760638868},{"$f":"E1274*'Série - IPCA'!$C$444/'Série - IPCA'!$C$398","v":446174.58074743528},{"$f":"F1274*'Série - IPCA'!$C$444/'Série - IPCA'!$C$411","v":510217.54819911194},{"$f":"G1274*'Série - IPCA'!$C$444/'Série - IPCA'!$C$424","v":526938.49796412606},{"$f":"H1274*'Série - IPCA'!$C$444/'Série - IPCA'!$C$437","v":590093.44580706162},441560.47206482466,null,"N","SIM","NÃO","ENCARGOS DE GESTÃO","FUNCIONÁRIOS","PESSOAL",2410,"ASSESSORIA DE SEGURANÇA DO TRABALHO"]
[null,null,null,356984.79,3236.36,0,0,0,72044.23,{"$f":"D1275*'Série - IPCA'!$C$444/'Série - IPCA'!$C$385","v":466606.52346150269},{"$f":"E1275*'Série - IPCA'!$C$444/'Série - IPCA'!$C$398","v":4047.3343650648299},{"$f":"F1275*'Série - IPCA'!$C$444/'Série - IPCA'!$C$411","v":0},{"$f":"G1275*'Série - IPCA'!$C$444/'Série - IPCA'!$C$424","v":0},{"$f":"H1275*'Série - IPCA'!$C$444/'Série - IPCA'!$C$437","v":0},94130.771565313495,null,"N","SIM","NÃO","ENCARGOS DE GESTÃO","FUNCIONÁRIOS","PESSOAL",3100,"SMS"]
[null,null,null,487156.02,700791.45,699497,721700.85,820877.99,686004.66199999989,{"$f":"D1276*'Série - IPCA'!$C$444/'Série - IPCA'!$C$385","v":636750.31329918082},{"$f":"E1276*'Série - IPCA'!$C$444/'Série - IPCA'!$C$398","v":876397.34712102811},{"$f":"F1276*'Série - IPCA'!$C$444/'Série - IPCA'!$C$411","v":794812.57496725},{"$f":"G1276*'Série - IPCA'!$C$444/'Série - IPCA'!$C$424","v":775196.17001056077},{"$f":"H1276*'Série - IPCA'!$C$444/'Série - IPCA'!$C$437","v":842778.3240173033},785186.94588306453,null,"N","SIM","NÃO","ENCARGOS DE GESTÃO","FUNCIONÁRIOS","PESSOAL",3200,"GERÊNCIA DE PLANEJAMENTO E MEIO AMBIENTE"]
[null,null,null,452772.99,441865.26,426532.7,446699.15,473252.85,448224.59,{"$f":"D1277*'Série - IPCA'!$C$444/'Série - IPCA'!$C$385","v":591809.05377276638},{"$f":"E1277*'Série - IPCA'!$C$444/'Série - IPCA'!$C$398","v":552588.85029054421},{"$f":"F1277*'Série - IPCA'!$C$444/'Série - IPCA'!$C$411","v":484653.33460291254},{"$f":"G1277*'Série - IPCA'!$C$444/'Série - IPCA'!$C$424","v":479810.25687717157},{"$f":"H1277*'Série - IPCA'!$C$444/'Série - IPCA'!$C$437","v":485878.83780318225},518948.06666931527,null,"N","SIM","NÃO","ENCARGOS DE GESTÃO","FUNCIONÁRIOS","PESSOAL",3300,"GERÊNCIA JURÍDICA"]
[null,null,null,128994.13,331548.73,429093.14,404369.51,334963.34999999998,325793.772,{"$f":"D1278*'Série - IPCA'!$C$444/'Série - IPCA'!$C$385","v":168605.22978091345},{"$f":"E1278*'Série - IPCA'!$C$444/'Série - IPCA'!$C$398","v":414628.95617996779},{"$f":"F1278*'Série - IPCA'!$C$444/'Série - IPCA'!$C$411","v":487562.66789447656},{"$f":"G1278*'Série - IPCA'!$C$444/'Série - IPCA'!$C$424","v":434342.97662396712},{"$f":"H1278*'Série - IPCA'!$C$444/'Série - IPCA'!$C$437","v":343899.89031161793},369807.94415818853,null,"N","SIM","NÃO","ENCARGOS DE GESTÃO","FUNCIONÁRIOS","PESSOAL",3500,"ASSESSORIA DE COMUNICAÇÃO INSTITUCIONAL"]
[null,null,null,478156.95,899553.48,703405.4,974025.27,911342.8,793296.78,{"$f":"D1279*'Série - IPCA'!$C$444/'Série - IPCA'!$C$385","v":624987.8380209296},{"$f":"E1279*'Série - IPCA'!$C$444/'Série - IPCA'!$C$398","v":1124965.6134724375},{"$f":"F1279*'Série - IPCA'!$C$444/'Série - IPCA'!$C$411","v":799253.54536169337},{"$f":"G1279*'Série - IPCA'!$C$444/'Série - IPCA'!$C$424","v":1046223.8735031314},{"$f":"H1279*'Série - IPCA'!$C$444/'Série - IPCA'!$C$437","v":935656.65902339085},906217.50587631646,null,"N","SIM","NÃO","ENCARGOS DE GESTÃO","FUNCIONÁRIOS","PESSOAL",3600,"GERÊNCIA DE GOVERNANÇA, RISCO E COMPLIANCE"]
[null,null,null,0,12301.26,150606.60999999999,173971.8,192302.75,105836.48399999998,{"$f":"D1280*'Série - IPCA'!$C$444/'Série - IPCA'!$C$385","v":0},{"$f":"E1280*'Série - IPCA'!$C$444/'Série - IPCA'!$C$398","v":15383.737387558054},{"$f":"F1280*'Série - IPCA'!$C$444/'Série - IPCA'!$C$411","v":171128.72178320758},{"$f":"G1280*'Série - IPCA'!$C$444/'Série - IPCA'!$C$424","v":186867.27755668198},{"$f":"H1280*'Série - IPCA'!$C$444/'Série - IPCA'!$C$437","v":197433.22555026534},114162.5924555426,null,"N","SIM","NÃO","ENCARGOS DE GESTÃO","FUNCIONÁRIOS","PESSOAL",3700,"GERÊNCIA DE REGULAÇÃO"]
[null,null,null,1024672.01,1752764.38,1599605.7,1622378.33,1796313.93,1559146.8699999999,{"$f":"D1281*'Série - IPCA'!$C$444/'Série - IPCA'!$C$385","v":1339324.9731295558},{"$f":"E1281*'Série - IPCA'!$C$444/'Série - IPCA'!$C$398","v":2191976.0190570732},{"$f":"F1281*'Série - IPCA'!$C$444/'Série - IPCA'!$C$411","v":1817572.8063870042},{"$f":"G1281*'Série - IPCA'!$C$444/'Série - IPCA'!$C$424","v":1742635.4253623644},{"$f":"H1281*'Série - IPCA'!$C$444/'Série - IPCA'!$C$437","v":1844238.0740825264},1787149.459603705,null,"N","SIM","NÃO","ENCARGOS DE GESTÃO","FUNCIONÁRIOS","PESSOAL",4100,"GERÊNCIA DE SERVIÇOS CORPORATIVOS"]
[null,null,null,673130.64,739301.29,679143.1,772014.53,829801.97,738678.3060000001,{"$f":"D1282*'Série - IPCA'!$C$444/'Série - IPCA'!$C$385","v":879833.41745685122},{"$f":"E1282*'Série - IPCA'!$C$444/'Série - IPCA'!$C$398","v":924557.06940938567},{"$f":"F1282*'Série - IPCA'!$C$444/'Série - IPCA'!$C$411","v":771685.19104762492},{"$f":"G1282*'Série - IPCA'!$C$444/'Série - IPCA'!$C$424","v":829239.29887085943},{"$f":"H1282*'Série - IPCA'!$C$444/'Série - IPCA'!$C$437","v":851940.38829431473},851451.0730158072,null,"N","SIM","NÃO","ENCARGOS DE GESTÃO","FUNCIONÁRIOS","PESSOAL",4200,"GERÊNCIA FINANCEIRA"]
[null,null,null,888515.6,964392.86,1097766.03,786917.76,806353.86,908789.22200000007,{"$f":"D1283*'Série - IPCA'!$C$444/'Série - IPCA'!$C$385","v":1161358.0935963998},{"$f":"E1283*'Série - IPCA'!$C$444/'Série - IPCA'!$C$398","v":1206052.5910903467},{"$f":"F1283*'Série - IPCA'!$C$444/'Série - IPCA'!$C$411","v":1247350.9464885129},{"$f":"G1283*'Série - IPCA'!$C$444/'Série - IPCA'!$C$424","v":845247.21519351087},{"$f":"H1283*'Série - IPCA'!$C$444/'Série - IPCA'!$C$437","v":827866.70245072991},1057575.1097639001,null,"N","SIM","NÃO","ENCARGOS DE GESTÃO","FUNCIONÁRIOS","PESSOAL",4300,"GERÊNCIA DE TECNOLOGIA E SISTEMAS DE INFORMAÇÃO"]
[null,null,null,596015.38,627247.76,645000.06999999995,733117.69,798206.63,679917.50599999994,{"$f":"D1284*'Série - IPCA'!$C$444/'Série - IPCA'!$C$385","v":779037.85310121044},{"$f":"E1284*'Série - IPCA'!$C$444/'Série - IPCA'!$C$398","v":784424.91393353546},{"$f":"F1284*'Série - IPCA'!$C$444/'Série - IPCA'!$C$411","v":732889.72860606457},{"$f":"G1284*'Série - IPCA'!$C$444/'Série - IPCA'!$C$424","v":787459.27132410835},{"$f":"H1284*'Série - IPCA'!$C$444/'Série - IPCA'!$C$437","v":819502.11121009558},780662.77563500288,null,"N","SIM","NÃO","ENCARGOS DE GESTÃO","FUNCIONÁRIOS","PESSOAL",4500,"GERÊNCIA CONTÁBIL"]
[null,null,null,386802.77,1984.6,0,0,347798.58,{"$f":"AVERAGE(D1285:H1285)","v":147317.19},{"$f":"D1285*'Série - IPCA'!$C$444/'Série - IPCA'!$C$385","v":505580.91221471719},{"$f":"E1285*'Série - IPCA'!$C$444/'Série - IPCA'!$C$398","v":2481.9055299495913},{"$f":"F1285*'Série - IPCA'!$C$444/'Série - IPCA'!$C$411","v":0},{"$f":"G1285*'Série - IPCA'!$C$444/'Série - IPCA'!$C$424","v":0},{"$f":"H1285*'Série - IPCA'!$C$444/'Série - IPCA'!$C$437","v":357077.55344737408},{"$f":"AVERAGE(J1285:N1285)","v":173028.07423840818},null,"N","SIM","NÃO","ENCARGOS DE GESTÃO","FUNCIONÁRIOS","PESSOAL",4600,"GERÊNCIA DE PESSOAS E CULTURA"]
[null,null,null,4929.1099999999997,0,0,0,0,985.82199999999989,{"$f":"D1286*'Série - IPCA'!$C$444/'Série - IPCA'!$C$385","v":6442.7251392400431},{"$f":"E1286*'Série - IPCA'!$C$444/'Série - IPCA'!$C$398","v":0},{"$f":"F1286*'Série - IPCA'!$C$444/'Série - IPCA'!$C$411","v":0},{"$f":"G1286*'Série - IPCA'!$C$444/'Série - IPCA'!$C$424","v":0},{"$f":"H1286*'Série - IPCA'!$C$444/'Série - IPCA'!$C$437","v":0},1288.5450278480087,null,"N","SIM","NÃO","ENCARGOS DE COMERCIALIZAÇÃO","FUNCIONÁRIOS","PESSOAL",5400,"GERÊNCIA COMERCIAL (inativo)"]
[null,null,null,2466.94,0,0,0,0,493.38800000000003,{"$f":"D1287*'Série - IPCA'!$C$444/'Série - IPCA'!$C$385","v":3224.4799476978264},{"$f":"E1287*'Série - IPCA'!$C$444/'Série - IPCA'!$C$398","v":0},{"$f":"F1287*'Série - IPCA'!$C$444/'Série - IPCA'!$C$411","v":0},{"$f":"G1287*'Série - IPCA'!$C$444/'Série - IPCA'!$C$424","v":0},{"$f":"H1287*'Série - IPCA'!$C$444/'Série - IPCA'!$C$437","v":0},644.89598953956533,null,"N","SIM","NÃO","ENCARGOS DE COMERCIALIZAÇÃO","FUNCIONÁRIOS","PESSOAL",5500,"GERÊNCIA COMERCIAL (inativo)"]
[null,null,null,864.83,0,0,0,0,172.96600000000001,{"$f":"D1288*'Série - IPCA'!$C$444/'Série - IPCA'!$C$385","v":1130.3991962380564},{"$f":"E1288*'Série - IPCA'!$C$444/'Série - IPCA'!$C$398","v":0},{"$f":"F1288*'Série - IPCA'!$C$444/'Série - IPCA'!$C$411","v":0},{"$f":"G1288*'Série - IPCA'!$C$444/'Série - IPCA'!$C$424","v":0},{"$f":"H1288*'Série - IPCA'!$C$444/'Série - IPCA'!$C$437","v":0},226.07983924761129,null,"N","SIM","NÃO","ENCARGOS DE GESTÃO","FUNCIONÁRIOS","PESSOAL",2100,"SECRETARIA"]
[null,null,null,2093.58,0,0,0,0,418.71600000000001,{"$f":"D1289*'Série - IPCA'!$C$444/'Série - IPCA'!$C$385","v":2736.4697677694694},{"$f":"E1289*'Série - IPCA'!$C$444/'Série - IPCA'!$C$398","v":0},{"$f":"F1289*'Série - IPCA'!$C$444/'Série - IPCA'!$C$411","v":0},{"$f":"G1289*'Série - IPCA'!$C$444/'Série - IPCA'!$C$424","v":0},{"$f":"H1289*'Série - IPCA'!$C$444/'Série - IPCA'!$C$437","v":0},547.29395355389386,null,"N","SIM","NÃO","ENCARGOS DE GESTÃO","FUNCIONÁRIOS","PESSOAL",3100,"SMS"]
[null,null,null,1724.96,0,0,0,0,344.99200000000002,{"$f":"D1290*'Série - IPCA'!$C$444/'Série - IPCA'!$C$385","v":2254.6551316938562},{"$f":"E1290*'Série - IPCA'!$C$444/'Série - IPCA'!$C$398","v":0},{"$f":"F1290*'Série - IPCA'!$C$444/'Série - IPCA'!$C$411","v":0},{"$f":"G1290*'Série - IPCA'!$C$444/'Série - IPCA'!$C$424","v":0},{"$f":"H1290*'Série - IPCA'!$C$444/'Série - IPCA'!$C$437","v":0},450.93102633877123,null,"N","SIM","NÃO","ENCARGOS DE GESTÃO","FUNCIONÁRIOS","PESSOAL",3400,"MARKETING"]
[null,null,null,1724.95,0,0,0,0,344.99,{"$f":"D1291*'Série - IPCA'!$C$444/'Série - IPCA'!$C$385","v":2254.6420609262345},{"$f":"E1291*'Série - IPCA'!$C$444/'Série - IPCA'!$C$398","v":0},{"$f":"F1291*'Série - IPCA'!$C$444/'Série - IPCA'!$C$411","v":0},{"$f":"G1291*'Série - IPCA'!$C$444/'Série - IPCA'!$C$424","v":0},{"$f":"H1291*'Série - IPCA'!$C$444/'Série - IPCA'!$C$437","v":0},450.92841218524688,null,"N","SIM","NÃO","ENCARGOS DE GESTÃO","FUNCIONÁRIOS","PESSOAL",4600,"GERÊNCIA DE PESSOAS E CULTURA"]
[null,null,null,30299.16,0,0,0,0,6059.8320000000003,{"$f":"D1292*'Série - IPCA'!$C$444/'Série - IPCA'!$C$385","v":39603.32794964128},{"$f":"E1292*'Série - IPCA'!$C$444/'Série - IPCA'!$C$398","v":0},{"$f":"F1292*'Série - IPCA'!$C$444/'Série - IPCA'!$C$411","v":0},{"$f":"G1292*'Série - IPCA'!$C$444/'Série - IPCA'!$C$424","v":0},{"$f":"H1292*'Série - IPCA'!$C$444/'Série - IPCA'!$C$437","v":0},7920.6655899282559,null,"N","NÃO","NÃO","ENCARGOS DE COMERCIALIZAÇÃO","FUNCIONÁRIOS","PESSOAL",5400,"GERÊNCIA COMERCIAL (inativo)"]
[null,null,null,15164.13,0,0,0,0,3032.826,{"$f":"D1293*'Série - IPCA'!$C$444/'Série - IPCA'!$C$385","v":19820.681941710391},{"$f":"E1293*'Série - IPCA'!$C$444/'Série - IPCA'!$C$398","v":0},{"$f":"F1293*'Série - IPCA'!$C$444/'Série - IPCA'!$C$411","v":0},{"$f":"G1293*'Série - IPCA'!$C$444/'Série - IPCA'!$C$424","v":0},{"$f":"H1293*'Série - IPCA'!$C$444/'Série - IPCA'!$C$437","v":0},3964.1363883420781,null,"N","NÃO","NÃO","ENCARGOS DE COMERCIALIZAÇÃO","FUNCIONÁRIOS","PESSOAL",5500,"GERÊNCIA COMERCIAL (inativo)"]
[null,null,null,5316.14,0,0,0,0,1063.2280000000001,{"$f":"D1294*'Série - IPCA'!$C$444/'Série - IPCA'!$C$385","v":6948.6030585074313},{"$f":"E1294*'Série - IPCA'!$C$444/'Série - IPCA'!$C$398","v":0},{"$f":"F1294*'Série - IPCA'!$C$444/'Série - IPCA'!$C$411","v":0},{"$f":"G1294*'Série - IPCA'!$C$444/'Série - IPCA'!$C$424","v":0},{"$f":"H1294*'Série - IPCA'!$C$444/'Série - IPCA'!$C$437","v":0},1389.7206117014862,null,"N","NÃO","NÃO","ENCARGOS DE GESTÃO","FUNCIONÁRIOS","PESSOAL",2100,"SECRETARIA"]
[null,null,null,12869.15,0,0,0,0,2573.83,{"$f":"D1295*'Série - IPCA'!$C$444/'Série - IPCA'!$C$385","v":16820.966914037424},{"$f":"E1295*'Série - IPCA'!$C$444/'Série - IPCA'!$C$398","v":0},{"$f":"F1295*'Série - IPCA'!$C$444/'Série - IPCA'!$C$411","v":0},{"$f":"G1295*'Série - IPCA'!$C$444/'Série - IPCA'!$C$424","v":0},{"$f":"H1295*'Série - IPCA'!$C$444/'Série - IPCA'!$C$437","v":0},3364.1933828074848,null,"N","NÃO","NÃO","ENCARGOS DE GESTÃO","FUNCIONÁRIOS","PESSOAL",3100,"SMS"]
[null,null,null,10603.26,0,0,0,0,2120.652,{"$f":"D1296*'Série - IPCA'!$C$444/'Série - IPCA'!$C$385","v":13859.274749376335},{"$f":"E1296*'Série - IPCA'!$C$444/'Série - IPCA'!$C$398","v":0},{"$f":"F1296*'Série - IPCA'!$C$444/'Série - IPCA'!$C$411","v":0},{"$f":"G1296*'Série - IPCA'!$C$444/'Série - IPCA'!$C$424","v":0},{"$f":"H1296*'Série - IPCA'!$C$444/'Série - IPCA'!$C$437","v":0},2771.8549498752668,null,"N","NÃO","NÃO","ENCARGOS DE GESTÃO","FUNCIONÁRIOS","PESSOAL",3400,"MARKETING"]
[null,null,null,10603.26,0,0,0,0,2120.652,{"$f":"D1297*'Série - IPCA'!$C$444/'Série - IPCA'!$C$385","v":13859.274749376335},{"$f":"E1297*'Série - IPCA'!$C$444/'Série - IPCA'!$C$398","v":0},{"$f":"F1297*'Série - IPCA'!$C$444/'Série - IPCA'!$C$411","v":0},{"$f":"G1297*'Série - IPCA'!$C$444/'Série - IPCA'!$C$424","v":0},{"$f":"H1297*'Série - IPCA'!$C$444/'Série - IPCA'!$C$437","v":0},2771.8549498752668,null,"N","NÃO","NÃO","ENCARGOS DE GESTÃO","FUNCIONÁRIOS","PESSOAL",4600,"GERÊNCIA DE PESSOAS E CULTURA"]
[null,null,null,-14993.09,0,0,0,0,-2998.6179999999999,{"$f":"D1298*'Série - IPCA'!$C$444/'Série - IPCA'!$C$385","v":-19597.119532306748},{"$f":"E1298*'Série - IPCA'!$C$444/'Série - IPCA'!$C$398","v":0},{"$f":"F1298*'Série - IPCA'!$C$444/'Série - IPCA'!$C$411","v":0},{"$f":"G1298*'Série - IPCA'!$C$444/'Série - IPCA'!$C$424","v":0},{"$f":"H1298*'Série - IPCA'!$C$444/'Série - IPCA'!$C$437","v":0},-3919.4239064613494,null,"N","NÃO","NÃO","OPEX","FUNCIONÁRIOS","PESSOAL",5100,"GERÊNCIA DE ENGENHARIA"]
[null,null,null,-36916.93,0,0,0,0,-7383.3860000000004,{"$f":"D1299*'Série - IPCA'!$C$444/'Série - IPCA'!$C$385","v":-48253.26133410797},{"$f":"E1299*'Série - IPCA'!$C$444/'Série - IPCA'!$C$398","v":0},{"$f":"F1299*'Série - IPCA'!$C$444/'Série - IPCA'!$C$411","v":0},{"$f":"G1299*'Série - IPCA'!$C$444/'Série - IPCA'!$C$424","v":0},{"$f":"H1299*'Série - IPCA'!$C$444/'Série - IPCA'!$C$437","v":0},-9650.6522668215948,null,"N","NÃO","NÃO","OPEX","FUNCIONÁRIOS","PESSOAL",5200,"GERÊNCIA DE OPERAÇÕES"]
[null,null,null,24634.42,14853.19,20906.86,21943.23,24018.57,21271.253999999997,{"$f":"D1300*'Série - IPCA'!$C$444/'Série - IPCA'!$C$385","v":32199.077931837124},{"$f":"E1300*'Série - IPCA'!$C$444/'Série - IPCA'!$C$398","v":18575.135744428084},{"$f":"F1300*'Série - IPCA'!$C$444/'Série - IPCA'!$C$411","v":23755.691920165202},{"$f":"G1300*'Série - IPCA'!$C$444/'Série - IPCA'!$C$424","v":23569.748952991868},{"$f":"H1300*'Série - IPCA'!$C$444/'Série - IPCA'!$C$437","v":24659.365236351729},24551.803957154803,null,"N","NÃO","NÃO","OPEX","FUNCIONÁRIOS","PESSOAL",5100,"GERÊNCIA DE ENGENHARIA"]
[null,null,null,60656.44,30878.93,34224.44,35921.040000000001,39318.26,40199.822,{"$f":"D1301*'Série - IPCA'!$C$444/'Série - IPCA'!$C$385","v":79282.623200700604},{"$f":"E1301*'Série - IPCA'!$C$444/'Série - IPCA'!$C$398","v":38616.641704084621},{"$f":"F1301*'Série - IPCA'!$C$444/'Série - IPCA'!$C$411","v":38887.96561416582},{"$f":"G1301*'Série - IPCA'!$C$444/'Série - IPCA'!$C$424","v":38583.649486897739},{"$f":"H1301*'Série - IPCA'!$C$444/'Série - IPCA'!$C$437","v":40367.238091103623},47147.623619390484,null,"N","NÃO","NÃO","OPEX","FUNCIONÁRIOS","PESSOAL",5200,"GERÊNCIA DE OPERAÇÕES"]
[null,null,null,13653.5,25046.79,18057.21,18952.38,20744.830000000002,19290.942000000003,{"$f":"D1302*'Série - IPCA'!$C$444/'Série - IPCA'!$C$385","v":17846.172572455052},{"$f":"E1302*'Série - IPCA'!$C$444/'Série - IPCA'!$C$398","v":31323.070950562396},{"$f":"F1302*'Série - IPCA'!$C$444/'Série - IPCA'!$C$411","v":20517.740000063437},{"$f":"G1302*'Série - IPCA'!$C$444/'Série - IPCA'!$C$424","v":20357.20532764338},{"$f":"H1302*'Série - IPCA'!$C$444/'Série - IPCA'!$C$437","v":21298.284607952366},22268.494691735326,null,"N","NÃO","NÃO","ENCARGOS DE COMERCIALIZAÇÃO","FUNCIONÁRIOS","PESSOAL",5300,"GERÊNCIA COMERCIAL"]
[null,null,null,0,311.85000000000002,945.03,991.87,1085.68,666.88600000000008,{"$f":"D1303*'Série - IPCA'!$C$444/'Série - IPCA'!$C$385","v":0},{"$f":"E1303*'Série - IPCA'!$C$444/'Série - IPCA'!$C$398","v":389.99407412817709},{"$f":"F1303*'Série - IPCA'!$C$444/'Série - IPCA'!$C$411","v":1073.8026435014019},{"$f":"G1303*'Série - IPCA'!$C$444/'Série - IPCA'!$C$424","v":1065.3913254340425},{"$f":"H1303*'Série - IPCA'!$C$444/'Série - IPCA'!$C$437","v":1114.6450288173835},728.76661437620101,null,"N","NÃO","NÃO","ENCARGOS DE GESTÃO","FUNCIONÁRIOS","PESSOAL",1005,"AUDITORIA INTERNA"]
[null,null,null,0,940.34,2849.61,2990.89,3273.73,2010.914,{"$f":"D1304*'Série - IPCA'!$C$444/'Série - IPCA'!$C$385","v":0},{"$f":"E1304*'Série - IPCA'!$C$444/'Série - IPCA'!$C$398","v":1175.9725113538241},{"$f":"F1304*'Série - IPCA'!$C$444/'Série - IPCA'!$C$411","v":3237.9064695808916},{"$f":"G1304*'Série - IPCA'!$C$444/'Série - IPCA'!$C$424","v":3212.586590306616},{"$f":"H1304*'Série - IPCA'!$C$444/'Série - IPCA'!$C$437","v":3361.0703616077785},2197.5071865698219,null,"N","NÃO","NÃO","ENCARGOS DE GESTÃO","FUNCIONÁRIOS","PESSOAL",2120,"ASSESSORIA DA PRESIDÊNCIA"]
[null,null,null,0,311.85000000000002,945.03,991.87,1085.68,666.88600000000008,{"$f":"D1305*'Série - IPCA'!$C$444/'Série - IPCA'!$C$385","v":0},{"$f":"E1305*'Série - IPCA'!$C$444/'Série - IPCA'!$C$398","v":389.99407412817709},{"$f":"F1305*'Série - IPCA'!$C$444/'Série - IPCA'!$C$411","v":1073.8026435014019},{"$f":"G1305*'Série - IPCA'!$C$444/'Série - IPCA'!$C$424","v":1065.3913254340425},{"$f":"H1305*'Série - IPCA'!$C$444/'Série - IPCA'!$C$437","v":1114.6450288173835},728.76661437620101,null,"N","NÃO","NÃO","ENCARGOS DE GESTÃO","FUNCIONÁRIOS","PESSOAL",2310,"ASSESSORIA DAF"]
[null,null,null,0,2345.0500000000002,1904.6,1999.02,2188.0700000000002,1687.348,{"$f":"D1306*'Série - IPCA'!$C$444/'Série - IPCA'!$C$385","v":0},{"$f":"E1306*'Série - IPCA'!$C$444/'Série - IPCA'!$C$398","v":2932.6779013444975},{"$f":"F1306*'Série - IPCA'!$C$444/'Série - IPCA'!$C$411","v":2164.1265513399258},{"$f":"G1306*'Série - IPCA'!$C$444/'Série - IPCA'!$C$424","v":2147.1952648725737},{"$f":"H1306*'Série - IPCA'!$C$444/'Série - IPCA'!$C$437","v":2246.4458663735654},1898.0891167861125,null,"N","NÃO","NÃO","ENCARGOS DE GESTÃO","FUNCIONÁRIOS","PESSOAL",2110,"ASSESSORIA DA DIRETORIA EXECUTIVA"]
[null,null,null,12113.88,3911.41,0,0,0,3205.058,{"$f":"D1307*'Série - IPCA'!$C$444/'Série - IPCA'!$C$385","v":15833.771047864051},{"$f":"E1307*'Série - IPCA'!$C$444/'Série - IPCA'!$C$398","v":4891.5399117707002},{"$f":"F1307*'Série - IPCA'!$C$444/'Série - IPCA'!$C$411","v":0},{"$f":"G1307*'Série - IPCA'!$C$444/'Série - IPCA'!$C$424","v":0},{"$f":"H1307*'Série - IPCA'!$C$444/'Série - IPCA'!$C$437","v":0},4145.0621919269497,null,"N","NÃO","NÃO","ENCARGOS DE GESTÃO","FUNCIONÁRIOS","PESSOAL",2200,"DIRETORIA COLEGIADA - PRESIDÊNCIA"]
[null,null,null,3021.19,975.5,0,0,0,799.33799999999997,{"$f":"D1308*'Série - IPCA'!$C$444/'Série - IPCA'!$C$385","v":3948.9272431373265},{"$f":"E1308*'Série - IPCA'!$C$444/'Série - IPCA'!$C$398","v":1219.942983203581},{"$f":"F1308*'Série - IPCA'!$C$444/'Série - IPCA'!$C$411","v":0},{"$f":"G1308*'Série - IPCA'!$C$444/'Série - IPCA'!$C$424","v":0},{"$f":"H1308*'Série - IPCA'!$C$444/'Série - IPCA'!$C$437","v":0},1033.7740452681815,null,"N","NÃO","NÃO","ENCARGOS DE GESTÃO","FUNCIONÁRIOS","PESSOAL",2300,"DIRETORIA COLEGIADA - DAF"]
[null,null,null,3021.19,975.5,0,0,0,799.33799999999997,{"$f":"D1309*'Série - IPCA'!$C$444/'Série - IPCA'!$C$385","v":3948.9272431373265},{"$f":"E1309*'Série - IPCA'!$C$444/'Série - IPCA'!$C$398","v":1219.942983203581},{"$f":"F1309*'Série - IPCA'!$C$444/'Série - IPCA'!$C$411","v":0},{"$f":"G1309*'Série - IPCA'!$C$444/'Série - IPCA'!$C$424","v":0},{"$f":"H1309*'Série - IPCA'!$C$444/'Série - IPCA'!$C$437","v":0},1033.7740452681815,null,"N","NÃO","NÃO","ENCARGOS DE GESTÃO","FUNCIONÁRIOS","PESSOAL",2400,"DIRETORIA COLEGIADA - DTC"]
[null,null,null,7582.06,10364.799999999999,11398.44,11963.48,13094.97,10880.75,{"$f":"D1310*'Série - IPCA'!$C$444/'Série - IPCA'!$C$385","v":9910.3344354713863},{"$f":"E1310*'Série - IPCA'!$C$444/'Série - IPCA'!$C$398","v":12962.034887040978},{"$f":"F1310*'Série - IPCA'!$C$444/'Série - IPCA'!$C$411","v":12951.625878323566},{"$f":"G1310*'Série - IPCA'!$C$444/'Série - IPCA'!$C$424","v":12850.260431310209},{"$f":"H1310*'Série - IPCA'!$C$444/'Série - IPCA'!$C$437","v":13444.332780389039},12423.717682507038,null,"N","NÃO","NÃO","ENCARGOS DE GESTÃO","FUNCIONÁRIOS","PESSOAL",3200,"GERÊNCIA DE PLANEJAMENTO E MEIO AMBIENTE"]
[null,null,null,9092.66,4188.08,3794.64,3982.74,4359.42,5083.5079999999998,{"$f":"D1311*'Série - IPCA'!$C$444/'Série - IPCA'!$C$385","v":11884.80459242386},{"$f":"E1311*'Série - IPCA'!$C$444/'Série - IPCA'!$C$398","v":5237.5385024041543},{"$f":"F1311*'Série - IPCA'!$C$444/'Série - IPCA'!$C$411","v":4311.7091130822937},{"$f":"G1311*'Série - IPCA'!$C$444/'Série - IPCA'!$C$424","v":4277.9564332615946},{"$f":"H1311*'Série - IPCA'!$C$444/'Série - IPCA'!$C$437","v":4475.7256572167471},6037.54685967773,null,"N","NÃO","NÃO","ENCARGOS DE GESTÃO","FUNCIONÁRIOS","PESSOAL",3300,"GERÊNCIA JURÍDICA"]
[null,null,null,0,4675.8599999999997,3794.64,3982.74,4359.42,3362.5320000000002,{"$f":"D1312*'Série - IPCA'!$C$444/'Série - IPCA'!$C$385","v":0},{"$f":"E1312*'Série - IPCA'!$C$444/'Série - IPCA'!$C$398","v":5847.5475114733936},{"$f":"F1312*'Série - IPCA'!$C$444/'Série - IPCA'!$C$411","v":4311.7091130822937},{"$f":"G1312*'Série - IPCA'!$C$444/'Série - IPCA'!$C$424","v":4277.9564332615946},{"$f":"H1312*'Série - IPCA'!$C$444/'Série - IPCA'!$C$437","v":4475.7256572167471},3782.5877430068058,null,"N","NÃO","NÃO","ENCARGOS DE GESTÃO","FUNCIONÁRIOS","PESSOAL",3500,"ASSESSORIA DE COMUNICAÇÃO INSTITUCIONAL"]
[null,null,null,4560.84,3669.97,6658.81,6988.89,7649.87,5905.6759999999995,{"$f":"D1313*'Série - IPCA'!$C$444/'Série - IPCA'!$C$385","v":5961.3679800311947},{"$f":"E1313*'Série - IPCA'!$C$444/'Série - IPCA'!$C$398","v":4589.5993337443833},{"$f":"F1313*'Série - IPCA'!$C$444/'Série - IPCA'!$C$411","v":7566.1595722607444},{"$f":"G1313*'Série - IPCA'!$C$444/'Série - IPCA'!$C$424","v":7506.9341550936369},{"$f":"H1313*'Série - IPCA'!$C$444/'Série - IPCA'!$C$437","v":7853.9620943549098},6695.6046270969746,null,"N","NÃO","NÃO","ENCARGOS DE GESTÃO","FUNCIONÁRIOS","PESSOAL",3600,"GERÊNCIA DE GOVERNANÇA, RISCO E COMPLIANCE"]
[null,null,null,19695.919999999998,15741.98,18057.21,18952.38,20744.830000000002,18638.464,{"$f":"D1314*'Série - IPCA'!$C$444/'Série - IPCA'!$C$385","v":25744.079341800189},{"$f":"E1314*'Série - IPCA'!$C$444/'Série - IPCA'!$C$398","v":19686.640740882733},{"$f":"F1314*'Série - IPCA'!$C$444/'Série - IPCA'!$C$411","v":20517.740000063437},{"$f":"G1314*'Série - IPCA'!$C$444/'Série - IPCA'!$C$424","v":20357.20532764338},{"$f":"H1314*'Série - IPCA'!$C$444/'Série - IPCA'!$C$437","v":21298.284607952366},21520.790003668422,null,"N","NÃO","NÃO","ENCARGOS DE GESTÃO","FUNCIONÁRIOS","PESSOAL",4100,"GERÊNCIA DE SERVIÇOS CORPORATIVOS"]
[null,null,null,16674.72,8205.09,8548.83,8972.6,9821.2000000000007,10444.488000000001,{"$f":"D1315*'Série - IPCA'!$C$444/'Série - IPCA'!$C$385","v":21795.139027895246},{"$f":"E1315*'Série - IPCA'!$C$444/'Série - IPCA'!$C$398","v":10261.139899593922},{"$f":"F1315*'Série - IPCA'!$C$444/'Série - IPCA'!$C$411","v":9713.7194087426742},{"$f":"G1315*'Série - IPCA'!$C$444/'Série - IPCA'!$C$424","v":9637.684582243126},{"$f":"H1315*'Série - IPCA'!$C$444/'Série - IPCA'!$C$437","v":10083.22135161492},12298.180854017979,null,"N","NÃO","NÃO","ENCARGOS DE GESTÃO","FUNCIONÁRIOS","PESSOAL",4200,"GERÊNCIA FINANCEIRA"]
[null,null,null,18824.41,8587.34,7603.79,7980.73,8735.5400000000009,10346.362000000001,{"$f":"D1316*'Série - IPCA'!$C$444/'Série - IPCA'!$C$385","v":24604.948872790759},{"$f":"E1316*'Série - IPCA'!$C$444/'Série - IPCA'!$C$398","v":10739.174964001475},{"$f":"F1316*'Série - IPCA'!$C$444/'Série - IPCA'!$C$411","v":8639.9054026110553},{"$f":"G1316*'Série - IPCA'!$C$444/'Série - IPCA'!$C$424","v":8572.2932568090819},{"$f":"H1316*'Série - IPCA'!$C$444/'Série - IPCA'!$C$437","v":8968.5968563807091},12304.983870518616,null,"N","NÃO","NÃO","ENCARGOS DE GESTÃO","FUNCIONÁRIOS","PESSOAL",4300,"GERÊNCIA DE TECNOLOGIA E SISTEMAS DE INFORMAÇÃO"]
[null,null,null,12113.89,5792.1,5699.21,5981.76,6547.48,7226.8880000000008,{"$f":"D1317*'Série - IPCA'!$C$444/'Série - IPCA'!$C$385","v":15833.784118631673},{"$f":"E1317*'Série - IPCA'!$C$444/'Série - IPCA'!$C$398","v":7243.4974403008318},{"$f":"F1317*'Série - IPCA'!$C$444/'Série - IPCA'!$C$411","v":6475.8015765315649},{"$f":"G1317*'Série - IPCA'!$C$444/'Série - IPCA'!$C$424","v":6425.1516981341683},{"$f":"H1317*'Série - IPCA'!$C$444/'Série - IPCA'!$C$437","v":6722.1612567987268},8540.0792180793924,null,"N","NÃO","NÃO","ENCARGOS DE GESTÃO","FUNCIONÁRIOS","PESSOAL",4500,"GERÊNCIA CONTÁBIL"]
[null,null,null,33693.51,0,0,0,0,6738.7020000000002,{"$f":"D1318*'Série - IPCA'!$C$444/'Série - IPCA'!$C$385","v":44040.003957354529},{"$f":"E1318*'Série - IPCA'!$C$444/'Série - IPCA'!$C$398","v":0},{"$f":"F1318*'Série - IPCA'!$C$444/'Série - IPCA'!$C$411","v":0},{"$f":"G1318*'Série - IPCA'!$C$444/'Série - IPCA'!$C$424","v":0},{"$f":"H1318*'Série - IPCA'!$C$444/'Série - IPCA'!$C$437","v":0},8808.0007914709058,null,"N","SIM","NÃO","ENCARGOS DE COMERCIALIZAÇÃO","FIXO","DESPESAS_SEGUROS",5400,"GERÊNCIA COMERCIAL (inativo)"]
[null,null,null,16862.900000000001,0,0,0,0,3372.5800000000004,{"$f":"D1319*'Série - IPCA'!$C$444/'Série - IPCA'!$C$385","v":22041.1047330027},{"$f":"E1319*'Série - IPCA'!$C$444/'Série - IPCA'!$C$398","v":0},{"$f":"F1319*'Série - IPCA'!$C$444/'Série - IPCA'!$C$411","v":0},{"$f":"G1319*'Série - IPCA'!$C$444/'Série - IPCA'!$C$424","v":0},{"$f":"H1319*'Série - IPCA'!$C$444/'Série - IPCA'!$C$437","v":0},4408.2209466005397,null,"N","SIM","NÃO","ENCARGOS DE COMERCIALIZAÇÃO","FIXO","DESPESAS_SEGUROS",5500,"GERÊNCIA COMERCIAL (inativo)"]
[null,null,null,5911.7,0,0,0,0,1182.3399999999999,{"$f":"D1320*'Série - IPCA'!$C$444/'Série - IPCA'!$C$385","v":7727.0456949926793},{"$f":"E1320*'Série - IPCA'!$C$444/'Série - IPCA'!$C$398","v":0},{"$f":"F1320*'Série - IPCA'!$C$444/'Série - IPCA'!$C$411","v":0},{"$f":"G1320*'Série - IPCA'!$C$444/'Série - IPCA'!$C$424","v":0},{"$f":"H1320*'Série - IPCA'!$C$444/'Série - IPCA'!$C$437","v":0},1545.4091389985358,null,"N","SIM","NÃO","ENCARGOS DE GESTÃO","FIXO","DESPESAS_SEGUROS",2100,"SECRETARIA"]
[null,null,null,14310.86,0,0,0,0,2862.172,{"$f":"D1321*'Série - IPCA'!$C$444/'Série - IPCA'!$C$385","v":18705.392552843165},{"$f":"E1321*'Série - IPCA'!$C$444/'Série - IPCA'!$C$398","v":0},{"$f":"F1321*'Série - IPCA'!$C$444/'Série - IPCA'!$C$411","v":0},{"$f":"G1321*'Série - IPCA'!$C$444/'Série - IPCA'!$C$424","v":0},{"$f":"H1321*'Série - IPCA'!$C$444/'Série - IPCA'!$C$437","v":0},3741.0785105686327,null,"N","SIM","NÃO","ENCARGOS DE GESTÃO","FIXO","DESPESAS_SEGUROS",3100,"SMS"]
[null,null,null,11791.12,0,0,0,0,2358.2240000000002,{"$f":"D1322*'Série - IPCA'!$C$444/'Série - IPCA'!$C$385","v":15411.898952102116},{"$f":"E1322*'Série - IPCA'!$C$444/'Série - IPCA'!$C$398","v":0},{"$f":"F1322*'Série - IPCA'!$C$444/'Série - IPCA'!$C$411","v":0},{"$f":"G1322*'Série - IPCA'!$C$444/'Série - IPCA'!$C$424","v":0},{"$f":"H1322*'Série - IPCA'!$C$444/'Série - IPCA'!$C$437","v":0},3082.379790420423,null,"N","SIM","NÃO","ENCARGOS DE GESTÃO","FIXO","DESPESAS_SEGUROS",3400,"MARKETING"]
[null,null,null,11791.12,0,0,0,0,2358.2240000000002,{"$f":"D1323*'Série - IPCA'!$C$444/'Série - IPCA'!$C$385","v":15411.898952102116},{"$f":"E1323*'Série - IPCA'!$C$444/'Série - IPCA'!$C$398","v":0},{"$f":"F1323*'Série - IPCA'!$C$444/'Série - IPCA'!$C$411","v":0},{"$f":"G1323*'Série - IPCA'!$C$444/'Série - IPCA'!$C$424","v":0},{"$f":"H1323*'Série - IPCA'!$C$444/'Série - IPCA'!$C$437","v":0},3082.379790420423,null,"N","SIM","NÃO","ENCARGOS DE GESTÃO","FIXO","DESPESAS_SEGUROS",4600,"GERÊNCIA DE PESSOAS E CULTURA"]
[null,null,null,0,0,0,6777.73,278935.67,57142.679999999993,{"$f":"D1324*'Série - IPCA'!$C$444/'Série - IPCA'!$C$385","v":0},{"$f":"E1324*'Série - IPCA'!$C$444/'Série - IPCA'!$C$398","v":0},{"$f":"F1324*'Série - IPCA'!$C$444/'Série - IPCA'!$C$411","v":0},{"$f":"G1324*'Série - IPCA'!$C$444/'Série - IPCA'!$C$424","v":7280.1221411415536},{"$f":"H1324*'Série - IPCA'!$C$444/'Série - IPCA'!$C$437","v":286377.43895562796},58731.512219353906,null,"N","SIM","NÃO","ENCARGOS DE GESTÃO","FIXO","SERVIÇOS",3300,"GERÊNCIA JURÍDICA"]
[null,null,null,33775,33775,0,0,0,13510,{"$f":"D1325*'Série - IPCA'!$C$444/'Série - IPCA'!$C$385","v":44146.517642704755},{"$f":"E1325*'Série - IPCA'!$C$444/'Série - IPCA'!$C$398","v":42238.415435880001},{"$f":"F1325*'Série - IPCA'!$C$444/'Série - IPCA'!$C$411","v":0},{"$f":"G1325*'Série - IPCA'!$C$444/'Série - IPCA'!$C$424","v":0},{"$f":"H1325*'Série - IPCA'!$C$444/'Série - IPCA'!$C$437","v":0},17276.986615716953,null,"N","SIM","NÃO","ENCARGOS DE COMERCIALIZAÇÃO","FIXO","SERVIÇOS",5300,"GERÊNCIA COMERCIAL"]
[null,null,null,0,0,52720.959999999999,119034.63,0,34351.118000000002,{"$f":"D1326*'Série - IPCA'!$C$444/'Série - IPCA'!$C$385","v":0},{"$f":"E1326*'Série - IPCA'!$C$444/'Série - IPCA'!$C$398","v":0},{"$f":"F1326*'Série - IPCA'!$C$444/'Série - IPCA'!$C$411","v":59904.877322340748},{"$f":"G1326*'Série - IPCA'!$C$444/'Série - IPCA'!$C$424","v":127857.94734012605},{"$f":"H1326*'Série - IPCA'!$C$444/'Série - IPCA'!$C$437","v":0},37552.564932493362,null,"N","SIM","NÃO","ENCARGOS DE GESTÃO","FIXO","SERVIÇOS",1005,"AUDITORIA INTERNA"]
[null,null,null,415112.96000000002,18597.810000000001,6000,1200,0,88182.15400000001,{"$f":"D1327*'Série - IPCA'!$C$444/'Série - IPCA'!$C$385","v":542584.50369668088},{"$f":"E1327*'Série - IPCA'!$C$444/'Série - IPCA'!$C$398","v":23258.091043007062},{"$f":"F1327*'Série - IPCA'!$C$444/'Série - IPCA'!$C$411","v":6817.5781308618898},{"$f":"G1327*'Série - IPCA'!$C$444/'Série - IPCA'!$C$424","v":1288.94874380801},{"$f":"H1327*'Série - IPCA'!$C$444/'Série - IPCA'!$C$437","v":0},114789.82432287156,null,"N","SIM","NÃO","ENCARGOS DE GESTÃO","FIXO","SERVIÇOS",3300,"GERÊNCIA JURÍDICA"]
[null,null,null,0,0,0,4000,0,800,{"$f":"D1328*'Série - IPCA'!$C$444/'Série - IPCA'!$C$385","v":0},{"$f":"E1328*'Série - IPCA'!$C$444/'Série - IPCA'!$C$398","v":0},{"$f":"F1328*'Série - IPCA'!$C$444/'Série - IPCA'!$C$411","v":0},{"$f":"G1328*'Série - IPCA'!$C$444/'Série - IPCA'!$C$424","v":4296.495812693367},{"$f":"H1328*'Série - IPCA'!$C$444/'Série - IPCA'!$C$437","v":0},859.29916253867339,null,"N","SIM","NÃO","ENCARGOS DE GESTÃO","FIXO","SERVIÇOS",3600,"GERÊNCIA DE GOVERNANÇA, RISCO E COMPLIANCE"]
[null,null,null,126401.34,169268.5,22780,0,0,63689.967999999993,{"$f":"D1329*'Série - IPCA'!$C$444/'Série - IPCA'!$C$385","v":165216.25422269496},{"$f":"E1329*'Série - IPCA'!$C$444/'Série - IPCA'!$C$398","v":211684.1812941008},{"$f":"F1329*'Série - IPCA'!$C$444/'Série - IPCA'!$C$411","v":25884.071636838973},{"$f":"G1329*'Série - IPCA'!$C$444/'Série - IPCA'!$C$424","v":0},{"$f":"H1329*'Série - IPCA'!$C$444/'Série - IPCA'!$C$437","v":0},80556.901430726939,null,"N","SIM","NÃO","ENCARGOS DE GESTÃO","FIXO","SERVIÇOS",4100,"GERÊNCIA DE SERVIÇOS CORPORATIVOS"]
[null,null,null,377840.32,261004.48,0,0,0,127768.96000000001,{"$f":"D1330*'Série - IPCA'!$C$444/'Série - IPCA'!$C$385","v":493866.30208749702},{"$f":"E1330*'Série - IPCA'!$C$444/'Série - IPCA'!$C$398","v":326407.56941127562},{"$f":"F1330*'Série - IPCA'!$C$444/'Série - IPCA'!$C$411","v":0},{"$f":"G1330*'Série - IPCA'!$C$444/'Série - IPCA'!$C$424","v":0},{"$f":"H1330*'Série - IPCA'!$C$444/'Série - IPCA'!$C$437","v":0},164054.77429975453,null,"N","SIM","NÃO","ENCARGOS DE GESTÃO","FIXO","SERVIÇOS",4300,"GERÊNCIA DE TECNOLOGIA E SISTEMAS DE INFORMAÇÃO"]
[null,null,null,200632.02,348353.59,366369,282450,173041.01,274169.12399999995,{"$f":"D1331*'Série - IPCA'!$C$444/'Série - IPCA'!$C$385","v":262241.45109168004},{"$f":"E1331*'Série - IPCA'!$C$444/'Série - IPCA'!$C$398","v":435644.81578090938},{"$f":"F1331*'Série - IPCA'!$C$444/'Série - IPCA'!$C$411","v":416291.5470376233},{"$f":"G1331*'Série - IPCA'!$C$444/'Série - IPCA'!$C$424","v":303386.31057381036},{"$f":"H1331*'Série - IPCA'!$C$444/'Série - IPCA'!$C$437","v":177657.59853551615},319044.34460390784,null,"N","SIM","NÃO","ENCARGOS DE GESTÃO","FIXO","SERVIÇOS",4500,"GERÊNCIA CONTÁBIL"]
[null,null,null,112559.82,53010.25,0,0,0,33114.014000000003,{"$f":"D1332*'Série - IPCA'!$C$444/'Série - IPCA'!$C$385","v":147124.32507741443},{"$f":"E1332*'Série - IPCA'!$C$444/'Série - IPCA'!$C$398","v":66293.67762723488},{"$f":"F1332*'Série - IPCA'!$C$444/'Série - IPCA'!$C$411","v":0},{"$f":"G1332*'Série - IPCA'!$C$444/'Série - IPCA'!$C$424","v":0},{"$f":"H1332*'Série - IPCA'!$C$444/'Série - IPCA'!$C$437","v":0},42683.60054092986,null,"N","SIM","NÃO","ENCARGOS DE GESTÃO","FIXO","SERVIÇOS",4600,"GERÊNCIA DE PESSOAS E CULTURA"]
[null,null,null,73921.47,99101.34,143959.5,164095.82,182971.65,132809.95600000001,{"$f":"D1333*'Série - IPCA'!$C$444/'Série - IPCA'!$C$385","v":96621.035663350718},{"$f":"E1333*'Série - IPCA'!$C$444/'Série - IPCA'!$C$398","v":123934.37658541503},{"$f":"F1333*'Série - IPCA'!$C$444/'Série - IPCA'!$C$411","v":163575.85648830203},{"$f":"G1333*'Série - IPCA'!$C$444/'Série - IPCA'!$C$424","v":176259.25087762112},{"$f":"H1333*'Série - IPCA'!$C$444/'Série - IPCA'!$C$437","v":187853.17965423901},149648.73985378558,null,"N","SIM","NÃO","OPEX","EXTENSÃO","SERVIÇOS",5100,"GERÊNCIA DE ENGENHARIA"]
[null,null,null,182014.13,206217.28,235661.07,269177.13,298950.99,238404.12000000002,{"$f":"D1334*'Série - IPCA'!$C$444/'Série - IPCA'!$C$385","v":237906.43971181518},{"$f":"E1334*'Série - IPCA'!$C$444/'Série - IPCA'!$C$398","v":257891.66965794787},{"$f":"F1334*'Série - IPCA'!$C$444/'Série - IPCA'!$C$411","v":267772.9595212522},{"$f":"G1334*'Série - IPCA'!$C$444/'Série - IPCA'!$C$424","v":289129.6029794545},{"$f":"H1334*'Série - IPCA'!$C$444/'Série - IPCA'!$C$437","v":306926.75085065153},271925.48454422428,null,"N","SIM","NÃO","OPEX","EXTENSÃO","SERVIÇOS",5200,"GERÊNCIA DE OPERAÇÕES"]
[null,null,null,40970.6,167469.79,124337.76,141729.48000000001,157730.22,126447.56999999999,{"$f":"D1335*'Série - IPCA'!$C$444/'Série - IPCA'!$C$385","v":53551.7191926632},{"$f":"E1335*'Série - IPCA'!$C$444/'Série - IPCA'!$C$398","v":209434.74649828521},{"$f":"F1335*'Série - IPCA'!$C$444/'Série - IPCA'!$C$411","v":141280.39890272569},{"$f":"G1335*'Série - IPCA'!$C$444/'Série - IPCA'!$C$424","v":152235.02933880209},{"$f":"H1335*'Série - IPCA'!$C$444/'Série - IPCA'!$C$437","v":161938.32954210474},143688.04469491617,null,"N","SIM","NÃO","ENCARGOS DE COMERCIALIZAÇÃO","FIXO","SERVIÇOS",5300,"GERÊNCIA COMERCIAL"]
[null,null,null,0,2070.19,6507.23,7417.42,8254.7999999999993,4849.9279999999999,{"$f":"D1336*'Série - IPCA'!$C$444/'Série - IPCA'!$C$385","v":0},{"$f":"E1336*'Série - IPCA'!$C$444/'Série - IPCA'!$C$398","v":2588.9428645804419},{"$f":"F1336*'Série - IPCA'!$C$444/'Série - IPCA'!$C$411","v":7393.9248234147353},{"$f":"G1336*'Série - IPCA'!$C$444/'Série - IPCA'!$C$424","v":7967.2284927470082},{"$f":"H1336*'Série - IPCA'!$C$444/'Série - IPCA'!$C$437","v":8475.0311177158437},5285.0254596916056,null,"N","SIM","NÃO","ENCARGOS DE GESTÃO","FIXO","SERVIÇOS",1005,"AUDITORIA INTERNA"]
[null,null,null,0,15675,13114.54,14948.93,16636.61,12075.016,{"$f":"D1337*'Série - IPCA'!$C$444/'Série - IPCA'!$C$385","v":0},{"$f":"E1337*'Série - IPCA'!$C$444/'Série - IPCA'!$C$398","v":19602.876741892498},{"$f":"F1337*'Série - IPCA'!$C$444/'Série - IPCA'!$C$411","v":14901.566850052248},{"$f":"G1337*'Série - IPCA'!$C$444/'Série - IPCA'!$C$424","v":16057.003787311563},{"$f":"H1337*'Série - IPCA'!$C$444/'Série - IPCA'!$C$437","v":17080.460755354776},13528.381626922219,null,"N","SIM","NÃO","ENCARGOS DE GESTÃO","FIXO","SERVIÇOS",2110,"ASSESSORIA DA DIRETORIA EXECUTIVA"]
[null,null,null,0,6242.41,19621.75,22366.34,24891.4,14624.38,{"$f":"D1338*'Série - IPCA'!$C$444/'Série - IPCA'!$C$385","v":0},{"$f":"E1338*'Série - IPCA'!$C$444/'Série - IPCA'!$C$398","v":7806.6471325267703},{"$f":"F1338*'Série - IPCA'!$C$444/'Série - IPCA'!$C$411","v":22295.468948206548},{"$f":"G1338*'Série - IPCA'!$C$444/'Série - IPCA'!$C$424","v":24024.221538819038},{"$f":"H1338*'Série - IPCA'!$C$444/'Série - IPCA'!$C$437","v":25555.481606279034},15936.363845166279,null,"N","SIM","NÃO","ENCARGOS DE GESTÃO","FIXO","SERVIÇOS",2120,"ASSESSORIA DA PRESIDÊNCIA"]
[null,null,null,36350.53,26211.25,0,0,41.4,12520.636,{"$f":"D1339*'Série - IPCA'!$C$444/'Série - IPCA'!$C$385","v":47512.933056007954},{"$f":"E1339*'Série - IPCA'!$C$444/'Série - IPCA'!$C$398","v":32779.323955402215},{"$f":"F1339*'Série - IPCA'!$C$444/'Série - IPCA'!$C$411","v":0},{"$f":"G1339*'Série - IPCA'!$C$444/'Série - IPCA'!$C$424","v":0},{"$f":"H1339*'Série - IPCA'!$C$444/'Série - IPCA'!$C$437","v":42.504517162552204},16066.952305714545,null,"N","SIM","NÃO","ENCARGOS DE GESTÃO","FIXO","SERVIÇOS",2200,"DIRETORIA COLEGIADA - PRESIDÊNCIA"]
[null,null,null,9065.85,6537.1,0,0,0,3120.59,{"$f":"D1340*'Série - IPCA'!$C$444/'Série - IPCA'!$C$385","v":11849.761864429754},{"$f":"E1340*'Série - IPCA'!$C$444/'Série - IPCA'!$C$398","v":8175.1812152743505},{"$f":"F1340*'Série - IPCA'!$C$444/'Série - IPCA'!$C$411","v":0},{"$f":"G1340*'Série - IPCA'!$C$444/'Série - IPCA'!$C$424","v":0},{"$f":"H1340*'Série - IPCA'!$C$444/'Série - IPCA'!$C$437","v":0},4004.9886159408211,null,"N","SIM","NÃO","ENCARGOS DE GESTÃO","FIXO","SERVIÇOS",2300,"DIRETORIA COLEGIADA - DAF"]
[null,null,null,0,2070.19,6507.23,7417.42,8254.7999999999993,4849.9279999999999,{"$f":"D1341*'Série - IPCA'!$C$444/'Série - IPCA'!$C$385","v":0},{"$f":"E1341*'Série - IPCA'!$C$444/'Série - IPCA'!$C$398","v":2588.9428645804419},{"$f":"F1341*'Série - IPCA'!$C$444/'Série - IPCA'!$C$411","v":7393.9248234147353},{"$f":"G1341*'Série - IPCA'!$C$444/'Série - IPCA'!$C$424","v":7967.2284927470082},{"$f":"H1341*'Série - IPCA'!$C$444/'Série - IPCA'!$C$437","v":8475.0311177158437},5285.0254596916056,null,"N","SIM","NÃO","ENCARGOS DE GESTÃO","FIXO","SERVIÇOS",2310,"ASSESSORIA DAF"]
[null,null,null,9065.85,6537.1,0,0,0,3120.59,{"$f":"D1342*'Série - IPCA'!$C$444/'Série - IPCA'!$C$385","v":11849.761864429754},{"$f":"E1342*'Série - IPCA'!$C$444/'Série - IPCA'!$C$398","v":8175.1812152743505},{"$f":"F1342*'Série - IPCA'!$C$444/'Série - IPCA'!$C$411","v":0},{"$f":"G1342*'Série - IPCA'!$C$444/'Série - IPCA'!$C$424","v":0},{"$f":"H1342*'Série - IPCA'!$C$444/'Série - IPCA'!$C$437","v":0},4004.9886159408211,null,"N","SIM","NÃO","ENCARGOS DE GESTÃO","FIXO","SERVIÇOS",2400,"DIRETORIA COLEGIADA - DTC"]
[null,null,null,0,0,0,0,3400,680,{"$f":"D1343*'Série - IPCA'!$C$444/'Série - IPCA'!$C$385","v":0},{"$f":"E1343*'Série - IPCA'!$C$444/'Série - IPCA'!$C$398","v":0},{"$f":"F1343*'Série - IPCA'!$C$444/'Série - IPCA'!$C$411","v":0},{"$f":"G1343*'Série - IPCA'!$C$444/'Série - IPCA'!$C$424","v":0},{"$f":"H1343*'Série - IPCA'!$C$444/'Série - IPCA'!$C$437","v":3490.7091389535626},698.14182779071257,null,"N","SIM","NÃO","ENCARGOS DE GESTÃO","FIXO","SERVIÇOS",2410,"ASSESSORIA DE SEGURANÇA DO TRABALHO"]
[null,null,null,22751.77,69220.7,78486.97,89465.29,99565.64,71898.073999999993,{"$f":"D1344*'Série - IPCA'!$C$444/'Série - IPCA'!$C$385","v":29738.309865514759},{"$f":"E1344*'Série - IPCA'!$C$444/'Série - IPCA'!$C$398","v":86566.178633972435},{"$f":"F1344*'Série - IPCA'!$C$444/'Série - IPCA'!$C$411","v":89181.841704935534},{"$f":"G1344*'Série - IPCA'!$C$444/'Série - IPCA'!$C$424","v":96096.810966599427},{"$f":"H1344*'Série - IPCA'!$C$444/'Série - IPCA'!$C$437","v":102221.96749228248},80761.021732660913,null,"N","SIM","NÃO","ENCARGOS DE GESTÃO","FIXO","SERVIÇOS",3200,"GERÊNCIA DE PLANEJAMENTO E MEIO AMBIENTE"]
[null,null,null,27284.69,27986.7,26128.94,29783.73,33146.19,28866.05,{"$f":"D1345*'Série - IPCA'!$C$444/'Série - IPCA'!$C$385","v":35663.184262345814},{"$f":"E1345*'Série - IPCA'!$C$444/'Série - IPCA'!$C$398","v":34999.670208122661},{"$f":"F1345*'Série - IPCA'!$C$444/'Série - IPCA'!$C$411","v":29689.34832110041},{"$f":"G1345*'Série - IPCA'!$C$444/'Série - IPCA'!$C$424","v":31991.417807847451},{"$f":"H1345*'Série - IPCA'!$C$444/'Série - IPCA'!$C$437","v":34030.502457203293},33274.824611323922,null,"N","SIM","NÃO","ENCARGOS DE GESTÃO","FIXO","SERVIÇOS",3300,"GERÊNCIA JURÍDICA"]
[null,null,null,0,31255.279999999999,26128.94,29783.73,33146.19,24062.828000000001,{"$f":"D1346*'Série - IPCA'!$C$444/'Série - IPCA'!$C$385","v":0},{"$f":"E1346*'Série - IPCA'!$C$444/'Série - IPCA'!$C$398","v":39087.298333227285},{"$f":"F1346*'Série - IPCA'!$C$444/'Série - IPCA'!$C$411","v":29689.34832110041},{"$f":"G1346*'Série - IPCA'!$C$444/'Série - IPCA'!$C$424","v":31991.417807847451},{"$f":"H1346*'Série - IPCA'!$C$444/'Série - IPCA'!$C$437","v":34030.502457203293},26959.713383875689,null,"N","SIM","NÃO","ENCARGOS DE GESTÃO","FIXO","SERVIÇOS",3500,"ASSESSORIA DE COMUNICAÇÃO INSTITUCIONAL"]
[null,null,null,13685.83,24455.35,45850.81,52264.2,58164.61,38884.159999999996,{"$f":"D1347*'Série - IPCA'!$C$444/'Série - IPCA'!$C$385","v":17888.430364176405},{"$f":"E1347*'Série - IPCA'!$C$444/'Série - IPCA'!$C$398","v":30583.426585635767},{"$f":"F1347*'Série - IPCA'!$C$444/'Série - IPCA'!$C$411","v":52098.579923050609},{"$f":"G1347*'Série - IPCA'!$C$444/'Série - IPCA'!$C$424","v":56138.229113442161},{"$f":"H1347*'Série - IPCA'!$C$444/'Série - IPCA'!$C$437","v":59716.392850196993},43285.011767300384,null,"N","SIM","NÃO","ENCARGOS DE GESTÃO","FIXO","SERVIÇOS",3600,"GERÊNCIA DE GOVERNANÇA, RISCO E COMPLIANCE"]
[null,null,null,64880.18,105593.98,127474.08,150113.14000000001,160790.98000000001,121770.47199999999,{"$f":"D1348*'Série - IPCA'!$C$444/'Série - IPCA'!$C$385","v":84803.375604200162},{"$f":"E1348*'Série - IPCA'!$C$444/'Série - IPCA'!$C$398","v":132053.95691393054},{"$f":"F1348*'Série - IPCA'!$C$444/'Série - IPCA'!$C$411","v":144844.08334328982},{"$f":"G1348*'Série - IPCA'!$C$444/'Série - IPCA'!$C$424","v":161240.11936006331},{"$f":"H1348*'Série - IPCA'!$C$444/'Série - IPCA'!$C$437","v":165080.74804332343},137604.45665296147,null,"N","SIM","NÃO","ENCARGOS DE GESTÃO","FIXO","SERVIÇOS",4100,"GERÊNCIA DE SERVIÇOS CORPORATIVOS"]
[null,null,null,50036.45,54806.94,58865.23,67099,74674.240000000005,{"$f":"AVERAGE(D1349:H1349)","v":61096.371999999996},{"$f":"D1349*'Série - IPCA'!$C$444/'Série - IPCA'!$C$385","v":65401.481057092955},{"$f":"E1349*'Série - IPCA'!$C$444/'Série - IPCA'!$C$398","v":68540.586246908933},{"$f":"F1349*'Série - IPCA'!$C$444/'Série - IPCA'!$C$411","v":66886.384119359209},{"$f":"G1349*'Série - IPCA'!$C$444/'Série - IPCA'!$C$424","v":72072.643133978054},{"$f":"H1349*'Série - IPCA'!$C$444/'Série - IPCA'!$C$437","v":76666.485886003444},{"$f":"AVERAGE(J1349:N1349)","v":69913.516088668519},null,"N","SIM","NÃO","ENCARGOS DE GESTÃO","FIXO","SERVIÇOS",4200,"GERÊNCIA FINANCEIRA"]
[null,null,null,56487.12,57388.15,52358.04,59681.57,66419.41,58466.858000000007,{"$f":"D1350*'Série - IPCA'!$C$444/'Série - IPCA'!$C$385","v":73833.001914598994},{"$f":"E1350*'Série - IPCA'!$C$444/'Série - IPCA'!$C$398","v":71768.601652008801},{"$f":"F1350*'Série - IPCA'!$C$444/'Série - IPCA'!$C$411","v":59492.50474646534},{"$f":"G1350*'Série - IPCA'!$C$444/'Série - IPCA'!$C$424","v":64105.403899991514},{"$f":"H1350*'Série - IPCA'!$C$444/'Série - IPCA'!$C$437","v":68191.423967912851},67478.187236195503,null,"N","SIM","NÃO","ENCARGOS DE GESTÃO","FIXO","SERVIÇOS",4300,"GERÊNCIA DE TECNOLOGIA E SISTEMAS DE INFORMAÇÃO"]
[null,null,null,36350.519999999997,38696.050000000003,39243.5,44732.67,49782.82,41761.112000000001,{"$f":"D1351*'Série - IPCA'!$C$444/'Série - IPCA'!$C$385","v":47512.919985240333},{"$f":"E1351*'Série - IPCA'!$C$444/'Série - IPCA'!$C$398","v":48392.593208810795},{"$f":"F1351*'Série - IPCA'!$C$444/'Série - IPCA'!$C$411","v":44590.937896413096},{"$f":"G1351*'Série - IPCA'!$C$444/'Série - IPCA'!$C$424","v":48048.432336398553},{"$f":"H1351*'Série - IPCA'!$C$444/'Série - IPCA'!$C$437","v":51110.983746141239},47931.173434600802,null,"N","SIM","NÃO","ENCARGOS DE GESTÃO","FIXO","SERVIÇOS",4500,"GERÊNCIA CONTÁBIL"]
[null,null,null,0,0,107460,0,0,21492,{"$f":"D1352*'Série - IPCA'!$C$444/'Série - IPCA'!$C$385","v":0},{"$f":"E1352*'Série - IPCA'!$C$444/'Série - IPCA'!$C$398","v":0},{"$f":"F1352*'Série - IPCA'!$C$444/'Série - IPCA'!$C$411","v":122102.82432373644},{"$f":"G1352*'Série - IPCA'!$C$444/'Série - IPCA'!$C$424","v":0},{"$f":"H1352*'Série - IPCA'!$C$444/'Série - IPCA'!$C$437","v":0},24420.564864747288,null,"N","NÃO ","NÃO","ENCARGOS DE COMERCIALIZAÇÃO","FIXO","SERVIÇOS",5300,"GERÊNCIA COMERCIAL"]
[null,null,null,0,0,0,0,38150,7630,{"$f":"D1353*'Série - IPCA'!$C$444/'Série - IPCA'!$C$385","v":0},{"$f":"E1353*'Série - IPCA'!$C$444/'Série - IPCA'!$C$398","v":0},{"$f":"F1353*'Série - IPCA'!$C$444/'Série - IPCA'!$C$411","v":0},{"$f":"G1353*'Série - IPCA'!$C$444/'Série - IPCA'!$C$424","v":0},{"$f":"H1353*'Série - IPCA'!$C$444/'Série - IPCA'!$C$437","v":39167.809897376006},7833.561979475201,null,"N","NÃO ","NÃO","ENCARGOS DE GESTÃO","FIXO","SERVIÇOS",2120,"ASSESSORIA DA PRESIDÊNCIA"]
[null,null,null,0,0,0,0,2721.88,544.37599999999998,{"$f":"D1354*'Série - IPCA'!$C$444/'Série - IPCA'!$C$385","v":0},{"$f":"E1354*'Série - IPCA'!$C$444/'Série - IPCA'!$C$398","v":0},{"$f":"F1354*'Série - IPCA'!$C$444/'Série - IPCA'!$C$411","v":0},{"$f":"G1354*'Série - IPCA'!$C$444/'Série - IPCA'!$C$424","v":0},{"$f":"H1354*'Série - IPCA'!$C$444/'Série - IPCA'!$C$437","v":2794.4974679808597},558.89949359617196,null,"N","NÃO ","NÃO","ENCARGOS DE GESTÃO","FIXO","SERVIÇOS",2410,"ASSESSORIA DE SEGURANÇA DO TRABALHO"]
[null,null,null,0,1200,35319.42,20157.13,22682.63,15871.836000000001,{"$f":"D1355*'Série - IPCA'!$C$444/'Série - IPCA'!$C$385","v":0},{"$f":"E1355*'Série - IPCA'!$C$444/'Série - IPCA'!$C$398","v":1500.6986979439232},{"$f":"F1355*'Série - IPCA'!$C$444/'Série - IPCA'!$C$411","v":40132.150897787673},{"$f":"G1355*'Série - IPCA'!$C$444/'Série - IPCA'!$C$424","v":21651.256160228961},{"$f":"H1355*'Série - IPCA'!$C$444/'Série - IPCA'!$C$437","v":23287.783481324193},17314.377847456948,null,"N","NÃO ","NÃO","ENCARGOS DE GESTÃO","FIXO","SERVIÇOS",3300,"GERÊNCIA JURÍDICA"]
[null,null,null,0,0,0,0,52210.96,10442.191999999999,{"$f":"D1356*'Série - IPCA'!$C$444/'Série - IPCA'!$C$385","v":0},{"$f":"E1356*'Série - IPCA'!$C$444/'Série - IPCA'!$C$398","v":0},{"$f":"F1356*'Série - IPCA'!$C$444/'Série - IPCA'!$C$411","v":0},{"$f":"G1356*'Série - IPCA'!$C$444/'Série - IPCA'!$C$424","v":0},{"$f":"H1356*'Série - IPCA'!$C$444/'Série - IPCA'!$C$437","v":53603.904478099677},10720.780895619935,null,"N","NÃO ","NÃO","ENCARGOS DE GESTÃO","FIXO","SERVIÇOS",3200,"GERÊNCIA DE PLANEJAMENTO E MEIO AMBIENTE"]
[null,null,null,0,100082.15,323304.09999999998,17930,21334.61,92530.171999999991,{"$f":"D1357*'Série - IPCA'!$C$444/'Série - IPCA'!$C$385","v":0},{"$f":"E1357*'Série - IPCA'!$C$444/'Série - IPCA'!$C$398","v":125160.960160357},{"$f":"F1357*'Série - IPCA'!$C$444/'Série - IPCA'!$C$411","v":367358.49362966418},{"$f":"G1357*'Série - IPCA'!$C$444/'Série - IPCA'!$C$424","v":19259.042480398017},{"$f":"H1357*'Série - IPCA'!$C$444/'Série - IPCA'!$C$437","v":21903.799442061787},106736.4591424962,null,"N","NÃO ","NÃO","ENCARGOS DE GESTÃO","FIXO","SERVIÇOS",3600,"GERÊNCIA DE GOVERNANÇA, RISCO E COMPLIANCE"]
[null,null,null,0,16500,28163.3,356509.34,137626.06,107759.73999999999,{"$f":"D1358*'Série - IPCA'!$C$444/'Série - IPCA'!$C$385","v":0},{"$f":"E1358*'Série - IPCA'!$C$444/'Série - IPCA'!$C$398","v":20634.607096728945},{"$f":"F1358*'Série - IPCA'!$C$444/'Série - IPCA'!$C$411","v":32000.916362150445},{"$f":"G1358*'Série - IPCA'!$C$444/'Série - IPCA'!$C$424","v":382935.22162401903},{"$f":"H1358*'Série - IPCA'!$C$444/'Série - IPCA'!$C$437","v":141297.80747063863},115373.71051070742,null,"N","NÃO ","NÃO","ENCARGOS DE GESTÃO","FIXO","SERVIÇOS",4100,"GERÊNCIA DE SERVIÇOS CORPORATIVOS"]
[null,null,null,0,0,0,40000,687888.72,145577.74400000001,{"$f":"D1359*'Série - IPCA'!$C$444/'Série - IPCA'!$C$385","v":0},{"$f":"E1359*'Série - IPCA'!$C$444/'Série - IPCA'!$C$398","v":0},{"$f":"F1359*'Série - IPCA'!$C$444/'Série - IPCA'!$C$411","v":0},{"$f":"G1359*'Série - IPCA'!$C$444/'Série - IPCA'!$C$424","v":42964.95812693367},{"$f":"H1359*'Série - IPCA'!$C$444/'Série - IPCA'!$C$437","v":706241.01220207894},149841.19406580253,null,"N","NÃO ","NÃO","ENCARGOS DE GESTÃO","FIXO","SERVIÇOS",4200,"GERÊNCIA FINANCEIRA"]
[null,null,null,0,42849.47,327283.86,334986.23999999999,477845.45,236593.00400000002,{"$f":"D1360*'Série - IPCA'!$C$444/'Série - IPCA'!$C$385","v":0},{"$f":"E1360*'Série - IPCA'!$C$444/'Série - IPCA'!$C$398","v":53586.786530489328},{"$f":"F1360*'Série - IPCA'!$C$444/'Série - IPCA'!$C$411","v":371880.54775334406},{"$f":"G1360*'Série - IPCA'!$C$444/'Série - IPCA'!$C$424","v":359816.74436747376},{"$f":"H1360*'Série - IPCA'!$C$444/'Série - IPCA'!$C$437","v":490593.96450658172},255175.60863157775,null,"N","NÃO ","NÃO","ENCARGOS DE GESTÃO","FIXO","SERVIÇOS",4300,"GERÊNCIA DE TECNOLOGIA E SISTEMAS DE INFORMAÇÃO"]
[null,null,null,0,39214.129999999997,34418.080000000002,154682.95000000001,134723.35,72607.702000000005,{"$f":"D1361*'Série - IPCA'!$C$444/'Série - IPCA'!$C$385","v":0},{"$f":"E1361*'Série - IPCA'!$C$444/'Série - IPCA'!$C$398","v":49040.494860003106},{"$f":"F1361*'Série - IPCA'!$C$444/'Série - IPCA'!$C$411","v":39107.991585709169},{"$f":"G1361*'Série - IPCA'!$C$444/'Série - IPCA'!$C$424","v":166148.66174251438},{"$f":"H1361*'Série - IPCA'!$C$444/'Série - IPCA'!$C$437","v":138317.65561042339},78522.960759730006,null,"N","NÃO ","NÃO","ENCARGOS DE GESTÃO","FIXO","SERVIÇOS",4500,"GERÊNCIA CONTÁBIL"]
[null,null,null,0,0,19858,0,0,3971.6,{"$f":"D1362*'Série - IPCA'!$C$444/'Série - IPCA'!$C$385","v":0},{"$f":"E1362*'Série - IPCA'!$C$444/'Série - IPCA'!$C$398","v":0},{"$f":"F1362*'Série - IPCA'!$C$444/'Série - IPCA'!$C$411","v":22563.911087109234},{"$f":"G1362*'Série - IPCA'!$C$444/'Série - IPCA'!$C$424","v":0},{"$f":"H1362*'Série - IPCA'!$C$444/'Série - IPCA'!$C$437","v":0},4512.7822174218472,null,"N","SIM","NÃO","ENCARGOS DE GESTÃO","FIXO","MATERIAIS_MANUTENÇÃO",3500,"ASSESSORIA DE COMUNICAÇÃO INSTITUCIONAL"]
[null,null,null,0,293368.37,268593.52,69265.210000000006,0,126245.42,{"$f":"D1363*'Série - IPCA'!$C$444/'Série - IPCA'!$C$385","v":0},{"$f":"E1363*'Série - IPCA'!$C$444/'Série - IPCA'!$C$398","v":366881.2757307759},{"$f":"F1363*'Série - IPCA'!$C$444/'Série - IPCA'!$C$411","v":305192.8846738693},{"$f":"G1363*'Série - IPCA'!$C$444/'Série - IPCA'!$C$424","v":74399.421182581689},{"$f":"H1363*'Série - IPCA'!$C$444/'Série - IPCA'!$C$437","v":0},149294.71631744536,null,"N","SIM","NÃO","OPEX","EXTENSÃO","MATERIAIS_MANUTENÇÃO",5100,"GERÊNCIA DE ENGENHARIA"]
[null,null,null,2945668.15,2882785.43,2970647.82,3994135.35,3692862.2,3297219.79,{"$f":"D1364*'Série - IPCA'!$C$444/'Série - IPCA'!$C$385","v":3850214.3879653146},{"$f":"E1364*'Série - IPCA'!$C$444/'Série - IPCA'!$C$398","v":3605160.2843772606},{"$f":"F1364*'Série - IPCA'!$C$444/'Série - IPCA'!$C$411","v":3375437.2686874242},{"$f":"G1364*'Série - IPCA'!$C$444/'Série - IPCA'!$C$424","v":4290196.4516513888},{"$f":"H1364*'Série - IPCA'!$C$444/'Série - IPCA'!$C$437","v":3791384.6560106357},3782478.6097384049,null,"N","SIM","NÃO","OPEX","EXTENSÃO","MATERIAIS_MANUTENÇÃO",5200,"GERÊNCIA DE OPERAÇÕES"]
[null,null,null,0,0,0,59910.53,741796.88,160341.48200000002,{"$f":"D1365*'Série - IPCA'!$C$444/'Série - IPCA'!$C$385","v":0},{"$f":"E1365*'Série - IPCA'!$C$444/'Série - IPCA'!$C$398","v":0},{"$f":"F1365*'Série - IPCA'!$C$444/'Série - IPCA'!$C$411","v":0},{"$f":"G1365*'Série - IPCA'!$C$444/'Série - IPCA'!$C$424","v":64351.335320310085},{"$f":"H1365*'Série - IPCA'!$C$444/'Série - IPCA'!$C$437","v":761587.39654801157},165187.74637366433,null,"N","SIM","NÃO","ENCARGOS DE COMERCIALIZAÇÃO","FIXO","MATERIAIS_MANUTENÇÃO",5300,"GERÊNCIA COMERCIAL"]
[null,null,null,4154.05,0,0,0,0,830.81000000000006,{"$f":"D1366*'Série - IPCA'!$C$444/'Série - IPCA'!$C$385","v":5429.6622239430862},{"$f":"E1366*'Série - IPCA'!$C$444/'Série - IPCA'!$C$398","v":0},{"$f":"F1366*'Série - IPCA'!$C$444/'Série - IPCA'!$C$411","v":0},{"$f":"G1366*'Série - IPCA'!$C$444/'Série - IPCA'!$C$424","v":0},{"$f":"H1366*'Série - IPCA'!$C$444/'Série - IPCA'!$C$437","v":0},1085.9324447886172,null,"N","SIM","NÃO","ENCARGOS DE COMERCIALIZAÇÃO","FIXO","MATERIAIS_MANUTENÇÃO",5400,"GERÊNCIA COMERCIAL (inativo)"]
[null,null,null,600596.29,146730.42000000001,0,0,0,149465.342,{"$f":"D1367*'Série - IPCA'!$C$444/'Série - IPCA'!$C$385","v":785025.45411185862},{"$f":"E1367*'Série - IPCA'!$C$444/'Série - IPCA'!$C$398","v":183498.4585356375},{"$f":"F1367*'Série - IPCA'!$C$444/'Série - IPCA'!$C$411","v":0},{"$f":"G1367*'Série - IPCA'!$C$444/'Série - IPCA'!$C$424","v":0},{"$f":"H1367*'Série - IPCA'!$C$444/'Série - IPCA'!$C$437","v":0},193704.78252949921,null,"N","SIM","NÃO","ENCARGOS DE COMERCIALIZAÇÃO","FIXO","MATERIAIS_MANUTENÇÃO",5500,"GERÊNCIA COMERCIAL (inativo)"]
[null,null,null,0,2360,16145,19283.849999999999,54109.54,18379.678,{"$f":"D1368*'Série - IPCA'!$C$444/'Série - IPCA'!$C$385","v":0},{"$f":"E1368*'Série - IPCA'!$C$444/'Série - IPCA'!$C$398","v":2951.3741059563822},{"$f":"F1368*'Série - IPCA'!$C$444/'Série - IPCA'!$C$411","v":18344.966487127534},{"$f":"G1368*'Série - IPCA'!$C$444/'Série - IPCA'!$C$424","v":20713.245194401745},{"$f":"H1368*'Série - IPCA'!$C$444/'Série - IPCA'!$C$437","v":55553.13699487452},19512.544556472036,null,"N","SIM","NÃO","ENCARGOS DE GESTÃO","FIXO","MATERIAIS_MANUTENÇÃO",2410,"ASSESSORIA DE SEGURANÇA DO TRABALHO"]
[null,null,null,37864.1,55805.37,86636.57,69474.7,84903.56,66936.86,{"$f":"D1369*'Série - IPCA'!$C$444/'Série - IPCA'!$C$385","v":49491.285230944108},{"$f":"E1369*'Série - IPCA'!$C$444/'Série - IPCA'!$C$398","v":69789.205081065724},{"$f":"F1369*'Série - IPCA'!$C$444/'Série - IPCA'!$C$411","v":98441.930827480886},{"$f":"G1369*'Série - IPCA'!$C$444/'Série - IPCA'!$C$424","v":74624.439409531959},{"$f":"H1369*'Série - IPCA'!$C$444/'Série - IPCA'!$C$437","v":87168.715535791809},75903.115216962906,null,"N","SIM","NÃO","ENCARGOS DE GESTÃO","FIXO","MATERIAIS_MANUTENÇÃO",4100,"GERÊNCIA DE SERVIÇOS CORPORATIVOS"]
[null,null,null,552478.71999999997,850232.94,1247366.99,1706351.02,2071759.08,1285637.75,{"$f":"D1370*'Série - IPCA'!$C$444/'Série - IPCA'!$C$385","v":722132.0965121818},{"$f":"E1370*'Série - IPCA'!$C$444/'Série - IPCA'!$C$398","v":1063286.221672528},{"$f":"F1370*'Série - IPCA'!$C$444/'Série - IPCA'!$C$411","v":1417336.9853638371},{"$f":"G1370*'Série - IPCA'!$C$444/'Série - IPCA'!$C$424","v":1832832.5031037638},{"$f":"H1370*'Série - IPCA'!$C$444/'Série - IPCA'!$C$437","v":2127031.8689017724},1432523.9351108165,null,"N","SIM","NÃO","ENCARGOS DE GESTÃO","FIXO","MATERIAIS_MANUTENÇÃO",4300,"GERÊNCIA DE TECNOLOGIA E SISTEMAS DE INFORMAÇÃO"]
[null,null,null,0,627.88,1892.32,2328.38,2448.06,1459.328,{"$f":"D1371*'Série - IPCA'!$C$444/'Série - IPCA'!$C$385","v":0},{"$f":"E1371*'Série - IPCA'!$C$444/'Série - IPCA'!$C$398","v":785.21558205419194},{"$f":"F1371*'Série - IPCA'!$C$444/'Série - IPCA'!$C$411","v":2150.173241432095},{"$f":"G1371*'Série - IPCA'!$C$444/'Série - IPCA'!$C$424","v":2500.9687300897453},{"$f":"H1371*'Série - IPCA'!$C$444/'Série - IPCA'!$C$437","v":2513.3721807960765},1589.9459468744217,null,"N","SIM","NÃO","ENCARGOS DE GESTÃO","FIXO","MATERIAIS_MANUTENÇÃO",4500,"GERÊNCIA CONTÁBIL"]
[null,null,null,500,0,0,0,0,100,{"$f":"D1372*'Série - IPCA'!$C$444/'Série - IPCA'!$C$385","v":653.53838109111416},{"$f":"E1372*'Série - IPCA'!$C$444/'Série - IPCA'!$C$398","v":0},{"$f":"F1372*'Série - IPCA'!$C$444/'Série - IPCA'!$C$411","v":0},{"$f":"G1372*'Série - IPCA'!$C$444/'Série - IPCA'!$C$424","v":0},{"$f":"H1372*'Série - IPCA'!$C$444/'Série - IPCA'!$C$437","v":0},130.70767621822284,null,"N","SIM","NÃO","ENCARGOS DE GESTÃO","FIXO","SERVIÇOS",3300,"GERÊNCIA JURÍDICA"]
[null,null,null,971.21,364.29,0,0,0,267.10000000000002,{"$f":"D1373*'Série - IPCA'!$C$444/'Série - IPCA'!$C$385","v":1269.4460221990021},{"$f":"E1373*'Série - IPCA'!$C$444/'Série - IPCA'!$C$398","v":455.57460722832656},{"$f":"F1373*'Série - IPCA'!$C$444/'Série - IPCA'!$C$411","v":0},{"$f":"G1373*'Série - IPCA'!$C$444/'Série - IPCA'!$C$424","v":0},{"$f":"H1373*'Série - IPCA'!$C$444/'Série - IPCA'!$C$437","v":0},345.00412588546573,null,"N","NÃO","SIM","OPEX","FIXO","SERVIÇOS",5100,"GERÊNCIA DE ENGENHARIA"]
[null,null,null,178.6,0,0,0,162183.38,32472.396000000001,{"$f":"D1374*'Série - IPCA'!$C$444/'Série - IPCA'!$C$385","v":233.44390972574595},{"$f":"E1374*'Série - IPCA'!$C$444/'Série - IPCA'!$C$398","v":0},{"$f":"F1374*'Série - IPCA'!$C$444/'Série - IPCA'!$C$411","v":0},{"$f":"G1374*'Série - IPCA'!$C$444/'Série - IPCA'!$C$424","v":0},{"$f":"H1374*'Série - IPCA'!$C$444/'Série - IPCA'!$C$437","v":166510.29610364072},33348.748002673296,null,"N","NÃO","SIM","ENCARGOS DE COMERCIALIZAÇÃO","FIXO","SERVIÇOS",5300,"GERÊNCIA COMERCIAL"]
[null,null,null,0,0,293798.99,106201.01,0,80000,{"$f":"D1375*'Série - IPCA'!$C$444/'Série - IPCA'!$C$385","v":0},{"$f":"E1375*'Série - IPCA'!$C$444/'Série - IPCA'!$C$398","v":0},{"$f":"F1375*'Série - IPCA'!$C$444/'Série - IPCA'!$C$411","v":333832.92818221851},{"$f":"G1375*'Série - IPCA'!$C$444/'Série - IPCA'!$C$424","v":114073.04869220158},{"$f":"H1375*'Série - IPCA'!$C$444/'Série - IPCA'!$C$437","v":0},89581.195374884017,null,"N","NÃO","SIM","ENCARGOS DE GESTÃO","FIXO","SERVIÇOS",5200,"GERÊNCIA DE OPERAÇÕES"]
[null,null,null,16200,10577.53,0,0,0,5355.5059999999994,{"$f":"D1376*'Série - IPCA'!$C$444/'Série - IPCA'!$C$385","v":21174.643547352098},{"$f":"E1376*'Série - IPCA'!$C$444/'Série - IPCA'!$C$398","v":13228.07124871899},{"$f":"F1376*'Série - IPCA'!$C$444/'Série - IPCA'!$C$411","v":0},{"$f":"G1376*'Série - IPCA'!$C$444/'Série - IPCA'!$C$424","v":0},{"$f":"H1376*'Série - IPCA'!$C$444/'Série - IPCA'!$C$437","v":0},6880.5429592142173,null,"N","NÃO","SIM","ENCARGOS DE GESTÃO","FIXO","SERVIÇOS",4100,"GERÊNCIA DE SERVIÇOS CORPORATIVOS"]
[null,null,null,0,0,401.29,0,25452,5170.6580000000004,{"$f":"D1377*'Série - IPCA'!$C$444/'Série - IPCA'!$C$385","v":0},{"$f":"E1377*'Série - IPCA'!$C$444/'Série - IPCA'!$C$398","v":0},{"$f":"F1377*'Série - IPCA'!$C$444/'Série - IPCA'!$C$411","v":455.97098802226134},{"$f":"G1377*'Série - IPCA'!$C$444/'Série - IPCA'!$C$424","v":0},{"$f":"H1377*'Série - IPCA'!$C$444/'Série - IPCA'!$C$437","v":26131.037942542964},5317.4017861130451,null,"N","NÃO","SIM","ENCARGOS DE GESTÃO","FIXO","SERVIÇOS",5100,"GERÊNCIA DE ENGENHARIA"]
[null,null,null,0,0,1516.29,1816.98,5089.37,1684.5279999999998,{"$f":"D1378*'Série - IPCA'!$C$444/'Série - IPCA'!$C$385","v":0},{"$f":"E1378*'Série - IPCA'!$C$444/'Série - IPCA'!$C$398","v":0},{"$f":"F1378*'Série - IPCA'!$C$444/'Série - IPCA'!$C$411","v":1722.9042573407623},{"$f":"G1378*'Série - IPCA'!$C$444/'Série - IPCA'!$C$424","v":1951.6617404368983},{"$f":"H1378*'Série - IPCA'!$C$444/'Série - IPCA'!$C$437","v":5225.150108975321},1779.9432213505963,null,"N","NÃO","SIM","ENCARGOS DE GESTÃO","FIXO","SERVIÇOS",5200,"GERÊNCIA DE OPERAÇÕES"]
[null,null,null,0,0,0,0,495,99,{"$f":"D1379*'Série - IPCA'!$C$444/'Série - IPCA'!$C$385","v":0},{"$f":"E1379*'Série - IPCA'!$C$444/'Série - IPCA'!$C$398","v":0},{"$f":"F1379*'Série - IPCA'!$C$444/'Série - IPCA'!$C$411","v":0},{"$f":"G1379*'Série - IPCA'!$C$444/'Série - IPCA'!$C$424","v":0},{"$f":"H1379*'Série - IPCA'!$C$444/'Série - IPCA'!$C$437","v":508.20618346529807},101.64123669305961,null,"N","NÃO","SIM","ENCARGOS DE GESTÃO","FIXO","SERVIÇOS",1001,"CONSELHO DE ADMINISTRAÇÃO"]
[null,null,null,0,1934.74,3710,14027.2,156.84,3965.7560000000003,{"$f":"D1380*'Série - IPCA'!$C$444/'Série - IPCA'!$C$385","v":0},{"$f":"E1380*'Série - IPCA'!$C$444/'Série - IPCA'!$C$398","v":2419.5514990500214},{"$f":"F1380*'Série - IPCA'!$C$444/'Série - IPCA'!$C$411","v":4215.5358109162689},{"$f":"G1380*'Série - IPCA'!$C$444/'Série - IPCA'!$C$424","v":15066.9515159531},{"$f":"H1380*'Série - IPCA'!$C$444/'Série - IPCA'!$C$437","v":161.02435922161084},4372.6126370282,null,"N","NÃO","SIM","ENCARGOS DE GESTÃO","FIXO","SERVIÇOS",2410,"ASSESSORIA DE SEGURANÇA DO TRABALHO"]
[null,null,null,259.60000000000002,318.27,0,0,0,115.574,{"$f":"D1381*'Série - IPCA'!$C$444/'Série - IPCA'!$C$385","v":339.31712746250645},{"$f":"E1381*'Série - IPCA'!$C$444/'Série - IPCA'!$C$398","v":398.02281216217705},{"$f":"F1381*'Série - IPCA'!$C$444/'Série - IPCA'!$C$411","v":0},{"$f":"G1381*'Série - IPCA'!$C$444/'Série - IPCA'!$C$424","v":0},{"$f":"H1381*'Série - IPCA'!$C$444/'Série - IPCA'!$C$437","v":0},147.46798792493669,null,"N","NÃO","SIM","ENCARGOS DE GESTÃO","FIXO","SERVIÇOS",3100,"SMS"]
[null,null,null,0,317.07,0,1730.82,0,409.57799999999997,{"$f":"D1382*'Série - IPCA'!$C$444/'Série - IPCA'!$C$385","v":0},{"$f":"E1382*'Série - IPCA'!$C$444/'Série - IPCA'!$C$398","v":396.52211346423309},{"$f":"F1382*'Série - IPCA'!$C$444/'Série - IPCA'!$C$411","v":0},{"$f":"G1382*'Série - IPCA'!$C$444/'Série - IPCA'!$C$424","v":1859.1152206314832},{"$f":"H1382*'Série - IPCA'!$C$444/'Série - IPCA'!$C$437","v":0},451.12746681914325,null,"N","NÃO","SIM","ENCARGOS DE GESTÃO","FIXO","SERVIÇOS",3200,"GERÊNCIA DE PLANEJAMENTO E MEIO AMBIENTE"]
[null,null,null,118.94,0,1197,0,0,263.18799999999999,{"$f":"D1383*'Série - IPCA'!$C$444/'Série - IPCA'!$C$385","v":155.46371009395423},{"$f":"E1383*'Série - IPCA'!$C$444/'Série - IPCA'!$C$398","v":0},{"$f":"F1383*'Série - IPCA'!$C$444/'Série - IPCA'!$C$411","v":1360.1068371069471},{"$f":"G1383*'Série - IPCA'!$C$444/'Série - IPCA'!$C$424","v":0},{"$f":"H1383*'Série - IPCA'!$C$444/'Série - IPCA'!$C$437","v":0},303.11410944018024,null,"N","NÃO","SIM","ENCARGOS DE GESTÃO","FIXO","SERVIÇOS",3300,"GERÊNCIA JURÍDICA"]
[null,null,null,0,427.5,0,262,0,137.9,{"$f":"D1384*'Série - IPCA'!$C$444/'Série - IPCA'!$C$385","v":0},{"$f":"E1384*'Série - IPCA'!$C$444/'Série - IPCA'!$C$398","v":534.62391114252262},{"$f":"F1384*'Série - IPCA'!$C$444/'Série - IPCA'!$C$411","v":0},{"$f":"G1384*'Série - IPCA'!$C$444/'Série - IPCA'!$C$424","v":281.42047573141554},{"$f":"H1384*'Série - IPCA'!$C$444/'Série - IPCA'!$C$437","v":0},163.20887737478762,null,"N","NÃO","SIM","ENCARGOS DE GESTÃO","FIXO","SERVIÇOS",3500,"ASSESSORIA DE COMUNICAÇÃO INSTITUCIONAL"]
[null,null,null,0,0,49000,0,0,9800,{"$f":"D1385*'Série - IPCA'!$C$444/'Série - IPCA'!$C$385","v":0},{"$f":"E1385*'Série - IPCA'!$C$444/'Série - IPCA'!$C$398","v":0},{"$f":"F1385*'Série - IPCA'!$C$444/'Série - IPCA'!$C$411","v":55676.888068705433},{"$f":"G1385*'Série - IPCA'!$C$444/'Série - IPCA'!$C$424","v":0},{"$f":"H1385*'Série - IPCA'!$C$444/'Série - IPCA'!$C$437","v":0},11135.377613741086,null,"N","NÃO","SIM","ENCARGOS DE GESTÃO","FIXO","SERVIÇOS",3700,"GERÊNCIA DE REGULAÇÃO"]
[null,null,null,4100,133552.1,334773.09000000003,22700,89180.37,116861.11200000001,{"$f":"D1386*'Série - IPCA'!$C$444/'Série - IPCA'!$C$385","v":5359.0147249471356},{"$f":"E1386*'Série - IPCA'!$C$444/'Série - IPCA'!$C$398","v":167017.88548139721},{"$f":"F1386*'Série - IPCA'!$C$444/'Série - IPCA'!$C$411","v":380390.28286417655},{"$f":"G1386*'Série - IPCA'!$C$444/'Série - IPCA'!$C$424","v":24382.613737034855},{"$f":"H1386*'Série - IPCA'!$C$444/'Série - IPCA'!$C$437","v":91559.627227723569},133741.88480705587,null,"N","NÃO","SIM","ENCARGOS DE GESTÃO","FIXO","SERVIÇOS",4100,"GERÊNCIA DE SERVIÇOS CORPORATIVOS"]
[null,null,null,0,0,0,0,244371.22,48874.243999999999,{"$f":"D1387*'Série - IPCA'!$C$444/'Série - IPCA'!$C$385","v":0},{"$f":"E1387*'Série - IPCA'!$C$444/'Série - IPCA'!$C$398","v":0},{"$f":"F1387*'Série - IPCA'!$C$444/'Série - IPCA'!$C$411","v":0},{"$f":"G1387*'Série - IPCA'!$C$444/'Série - IPCA'!$C$424","v":0},{"$f":"H1387*'Série - IPCA'!$C$444/'Série - IPCA'!$C$437","v":250890.83851506814},50178.167703013627,null,"N","NÃO","SIM","ENCARGOS DE GESTÃO","FIXO","SERVIÇOS",4200,"GERÊNCIA FINANCEIRA"]
[null,null,null,246.24,174178.59,890.66,0,0,35063.097999999998,{"$f":"D1388*'Série - IPCA'!$C$444/'Série - IPCA'!$C$385","v":321.85458191975192},{"$f":"E1388*'Série - IPCA'!$C$444/'Série - IPCA'!$C$398","v":217824.65268559035},{"$f":"F1388*'Série - IPCA'!$C$444/'Série - IPCA'!$C$411","v":1012.0240230055751},{"$f":"G1388*'Série - IPCA'!$C$444/'Série - IPCA'!$C$424","v":0},{"$f":"H1388*'Série - IPCA'!$C$444/'Série - IPCA'!$C$437","v":0},43831.706258103135,null,"N","NÃO","SIM","ENCARGOS DE GESTÃO","FIXO","SERVIÇOS",4300,"GERÊNCIA DE TECNOLOGIA E SISTEMAS DE INFORMAÇÃO"]
[null,null,null,3149.11,2849.28,0,0,0,1199.6780000000001,{"$f":"D1389*'Série - IPCA'!$C$444/'Série - IPCA'!$C$385","v":4116.1285025556772},{"$f":"E1389*'Série - IPCA'!$C$444/'Série - IPCA'!$C$398","v":3563.2589883980513},{"$f":"F1389*'Série - IPCA'!$C$444/'Série - IPCA'!$C$411","v":0},{"$f":"G1389*'Série - IPCA'!$C$444/'Série - IPCA'!$C$424","v":0},{"$f":"H1389*'Série - IPCA'!$C$444/'Série - IPCA'!$C$437","v":0},1535.8774981907457,null,"N","SIM","NÃO","OPEX","EXTENSÃO","SERVIÇOS",5200,"GERÊNCIA DE OPERAÇÕES"]
[null,null,null,54809.21,69952.639999999999,86575.48,102740.66,106284.45,84072.487999999998,{"$f":"D1390*'Série - IPCA'!$C$444/'Série - IPCA'!$C$385","v":71639.844744565809},{"$f":"E1390*'Série - IPCA'!$C$444/'Série - IPCA'!$C$398","v":87481.529804783335},{"$f":"F1390*'Série - IPCA'!$C$444/'Série - IPCA'!$C$411","v":98372.516519478479},{"$f":"G1390*'Série - IPCA'!$C$444/'Série - IPCA'!$C$424","v":110356.20387083823},{"$f":"H1390*'Série - IPCA'!$C$444/'Série - IPCA'!$C$437","v":109120.0296893097},95394.024925795107,null,"N","SIM","NÃO","OPEX","FIXO","DESPESAS_GERAIS",5100,"GERÊNCIA DE ENGENHARIA"]
[null,null,null,134954.79999999999,148740.39000000001,141723.69,168185.98,173987.14,153518.39999999999,{"$f":"D1391*'Série - IPCA'!$C$444/'Série - IPCA'!$C$385","v":176396.28302495019},{"$f":"E1391*'Série - IPCA'!$C$444/'Série - IPCA'!$C$398","v":186012.09133722613},{"$f":"F1391*'Série - IPCA'!$C$444/'Série - IPCA'!$C$411","v":161035.38826150831},{"$f":"G1391*'Série - IPCA'!$C$444/'Série - IPCA'!$C$424","v":180652.58970593259},{"$f":"H1391*'Série - IPCA'!$C$444/'Série - IPCA'!$C$437","v":178628.97048776265},176545.06456347596,null,"N","SIM","NÃO","OPEX","FIXO","DESPESAS_GERAIS",5200,"GERÊNCIA DE OPERAÇÕES"]
[null,null,null,30377.77,136419.57,74775.240000000005,88737.05,91797.83,84421.491999999998,{"$f":"D1392*'Série - IPCA'!$C$444/'Série - IPCA'!$C$385","v":39706.077253916432},{"$f":"E1392*'Série - IPCA'!$C$444/'Série - IPCA'!$C$398","v":170603.89256089157},{"$f":"F1392*'Série - IPCA'!$C$444/'Série - IPCA'!$C$411","v":84964.340158991545},{"$f":"G1392*'Série - IPCA'!$C$444/'Série - IPCA'!$C$424","v":95314.590938940484},{"$f":"H1392*'Série - IPCA'!$C$444/'Série - IPCA'!$C$437","v":94246.91885797221},96967.163954142437,null,"N","SIM","NÃO","ENCARGOS DE COMERCIALIZAÇÃO","FIXO","DESPESAS_GERAIS",5300,"GERÊNCIA COMERCIAL"]
[null,null,null,0,1287.19,3913.36,4644.0600000000004,4804.24,2929.77,{"$f":"D1393*'Série - IPCA'!$C$444/'Série - IPCA'!$C$385","v":0},{"$f":"E1393*'Série - IPCA'!$C$444/'Série - IPCA'!$C$398","v":1609.736964172032},{"$f":"F1393*'Série - IPCA'!$C$444/'Série - IPCA'!$C$411","v":4446.6062590316151},{"$f":"G1393*'Série - IPCA'!$C$444/'Série - IPCA'!$C$424","v":4988.2960859741897},{"$f":"H1393*'Série - IPCA'!$C$444/'Série - IPCA'!$C$437","v":4932.4130805077248},3195.4104779371128,null,"N","SIM","NÃO","ENCARGOS DE GESTÃO","FIXO","DESPESAS_GERAIS",1005,"AUDITORIA INTERNA"]
[null,null,null,0,3699.71,7886.9,9359.5400000000009,9682.3700000000008,6125.7040000000006,{"$f":"D1394*'Série - IPCA'!$C$444/'Série - IPCA'!$C$385","v":0},{"$f":"E1394*'Série - IPCA'!$C$444/'Série - IPCA'!$C$398","v":4626.7916498084269},{"$f":"F1394*'Série - IPCA'!$C$444/'Série - IPCA'!$C$411","v":8961.5928267157724},{"$f":"G1394*'Série - IPCA'!$C$444/'Série - IPCA'!$C$424","v":10053.306104684019},{"$f":"H1394*'Série - IPCA'!$C$444/'Série - IPCA'!$C$437","v":9940.6874840381806},6716.4756130492797,null,"N","SIM","NÃO","ENCARGOS DE GESTÃO","FIXO","DESPESAS_GERAIS",2110,"ASSESSORIA DA DIRETORIA EXECUTIVA"]
[null,null,null,0,39602.78,11800.28,14003.59,57686.63,24618.655999999999,{"$f":"D1395*'Série - IPCA'!$C$444/'Série - IPCA'!$C$385","v":0},{"$f":"E1395*'Série - IPCA'!$C$444/'Série - IPCA'!$C$398","v":49526.533650799698},{"$f":"F1395*'Série - IPCA'!$C$444/'Série - IPCA'!$C$411","v":13408.221811007823},{"$f":"G1395*'Série - IPCA'!$C$444/'Série - IPCA'!$C$424","v":15041.591449418676},{"$f":"H1395*'Série - IPCA'!$C$444/'Série - IPCA'!$C$437","v":59225.660746009635},27440.401531447169,null,"N","SIM","NÃO","ENCARGOS DE GESTÃO","FIXO","DESPESAS_GERAIS",2120,"ASSESSORIA DA PRESIDÊNCIA"]
[null,null,null,0,2518.9699999999998,0,0,0,503.79399999999998,{"$f":"D1396*'Série - IPCA'!$C$444/'Série - IPCA'!$C$385","v":0},{"$f":"E1396*'Série - IPCA'!$C$444/'Série - IPCA'!$C$398","v":3150.1791659665032},{"$f":"F1396*'Série - IPCA'!$C$444/'Série - IPCA'!$C$411","v":0},{"$f":"G1396*'Série - IPCA'!$C$444/'Série - IPCA'!$C$424","v":0},{"$f":"H1396*'Série - IPCA'!$C$444/'Série - IPCA'!$C$437","v":0},630.03583319330062,null,"N","SIM","NÃO","ENCARGOS DE GESTÃO","FIXO","DESPESAS_GERAIS",2200,"DIRETORIA COLEGIADA - PRESIDÊNCIA"]
[null,null,null,0,628.23,0,0,0,125.646,{"$f":"D1397*'Série - IPCA'!$C$444/'Série - IPCA'!$C$385","v":0},{"$f":"E1397*'Série - IPCA'!$C$444/'Série - IPCA'!$C$398","v":785.65328584109238},{"$f":"F1397*'Série - IPCA'!$C$444/'Série - IPCA'!$C$411","v":0},{"$f":"G1397*'Série - IPCA'!$C$444/'Série - IPCA'!$C$424","v":0},{"$f":"H1397*'Série - IPCA'!$C$444/'Série - IPCA'!$C$437","v":0},157.13065716821848,null,"N","SIM","NÃO","ENCARGOS DE GESTÃO","FIXO","DESPESAS_GERAIS",2300,"DIRETORIA COLEGIADA - DAF"]
[null,null,null,0,5745.58,3913.36,4644.0600000000004,4804.24,3821.4479999999994,{"$f":"D1398*'Série - IPCA'!$C$444/'Série - IPCA'!$C$385","v":0},{"$f":"E1398*'Série - IPCA'!$C$444/'Série - IPCA'!$C$398","v":7185.3203541105386},{"$f":"F1398*'Série - IPCA'!$C$444/'Série - IPCA'!$C$411","v":4446.6062590316151},{"$f":"G1398*'Série - IPCA'!$C$444/'Série - IPCA'!$C$424","v":4988.2960859741897},{"$f":"H1398*'Série - IPCA'!$C$444/'Série - IPCA'!$C$437","v":4932.4130805077248},4310.527155924814,null,"N","SIM","NÃO","ENCARGOS DE GESTÃO","FIXO","DESPESAS_GERAIS",2310,"ASSESSORIA DAF"]
[null,null,null,0,628.23,0,0,0,125.646,{"$f":"D1399*'Série - IPCA'!$C$444/'Série - IPCA'!$C$385","v":0},{"$f":"E1399*'Série - IPCA'!$C$444/'Série - IPCA'!$C$398","v":785.65328584109238},{"$f":"F1399*'Série - IPCA'!$C$444/'Série - IPCA'!$C$411","v":0},{"$f":"G1399*'Série - IPCA'!$C$444/'Série - IPCA'!$C$424","v":0},{"$f":"H1399*'Série - IPCA'!$C$444/'Série - IPCA'!$C$437","v":0},157.13065716821848,null,"N","SIM","NÃO","ENCARGOS DE GESTÃO","FIXO","DESPESAS_GERAIS",2400,"DIRETORIA COLEGIADA - DTC"]
[null,null,null,0,4458.3599999999997,0,0,0,891.67199999999991,{"$f":"D1400*'Série - IPCA'!$C$444/'Série - IPCA'!$C$385","v":0},{"$f":"E1400*'Série - IPCA'!$C$444/'Série - IPCA'!$C$398","v":5575.545872471057},{"$f":"F1400*'Série - IPCA'!$C$444/'Série - IPCA'!$C$411","v":0},{"$f":"G1400*'Série - IPCA'!$C$444/'Série - IPCA'!$C$424","v":0},{"$f":"H1400*'Série - IPCA'!$C$444/'Série - IPCA'!$C$437","v":0},1115.1091744942114,null,"N","SIM","NÃO","ENCARGOS DE GESTÃO","FIXO","DESPESAS_GERAIS",2410,"ASSESSORIA DE SEGURANÇA DO TRABALHO"]
[null,null,null,0,49958.21,57201.11,56014.37,57946.46,44224.03,{"$f":"D1401*'Série - IPCA'!$C$444/'Série - IPCA'!$C$385","v":0},{"$f":"E1401*'Série - IPCA'!$C$444/'Série - IPCA'!$C$398","v":62476.850582174236},{"$f":"F1401*'Série - IPCA'!$C$444/'Série - IPCA'!$C$411","v":64995.506099504229},{"$f":"G1401*'Série - IPCA'!$C$444/'Série - IPCA'!$C$424","v":60166.376538914243},{"$f":"H1401*'Série - IPCA'!$C$444/'Série - IPCA'!$C$437","v":59492.422791766789},49426.231202471899,null,"N","SIM","NÃO","ENCARGOS DE GESTÃO","FIXO","DESPESAS_GERAIS",3200,"GERÊNCIA DE PLANEJAMENTO E MEIO AMBIENTE"]
[null,null,null,0,20477.38,15713.61,18647.650000000001,19290.849999999999,14825.898000000001,{"$f":"D1402*'Série - IPCA'!$C$444/'Série - IPCA'!$C$385","v":0},{"$f":"E1402*'Série - IPCA'!$C$444/'Série - IPCA'!$C$398","v":25608.647919419112},{"$f":"F1402*'Série - IPCA'!$C$444/'Série - IPCA'!$C$411","v":17854.793982148785},{"$f":"G1402*'Série - IPCA'!$C$444/'Série - IPCA'!$C$424","v":20029.887535392867},{"$f":"H1402*'Série - IPCA'!$C$444/'Série - IPCA'!$C$437","v":19805.513645053627},16659.768616402878,null,"N","SIM","NÃO","ENCARGOS DE GESTÃO","FIXO","DESPESAS_GERAIS",3300,"GERÊNCIA JURÍDICA"]
[null,null,null,0,23020.66,15713.61,30647.65,46188.18,23114.02,{"$f":"D1403*'Série - IPCA'!$C$444/'Série - IPCA'!$C$385","v":0},{"$f":"E1403*'Série - IPCA'!$C$444/'Série - IPCA'!$C$398","v":28789.228739841463},{"$f":"F1403*'Série - IPCA'!$C$444/'Série - IPCA'!$C$411","v":17854.793982148785},{"$f":"G1403*'Série - IPCA'!$C$444/'Série - IPCA'!$C$424","v":32919.374973472972},{"$f":"H1403*'Série - IPCA'!$C$444/'Série - IPCA'!$C$437","v":47420.441775774168},25396.767894247478,null,"N","SIM","NÃO","ENCARGOS DE GESTÃO","FIXO","DESPESAS_GERAIS",3500,"ASSESSORIA DE COMUNICAÇÃO INSTITUCIONAL"]
[null,null,null,0,16748.78,27574.11,32722.69,33851.370000000003,22179.390000000003,{"$f":"D1404*'Série - IPCA'!$C$444/'Série - IPCA'!$C$385","v":0},{"$f":"E1404*'Série - IPCA'!$C$444/'Série - IPCA'!$C$398","v":20945.726948457683},{"$f":"F1404*'Série - IPCA'!$C$444/'Série - IPCA'!$C$411","v":31331.441552330027},{"$f":"G1404*'Série - IPCA'!$C$444/'Série - IPCA'!$C$424","v":35148.225141265772},{"$f":"H1404*'Série - IPCA'!$C$444/'Série - IPCA'!$C$437","v":34754.496066205436},24435.977941651781,null,"N","SIM","NÃO","ENCARGOS DE GESTÃO","FIXO","DESPESAS_GERAIS",3600,"GERÊNCIA DE GOVERNANÇA, RISCO E COMPLIANCE"]
[null,null,null,0,80669.490000000005,74775.25,131243.18,91797.83,75697.149999999994,{"$f":"D1405*'Série - IPCA'!$C$444/'Série - IPCA'!$C$385","v":0},{"$f":"E1405*'Série - IPCA'!$C$444/'Série - IPCA'!$C$398","v":100883.83217233363},{"$f":"F1405*'Série - IPCA'!$C$444/'Série - IPCA'!$C$411","v":84964.351521621749},{"$f":"G1405*'Série - IPCA'!$C$444/'Série - IPCA'!$C$424","v":140971.44332864045},{"$f":"H1405*'Série - IPCA'!$C$444/'Série - IPCA'!$C$437","v":94246.91885797221},84213.309176113602,null,"N","SIM","NÃO","ENCARGOS DE GESTÃO","FIXO","DESPESAS_GERAIS",4100,"GERÊNCIA DE SERVIÇOS CORPORATIVOS"]
[null,null,null,0,39718.51,35400.82,42010.81,43459.87,32118.002,{"$f":"D1406*'Série - IPCA'!$C$444/'Série - IPCA'!$C$385","v":0},{"$f":"E1406*'Série - IPCA'!$C$444/'Série - IPCA'!$C$398","v":49671.263534393911},{"$f":"F1406*'Série - IPCA'!$C$444/'Série - IPCA'!$C$411","v":40224.642707763036},{"$f":"G1406*'Série - IPCA'!$C$444/'Série - IPCA'!$C$424","v":45124.817313214153},{"$f":"H1406*'Série - IPCA'!$C$444/'Série - IPCA'!$C$437","v":44619.342760804051},35928.013263235029,null,"N","SIM","NÃO","ENCARGOS DE GESTÃO","FIXO","DESPESAS_GERAIS",4200,"GERÊNCIA FINANCEIRA"]
[null,null,null,0,42050.559999999998,31487.47,37366.75,38655.61,29912.078000000001,{"$f":"D1407*'Série - IPCA'!$C$444/'Série - IPCA'!$C$385","v":0},{"$f":"E1407*'Série - IPCA'!$C$444/'Série - IPCA'!$C$398","v":52587.683866510684},{"$f":"F1407*'Série - IPCA'!$C$444/'Série - IPCA'!$C$411","v":35778.047811361641},{"$f":"G1407*'Série - IPCA'!$C$444/'Série - IPCA'!$C$424","v":40136.521227239966},{"$f":"H1407*'Série - IPCA'!$C$444/'Série - IPCA'!$C$437","v":39686.909146713158},33637.832410365096,null,"N","SIM","NÃO","ENCARGOS DE GESTÃO","FIXO","DESPESAS_GERAIS",4300,"GERÊNCIA DE TECNOLOGIA E SISTEMAS DE INFORMAÇÃO"]
[null,null,null,0,28158.23,23600.57,28007.19,28973.23,21747.844000000001,{"$f":"D1408*'Série - IPCA'!$C$444/'Série - IPCA'!$C$385","v":0},{"$f":"E1408*'Série - IPCA'!$C$444/'Série - IPCA'!$C$398","v":35214.182581171262},{"$f":"F1408*'Série - IPCA'!$C$444/'Série - IPCA'!$C$411","v":26816.454984645865},{"$f":"G1408*'Série - IPCA'!$C$444/'Série - IPCA'!$C$424","v":30083.193640076886},{"$f":"H1408*'Série - IPCA'!$C$444/'Série - IPCA'!$C$437","v":29746.211395883394},24372.008520355485,null,"N","SIM","NÃO","ENCARGOS DE GESTÃO","FIXO","DESPESAS_GERAIS",4500,"GERÊNCIA CONTÁBIL"]
[null,null,null,4450.8599999999997,0,0,0,0,890.17199999999991,{"$f":"D1409*'Série - IPCA'!$C$444/'Série - IPCA'!$C$385","v":5817.6156777263923},{"$f":"E1409*'Série - IPCA'!$C$444/'Série - IPCA'!$C$398","v":0},{"$f":"F1409*'Série - IPCA'!$C$444/'Série - IPCA'!$C$411","v":0},{"$f":"G1409*'Série - IPCA'!$C$444/'Série - IPCA'!$C$424","v":0},{"$f":"H1409*'Série - IPCA'!$C$444/'Série - IPCA'!$C$437","v":0},1163.5231355452784,null,"N","SIM","NÃO","ENCARGOS DE GESTÃO","FUNCIONÁRIOS","PESSOAL",3100,"SMS"]
[null,null,null,0,0,0,0,317.14999999999998,63.429999999999993,{"$f":"D1410*'Série - IPCA'!$C$444/'Série - IPCA'!$C$385","v":0},{"$f":"E1410*'Série - IPCA'!$C$444/'Série - IPCA'!$C$398","v":0},{"$f":"F1410*'Série - IPCA'!$C$444/'Série - IPCA'!$C$411","v":0},{"$f":"G1410*'Série - IPCA'!$C$444/'Série - IPCA'!$C$424","v":0},{"$f":"H1410*'Série - IPCA'!$C$444/'Série - IPCA'!$C$437","v":325.6112951232713},65.122259024654255,null,"N","SIM","NÃO","OPEX","FIXO","DESPESAS_GERAIS",5100,"GERÊNCIA DE ENGENHARIA"]
[null,null,null,0,0,1022.59,1942.76,1464.47,885.96399999999994,{"$f":"D1411*'Série - IPCA'!$C$444/'Série - IPCA'!$C$385","v":0},{"$f":"E1411*'Série - IPCA'!$C$444/'Série - IPCA'!$C$398","v":0},{"$f":"F1411*'Série - IPCA'!$C$444/'Série - IPCA'!$C$411","v":1161.9312034730101},{"$f":"G1411*'Série - IPCA'!$C$444/'Série - IPCA'!$C$424","v":2086.7650512670411},{"$f":"H1411*'Série - IPCA'!$C$444/'Série - IPCA'!$C$437","v":1503.5408272715661},950.44741640232348,null,"N","SIM","NÃO","OPEX","FIXO","DESPESAS_GERAIS",5200,"GERÊNCIA DE OPERAÇÕES"]
[null,null,null,0,0,572.41,1091.81,891.27,511.09799999999996,{"$f":"D1412*'Série - IPCA'!$C$444/'Série - IPCA'!$C$385","v":0},{"$f":"E1412*'Série - IPCA'!$C$444/'Série - IPCA'!$C$398","v":0},{"$f":"F1412*'Série - IPCA'!$C$444/'Série - IPCA'!$C$411","v":650.40831631444235},{"$f":"G1412*'Série - IPCA'!$C$444/'Série - IPCA'!$C$424","v":1172.7392733141862},{"$f":"H1412*'Série - IPCA'!$C$444/'Série - IPCA'!$C$437","v":915.04833361033582},547.63918464779294,null,"N","SIM","NÃO","ENCARGOS DE COMERCIALIZAÇÃO","FIXO","DESPESAS_GERAIS",5300,"GERÊNCIA COMERCIAL"]
[null,null,null,170,0,0,374,0,{"$f":"AVERAGE(D1413:H1413)","v":108.8},{"$f":"D1413*'Série - IPCA'!$C$444/'Série - IPCA'!$C$385","v":222.20304957097878},{"$f":"E1413*'Série - IPCA'!$C$444/'Série - IPCA'!$C$398","v":0},{"$f":"F1413*'Série - IPCA'!$C$444/'Série - IPCA'!$C$411","v":0},{"$f":"G1413*'Série - IPCA'!$C$444/'Série - IPCA'!$C$424","v":401.72235848682982},{"$f":"H1413*'Série - IPCA'!$C$444/'Série - IPCA'!$C$437","v":0},{"$f":"AVERAGE(J1413:N1413)","v":124.78508161156171},null,"N","SIM","NÃO","ENCARGOS DE GESTÃO","FIXO","DESPESAS_GERAIS",2200,"DIRETORIA COLEGIADA - PRESIDÊNCIA"]
[null,null,null,0,0,164.63,0,0,32.926000000000002,{"$f":"D1414*'Série - IPCA'!$C$444/'Série - IPCA'!$C$385","v":0},{"$f":"E1414*'Série - IPCA'!$C$444/'Série - IPCA'!$C$398","v":0},{"$f":"F1414*'Série - IPCA'!$C$444/'Série - IPCA'!$C$411","v":187.06298128063213},{"$f":"G1414*'Série - IPCA'!$C$444/'Série - IPCA'!$C$424","v":0},{"$f":"H1414*'Série - IPCA'!$C$444/'Série - IPCA'!$C$437","v":0},37.412596256126427,null,"N","SIM","NÃO","ENCARGOS DE GESTÃO","FIXO","DESPESAS_GERAIS",2310,"ASSESSORIA DAF"]
[null,null,null,0,0,287.70999999999998,17.010000000000002,158.08000000000001,92.559999999999988,{"$f":"D1415*'Série - IPCA'!$C$444/'Série - IPCA'!$C$385","v":0},{"$f":"E1415*'Série - IPCA'!$C$444/'Série - IPCA'!$C$398","v":0},{"$f":"F1415*'Série - IPCA'!$C$444/'Série - IPCA'!$C$411","v":326.91423400504573},{"$f":"G1415*'Série - IPCA'!$C$444/'Série - IPCA'!$C$424","v":18.270848443478542},{"$f":"H1415*'Série - IPCA'!$C$444/'Série - IPCA'!$C$437","v":162.29744137817036},101.49650476533893,null,"N","SIM","NÃO","ENCARGOS DE GESTÃO","FIXO","DESPESAS_GERAIS",3100,"SMS"]
[null,null,null,0,0,0,373.22,0,74.644000000000005,{"$f":"D1416*'Série - IPCA'!$C$444/'Série - IPCA'!$C$385","v":0},{"$f":"E1416*'Série - IPCA'!$C$444/'Série - IPCA'!$C$398","v":0},{"$f":"F1416*'Série - IPCA'!$C$444/'Série - IPCA'!$C$411","v":0},{"$f":"G1416*'Série - IPCA'!$C$444/'Série - IPCA'!$C$424","v":400.88454180335464},{"$f":"H1416*'Série - IPCA'!$C$444/'Série - IPCA'!$C$437","v":0},80.176908360670922,null,"N","SIM","NÃO","ENCARGOS DE GESTÃO","FIXO","DESPESAS_GERAIS",3500,"ASSESSORIA DE COMUNICAÇÃO INSTITUCIONAL"]
[null,null,null,0,0,1443.34,1692.36,2249.06,1076.952,{"$f":"D1417*'Série - IPCA'!$C$444/'Série - IPCA'!$C$385","v":0},{"$f":"E1417*'Série - IPCA'!$C$444/'Série - IPCA'!$C$398","v":0},{"$f":"F1417*'Série - IPCA'!$C$444/'Série - IPCA'!$C$411","v":1640.0138698997},{"$f":"G1417*'Série - IPCA'!$C$444/'Série - IPCA'!$C$424","v":1817.8044133924363},{"$f":"H1417*'Série - IPCA'!$C$444/'Série - IPCA'!$C$437","v":2309.0630282514412},1153.3762623087155,null,"N","SIM","NÃO","ENCARGOS DE GESTÃO","FIXO","DESPESAS_GERAIS",4100,"GERÊNCIA DE SERVIÇOS CORPORATIVOS"]
[null,null,null,6816.44,4411.5,27828.76,31142.22,1190,14277.784,{"$f":"D1418*'Série - IPCA'!$C$444/'Série - IPCA'!$C$385","v":8909.6103248094278},{"$f":"E1418*'Série - IPCA'!$C$444/'Série - IPCA'!$C$398","v":5516.9435883163469},{"$f":"F1418*'Série - IPCA'!$C$444/'Série - IPCA'!$C$411","v":31620.790930834017},{"$f":"G1418*'Série - IPCA'!$C$444/'Série - IPCA'!$C$424","v":33450.604456993904},{"$f":"H1418*'Série - IPCA'!$C$444/'Série - IPCA'!$C$437","v":1221.7481986337471},16143.939499917489,null,"N","SIM","NÃO","ENCARGOS DE GESTÃO","FIXO","DESPESAS_GERAIS",4300,"GERÊNCIA DE TECNOLOGIA E SISTEMAS DE INFORMAÇÃO"]
[null,null,null,0,0,0,0,4991652.01,998330.402,{"$f":"D1419*'Série - IPCA'!$C$444/'Série - IPCA'!$C$385","v":0},{"$f":"E1419*'Série - IPCA'!$C$444/'Série - IPCA'!$C$398","v":0},{"$f":"F1419*'Série - IPCA'!$C$444/'Série - IPCA'!$C$411","v":0},{"$f":"G1419*'Série - IPCA'!$C$444/'Série - IPCA'!$C$424","v":0},{"$f":"H1419*'Série - IPCA'!$C$444/'Série - IPCA'!$C$437","v":5124825.0852302704},1024965.0170460541,null,"S",null,"SIM","ENCARGOS DE GESTÃO","FIXO","TRIBUTOS_E_TAXAS_FISCAIS",3700,"GERÊNCIA DE REGULAÇÃO"]
[null,null,null,3495057.27,3683329.87,1695667.8,2255230.58,0,2225857.1040000003,{"$f":"D1420*'Série - IPCA'!$C$444/'Série - IPCA'!$C$385","v":4568308.1401130576},{"$f":"E1420*'Série - IPCA'!$C$444/'Série - IPCA'!$C$398","v":4606306.9500057995},{"$f":"F1420*'Série - IPCA'!$C$444/'Série - IPCA'!$C$411","v":1926724.6184144488},{"$f":"G1420*'Série - IPCA'!$C$444/'Série - IPCA'!$C$424","v":2422397.1859070086},{"$f":"H1420*'Série - IPCA'!$C$444/'Série - IPCA'!$C$437","v":0},2704747.3788880627,null,"S",null,"SIM","ENCARGOS DE GESTÃO","FIXO","TRIBUTOS_E_TAXAS_FISCAIS",4200,"GERÊNCIA FINANCEIRA"]
[null,null,null,0,0,0,0,345.45,69.09,{"$f":"D1421*'Série - IPCA'!$C$444/'Série - IPCA'!$C$385","v":0},{"$f":"E1421*'Série - IPCA'!$C$444/'Série - IPCA'!$C$398","v":0},{"$f":"F1421*'Série - IPCA'!$C$444/'Série - IPCA'!$C$411","v":0},{"$f":"G1421*'Série - IPCA'!$C$444/'Série - IPCA'!$C$424","v":0},{"$f":"H1421*'Série - IPCA'!$C$444/'Série - IPCA'!$C$437","v":354.66631530926713},70.933263061853424,null,"N","SIM","NÃO","ENCARGOS DE GESTÃO","FIXO","TRIBUTOS_E_TAXAS_FISCAIS",3200,"GERÊNCIA DE PLANEJAMENTO E MEIO AMBIENTE"]
[null,null,null,0,0,130.02000000000001,0,63.21,38.646000000000001,{"$f":"D1422*'Série - IPCA'!$C$444/'Série - IPCA'!$C$385","v":0},{"$f":"E1422*'Série - IPCA'!$C$444/'Série - IPCA'!$C$398","v":0},{"$f":"F1422*'Série - IPCA'!$C$444/'Série - IPCA'!$C$411","v":147.73691809577716},{"$f":"G1422*'Série - IPCA'!$C$444/'Série - IPCA'!$C$424","v":0},{"$f":"H1422*'Série - IPCA'!$C$444/'Série - IPCA'!$C$437","v":64.896389609780798},42.526661541111594,null,"N","SIM","NÃO","ENCARGOS DE GESTÃO","FIXO","TRIBUTOS_E_TAXAS_FISCAIS",5100,"GERÊNCIA DE ENGENHARIA"]
[null,null,null,0,0,0,0,5229.34,1045.8679999999999,{"$f":"D1423*'Série - IPCA'!$C$444/'Série - IPCA'!$C$385","v":0},{"$f":"E1423*'Série - IPCA'!$C$444/'Série - IPCA'!$C$398","v":0},{"$f":"F1423*'Série - IPCA'!$C$444/'Série - IPCA'!$C$411","v":0},{"$f":"G1423*'Série - IPCA'!$C$444/'Série - IPCA'!$C$424","v":0},{"$f":"H1423*'Série - IPCA'!$C$444/'Série - IPCA'!$C$437","v":5368.8543907927724},1073.7708781585545,null,"N","SIM","NÃO","ENCARGOS DE GESTÃO","FIXO","TRIBUTOS_E_TAXAS_FISCAIS",4100,"GERÊNCIA DE SERVIÇOS CORPORATIVOS"]
[null,null,null,489.48,0,0,0,0,97.896000000000001,{"$f":"D1424*'Série - IPCA'!$C$444/'Série - IPCA'!$C$385","v":639.78793355295704},{"$f":"E1424*'Série - IPCA'!$C$444/'Série - IPCA'!$C$398","v":0},{"$f":"F1424*'Série - IPCA'!$C$444/'Série - IPCA'!$C$411","v":0},{"$f":"G1424*'Série - IPCA'!$C$444/'Série - IPCA'!$C$424","v":0},{"$f":"H1424*'Série - IPCA'!$C$444/'Série - IPCA'!$C$437","v":0},127.95758671059141,null,"N","SIM","NÃO","ENCARGOS DE COMERCIALIZAÇÃO","FUNCIONÁRIOS","DESPESAS_GERAIS",5500,"GERÊNCIA COMERCIAL (inativo)"]
[null,null,null,157.46,0,0,0,0,31.492000000000001,{"$f":"D1425*'Série - IPCA'!$C$444/'Série - IPCA'!$C$385","v":205.81230697321365},{"$f":"E1425*'Série - IPCA'!$C$444/'Série - IPCA'!$C$398","v":0},{"$f":"F1425*'Série - IPCA'!$C$444/'Série - IPCA'!$C$411","v":0},{"$f":"G1425*'Série - IPCA'!$C$444/'Série - IPCA'!$C$424","v":0},{"$f":"H1425*'Série - IPCA'!$C$444/'Série - IPCA'!$C$437","v":0},41.162461394642733,null,"N","SIM","NÃO","ENCARGOS DE GESTÃO","FUNCIONÁRIOS","DESPESAS_GERAIS",1002,"CONSELHO FISCAL"]
[null,null,null,965.08,0,0,0,0,193.01600000000002,{"$f":"D1426*'Série - IPCA'!$C$444/'Série - IPCA'!$C$385","v":1261.433641646825},{"$f":"E1426*'Série - IPCA'!$C$444/'Série - IPCA'!$C$398","v":0},{"$f":"F1426*'Série - IPCA'!$C$444/'Série - IPCA'!$C$411","v":0},{"$f":"G1426*'Série - IPCA'!$C$444/'Série - IPCA'!$C$424","v":0},{"$f":"H1426*'Série - IPCA'!$C$444/'Série - IPCA'!$C$437","v":0},252.28672832936499,null,"N","SIM","NÃO","ENCARGOS DE COMERCIALIZAÇÃO","FUNCIONÁRIOS","VIAGENS_REPRESENTAÇÕES",5400,"GERÊNCIA COMERCIAL (inativo)"]
[null,null,null,980.71,0,0,0,0,196.142,{"$f":"D1427*'Série - IPCA'!$C$444/'Série - IPCA'!$C$385","v":1281.8632514397332},{"$f":"E1427*'Série - IPCA'!$C$444/'Série - IPCA'!$C$398","v":0},{"$f":"F1427*'Série - IPCA'!$C$444/'Série - IPCA'!$C$411","v":0},{"$f":"G1427*'Série - IPCA'!$C$444/'Série - IPCA'!$C$424","v":0},{"$f":"H1427*'Série - IPCA'!$C$444/'Série - IPCA'!$C$437","v":0},256.37265028794661,null,"N","SIM","NÃO","ENCARGOS DE GESTÃO","FUNCIONÁRIOS","VIAGENS_REPRESENTAÇÕES",3400,"MARKETING"]
[null,null,null,267.77999999999997,0,0,0,0,53.555999999999997,{"$f":"D1428*'Série - IPCA'!$C$444/'Série - IPCA'!$C$385","v":350.00901537715703},{"$f":"E1428*'Série - IPCA'!$C$444/'Série - IPCA'!$C$398","v":0},{"$f":"F1428*'Série - IPCA'!$C$444/'Série - IPCA'!$C$411","v":0},{"$f":"G1428*'Série - IPCA'!$C$444/'Série - IPCA'!$C$424","v":0},{"$f":"H1428*'Série - IPCA'!$C$444/'Série - IPCA'!$C$437","v":0},70.001803075431411,null,"N","SIM","NÃO","ENCARGOS DE GESTÃO","FUNCIONÁRIOS","VIAGENS_REPRESENTAÇÕES",4600,"GERÊNCIA DE PESSOAS E CULTURA"]
[null,null,null,10351.32,0,0,0,0,2070.2640000000001,{"$f":"D1429*'Série - IPCA'!$C$444/'Série - IPCA'!$C$385","v":13529.969829912143},{"$f":"E1429*'Série - IPCA'!$C$444/'Série - IPCA'!$C$398","v":0},{"$f":"F1429*'Série - IPCA'!$C$444/'Série - IPCA'!$C$411","v":0},{"$f":"G1429*'Série - IPCA'!$C$444/'Série - IPCA'!$C$424","v":0},{"$f":"H1429*'Série - IPCA'!$C$444/'Série - IPCA'!$C$437","v":0},2705.9939659824286,null,"N","SIM","NÃO","ENCARGOS DE COMERCIALIZAÇÃO","FIXO","DESPESAS_GERAIS",5400,"GERÊNCIA COMERCIAL (inativo)"]
[null,null,null,5180.6400000000003,0,0,0,0,1036.1280000000002,{"$f":"D1430*'Série - IPCA'!$C$444/'Série - IPCA'!$C$385","v":6771.4941572317402},{"$f":"E1430*'Série - IPCA'!$C$444/'Série - IPCA'!$C$398","v":0},{"$f":"F1430*'Série - IPCA'!$C$444/'Série - IPCA'!$C$411","v":0},{"$f":"G1430*'Série - IPCA'!$C$444/'Série - IPCA'!$C$424","v":0},{"$f":"H1430*'Série - IPCA'!$C$444/'Série - IPCA'!$C$437","v":0},1354.298831446348,null,"N","SIM","NÃO","ENCARGOS DE COMERCIALIZAÇÃO","FIXO","DESPESAS_GERAIS",5500,"GERÊNCIA COMERCIAL (inativo)"]
[null,null,null,1816.18,0,0,0,0,363.23599999999999,{"$f":"D1431*'Série - IPCA'!$C$444/'Série - IPCA'!$C$385","v":2373.8866739401196},{"$f":"E1431*'Série - IPCA'!$C$444/'Série - IPCA'!$C$398","v":0},{"$f":"F1431*'Série - IPCA'!$C$444/'Série - IPCA'!$C$411","v":0},{"$f":"G1431*'Série - IPCA'!$C$444/'Série - IPCA'!$C$424","v":0},{"$f":"H1431*'Série - IPCA'!$C$444/'Série - IPCA'!$C$437","v":0},474.77733478802395,null,"N","SIM","NÃO","ENCARGOS DE GESTÃO","FIXO","DESPESAS_GERAIS",2100,"SECRETARIA"]
[null,null,null,4396.6000000000004,0,0,0,0,879.32,{"$f":"D1432*'Série - IPCA'!$C$444/'Série - IPCA'!$C$385","v":5746.6936926103854},{"$f":"E1432*'Série - IPCA'!$C$444/'Série - IPCA'!$C$398","v":0},{"$f":"F1432*'Série - IPCA'!$C$444/'Série - IPCA'!$C$411","v":0},{"$f":"G1432*'Série - IPCA'!$C$444/'Série - IPCA'!$C$424","v":0},{"$f":"H1432*'Série - IPCA'!$C$444/'Série - IPCA'!$C$437","v":0},1149.3387385220772,null,"N","SIM","NÃO","ENCARGOS DE GESTÃO","FIXO","DESPESAS_GERAIS",3100,"SMS"]
[null,null,null,3622.45,0,0,0,0,724.49,{"$f":"D1433*'Série - IPCA'!$C$444/'Série - IPCA'!$C$385","v":4734.8202171670127},{"$f":"E1433*'Série - IPCA'!$C$444/'Série - IPCA'!$C$398","v":0},{"$f":"F1433*'Série - IPCA'!$C$444/'Série - IPCA'!$C$411","v":0},{"$f":"G1433*'Série - IPCA'!$C$444/'Série - IPCA'!$C$424","v":0},{"$f":"H1433*'Série - IPCA'!$C$444/'Série - IPCA'!$C$437","v":0},946.96404343340259,null,"N","SIM","NÃO","ENCARGOS DE GESTÃO","FIXO","DESPESAS_GERAIS",3400,"MARKETING"]
[null,null,null,8605.83,0,0,0,0,1721.1659999999999,{"$f":"D1434*'Série - IPCA'!$C$444/'Série - IPCA'!$C$385","v":11248.480412290686},{"$f":"E1434*'Série - IPCA'!$C$444/'Série - IPCA'!$C$398","v":0},{"$f":"F1434*'Série - IPCA'!$C$444/'Série - IPCA'!$C$411","v":0},{"$f":"G1434*'Série - IPCA'!$C$444/'Série - IPCA'!$C$424","v":0},{"$f":"H1434*'Série - IPCA'!$C$444/'Série - IPCA'!$C$437","v":0},2249.6960824581374,null,"N","SIM","NÃO","ENCARGOS DE GESTÃO","FIXO","DESPESAS_GERAIS",4100,"GERÊNCIA DE SERVIÇOS CORPORATIVOS"]
[null,null,null,6431.11,0,0,0,0,1286.222,{"$f":"D1435*'Série - IPCA'!$C$444/'Série - IPCA'!$C$385","v":8405.9544360377495},{"$f":"E1435*'Série - IPCA'!$C$444/'Série - IPCA'!$C$398","v":0},{"$f":"F1435*'Série - IPCA'!$C$444/'Série - IPCA'!$C$411","v":0},{"$f":"G1435*'Série - IPCA'!$C$444/'Série - IPCA'!$C$424","v":0},{"$f":"H1435*'Série - IPCA'!$C$444/'Série - IPCA'!$C$437","v":0},1681.1908872075498,null,"N","SIM","NÃO","ENCARGOS DE GESTÃO","FIXO","DESPESAS_GERAIS",4300,"GERÊNCIA DE TECNOLOGIA E SISTEMAS DE INFORMAÇÃO"]
[null,null,null,3622.45,0,0,0,0,724.49,{"$f":"D1436*'Série - IPCA'!$C$444/'Série - IPCA'!$C$385","v":4734.8202171670127},{"$f":"E1436*'Série - IPCA'!$C$444/'Série - IPCA'!$C$398","v":0},{"$f":"F1436*'Série - IPCA'!$C$444/'Série - IPCA'!$C$411","v":0},{"$f":"G1436*'Série - IPCA'!$C$444/'Série - IPCA'!$C$424","v":0},{"$f":"H1436*'Série - IPCA'!$C$444/'Série - IPCA'!$C$437","v":0},946.96404343340259,null,"N","SIM","NÃO","ENCARGOS DE GESTÃO","FIXO","DESPESAS_GERAIS",4600,"GERÊNCIA DE PESSOAS E CULTURA"]
[null,null,null,0,-99,0,0,0,-19.8,{"$f":"D1437*'Série - IPCA'!$C$444/'Série - IPCA'!$C$385","v":0},{"$f":"E1437*'Série - IPCA'!$C$444/'Série - IPCA'!$C$398","v":-123.80764258037365},{"$f":"F1437*'Série - IPCA'!$C$444/'Série - IPCA'!$C$411","v":0},{"$f":"G1437*'Série - IPCA'!$C$444/'Série - IPCA'!$C$424","v":0},{"$f":"H1437*'Série - IPCA'!$C$444/'Série - IPCA'!$C$437","v":0},-24.76152851607473,null,"N","SIM","NÃO","OPEX","FIXO","MATERIAIS_MANUTENÇÃO",5100,"GERÊNCIA DE ENGENHARIA"]
[null,null,null,0,-63,0,0,0,-12.6,{"$f":"D1438*'Série - IPCA'!$C$444/'Série - IPCA'!$C$385","v":0},{"$f":"E1438*'Série - IPCA'!$C$444/'Série - IPCA'!$C$398","v":-78.786681642055967},{"$f":"F1438*'Série - IPCA'!$C$444/'Série - IPCA'!$C$411","v":0},{"$f":"G1438*'Série - IPCA'!$C$444/'Série - IPCA'!$C$424","v":0},{"$f":"H1438*'Série - IPCA'!$C$444/'Série - IPCA'!$C$437","v":0},-15.757336328411194,null,"N","SIM","NÃO","OPEX","FIXO","MATERIAIS_MANUTENÇÃO",5200,"GERÊNCIA DE OPERAÇÕES"]
[null,null,null,3362.7,2418.8200000000002,553.91,6359.63,5511.65,3641.3419999999996,{"$f":"D1439*'Série - IPCA'!$C$444/'Série - IPCA'!$C$385","v":4395.3070281901792},{"$f":"E1439*'Série - IPCA'!$C$444/'Série - IPCA'!$C$398","v":3024.9333538006003},{"$f":"F1439*'Série - IPCA'!$C$444/'Série - IPCA'!$C$411","v":629.3874504109516},{"$f":"G1439*'Série - IPCA'!$C$444/'Série - IPCA'!$C$424","v":6831.0309163197799},{"$f":"H1439*'Série - IPCA'!$C$444/'Série - IPCA'!$C$437","v":5658.6961840333533},4107.8709865509727,null,"N","SIM","NÃO","ENCARGOS DE GESTÃO","FIXO","MATERIAIS_MANUTENÇÃO",4100,"GERÊNCIA DE SERVIÇOS CORPORATIVOS"]
[null,null,null,227.5,0,0,0,0,45.5,{"$f":"D1440*'Série - IPCA'!$C$444/'Série - IPCA'!$C$385","v":297.35996339645698},{"$f":"E1440*'Série - IPCA'!$C$444/'Série - IPCA'!$C$398","v":0},{"$f":"F1440*'Série - IPCA'!$C$444/'Série - IPCA'!$C$411","v":0},{"$f":"G1440*'Série - IPCA'!$C$444/'Série - IPCA'!$C$424","v":0},{"$f":"H1440*'Série - IPCA'!$C$444/'Série - IPCA'!$C$437","v":0},59.471992679291397,null,"N","SIM","NÃO","OPEX","FIXO","DESPESAS_GERAIS",5200,"GERÊNCIA DE OPERAÇÕES"]
[null,null,null,477.43,0,0,0,0,95.486000000000004,{"$f":"D1441*'Série - IPCA'!$C$444/'Série - IPCA'!$C$385","v":624.0376585686613},{"$f":"E1441*'Série - IPCA'!$C$444/'Série - IPCA'!$C$398","v":0},{"$f":"F1441*'Série - IPCA'!$C$444/'Série - IPCA'!$C$411","v":0},{"$f":"G1441*'Série - IPCA'!$C$444/'Série - IPCA'!$C$424","v":0},{"$f":"H1441*'Série - IPCA'!$C$444/'Série - IPCA'!$C$437","v":0},124.80753171373226,null,"N","SIM","NÃO","OPEX","FIXO","DESPESAS_GERAIS",5100,"GERÊNCIA DE ENGENHARIA"]
[null,null,null,4723,0,0,0,0,944.6,{"$f":"D1442*'Série - IPCA'!$C$444/'Série - IPCA'!$C$385","v":6173.3235477866647},{"$f":"E1442*'Série - IPCA'!$C$444/'Série - IPCA'!$C$398","v":0},{"$f":"F1442*'Série - IPCA'!$C$444/'Série - IPCA'!$C$411","v":0},{"$f":"G1442*'Série - IPCA'!$C$444/'Série - IPCA'!$C$424","v":0},{"$f":"H1442*'Série - IPCA'!$C$444/'Série - IPCA'!$C$437","v":0},1234.664709557333,null,"N","SIM","NÃO","OPEX","FIXO","DESPESAS_GERAIS",5200,"GERÊNCIA DE OPERAÇÕES"]
[null,null,null,510.3,0,0,0,0,102.06,{"$f":"D1443*'Série - IPCA'!$C$444/'Série - IPCA'!$C$385","v":667.00127174159115},{"$f":"E1443*'Série - IPCA'!$C$444/'Série - IPCA'!$C$398","v":0},{"$f":"F1443*'Série - IPCA'!$C$444/'Série - IPCA'!$C$411","v":0},{"$f":"G1443*'Série - IPCA'!$C$444/'Série - IPCA'!$C$424","v":0},{"$f":"H1443*'Série - IPCA'!$C$444/'Série - IPCA'!$C$437","v":0},133.40025434831824,null,"N","SIM","NÃO","ENCARGOS DE COMERCIALIZAÇÃO","FIXO","DESPESAS_GERAIS",5400,"GERÊNCIA COMERCIAL (inativo)"]
[null,null,null,1986.11,0,0,0,0,397.22199999999998,{"$f":"D1444*'Série - IPCA'!$C$444/'Série - IPCA'!$C$385","v":2595.9982281377452},{"$f":"E1444*'Série - IPCA'!$C$444/'Série - IPCA'!$C$398","v":0},{"$f":"F1444*'Série - IPCA'!$C$444/'Série - IPCA'!$C$411","v":0},{"$f":"G1444*'Série - IPCA'!$C$444/'Série - IPCA'!$C$424","v":0},{"$f":"H1444*'Série - IPCA'!$C$444/'Série - IPCA'!$C$437","v":0},519.19964562754899,null,"N","SIM","NÃO","ENCARGOS DE GESTÃO","FIXO","DESPESAS_GERAIS",3200,"GERÊNCIA DE PLANEJAMENTO E MEIO AMBIENTE"]
[null,null,null,499.8,0,0,0,0,99.960000000000008,{"$f":"D1445*'Série - IPCA'!$C$444/'Série - IPCA'!$C$385","v":653.27696573867775},{"$f":"E1445*'Série - IPCA'!$C$444/'Série - IPCA'!$C$398","v":0},{"$f":"F1445*'Série - IPCA'!$C$444/'Série - IPCA'!$C$411","v":0},{"$f":"G1445*'Série - IPCA'!$C$444/'Série - IPCA'!$C$424","v":0},{"$f":"H1445*'Série - IPCA'!$C$444/'Série - IPCA'!$C$437","v":0},130.65539314773554,null,"N","SIM","NÃO","ENCARGOS DE GESTÃO","FIXO","DESPESAS_GERAIS",3300,"GERÊNCIA JURÍDICA"]
[null,null,null,437,0,0,0,0,87.4,{"$f":"D1446*'Série - IPCA'!$C$444/'Série - IPCA'!$C$385","v":571.19254507363382},{"$f":"E1446*'Série - IPCA'!$C$444/'Série - IPCA'!$C$398","v":0},{"$f":"F1446*'Série - IPCA'!$C$444/'Série - IPCA'!$C$411","v":0},{"$f":"G1446*'Série - IPCA'!$C$444/'Série - IPCA'!$C$424","v":0},{"$f":"H1446*'Série - IPCA'!$C$444/'Série - IPCA'!$C$437","v":0},114.23850901472676,null,"N","SIM","NÃO","ENCARGOS DE GESTÃO","FIXO","DESPESAS_GERAIS",4500,"GERÊNCIA CONTÁBIL"]
[null,null,null,124.95,0,0,0,0,24.990000000000002,{"$f":"D1447*'Série - IPCA'!$C$444/'Série - IPCA'!$C$385","v":163.31924143466944},{"$f":"E1447*'Série - IPCA'!$C$444/'Série - IPCA'!$C$398","v":0},{"$f":"F1447*'Série - IPCA'!$C$444/'Série - IPCA'!$C$411","v":0},{"$f":"G1447*'Série - IPCA'!$C$444/'Série - IPCA'!$C$424","v":0},{"$f":"H1447*'Série - IPCA'!$C$444/'Série - IPCA'!$C$437","v":0},32.663848286933884,null,"N","SIM","NÃO","ENCARGOS DE GESTÃO","FIXO","DESPESAS_GERAIS",4600,"GERÊNCIA DE PESSOAS E CULTURA"]
[null,null,null,4880,0,0,0,0,976,{"$f":"D1448*'Série - IPCA'!$C$444/'Série - IPCA'!$C$385","v":6378.5345994492745},{"$f":"E1448*'Série - IPCA'!$C$444/'Série - IPCA'!$C$398","v":0},{"$f":"F1448*'Série - IPCA'!$C$444/'Série - IPCA'!$C$411","v":0},{"$f":"G1448*'Série - IPCA'!$C$444/'Série - IPCA'!$C$424","v":0},{"$f":"H1448*'Série - IPCA'!$C$444/'Série - IPCA'!$C$437","v":0},1275.7069198898548,null,"N","SIM","NÃO","ENCARGOS DE GESTÃO","FIXO","DESPESAS_GERAIS",4600,"GERÊNCIA DE PESSOAS E CULTURA"]
[null,null,null,5557.13,0,0,0,0,1111.4259999999999,{"$f":"D1449*'Série - IPCA'!$C$444/'Série - IPCA'!$C$385","v":7263.5954874257268},{"$f":"E1449*'Série - IPCA'!$C$444/'Série - IPCA'!$C$398","v":0},{"$f":"F1449*'Série - IPCA'!$C$444/'Série - IPCA'!$C$411","v":0},{"$f":"G1449*'Série - IPCA'!$C$444/'Série - IPCA'!$C$424","v":0},{"$f":"H1449*'Série - IPCA'!$C$444/'Série - IPCA'!$C$437","v":0},1452.7190974851453,null,"N","SIM","NÃO","OPEX","FIXO","DESPESAS_GERAIS",5100,"GERÊNCIA DE ENGENHARIA"]
[null,null,null,3966.32,0,0,0,0,793.26400000000001,{"$f":"D1450*'Série - IPCA'!$C$444/'Série - IPCA'!$C$385","v":5184.2847033786156},{"$f":"E1450*'Série - IPCA'!$C$444/'Série - IPCA'!$C$398","v":0},{"$f":"F1450*'Série - IPCA'!$C$444/'Série - IPCA'!$C$411","v":0},{"$f":"G1450*'Série - IPCA'!$C$444/'Série - IPCA'!$C$424","v":0},{"$f":"H1450*'Série - IPCA'!$C$444/'Série - IPCA'!$C$437","v":0},1036.8569406757231,null,"N","SIM","NÃO","OPEX","FIXO","DESPESAS_GERAIS",5200,"GERÊNCIA DE OPERAÇÕES"]
[null,null,null,1634.87,0,0,0,0,326.97399999999999,{"$f":"D1451*'Série - IPCA'!$C$444/'Série - IPCA'!$C$385","v":2136.9005861888595},{"$f":"E1451*'Série - IPCA'!$C$444/'Série - IPCA'!$C$398","v":0},{"$f":"F1451*'Série - IPCA'!$C$444/'Série - IPCA'!$C$411","v":0},{"$f":"G1451*'Série - IPCA'!$C$444/'Série - IPCA'!$C$424","v":0},{"$f":"H1451*'Série - IPCA'!$C$444/'Série - IPCA'!$C$437","v":0},427.38011723777191,null,"N","SIM","NÃO","ENCARGOS DE COMERCIALIZAÇÃO","FIXO","DESPESAS_GERAIS",5400,"GERÊNCIA COMERCIAL (inativo)"]
[null,null,null,1570.4,0,0,0,0,314.08000000000004,{"$f":"D1452*'Série - IPCA'!$C$444/'Série - IPCA'!$C$385","v":2052.6333473309714},{"$f":"E1452*'Série - IPCA'!$C$444/'Série - IPCA'!$C$398","v":0},{"$f":"F1452*'Série - IPCA'!$C$444/'Série - IPCA'!$C$411","v":0},{"$f":"G1452*'Série - IPCA'!$C$444/'Série - IPCA'!$C$424","v":0},{"$f":"H1452*'Série - IPCA'!$C$444/'Série - IPCA'!$C$437","v":0},410.52666946619428,null,"N","SIM","NÃO","ENCARGOS DE GESTÃO","FIXO","DESPESAS_GERAIS",2200,"DIRETORIA COLEGIADA - PRESIDÊNCIA"]
[null,null,null,3252.9,0,0,0,0,650.58000000000004,{"$f":"D1453*'Série - IPCA'!$C$444/'Série - IPCA'!$C$385","v":4251.7899997025706},{"$f":"E1453*'Série - IPCA'!$C$444/'Série - IPCA'!$C$398","v":0},{"$f":"F1453*'Série - IPCA'!$C$444/'Série - IPCA'!$C$411","v":0},{"$f":"G1453*'Série - IPCA'!$C$444/'Série - IPCA'!$C$424","v":0},{"$f":"H1453*'Série - IPCA'!$C$444/'Série - IPCA'!$C$437","v":0},850.35799994051411,null,"N","SIM","NÃO","ENCARGOS DE GESTÃO","FIXO","DESPESAS_GERAIS",3200,"GERÊNCIA DE PLANEJAMENTO E MEIO AMBIENTE"]
[null,null,null,6510.1,0,0,0,0,1302.02,{"$f":"D1454*'Série - IPCA'!$C$444/'Série - IPCA'!$C$385","v":8509.2004294825256},{"$f":"E1454*'Série - IPCA'!$C$444/'Série - IPCA'!$C$398","v":0},{"$f":"F1454*'Série - IPCA'!$C$444/'Série - IPCA'!$C$411","v":0},{"$f":"G1454*'Série - IPCA'!$C$444/'Série - IPCA'!$C$424","v":0},{"$f":"H1454*'Série - IPCA'!$C$444/'Série - IPCA'!$C$437","v":0},1701.8400858965051,null,"N","SIM","NÃO","ENCARGOS DE GESTÃO","FIXO","DESPESAS_GERAIS",3600,"GERÊNCIA DE GOVERNANÇA, RISCO E COMPLIANCE"]
[null,null,null,2629.71,0,0,0,0,525.94200000000001,{"$f":"D1455*'Série - IPCA'!$C$444/'Série - IPCA'!$C$385","v":3437.2328322782273},{"$f":"E1455*'Série - IPCA'!$C$444/'Série - IPCA'!$C$398","v":0},{"$f":"F1455*'Série - IPCA'!$C$444/'Série - IPCA'!$C$411","v":0},{"$f":"G1455*'Série - IPCA'!$C$444/'Série - IPCA'!$C$424","v":0},{"$f":"H1455*'Série - IPCA'!$C$444/'Série - IPCA'!$C$437","v":0},687.44656645564544,null,"N","SIM","NÃO","ENCARGOS DE GESTÃO","FIXO","DESPESAS_GERAIS",4500,"GERÊNCIA CONTÁBIL"]
[null,null,null,133.62,0,0,0,0,26.724,{"$f":"D1456*'Série - IPCA'!$C$444/'Série - IPCA'!$C$385","v":174.65159696278937},{"$f":"E1456*'Série - IPCA'!$C$444/'Série - IPCA'!$C$398","v":0},{"$f":"F1456*'Série - IPCA'!$C$444/'Série - IPCA'!$C$411","v":0},{"$f":"G1456*'Série - IPCA'!$C$444/'Série - IPCA'!$C$424","v":0},{"$f":"H1456*'Série - IPCA'!$C$444/'Série - IPCA'!$C$437","v":0},34.930319392557877,null,"N","SIM","NÃO","OPEX","FIXO","DESPESAS_GERAIS",5100,"GERÊNCIA DE ENGENHARIA"]
[null,null,null,0,0,0,0,18895.599999999999,3779.12,{"$f":"D1457*'Série - IPCA'!$C$444/'Série - IPCA'!$C$385","v":0},{"$f":"E1457*'Série - IPCA'!$C$444/'Série - IPCA'!$C$398","v":0},{"$f":"F1457*'Série - IPCA'!$C$444/'Série - IPCA'!$C$411","v":0},{"$f":"G1457*'Série - IPCA'!$C$444/'Série - IPCA'!$C$424","v":0},{"$f":"H1457*'Série - IPCA'!$C$444/'Série - IPCA'!$C$437","v":19399.718707650274},3879.9437415300549,null,"S",null,"SIM","ENCARGOS DE GESTÃO","FIXO","TRIBUTOS_E_TAXAS_FISCAIS",4200,"GERÊNCIA FINANCEIRA"]
[null,null,null,0,158897.47,268302.13,254657.76,240074.52,184386.37599999999,{"$f":"D1458*'Série - IPCA'!$C$444/'Série - IPCA'!$C$385","v":0},{"$f":"E1458*'Série - IPCA'!$C$444/'Série - IPCA'!$C$398","v":198714.35527965301},{"$f":"F1458*'Série - IPCA'!$C$444/'Série - IPCA'!$C$411","v":304861.78899194399},{"$f":"G1458*'Série - IPCA'!$C$444/'Série - IPCA'!$C$424","v":273533.9998774681},{"$f":"H1458*'Série - IPCA'!$C$444/'Série - IPCA'!$C$437","v":246479.50617467347},204717.93006474772,null,"S",null,"SIM","ENCARGOS DE GESTÃO","FIXO","TRIBUTOS_E_TAXAS_FISCAIS",4200,"GERÊNCIA FINANCEIRA"]
[null,null,null,0,10903.28,4397.6499999999996,4368.6499999999996,2339.2600000000002,4401.7680000000009,{"$f":"D1459*'Série - IPCA'!$C$444/'Série - IPCA'!$C$385","v":0},{"$f":"E1459*'Série - IPCA'!$C$444/'Série - IPCA'!$C$398","v":13635.44841609835},{"$f":"F1459*'Série - IPCA'!$C$444/'Série - IPCA'!$C$411","v":4996.8870778641312},{"$f":"G1459*'Série - IPCA'!$C$444/'Série - IPCA'!$C$424","v":4692.4716080307189},{"$f":"H1459*'Série - IPCA'!$C$444/'Série - IPCA'!$C$437","v":2401.6694883495625},5145.2953180685527,null,"S",null,"SIM","ENCARGOS DE GESTÃO","FIXO","TRIBUTOS_E_TAXAS_FISCAIS",4200,"GERÊNCIA FINANCEIRA"]
[null,null,null,0,4991.33,15078.96,17496.29,18887.82,11290.880000000001,{"$f":"D1460*'Série - IPCA'!$C$444/'Série - IPCA'!$C$385","v":0},{"$f":"E1460*'Série - IPCA'!$C$444/'Série - IPCA'!$C$398","v":6242.0686933403676},{"$f":"F1460*'Série - IPCA'!$C$444/'Série - IPCA'!$C$411","v":17133.664655356864},{"$f":"G1460*'Série - IPCA'!$C$444/'Série - IPCA'!$C$424","v":18793.184180667209},{"$f":"H1460*'Série - IPCA'!$C$444/'Série - IPCA'!$C$437","v":19391.731143797024},12312.129734632292,null,"S",null,"SIM","ENCARGOS DE GESTÃO","FIXO","TRIBUTOS_E_TAXAS_FISCAIS",4200,"GERÊNCIA FINANCEIRA"]
[null,null,null,0,126.1,62.48,9571.56,13377.79,4627.5860000000002,{"$f":"D1461*'Série - IPCA'!$C$444/'Série - IPCA'!$C$385","v":0},{"$f":"E1461*'Série - IPCA'!$C$444/'Série - IPCA'!$C$398","v":157.69842150894058},{"$f":"F1461*'Série - IPCA'!$C$444/'Série - IPCA'!$C$411","v":70.993713602708468},{"$f":"G1461*'Série - IPCA'!$C$444/'Série - IPCA'!$C$424","v":10281.041865235829},{"$f":"H1461*'Série - IPCA'!$C$444/'Série - IPCA'!$C$437","v":13734.698180000467},4848.8864360695898,null,"S",null,"SIM","ENCARGOS DE GESTÃO","FIXO","TRIBUTOS_E_TAXAS_FISCAIS",4200,"GERÊNCIA FINANCEIRA"]
[null,null,null,0,14848.89,127106.87,335213.75,379132.65,171260.432,{"$f":"D1462*'Série - IPCA'!$C$444/'Série - IPCA'!$C$385","v":0},{"$f":"E1462*'Série - IPCA'!$C$444/'Série - IPCA'!$C$398","v":18569.758240760453},{"$f":"F1462*'Série - IPCA'!$C$444/'Série - IPCA'!$C$411","v":144426.83619905086},{"$f":"G1462*'Série - IPCA'!$C$444/'Série - IPCA'!$C$424","v":360061.11830806028},{"$f":"H1462*'Série - IPCA'!$C$444/'Série - IPCA'!$C$437","v":389247.59006784786},182461.0605631439,null,"S",null,"SIM","ENCARGOS DE GESTÃO","FIXO","TRIBUTOS_E_TAXAS_FISCAIS",4200,"GERÊNCIA FINANCEIRA"]
[null,null,null,0,9502.42,0,0,0,1900.4839999999999,{"$f":"D1463*'Série - IPCA'!$C$444/'Série - IPCA'!$C$385","v":0},{"$f":"E1463*'Série - IPCA'!$C$444/'Série - IPCA'!$C$398","v":11883.557767763579},{"$f":"F1463*'Série - IPCA'!$C$444/'Série - IPCA'!$C$411","v":0},{"$f":"G1463*'Série - IPCA'!$C$444/'Série - IPCA'!$C$424","v":0},{"$f":"H1463*'Série - IPCA'!$C$444/'Série - IPCA'!$C$437","v":0},2376.7115535527159,null,"S",null,"SIM","ENCARGOS DE GESTÃO","FIXO","TRIBUTOS_E_TAXAS_FISCAIS",4200,"GERÊNCIA FINANCEIRA"]
[null,null,null,0,102313.77,23674.66,64922.98,251714.74,88525.23000000001,{"$f":"D1464*'Série - IPCA'!$C$444/'Série - IPCA'!$C$385","v":0},{"$f":"E1464*'Série - IPCA'!$C$444/'Série - IPCA'!$C$398","v":127951.78451727836},{"$f":"F1464*'Série - IPCA'!$C$444/'Série - IPCA'!$C$411","v":26900.640711931792},{"$f":"G1464*'Série - IPCA'!$C$444/'Série - IPCA'!$C$424","v":69735.327929393796},{"$f":"H1464*'Série - IPCA'!$C$444/'Série - IPCA'!$C$437","v":258430.27744921175},96603.606121563149,null,"S",null,"SIM","ENCARGOS DE GESTÃO","FIXO","TRIBUTOS_E_TAXAS_FISCAIS",4200,"GERÊNCIA FINANCEIRA"]
[null,null,null,0,0,0,18567.939999999999,3226.3,4358.848,{"$f":"D1465*'Série - IPCA'!$C$444/'Série - IPCA'!$C$385","v":0},{"$f":"E1465*'Série - IPCA'!$C$444/'Série - IPCA'!$C$398","v":0},{"$f":"F1465*'Série - IPCA'!$C$444/'Série - IPCA'!$C$411","v":0},{"$f":"G1465*'Série - IPCA'!$C$444/'Série - IPCA'!$C$424","v":19944.269115085415},{"$f":"H1465*'Série - IPCA'!$C$444/'Série - IPCA'!$C$437","v":3312.3749691193766},4651.3288168409581,null,"S",null,"SIM","ENCARGOS DE GESTÃO","FIXO","TRIBUTOS_E_TAXAS_FISCAIS",4200,"GERÊNCIA FINANCEIRA"]
[null,null,null,0,0,0,0,36172.74,7234.5479999999998,{"$f":"D1466*'Série - IPCA'!$C$444/'Série - IPCA'!$C$385","v":0},{"$f":"E1466*'Série - IPCA'!$C$444/'Série - IPCA'!$C$398","v":0},{"$f":"F1466*'Série - IPCA'!$C$444/'Série - IPCA'!$C$411","v":0},{"$f":"G1466*'Série - IPCA'!$C$444/'Série - IPCA'!$C$424","v":0},{"$f":"H1466*'Série - IPCA'!$C$444/'Série - IPCA'!$C$437","v":37137.798264409146},7427.5596528818296,null,"S",null,"SIM","ENCARGOS DE GESTÃO","FIXO","TRIBUTOS_E_TAXAS_FISCAIS",4200,"GERÊNCIA FINANCEIRA"]
[null,null,null,0,11732.7,13814.8,50538.06,50848.88,25386.887999999999,{"$f":"D1467*'Série - IPCA'!$C$444/'Série - IPCA'!$C$385","v":0},{"$f":"E1467*'Série - IPCA'!$C$444/'Série - IPCA'!$C$398","v":14672.706344472224},{"$f":"F1467*'Série - IPCA'!$C$444/'Série - IPCA'!$C$411","v":15697.24639370514},{"$f":"G1467*'Série - IPCA'!$C$444/'Série - IPCA'!$C$424","v":54284.14079291153},{"$f":"H1467*'Série - IPCA'!$C$444/'Série - IPCA'!$C$437","v":52205.485329868541},27371.915772191489,null,"S",null,"SIM","ENCARGOS DE GESTÃO","FIXO","TRIBUTOS_E_TAXAS_FISCAIS",4200,"GERÊNCIA FINANCEIRA"]
[null,null,null,0,2749.89,0,0,0,549.97799999999995,{"$f":"D1468*'Série - IPCA'!$C$444/'Série - IPCA'!$C$385","v":0},{"$f":"E1468*'Série - IPCA'!$C$444/'Série - IPCA'!$C$398","v":3438.9636187408455},{"$f":"F1468*'Série - IPCA'!$C$444/'Série - IPCA'!$C$411","v":0},{"$f":"G1468*'Série - IPCA'!$C$444/'Série - IPCA'!$C$424","v":0},{"$f":"H1468*'Série - IPCA'!$C$444/'Série - IPCA'!$C$437","v":0},687.79272374816912,null,"S",null,"SIM","ENCARGOS DE GESTÃO","FIXO","TRIBUTOS_E_TAXAS_FISCAIS",4200,"GERÊNCIA FINANCEIRA"]
[null,null,null,0,250316.11,477745.37,1779941.3,828724.77,667345.51,{"$f":"D1469*'Série - IPCA'!$C$444/'Série - IPCA'!$C$385","v":0},{"$f":"E1469*'Série - IPCA'!$C$444/'Série - IPCA'!$C$398","v":313040.88362615649},{"$f":"F1469*'Série - IPCA'!$C$444/'Série - IPCA'!$C$411","v":542844.39777208702},{"$f":"G1469*'Série - IPCA'!$C$444/'Série - IPCA'!$C$424","v":1911877.585572497},{"$f":"H1469*'Série - IPCA'!$C$444/'Série - IPCA'!$C$437","v":850834.44950476161},723719.46329510037,null,"S",null,null,"ENCARGOS DE GESTÃO","FIXO","TRIBUTOS_E_TAXAS_FISCAIS",4200,"GERÊNCIA FINANCEIRA"]
[null,null,null,0,47173.07,32615.84,39542.75,63700.34,36606.400000000001,{"$f":"D1470*'Série - IPCA'!$C$444/'Série - IPCA'!$C$385","v":0},{"$f":"E1470*'Série - IPCA'!$C$444/'Série - IPCA'!$C$398","v":58993.803939181285},{"$f":"F1470*'Série - IPCA'!$C$444/'Série - IPCA'!$C$411","v":37060.172917281743},{"$f":"G1470*'Série - IPCA'!$C$444/'Série - IPCA'!$C$424","v":42473.814949345164},{"$f":"H1470*'Série - IPCA'!$C$444/'Série - IPCA'!$C$437","v":65399.811468367407},40785.52065483512,null,"S",null,null,"ENCARGOS DE GESTÃO","FIXO","TRIBUTOS_E_TAXAS_FISCAIS",4200,"GERÊNCIA FINANCEIRA"]
[null,null,null,0,5870.42,6877.55,7499.6,6295.63,5308.64,{"$f":"D1471*'Série - IPCA'!$C$444/'Série - IPCA'!$C$385","v":0},{"$f":"E1471*'Série - IPCA'!$C$444/'Série - IPCA'!$C$398","v":7341.4430419866385},{"$f":"F1471*'Série - IPCA'!$C$444/'Série - IPCA'!$C$411","v":7814.7057456515322},{"$f":"G1471*'Série - IPCA'!$C$444/'Série - IPCA'!$C$424","v":8055.4999992187941},{"$f":"H1471*'Série - IPCA'!$C$444/'Série - IPCA'!$C$437","v":6463.5921107265349},5935.0481795166997,null,"S",null,null,"ENCARGOS DE GESTÃO","FIXO","TRIBUTOS_E_TAXAS_FISCAIS",4200,"GERÊNCIA FINANCEIRA"]
[null,null,null,0,17088.48,22879.07,17711.939999999999,16926.48,14921.194,{"$f":"D1472*'Série - IPCA'!$C$444/'Série - IPCA'!$C$385","v":0},{"$f":"E1472*'Série - IPCA'!$C$444/'Série - IPCA'!$C$398","v":21370.549738200643},{"$f":"F1472*'Série - IPCA'!$C$444/'Série - IPCA'!$C$411","v":25996.641214409723},{"$f":"G1472*'Série - IPCA'!$C$444/'Série - IPCA'!$C$424","v":19024.819011169038},{"$f":"H1472*'Série - IPCA'!$C$444/'Série - IPCA'!$C$437","v":17378.064243033736},16754.014841362627,null,"S",null,null,"ENCARGOS DE GESTÃO","FIXO","TRIBUTOS_E_TAXAS_FISCAIS",4200,"GERÊNCIA FINANCEIRA"]
[null,null,null,0,2448.54,1862.97,4866.5,6207,3077.002,{"$f":"D1473*'Série - IPCA'!$C$444/'Série - IPCA'!$C$385","v":0},{"$f":"E1473*'Série - IPCA'!$C$444/'Série - IPCA'!$C$398","v":3062.1006582196778},{"$f":"F1473*'Série - IPCA'!$C$444/'Série - IPCA'!$C$411","v":2116.8239217419623},{"$f":"G1473*'Série - IPCA'!$C$444/'Série - IPCA'!$C$424","v":5227.2242181180682},{"$f":"H1473*'Série - IPCA'!$C$444/'Série - IPCA'!$C$437","v":6372.5975369072839},3355.749266997399,null,"S",null,null,"ENCARGOS DE GESTÃO","FIXO","TRIBUTOS_E_TAXAS_FISCAIS",4200,"GERÊNCIA FINANCEIRA"]
[null,null,null,0,0,57.62,9089.93,3176.09,2464.7280000000001,{"$f":"D1474*'Série - IPCA'!$C$444/'Série - IPCA'!$C$385","v":0},{"$f":"E1474*'Série - IPCA'!$C$444/'Série - IPCA'!$C$398","v":0},{"$f":"F1474*'Série - IPCA'!$C$444/'Série - IPCA'!$C$411","v":65.47147531671034},{"$f":"G1474*'Série - IPCA'!$C$444/'Série - IPCA'!$C$424","v":9763.7115456689553},{"$f":"H1474*'Série - IPCA'!$C$444/'Série - IPCA'!$C$437","v":3260.8254085703002},2618.0016859111929,null,"S",null,null,"ENCARGOS DE GESTÃO","FIXO","TRIBUTOS_E_TAXAS_FISCAIS",4200,"GERÊNCIA FINANCEIRA"]
[null,null,null,0,0,0.28999999999999998,0,0,5.7999999999999996E-2,{"$f":"D1475*'Série - IPCA'!$C$444/'Série - IPCA'!$C$385","v":0},{"$f":"E1475*'Série - IPCA'!$C$444/'Série - IPCA'!$C$398","v":0},{"$f":"F1475*'Série - IPCA'!$C$444/'Série - IPCA'!$C$411","v":0.32951627632499131},{"$f":"G1475*'Série - IPCA'!$C$444/'Série - IPCA'!$C$424","v":0},{"$f":"H1475*'Série - IPCA'!$C$444/'Série - IPCA'!$C$437","v":0},6.5903255264998267E-2,null,"S",null,null,"ENCARGOS DE GESTÃO","FIXO","TRIBUTOS_E_TAXAS_FISCAIS",4200,"GERÊNCIA FINANCEIRA"]
[null,null,null,0,0,0,831.22,2532.46,672.7360000000001,{"$f":"D1476*'Série - IPCA'!$C$444/'Série - IPCA'!$C$385","v":0},{"$f":"E1476*'Série - IPCA'!$C$444/'Série - IPCA'!$C$398","v":0},{"$f":"F1476*'Série - IPCA'!$C$444/'Série - IPCA'!$C$411","v":0},{"$f":"G1476*'Série - IPCA'!$C$444/'Série - IPCA'!$C$424","v":892.83331235674507},{"$f":"H1476*'Série - IPCA'!$C$444/'Série - IPCA'!$C$437","v":2600.0239017748054},698.57144282631009,null,"S",null,null,"ENCARGOS DE GESTÃO","FIXO","TRIBUTOS_E_TAXAS_FISCAIS",4200,"GERÊNCIA FINANCEIRA"]
[null,null,null,0,588.58000000000004,212.05,24.72,23.73,{"$f":"AVERAGE(D1477:H1477)","v":169.81600000000003},{"$f":"D1477*'Série - IPCA'!$C$444/'Série - IPCA'!$C$385","v":0},{"$f":"E1477*'Série - IPCA'!$C$444/'Série - IPCA'!$C$398","v":736.06769969652862},{"$f":"F1477*'Série - IPCA'!$C$444/'Série - IPCA'!$C$411","v":240.94457377487731},{"$f":"G1477*'Série - IPCA'!$C$444/'Série - IPCA'!$C$424","v":26.552344122445007},{"$f":"H1477*'Série - IPCA'!$C$444/'Série - IPCA'!$C$437","v":24.363096431578839},{"$f":"AVERAGE(J1477:N1477)","v":205.58554280508596},null,"S",null,null,"ENCARGOS DE GESTÃO","FIXO","TRIBUTOS_E_TAXAS_FISCAIS",4200,"GERÊNCIA FINANCEIRA"]
[null,null,null,0,42.45,163.81,291.97000000000003,46.94,109.03400000000002,{"$f":"D1478*'Série - IPCA'!$C$444/'Série - IPCA'!$C$385","v":0},{"$f":"E1478*'Série - IPCA'!$C$444/'Série - IPCA'!$C$398","v":53.08721643976628},{"$f":"F1478*'Série - IPCA'!$C$444/'Série - IPCA'!$C$411","v":186.13124560274773},{"$f":"G1478*'Série - IPCA'!$C$444/'Série - IPCA'!$C$424","v":313.61197060802061},{"$f":"H1478*'Série - IPCA'!$C$444/'Série - IPCA'!$C$437","v":48.192319700729485},120.20455047025283,null,"S",null,null,"ENCARGOS DE GESTÃO","FIXO","TRIBUTOS_E_TAXAS_FISCAIS",4200,"GERÊNCIA FINANCEIRA"]
[null,null,null,0,0,69.650000000000006,457.88,1564.03,418.31200000000001,{"$f":"D1479*'Série - IPCA'!$C$444/'Série - IPCA'!$C$385","v":0},{"$f":"E1479*'Série - IPCA'!$C$444/'Série - IPCA'!$C$398","v":0},{"$f":"F1479*'Série - IPCA'!$C$444/'Série - IPCA'!$C$411","v":79.140719469088438},{"$f":"G1479*'Série - IPCA'!$C$444/'Série - IPCA'!$C$424","v":491.81987567900967},{"$f":"H1479*'Série - IPCA'!$C$444/'Série - IPCA'!$C$437","v":1605.7570042933944},435.34351988829849,null,"S",null,null,"ENCARGOS DE GESTÃO","FIXO","TRIBUTOS_E_TAXAS_FISCAIS",4200,"GERÊNCIA FINANCEIRA"]
[null,null,null,0,74721.070000000007,0,0,0,14944.214000000002,{"$f":"D1480*'Série - IPCA'!$C$444/'Série - IPCA'!$C$385","v":0},{"$f":"E1480*'Série - IPCA'!$C$444/'Série - IPCA'!$C$398","v":93444.843714980627},{"$f":"F1480*'Série - IPCA'!$C$444/'Série - IPCA'!$C$411","v":0},{"$f":"G1480*'Série - IPCA'!$C$444/'Série - IPCA'!$C$424","v":0},{"$f":"H1480*'Série - IPCA'!$C$444/'Série - IPCA'!$C$437","v":0},18688.968742996127,null,"S",null,null,"ENCARGOS DE GESTÃO","FIXO","TRIBUTOS_E_TAXAS_FISCAIS",4200,"GERÊNCIA FINANCEIRA"]
[null,null,null,0,-581748.27,-1691517.62,-2314823.19,-2749928.49,-1467603.514,{"$f":"D1481*'Série - IPCA'!$C$444/'Série - IPCA'!$C$385","v":0},{"$f":"E1481*'Série - IPCA'!$C$444/'Série - IPCA'!$C$398","v":-727524.05943344161},{"$f":"F1481*'Série - IPCA'!$C$444/'Série - IPCA'!$C$411","v":-1922008.9223465922},{"$f":"G1481*'Série - IPCA'!$C$444/'Série - IPCA'!$C$424","v":-2486407.0357401255},{"$f":"H1481*'Série - IPCA'!$C$444/'Série - IPCA'!$C$437","v":-2823294.2680916977},-1591846.8571223714,null,"S",null,null,"ENCARGOS DE GESTÃO","FIXO","TRIBUTOS_E_TAXAS_FISCAIS",4200,"GERÊNCIA FINANCEIRA"]
[null,null,null,14981.39,0,0,0,0,2996.2779999999998,{"$f":"D1482*'Série - IPCA'!$C$444/'Série - IPCA'!$C$385","v":19581.826734189213},{"$f":"E1482*'Série - IPCA'!$C$444/'Série - IPCA'!$C$398","v":0},{"$f":"F1482*'Série - IPCA'!$C$444/'Série - IPCA'!$C$411","v":0},{"$f":"G1482*'Série - IPCA'!$C$444/'Série - IPCA'!$C$424","v":0},{"$f":"H1482*'Série - IPCA'!$C$444/'Série - IPCA'!$C$437","v":0},3916.3653468378425,null,"S",null,"SIM","ENCARGOS DE GESTÃO","FIXO","TRIBUTOS_E_TAXAS_FISCAIS",4200,"GERÊNCIA FINANCEIRA"]
[null,null,null,93901.759999999995,0,0,0,0,18780.351999999999,{"$f":"D1483*'Série - IPCA'!$C$444/'Série - IPCA'!$C$385","v":122736.80842401266},{"$f":"E1483*'Série - IPCA'!$C$444/'Série - IPCA'!$C$398","v":0},{"$f":"F1483*'Série - IPCA'!$C$444/'Série - IPCA'!$C$411","v":0},{"$f":"G1483*'Série - IPCA'!$C$444/'Série - IPCA'!$C$424","v":0},{"$f":"H1483*'Série - IPCA'!$C$444/'Série - IPCA'!$C$437","v":0},24547.361684802534,null,"S",null,"SIM","ENCARGOS DE GESTÃO","FIXO","TRIBUTOS_E_TAXAS_FISCAIS",4200,"GERÊNCIA FINANCEIRA"]
[null,null,null,8232.89,0,0,0,0,1646.578,{"$f":"D1484*'Série - IPCA'!$C$444/'Série - IPCA'!$C$385","v":10761.019204602444},{"$f":"E1484*'Série - IPCA'!$C$444/'Série - IPCA'!$C$398","v":0},{"$f":"F1484*'Série - IPCA'!$C$444/'Série - IPCA'!$C$411","v":0},{"$f":"G1484*'Série - IPCA'!$C$444/'Série - IPCA'!$C$424","v":0},{"$f":"H1484*'Série - IPCA'!$C$444/'Série - IPCA'!$C$437","v":0},2152.2038409204888,null,"S",null,"SIM","ENCARGOS DE GESTÃO","FIXO","TRIBUTOS_E_TAXAS_FISCAIS",4200,"GERÊNCIA FINANCEIRA"]
[null,null,null,11416.9,0,0,0,0,2283.38,{"$f":"D1485*'Série - IPCA'!$C$444/'Série - IPCA'!$C$385","v":14922.76468615828},{"$f":"E1485*'Série - IPCA'!$C$444/'Série - IPCA'!$C$398","v":0},{"$f":"F1485*'Série - IPCA'!$C$444/'Série - IPCA'!$C$411","v":0},{"$f":"G1485*'Série - IPCA'!$C$444/'Série - IPCA'!$C$424","v":0},{"$f":"H1485*'Série - IPCA'!$C$444/'Série - IPCA'!$C$437","v":0},2984.552937231656,null,"S",null,"SIM","ENCARGOS DE GESTÃO","FIXO","TRIBUTOS_E_TAXAS_FISCAIS",4200,"GERÊNCIA FINANCEIRA"]
[null,null,null,708.65,0,0,0,0,141.72999999999999,{"$f":"D1486*'Série - IPCA'!$C$444/'Série - IPCA'!$C$385","v":926.25994752043596},{"$f":"E1486*'Série - IPCA'!$C$444/'Série - IPCA'!$C$398","v":0},{"$f":"F1486*'Série - IPCA'!$C$444/'Série - IPCA'!$C$411","v":0},{"$f":"G1486*'Série - IPCA'!$C$444/'Série - IPCA'!$C$424","v":0},{"$f":"H1486*'Série - IPCA'!$C$444/'Série - IPCA'!$C$437","v":0},185.25198950408719,null,"S",null,"SIM","ENCARGOS DE GESTÃO","FIXO","TRIBUTOS_E_TAXAS_FISCAIS",4200,"GERÊNCIA FINANCEIRA"]
[null,null,null,51542.559999999998,0,0,0,0,10308.511999999999,{"$f":"D1487*'Série - IPCA'!$C$444/'Série - IPCA'!$C$385","v":67370.08243938323},{"$f":"E1487*'Série - IPCA'!$C$444/'Série - IPCA'!$C$398","v":0},{"$f":"F1487*'Série - IPCA'!$C$444/'Série - IPCA'!$C$411","v":0},{"$f":"G1487*'Série - IPCA'!$C$444/'Série - IPCA'!$C$424","v":0},{"$f":"H1487*'Série - IPCA'!$C$444/'Série - IPCA'!$C$437","v":0},13474.016487876646,null,"S",null,"SIM","ENCARGOS DE GESTÃO","FIXO","TRIBUTOS_E_TAXAS_FISCAIS",4200,"GERÊNCIA FINANCEIRA"]
[null,null,null,408361.49,0,0,0,0,81672.297999999995,{"$f":"D1488*'Série - IPCA'!$C$444/'Série - IPCA'!$C$385","v":533759.81414911046},{"$f":"E1488*'Série - IPCA'!$C$444/'Série - IPCA'!$C$398","v":0},{"$f":"F1488*'Série - IPCA'!$C$444/'Série - IPCA'!$C$411","v":0},{"$f":"G1488*'Série - IPCA'!$C$444/'Série - IPCA'!$C$424","v":0},{"$f":"H1488*'Série - IPCA'!$C$444/'Série - IPCA'!$C$437","v":0},106751.96282982209,null,"S",null,"SIM","ENCARGOS DE GESTÃO","FIXO","TRIBUTOS_E_TAXAS_FISCAIS",4200,"GERÊNCIA FINANCEIRA"]
[null,null,null,23871.49,0,0,0,0,4774.2980000000007,{"$f":"D1489*'Série - IPCA'!$C$444/'Série - IPCA'!$C$385","v":31201.869857665442},{"$f":"E1489*'Série - IPCA'!$C$444/'Série - IPCA'!$C$398","v":0},{"$f":"F1489*'Série - IPCA'!$C$444/'Série - IPCA'!$C$411","v":0},{"$f":"G1489*'Série - IPCA'!$C$444/'Série - IPCA'!$C$424","v":0},{"$f":"H1489*'Série - IPCA'!$C$444/'Série - IPCA'!$C$437","v":0},6240.3739715330885,null,"S",null,"SIM","ENCARGOS DE GESTÃO","FIXO","TRIBUTOS_E_TAXAS_FISCAIS",4200,"GERÊNCIA FINANCEIRA"]
[null,null,null,3672.38,0,0,0,0,734.476,{"$f":"D1490*'Série - IPCA'!$C$444/'Série - IPCA'!$C$385","v":4800.0825599027721},{"$f":"E1490*'Série - IPCA'!$C$444/'Série - IPCA'!$C$398","v":0},{"$f":"F1490*'Série - IPCA'!$C$444/'Série - IPCA'!$C$411","v":0},{"$f":"G1490*'Série - IPCA'!$C$444/'Série - IPCA'!$C$424","v":0},{"$f":"H1490*'Série - IPCA'!$C$444/'Série - IPCA'!$C$437","v":0},960.01651198055447,null,"S",null,"SIM","ENCARGOS DE GESTÃO","FIXO","TRIBUTOS_E_TAXAS_FISCAIS",4200,"GERÊNCIA FINANCEIRA"]
[null,null,null,30029.99,0,0,0,0,6005.9980000000005,{"$f":"D1491*'Série - IPCA'!$C$444/'Série - IPCA'!$C$385","v":39251.502097564698},{"$f":"E1491*'Série - IPCA'!$C$444/'Série - IPCA'!$C$398","v":0},{"$f":"F1491*'Série - IPCA'!$C$444/'Série - IPCA'!$C$411","v":0},{"$f":"G1491*'Série - IPCA'!$C$444/'Série - IPCA'!$C$424","v":0},{"$f":"H1491*'Série - IPCA'!$C$444/'Série - IPCA'!$C$437","v":0},7850.3004195129397,null,"S",null,"SIM","ENCARGOS DE GESTÃO","FIXO","TRIBUTOS_E_TAXAS_FISCAIS",4200,"GERÊNCIA FINANCEIRA"]
[null,null,null,2455.34,0,0,0,0,491.06800000000004,{"$f":"D1492*'Série - IPCA'!$C$444/'Série - IPCA'!$C$385","v":3209.3178572565125},{"$f":"E1492*'Série - IPCA'!$C$444/'Série - IPCA'!$C$398","v":0},{"$f":"F1492*'Série - IPCA'!$C$444/'Série - IPCA'!$C$411","v":0},{"$f":"G1492*'Série - IPCA'!$C$444/'Série - IPCA'!$C$424","v":0},{"$f":"H1492*'Série - IPCA'!$C$444/'Série - IPCA'!$C$437","v":0},641.86357145130251,null,"S",null,"SIM","ENCARGOS DE GESTÃO","FIXO","TRIBUTOS_E_TAXAS_FISCAIS",4200,"GERÊNCIA FINANCEIRA"]
[null,null,null,1860638.54,0,0,0,0,372127.70799999998,{"$f":"D1493*'Série - IPCA'!$C$444/'Série - IPCA'!$C$385","v":2431997.3984546685},{"$f":"E1493*'Série - IPCA'!$C$444/'Série - IPCA'!$C$398","v":0},{"$f":"F1493*'Série - IPCA'!$C$444/'Série - IPCA'!$C$411","v":0},{"$f":"G1493*'Série - IPCA'!$C$444/'Série - IPCA'!$C$424","v":0},{"$f":"H1493*'Série - IPCA'!$C$444/'Série - IPCA'!$C$437","v":0},486399.47969093372,null,"S",null,null,"ENCARGOS DE GESTÃO","FIXO","TRIBUTOS_E_TAXAS_FISCAIS",4200,"GERÊNCIA FINANCEIRA"]
[null,null,null,41009.65,0,0,0,0,8201.93,{"$f":"D1494*'Série - IPCA'!$C$444/'Série - IPCA'!$C$385","v":53602.760540226416},{"$f":"E1494*'Série - IPCA'!$C$444/'Série - IPCA'!$C$398","v":0},{"$f":"F1494*'Série - IPCA'!$C$444/'Série - IPCA'!$C$411","v":0},{"$f":"G1494*'Série - IPCA'!$C$444/'Série - IPCA'!$C$424","v":0},{"$f":"H1494*'Série - IPCA'!$C$444/'Série - IPCA'!$C$437","v":0},10720.552108045284,null,"S",null,null,"ENCARGOS DE GESTÃO","FIXO","TRIBUTOS_E_TAXAS_FISCAIS",4200,"GERÊNCIA FINANCEIRA"]
[null,null,null,4657.47,0,0,0,0,931.49400000000003,{"$f":"D1495*'Série - IPCA'!$C$444/'Série - IPCA'!$C$385","v":6087.6708075608631},{"$f":"E1495*'Série - IPCA'!$C$444/'Série - IPCA'!$C$398","v":0},{"$f":"F1495*'Série - IPCA'!$C$444/'Série - IPCA'!$C$411","v":0},{"$f":"G1495*'Série - IPCA'!$C$444/'Série - IPCA'!$C$424","v":0},{"$f":"H1495*'Série - IPCA'!$C$444/'Série - IPCA'!$C$437","v":0},1217.5341615121727,null,"S",null,null,"ENCARGOS DE GESTÃO","FIXO","TRIBUTOS_E_TAXAS_FISCAIS",4200,"GERÊNCIA FINANCEIRA"]
[null,null,null,17184.12,0,0,0,0,3436.8239999999996,{"$f":"D1496*'Série - IPCA'!$C$444/'Série - IPCA'!$C$385","v":22460.963930550872},{"$f":"E1496*'Série - IPCA'!$C$444/'Série - IPCA'!$C$398","v":0},{"$f":"F1496*'Série - IPCA'!$C$444/'Série - IPCA'!$C$411","v":0},{"$f":"G1496*'Série - IPCA'!$C$444/'Série - IPCA'!$C$424","v":0},{"$f":"H1496*'Série - IPCA'!$C$444/'Série - IPCA'!$C$437","v":0},4492.192786110174,null,"S",null,null,"ENCARGOS DE GESTÃO","FIXO","TRIBUTOS_E_TAXAS_FISCAIS",4200,"GERÊNCIA FINANCEIRA"]
[null,null,null,3761.63,0,0,0,0,752.32600000000002,{"$f":"D1497*'Série - IPCA'!$C$444/'Série - IPCA'!$C$385","v":4916.7391609275355},{"$f":"E1497*'Série - IPCA'!$C$444/'Série - IPCA'!$C$398","v":0},{"$f":"F1497*'Série - IPCA'!$C$444/'Série - IPCA'!$C$411","v":0},{"$f":"G1497*'Série - IPCA'!$C$444/'Série - IPCA'!$C$424","v":0},{"$f":"H1497*'Série - IPCA'!$C$444/'Série - IPCA'!$C$437","v":0},983.34783218550706,null,"S",null,null,"ENCARGOS DE GESTÃO","FIXO","TRIBUTOS_E_TAXAS_FISCAIS",4200,"GERÊNCIA FINANCEIRA"]
[null,null,null,549.46,0,0,0,0,109.89200000000001,{"$f":"D1498*'Série - IPCA'!$C$444/'Série - IPCA'!$C$385","v":718.18639774864721},{"$f":"E1498*'Série - IPCA'!$C$444/'Série - IPCA'!$C$398","v":0},{"$f":"F1498*'Série - IPCA'!$C$444/'Série - IPCA'!$C$411","v":0},{"$f":"G1498*'Série - IPCA'!$C$444/'Série - IPCA'!$C$424","v":0},{"$f":"H1498*'Série - IPCA'!$C$444/'Série - IPCA'!$C$437","v":0},143.63727954972944,null,"S",null,null,"ENCARGOS DE GESTÃO","FIXO","TRIBUTOS_E_TAXAS_FISCAIS",4200,"GERÊNCIA FINANCEIRA"]
[null,null,null,484.23,0,0,0,0,96.846000000000004,{"$f":"D1499*'Série - IPCA'!$C$444/'Série - IPCA'!$C$385","v":632.92578055150045},{"$f":"E1499*'Série - IPCA'!$C$444/'Série - IPCA'!$C$398","v":0},{"$f":"F1499*'Série - IPCA'!$C$444/'Série - IPCA'!$C$411","v":0},{"$f":"G1499*'Série - IPCA'!$C$444/'Série - IPCA'!$C$424","v":0},{"$f":"H1499*'Série - IPCA'!$C$444/'Série - IPCA'!$C$437","v":0},126.58515611030009,null,"S",null,null,"ENCARGOS DE GESTÃO","FIXO","TRIBUTOS_E_TAXAS_FISCAIS",4200,"GERÊNCIA FINANCEIRA"]
[null,null,null,165.9,0,0,0,0,33.18,{"$f":"D1500*'Série - IPCA'!$C$444/'Série - IPCA'!$C$385","v":216.84403484603166},{"$f":"E1500*'Série - IPCA'!$C$444/'Série - IPCA'!$C$398","v":0},{"$f":"F1500*'Série - IPCA'!$C$444/'Série - IPCA'!$C$411","v":0},{"$f":"G1500*'Série - IPCA'!$C$444/'Série - IPCA'!$C$424","v":0},{"$f":"H1500*'Série - IPCA'!$C$444/'Série - IPCA'!$C$437","v":0},43.368806969206332,null,"S",null,null,"ENCARGOS DE GESTÃO","FIXO","TRIBUTOS_E_TAXAS_FISCAIS",4200,"GERÊNCIA FINANCEIRA"]
[null,null,null,5.05,0,0,0,0,1.01,{"$f":"D1501*'Série - IPCA'!$C$444/'Série - IPCA'!$C$385","v":6.6007376490202523},{"$f":"E1501*'Série - IPCA'!$C$444/'Série - IPCA'!$C$398","v":0},{"$f":"F1501*'Série - IPCA'!$C$444/'Série - IPCA'!$C$411","v":0},{"$f":"G1501*'Série - IPCA'!$C$444/'Série - IPCA'!$C$424","v":0},{"$f":"H1501*'Série - IPCA'!$C$444/'Série - IPCA'!$C$437","v":0},1.3201475298040504,null,"S",null,null,"ENCARGOS DE GESTÃO","FIXO","TRIBUTOS_E_TAXAS_FISCAIS",4200,"GERÊNCIA FINANCEIRA"]
[null,null,null,422.9,0,0,0,0,84.58,{"$f":"D1502*'Série - IPCA'!$C$444/'Série - IPCA'!$C$385","v":552.76276272686425},{"$f":"E1502*'Série - IPCA'!$C$444/'Série - IPCA'!$C$398","v":0},{"$f":"F1502*'Série - IPCA'!$C$444/'Série - IPCA'!$C$411","v":0},{"$f":"G1502*'Série - IPCA'!$C$444/'Série - IPCA'!$C$424","v":0},{"$f":"H1502*'Série - IPCA'!$C$444/'Série - IPCA'!$C$437","v":0},110.55255254537285,null,"S",null,null,"ENCARGOS DE GESTÃO","FIXO","TRIBUTOS_E_TAXAS_FISCAIS",4200,"GERÊNCIA FINANCEIRA"]
[null,null,null,1823.06,0,0,0,0,364.61199999999997,{"$f":"D1503*'Série - IPCA'!$C$444/'Série - IPCA'!$C$385","v":2382.8793620639331},{"$f":"E1503*'Série - IPCA'!$C$444/'Série - IPCA'!$C$398","v":0},{"$f":"F1503*'Série - IPCA'!$C$444/'Série - IPCA'!$C$411","v":0},{"$f":"G1503*'Série - IPCA'!$C$444/'Série - IPCA'!$C$424","v":0},{"$f":"H1503*'Série - IPCA'!$C$444/'Série - IPCA'!$C$437","v":0},476.57587241278662,null,"S",null,null,"ENCARGOS DE GESTÃO","FIXO","TRIBUTOS_E_TAXAS_FISCAIS",4200,"GERÊNCIA FINANCEIRA"]
[null,null,null,739.37,0,0,0,0,147.874,{"$f":"D1504*'Série - IPCA'!$C$444/'Série - IPCA'!$C$385","v":966.41334565467412},{"$f":"E1504*'Série - IPCA'!$C$444/'Série - IPCA'!$C$398","v":0},{"$f":"F1504*'Série - IPCA'!$C$444/'Série - IPCA'!$C$411","v":0},{"$f":"G1504*'Série - IPCA'!$C$444/'Série - IPCA'!$C$424","v":0},{"$f":"H1504*'Série - IPCA'!$C$444/'Série - IPCA'!$C$437","v":0},193.28266913093483,null,"N","SIM","NÃO","OPEX","FIXO","DESPESAS_GERAIS",5200,"GERÊNCIA DE OPERAÇÕES"]
[null,null,null,56.95,0,0,0,0,11.39,{"$f":"D1505*'Série - IPCA'!$C$444/'Série - IPCA'!$C$385","v":74.4380216062779},{"$f":"E1505*'Série - IPCA'!$C$444/'Série - IPCA'!$C$398","v":0},{"$f":"F1505*'Série - IPCA'!$C$444/'Série - IPCA'!$C$411","v":0},{"$f":"G1505*'Série - IPCA'!$C$444/'Série - IPCA'!$C$424","v":0},{"$f":"H1505*'Série - IPCA'!$C$444/'Série - IPCA'!$C$437","v":0},14.88760432125558,null,"N","SIM","NÃO","ENCARGOS DE COMERCIALIZAÇÃO","FIXO","DESPESAS_GERAIS",5300,"GERÊNCIA COMERCIAL"]
[null,null,null,24.48,0,0,0,0,4.8959999999999999,{"$f":"D1506*'Série - IPCA'!$C$444/'Série - IPCA'!$C$385","v":31.997239138220948},{"$f":"E1506*'Série - IPCA'!$C$444/'Série - IPCA'!$C$398","v":0},{"$f":"F1506*'Série - IPCA'!$C$444/'Série - IPCA'!$C$411","v":0},{"$f":"G1506*'Série - IPCA'!$C$444/'Série - IPCA'!$C$424","v":0},{"$f":"H1506*'Série - IPCA'!$C$444/'Série - IPCA'!$C$437","v":0},6.39944782764419,null,"N","SIM","NÃO","ENCARGOS DE COMERCIALIZAÇÃO","FIXO","DESPESAS_GERAIS",5400,"GERÊNCIA COMERCIAL (inativo)"]
[null,null,null,19.55,0,0,0,0,3.91,{"$f":"D1507*'Série - IPCA'!$C$444/'Série - IPCA'!$C$385","v":25.553350700662566},{"$f":"E1507*'Série - IPCA'!$C$444/'Série - IPCA'!$C$398","v":0},{"$f":"F1507*'Série - IPCA'!$C$444/'Série - IPCA'!$C$411","v":0},{"$f":"G1507*'Série - IPCA'!$C$444/'Série - IPCA'!$C$424","v":0},{"$f":"H1507*'Série - IPCA'!$C$444/'Série - IPCA'!$C$437","v":0},5.1106701401325134,null,"N","SIM","NÃO","ENCARGOS DE GESTÃO","FIXO","DESPESAS_GERAIS",1001,"CONSELHO DE ADMINISTRAÇÃO"]
[null,null,null,354.99,0,0,0,0,70.998000000000005,{"$f":"D1508*'Série - IPCA'!$C$444/'Série - IPCA'!$C$385","v":463.99917980706925},{"$f":"E1508*'Série - IPCA'!$C$444/'Série - IPCA'!$C$398","v":0},{"$f":"F1508*'Série - IPCA'!$C$444/'Série - IPCA'!$C$411","v":0},{"$f":"G1508*'Série - IPCA'!$C$444/'Série - IPCA'!$C$424","v":0},{"$f":"H1508*'Série - IPCA'!$C$444/'Série - IPCA'!$C$437","v":0},92.799835961413848,null,"N","SIM","NÃO","ENCARGOS DE GESTÃO","FIXO","DESPESAS_GERAIS",2200,"DIRETORIA COLEGIADA - PRESIDÊNCIA"]
[null,null,null,48.11,0,0,0,0,9.6219999999999999,{"$f":"D1509*'Série - IPCA'!$C$444/'Série - IPCA'!$C$385","v":62.883463028587002},{"$f":"E1509*'Série - IPCA'!$C$444/'Série - IPCA'!$C$398","v":0},{"$f":"F1509*'Série - IPCA'!$C$444/'Série - IPCA'!$C$411","v":0},{"$f":"G1509*'Série - IPCA'!$C$444/'Série - IPCA'!$C$424","v":0},{"$f":"H1509*'Série - IPCA'!$C$444/'Série - IPCA'!$C$437","v":0},12.576692605717401,null,"N","SIM","NÃO","ENCARGOS DE GESTÃO","FIXO","DESPESAS_GERAIS",2400,"DIRETORIA COLEGIADA - DTC"]
[null,null,null,44.88,0,0,0,0,8.9760000000000009,{"$f":"D1510*'Série - IPCA'!$C$444/'Série - IPCA'!$C$385","v":58.661605086738412},{"$f":"E1510*'Série - IPCA'!$C$444/'Série - IPCA'!$C$398","v":0},{"$f":"F1510*'Série - IPCA'!$C$444/'Série - IPCA'!$C$411","v":0},{"$f":"G1510*'Série - IPCA'!$C$444/'Série - IPCA'!$C$424","v":0},{"$f":"H1510*'Série - IPCA'!$C$444/'Série - IPCA'!$C$437","v":0},11.732321017347683,null,"N","SIM","NÃO","ENCARGOS DE GESTÃO","FIXO","DESPESAS_GERAIS",3100,"SMS"]
[null,null,null,274.55,0,0,0,0,54.910000000000004,{"$f":"D1511*'Série - IPCA'!$C$444/'Série - IPCA'!$C$385","v":358.85792505713079},{"$f":"E1511*'Série - IPCA'!$C$444/'Série - IPCA'!$C$398","v":0},{"$f":"F1511*'Série - IPCA'!$C$444/'Série - IPCA'!$C$411","v":0},{"$f":"G1511*'Série - IPCA'!$C$444/'Série - IPCA'!$C$424","v":0},{"$f":"H1511*'Série - IPCA'!$C$444/'Série - IPCA'!$C$437","v":0},71.771585011426154,null,"N","SIM","NÃO","ENCARGOS DE GESTÃO","FIXO","DESPESAS_GERAIS",3200,"GERÊNCIA DE PLANEJAMENTO E MEIO AMBIENTE"]
[null,null,null,282.70999999999998,0,0,0,0,56.541999999999994,{"$f":"D1512*'Série - IPCA'!$C$444/'Série - IPCA'!$C$385","v":369.52367143653771},{"$f":"E1512*'Série - IPCA'!$C$444/'Série - IPCA'!$C$398","v":0},{"$f":"F1512*'Série - IPCA'!$C$444/'Série - IPCA'!$C$411","v":0},{"$f":"G1512*'Série - IPCA'!$C$444/'Série - IPCA'!$C$424","v":0},{"$f":"H1512*'Série - IPCA'!$C$444/'Série - IPCA'!$C$437","v":0},73.904734287307548,null,"N","SIM","NÃO","ENCARGOS DE GESTÃO","FIXO","DESPESAS_GERAIS",3400,"MARKETING"]
[null,null,null,0,34497.480000000003,58249.8,55287.54,52121.42,40031.248,{"$f":"D1513*'Série - IPCA'!$C$444/'Série - IPCA'!$C$385","v":0},{"$f":"E1513*'Série - IPCA'!$C$444/'Série - IPCA'!$C$398","v":43141.936098622115},{"$f":"F1513*'Série - IPCA'!$C$444/'Série - IPCA'!$C$411","v":66187.093767846483},{"$f":"G1513*'Série - IPCA'!$C$444/'Série - IPCA'!$C$424","v":59385.67102602926},{"$f":"H1513*'Série - IPCA'!$C$444/'Série - IPCA'!$C$437","v":53511.975626246181},44445.335303748805,null,"S",null,null,"ENCARGOS DE GESTÃO","FIXO","TRIBUTOS_E_TAXAS_FISCAIS",4200,"GERÊNCIA FINANCEIRA"]
[null,null,null,0,2367.17,954.76,948.47,507.87,955.65400000000011,{"$f":"D1514*'Série - IPCA'!$C$444/'Série - IPCA'!$C$385","v":0},{"$f":"E1514*'Série - IPCA'!$C$444/'Série - IPCA'!$C$398","v":2960.3407806765972},{"$f":"F1514*'Série - IPCA'!$C$444/'Série - IPCA'!$C$411","v":1084.8584827036163},{"$f":"G1514*'Série - IPCA'!$C$444/'Série - IPCA'!$C$424","v":1018.7743458663194},{"$f":"H1514*'Série - IPCA'!$C$444/'Série - IPCA'!$C$437","v":521.41954423539585},1117.078630696386,null,"S",null,null,"ENCARGOS DE GESTÃO","FIXO","TRIBUTOS_E_TAXAS_FISCAIS",4200,"GERÊNCIA FINANCEIRA"]
[null,null,null,0,1083.6500000000001,3273.73,3798.55,4100.6400000000003,2451.3139999999999,{"$f":"D1515*'Série - IPCA'!$C$444/'Série - IPCA'!$C$385","v":0},{"$f":"E1515*'Série - IPCA'!$C$444/'Série - IPCA'!$C$398","v":1355.1934533557771},{"$f":"F1515*'Série - IPCA'!$C$444/'Série - IPCA'!$C$411","v":3719.8183423910828},{"$f":"G1515*'Série - IPCA'!$C$444/'Série - IPCA'!$C$424","v":4080.1135423265973},{"$f":"H1515*'Série - IPCA'!$C$444/'Série - IPCA'!$C$437","v":4210.0416245760407},2673.0333925298996,null,"S",null,null,"ENCARGOS DE GESTÃO","FIXO","TRIBUTOS_E_TAXAS_FISCAIS",4200,"GERÊNCIA FINANCEIRA"]
[null,null,null,0,27.38,13.56,2078.0300000000002,2904.39,1004.6720000000001,{"$f":"D1516*'Série - IPCA'!$C$444/'Série - IPCA'!$C$385","v":0},{"$f":"E1516*'Série - IPCA'!$C$444/'Série - IPCA'!$C$398","v":34.240941958087177},{"$f":"F1516*'Série - IPCA'!$C$444/'Série - IPCA'!$C$411","v":15.407726575747871},{"$f":"G1516*'Série - IPCA'!$C$444/'Série - IPCA'!$C$424","v":2232.0617984127998},{"$f":"H1516*'Série - IPCA'!$C$444/'Série - IPCA'!$C$437","v":2981.8766812015697},1052.7174296296409,null,"S",null,null,"ENCARGOS DE GESTÃO","FIXO","TRIBUTOS_E_TAXAS_FISCAIS",4200,"GERÊNCIA FINANCEIRA"]
[null,null,null,0,3223.78,27595.58,72776.679999999993,82311.7,37181.547999999995,{"$f":"D1517*'Série - IPCA'!$C$444/'Série - IPCA'!$C$385","v":0},{"$f":"E1517*'Série - IPCA'!$C$444/'Série - IPCA'!$C$398","v":4031.6020403813845},{"$f":"F1517*'Série - IPCA'!$C$444/'Série - IPCA'!$C$411","v":31355.837119408294},{"$f":"G1517*'Série - IPCA'!$C$444/'Série - IPCA'!$C$424","v":78171.175220431265},{"$f":"H1517*'Série - IPCA'!$C$444/'Série - IPCA'!$C$437","v":84507.706892001166},39613.264254444417,null,"S",null,null,"ENCARGOS DE GESTÃO","FIXO","TRIBUTOS_E_TAXAS_FISCAIS",4200,"GERÊNCIA FINANCEIRA"]
[null,null,null,0,1965.92,0,0,0,393.18400000000003,{"$f":"D1518*'Série - IPCA'!$C$444/'Série - IPCA'!$C$385","v":0},{"$f":"E1518*'Série - IPCA'!$C$444/'Série - IPCA'!$C$398","v":2458.544653551598},{"$f":"F1518*'Série - IPCA'!$C$444/'Série - IPCA'!$C$411","v":0},{"$f":"G1518*'Série - IPCA'!$C$444/'Série - IPCA'!$C$424","v":0},{"$f":"H1518*'Série - IPCA'!$C$444/'Série - IPCA'!$C$437","v":0},491.70893071031958,null,"S",null,null,"ENCARGOS DE GESTÃO","FIXO","TRIBUTOS_E_TAXAS_FISCAIS",4200,"GERÊNCIA FINANCEIRA"]
[null,null,null,0,22212.87,5139.8900000000003,14095.12,54648.61,19219.297999999999,{"$f":"D1519*'Série - IPCA'!$C$444/'Série - IPCA'!$C$385","v":0},{"$f":"E1519*'Série - IPCA'!$C$444/'Série - IPCA'!$C$398","v":27779.02090549803},{"$f":"F1519*'Série - IPCA'!$C$444/'Série - IPCA'!$C$411","v":5840.2669431726199},{"$f":"G1519*'Série - IPCA'!$C$444/'Série - IPCA'!$C$424","v":15139.906014852633},{"$f":"H1519*'Série - IPCA'!$C$444/'Série - IPCA'!$C$437","v":56106.588928855606},20973.156558475777,null,"S",null,null,"ENCARGOS DE GESTÃO","FIXO","TRIBUTOS_E_TAXAS_FISCAIS",4200,"GERÊNCIA FINANCEIRA"]
[null,null,null,0,97.1,0,4031.2,700.45,965.75,{"$f":"D1520*'Série - IPCA'!$C$444/'Série - IPCA'!$C$385","v":0},{"$f":"E1520*'Série - IPCA'!$C$444/'Série - IPCA'!$C$398","v":121.43153630862912},{"$f":"F1520*'Série - IPCA'!$C$444/'Série - IPCA'!$C$411","v":0},{"$f":"G1520*'Série - IPCA'!$C$444/'Série - IPCA'!$C$424","v":4330.0084800323748},{"$f":"H1520*'Série - IPCA'!$C$444/'Série - IPCA'!$C$437","v":719.13741658235972},1034.1154865846727,null,"S",null,null,"ENCARGOS DE GESTÃO","FIXO","TRIBUTOS_E_TAXAS_FISCAIS",4200,"GERÊNCIA FINANCEIRA"]
[null,null,null,0,0,0,0,7853.29,1570.6579999999999,{"$f":"D1521*'Série - IPCA'!$C$444/'Série - IPCA'!$C$385","v":0},{"$f":"E1521*'Série - IPCA'!$C$444/'Série - IPCA'!$C$398","v":0},{"$f":"F1521*'Série - IPCA'!$C$444/'Série - IPCA'!$C$411","v":0},{"$f":"G1521*'Série - IPCA'!$C$444/'Série - IPCA'!$C$424","v":0},{"$f":"H1521*'Série - IPCA'!$C$444/'Série - IPCA'!$C$437","v":8062.8091687801834},1612.5618337560368,null,"S",null,null,"ENCARGOS DE GESTÃO","FIXO","TRIBUTOS_E_TAXAS_FISCAIS",4200,"GERÊNCIA FINANCEIRA"]
[null,null,null,0,2547.23,2999.25,10972.07,11039.54,5511.6180000000004,{"$f":"D1522*'Série - IPCA'!$C$444/'Série - IPCA'!$C$385","v":0},{"$f":"E1522*'Série - IPCA'!$C$444/'Série - IPCA'!$C$398","v":3185.520620303083},{"$f":"F1522*'Série - IPCA'!$C$444/'Série - IPCA'!$C$411","v":3407.9368681645874},{"$f":"G1522*'Série - IPCA'!$C$444/'Série - IPCA'!$C$424","v":11785.363202894627},{"$f":"H1522*'Série - IPCA'!$C$444/'Série - IPCA'!$C$437","v":11334.065637601005},5942.57726579266,null,"S",null,null,"ENCARGOS DE GESTÃO","FIXO","TRIBUTOS_E_TAXAS_FISCAIS",4200,"GERÊNCIA FINANCEIRA"]
[null,null,null,0,597.02,0,0,0,119.404,{"$f":"D1523*'Série - IPCA'!$C$444/'Série - IPCA'!$C$385","v":0},{"$f":"E1523*'Série - IPCA'!$C$444/'Série - IPCA'!$C$398","v":746.6226138720674},{"$f":"F1523*'Série - IPCA'!$C$444/'Série - IPCA'!$C$411","v":0},{"$f":"G1523*'Série - IPCA'!$C$444/'Série - IPCA'!$C$424","v":0},{"$f":"H1523*'Série - IPCA'!$C$444/'Série - IPCA'!$C$437","v":0},149.32452277441348,null,"S",null,null,"ENCARGOS DE GESTÃO","FIXO","TRIBUTOS_E_TAXAS_FISCAIS",4200,"GERÊNCIA FINANCEIRA"]
[null,null,null,0,40676.379999999997,77633.64,289240.46999999997,134667.78,108443.65400000001,{"$f":"D1524*'Série - IPCA'!$C$444/'Série - IPCA'!$C$385","v":0},{"$f":"E1524*'Série - IPCA'!$C$444/'Série - IPCA'!$C$398","v":50869.158752560201},{"$f":"F1524*'Série - IPCA'!$C$444/'Série - IPCA'!$C$411","v":88212.234380534137},{"$f":"G1524*'Série - IPCA'!$C$444/'Série - IPCA'!$C$424","v":310680.11705411534},{"$f":"H1524*'Série - IPCA'!$C$444/'Série - IPCA'!$C$437","v":138260.60304958466},117604.42264735888,null,"S",null,null,"ENCARGOS DE GESTÃO","FIXO","TRIBUTOS_E_TAXAS_FISCAIS",4200,"GERÊNCIA FINANCEIRA"]
[null,null,null,0,7665.62,5300.07,6425.7,10351.290000000001,5948.5360000000001,{"$f":"D1525*'Série - IPCA'!$C$444/'Série - IPCA'!$C$385","v":0},{"$f":"E1525*'Série - IPCA'!$C$444/'Série - IPCA'!$C$398","v":9586.4882941107462},{"$f":"F1525*'Série - IPCA'!$C$444/'Série - IPCA'!$C$411","v":6022.2735540061949},{"$f":"G1525*'Série - IPCA'!$C$444/'Série - IPCA'!$C$424","v":6901.9982859059419},{"$f":"H1525*'Série - IPCA'!$C$444/'Série - IPCA'!$C$437","v":10627.453706752538},6627.6427681550849,null,"S",null,null,"ENCARGOS DE GESTÃO","FIXO","TRIBUTOS_E_TAXAS_FISCAIS",4200,"GERÊNCIA FINANCEIRA"]
[null,null,null,0,953.94,1117.5999999999999,1218.7,1023.04,862.65599999999995,{"$f":"D1526*'Série - IPCA'!$C$444/'Série - IPCA'!$C$385","v":0},{"$f":"E1526*'Série - IPCA'!$C$444/'Série - IPCA'!$C$398","v":1192.980429930522},{"$f":"F1526*'Série - IPCA'!$C$444/'Série - IPCA'!$C$411","v":1269.887553175208},{"$f":"G1526*'Série - IPCA'!$C$444/'Série - IPCA'!$C$424","v":1309.0348617323516},{"$f":"H1526*'Série - IPCA'!$C$444/'Série - IPCA'!$C$437","v":1050.3338463279567},964.44733823320769,null,"S",null,null,"ENCARGOS DE GESTÃO","FIXO","TRIBUTOS_E_TAXAS_FISCAIS",4200,"GERÊNCIA FINANCEIRA"]
[null,null,null,0,2776.87,3717.84,2878.19,2750.55,2424.69,{"$f":"D1527*'Série - IPCA'!$C$444/'Série - IPCA'!$C$385","v":0},{"$f":"E1527*'Série - IPCA'!$C$444/'Série - IPCA'!$C$398","v":3472.7043277996186},{"$f":"F1527*'Série - IPCA'!$C$444/'Série - IPCA'!$C$411","v":4224.4441130072619},{"$f":"G1527*'Série - IPCA'!$C$444/'Série - IPCA'!$C$424","v":3091.5328207839802},{"$f":"H1527*'Série - IPCA'!$C$444/'Série - IPCA'!$C$437","v":2823.9323594555067},2722.5227242092733,null,"S",null,null,"ENCARGOS DE GESTÃO","FIXO","TRIBUTOS_E_TAXAS_FISCAIS",4200,"GERÊNCIA FINANCEIRA"]
[null,null,null,0,397.89,302.74,790.8,1008.64,500.01399999999995,{"$f":"D1528*'Série - IPCA'!$C$444/'Série - IPCA'!$C$385","v":0},{"$f":"E1528*'Série - IPCA'!$C$444/'Série - IPCA'!$C$398","v":497.59417077075631},{"$f":"F1528*'Série - IPCA'!$C$444/'Série - IPCA'!$C$411","v":343.99226722285476},{"$f":"G1528*'Série - IPCA'!$C$444/'Série - IPCA'!$C$424","v":849.41722216947858},{"$f":"H1528*'Série - IPCA'!$C$444/'Série - IPCA'!$C$437","v":1035.5496664453299},545.31066532168393,null,"S",null,null,"ENCARGOS DE GESTÃO","FIXO","TRIBUTOS_E_TAXAS_FISCAIS",4200,"GERÊNCIA FINANCEIRA"]
[null,null,null,0,0,9.36,1477.12,516.12,400.52,{"$f":"D1529*'Série - IPCA'!$C$444/'Série - IPCA'!$C$385","v":0},{"$f":"E1529*'Série - IPCA'!$C$444/'Série - IPCA'!$C$398","v":0},{"$f":"F1529*'Série - IPCA'!$C$444/'Série - IPCA'!$C$411","v":10.635421884144547},{"$f":"G1529*'Série - IPCA'!$C$444/'Série - IPCA'!$C$424","v":1586.6099737114064},{"$f":"H1529*'Série - IPCA'!$C$444/'Série - IPCA'!$C$437","v":529.8896472931508},425.42700857774037,null,"S",null,null,"ENCARGOS DE GESTÃO","FIXO","TRIBUTOS_E_TAXAS_FISCAIS",4200,"GERÊNCIA FINANCEIRA"]
[null,null,null,0,0,0.04,0,0,8.0000000000000002E-3,{"$f":"D1530*'Série - IPCA'!$C$444/'Série - IPCA'!$C$385","v":0},{"$f":"E1530*'Série - IPCA'!$C$444/'Série - IPCA'!$C$398","v":0},{"$f":"F1530*'Série - IPCA'!$C$444/'Série - IPCA'!$C$411","v":4.5450520872412602E-2},{"$f":"G1530*'Série - IPCA'!$C$444/'Série - IPCA'!$C$424","v":0},{"$f":"H1530*'Série - IPCA'!$C$444/'Série - IPCA'!$C$437","v":0},9.0901041744825203E-3,null,"S",null,null,"ENCARGOS DE GESTÃO","FIXO","TRIBUTOS_E_TAXAS_FISCAIS",4200,"GERÊNCIA FINANCEIRA"]
[null,null,null,0,0,0,135.08000000000001,411.52,109.32000000000001,{"$f":"D1531*'Série - IPCA'!$C$444/'Série - IPCA'!$C$385","v":0},{"$f":"E1531*'Série - IPCA'!$C$444/'Série - IPCA'!$C$398","v":0},{"$f":"F1531*'Série - IPCA'!$C$444/'Série - IPCA'!$C$411","v":0},{"$f":"G1531*'Série - IPCA'!$C$444/'Série - IPCA'!$C$424","v":145.09266359465502},{"$f":"H1531*'Série - IPCA'!$C$444/'Série - IPCA'!$C$437","v":422.49900731240297},113.51833418141159,null,"S",null,null,"ENCARGOS DE GESTÃO","FIXO","TRIBUTOS_E_TAXAS_FISCAIS",4200,"GERÊNCIA FINANCEIRA"]
[null,null,null,0,95.65,34.44,4.01,3.87,27.594000000000001,{"$f":"D1532*'Série - IPCA'!$C$444/'Série - IPCA'!$C$385","v":0},{"$f":"E1532*'Série - IPCA'!$C$444/'Série - IPCA'!$C$398","v":119.61819204861357},{"$f":"F1532*'Série - IPCA'!$C$444/'Série - IPCA'!$C$411","v":39.132898471147243},{"$f":"G1532*'Série - IPCA'!$C$444/'Série - IPCA'!$C$424","v":4.3072370522251004},{"$f":"H1532*'Série - IPCA'!$C$444/'Série - IPCA'!$C$437","v":3.9732483434559671},33.406315183088374,null,"S",null,null,"ENCARGOS DE GESTÃO","FIXO","TRIBUTOS_E_TAXAS_FISCAIS",4200,"GERÊNCIA FINANCEIRA"]
[null,null,null,0,6.89,26.61,47.44,7.63,17.713999999999999,{"$f":"D1533*'Série - IPCA'!$C$444/'Série - IPCA'!$C$385","v":0},{"$f":"E1533*'Série - IPCA'!$C$444/'Série - IPCA'!$C$398","v":8.6165116906946917},{"$f":"F1533*'Série - IPCA'!$C$444/'Série - IPCA'!$C$411","v":30.235959010372479},{"$f":"G1533*'Série - IPCA'!$C$444/'Série - IPCA'!$C$424","v":50.956440338543324},{"$f":"H1533*'Série - IPCA'!$C$444/'Série - IPCA'!$C$437","v":7.8335619794752018},19.528494603817141,null,"S",null,null,"ENCARGOS DE GESTÃO","FIXO","TRIBUTOS_E_TAXAS_FISCAIS",4200,"GERÊNCIA FINANCEIRA"]
[null,null,null,0,0,11.31,74.41,254.16,67.975999999999999,{"$f":"D1534*'Série - IPCA'!$C$444/'Série - IPCA'!$C$385","v":0},{"$f":"E1534*'Série - IPCA'!$C$444/'Série - IPCA'!$C$398","v":0},{"$f":"F1534*'Série - IPCA'!$C$444/'Série - IPCA'!$C$411","v":12.851134776674662},{"$f":"G1534*'Série - IPCA'!$C$444/'Série - IPCA'!$C$424","v":79.925563355628356},{"$f":"H1534*'Série - IPCA'!$C$444/'Série - IPCA'!$C$437","v":260.94077492836396},70.743494612133389,null,"S",null,null,"ENCARGOS DE GESTÃO","FIXO","TRIBUTOS_E_TAXAS_FISCAIS",4200,"GERÊNCIA FINANCEIRA"]
[null,null,null,0,12142.17,0,0,0,2428.4340000000002,{"$f":"D1535*'Série - IPCA'!$C$444/'Série - IPCA'!$C$385","v":0},{"$f":"E1535*'Série - IPCA'!$C$444/'Série - IPCA'!$C$398","v":15184.78225767814},{"$f":"F1535*'Série - IPCA'!$C$444/'Série - IPCA'!$C$411","v":0},{"$f":"G1535*'Série - IPCA'!$C$444/'Série - IPCA'!$C$424","v":0},{"$f":"H1535*'Série - IPCA'!$C$444/'Série - IPCA'!$C$437","v":0},3036.9564515356278,null,"S",null,null,"ENCARGOS DE GESTÃO","FIXO","TRIBUTOS_E_TAXAS_FISCAIS",4200,"GERÊNCIA FINANCEIRA"]
[null,null,null,0,-126300.63,-367237.43,-502560.38,-597023.92000000004,-318624.47199999995,{"$f":"D1536*'Série - IPCA'!$C$444/'Série - IPCA'!$C$385","v":0},{"$f":"E1536*'Série - IPCA'!$C$444/'Série - IPCA'!$C$398","v":-157949.32582541433},{"$f":"F1536*'Série - IPCA'!$C$444/'Série - IPCA'!$C$411","v":-417278.31193365401},{"$f":"G1536*'Série - IPCA'!$C$444/'Série - IPCA'!$C$424","v":-539812.14207389683},{"$f":"H1536*'Série - IPCA'!$C$444/'Série - IPCA'!$C$437","v":-612952.01579937676},-345598.35912646836,null,"S",null,null,"ENCARGOS DE GESTÃO","FIXO","TRIBUTOS_E_TAXAS_FISCAIS",4200,"GERÊNCIA FINANCEIRA"]
[null,null,null,3252.55,0,0,0,0,650.51,{"$f":"D1537*'Série - IPCA'!$C$444/'Série - IPCA'!$C$385","v":4251.3325228358071},{"$f":"E1537*'Série - IPCA'!$C$444/'Série - IPCA'!$C$398","v":0},{"$f":"F1537*'Série - IPCA'!$C$444/'Série - IPCA'!$C$411","v":0},{"$f":"G1537*'Série - IPCA'!$C$444/'Série - IPCA'!$C$424","v":0},{"$f":"H1537*'Série - IPCA'!$C$444/'Série - IPCA'!$C$437","v":0},850.26650456716141,null,"S",null,"SIM","ENCARGOS DE GESTÃO","FIXO","TRIBUTOS_E_TAXAS_FISCAIS",4200,"GERÊNCIA FINANCEIRA"]
[null,null,null,20386.66,0,0,0,0,4077.3319999999999,{"$f":"D1538*'Série - IPCA'!$C$444/'Série - IPCA'!$C$385","v":26646.929544509945},{"$f":"E1538*'Série - IPCA'!$C$444/'Série - IPCA'!$C$398","v":0},{"$f":"F1538*'Série - IPCA'!$C$444/'Série - IPCA'!$C$411","v":0},{"$f":"G1538*'Série - IPCA'!$C$444/'Série - IPCA'!$C$424","v":0},{"$f":"H1538*'Série - IPCA'!$C$444/'Série - IPCA'!$C$437","v":0},5329.3859089019888,null,"S",null,"SIM","ENCARGOS DE GESTÃO","FIXO","TRIBUTOS_E_TAXAS_FISCAIS",4200,"GERÊNCIA FINANCEIRA"]
[null,null,null,1787.39,0,0,0,0,357.47800000000001,{"$f":"D1539*'Série - IPCA'!$C$444/'Série - IPCA'!$C$385","v":2336.2559339568934},{"$f":"E1539*'Série - IPCA'!$C$444/'Série - IPCA'!$C$398","v":0},{"$f":"F1539*'Série - IPCA'!$C$444/'Série - IPCA'!$C$411","v":0},{"$f":"G1539*'Série - IPCA'!$C$444/'Série - IPCA'!$C$424","v":0},{"$f":"H1539*'Série - IPCA'!$C$444/'Série - IPCA'!$C$437","v":0},467.2511867913787,null,"S",null,"SIM","ENCARGOS DE GESTÃO","FIXO","TRIBUTOS_E_TAXAS_FISCAIS",4200,"GERÊNCIA FINANCEIRA"]
[null,null,null,2478.6799999999998,0,0,0,0,495.73599999999999,{"$f":"D1540*'Série - IPCA'!$C$444/'Série - IPCA'!$C$385","v":3239.8250288858453},{"$f":"E1540*'Série - IPCA'!$C$444/'Série - IPCA'!$C$398","v":0},{"$f":"F1540*'Série - IPCA'!$C$444/'Série - IPCA'!$C$411","v":0},{"$f":"G1540*'Série - IPCA'!$C$444/'Série - IPCA'!$C$424","v":0},{"$f":"H1540*'Série - IPCA'!$C$444/'Série - IPCA'!$C$437","v":0},647.96500577716904,null,"S",null,"SIM","ENCARGOS DE GESTÃO","FIXO","TRIBUTOS_E_TAXAS_FISCAIS",4200,"GERÊNCIA FINANCEIRA"]
[null,null,null,153.85,0,0,0,0,{"$f":"AVERAGE(D1541:H1541)","v":30.77},{"$f":"D1541*'Série - IPCA'!$C$444/'Série - IPCA'!$C$385","v":201.0937598617358},{"$f":"E1541*'Série - IPCA'!$C$444/'Série - IPCA'!$C$398","v":0},{"$f":"F1541*'Série - IPCA'!$C$444/'Série - IPCA'!$C$411","v":0},{"$f":"G1541*'Série - IPCA'!$C$444/'Série - IPCA'!$C$424","v":0},{"$f":"H1541*'Série - IPCA'!$C$444/'Série - IPCA'!$C$437","v":0},{"$f":"AVERAGE(J1541:N1541)","v":40.218751972347164},null,"S",null,"SIM","ENCARGOS DE GESTÃO","FIXO","TRIBUTOS_E_TAXAS_FISCAIS",4200,"GERÊNCIA FINANCEIRA"]
[null,null,null,11190.14,0,0,0,0,2238.0279999999998,{"$f":"D1542*'Série - IPCA'!$C$444/'Série - IPCA'!$C$385","v":14626.37195956584},{"$f":"E1542*'Série - IPCA'!$C$444/'Série - IPCA'!$C$398","v":0},{"$f":"F1542*'Série - IPCA'!$C$444/'Série - IPCA'!$C$411","v":0},{"$f":"G1542*'Série - IPCA'!$C$444/'Série - IPCA'!$C$424","v":0},{"$f":"H1542*'Série - IPCA'!$C$444/'Série - IPCA'!$C$437","v":0},2925.2743919131681,null,"S",null,"SIM","ENCARGOS DE GESTÃO","FIXO","TRIBUTOS_E_TAXAS_FISCAIS",4200,"GERÊNCIA FINANCEIRA"]
[null,null,null,88657.42,0,0,0,0,17731.484,{"$f":"D1543*'Série - IPCA'!$C$444/'Série - IPCA'!$C$385","v":115882.05347702993},{"$f":"E1543*'Série - IPCA'!$C$444/'Série - IPCA'!$C$398","v":0},{"$f":"F1543*'Série - IPCA'!$C$444/'Série - IPCA'!$C$411","v":0},{"$f":"G1543*'Série - IPCA'!$C$444/'Série - IPCA'!$C$424","v":0},{"$f":"H1543*'Série - IPCA'!$C$444/'Série - IPCA'!$C$437","v":0},23176.410695405986,null,"S",null,"SIM","ENCARGOS DE GESTÃO","FIXO","TRIBUTOS_E_TAXAS_FISCAIS",4200,"GERÊNCIA FINANCEIRA"]
[null,null,null,5182.63,0,0,0,0,1036.5260000000001,{"$f":"D1544*'Série - IPCA'!$C$444/'Série - IPCA'!$C$385","v":6774.0952399884827},{"$f":"E1544*'Série - IPCA'!$C$444/'Série - IPCA'!$C$398","v":0},{"$f":"F1544*'Série - IPCA'!$C$444/'Série - IPCA'!$C$411","v":0},{"$f":"G1544*'Série - IPCA'!$C$444/'Série - IPCA'!$C$424","v":0},{"$f":"H1544*'Série - IPCA'!$C$444/'Série - IPCA'!$C$437","v":0},1354.8190479976965,null,"S",null,"SIM","ENCARGOS DE GESTÃO","FIXO","TRIBUTOS_E_TAXAS_FISCAIS",4200,"GERÊNCIA FINANCEIRA"]
[null,null,null,797.29,0,0,0,0,159.458,{"$f":"D1545*'Série - IPCA'!$C$444/'Série - IPCA'!$C$385","v":1042.1192317202688},{"$f":"E1545*'Série - IPCA'!$C$444/'Série - IPCA'!$C$398","v":0},{"$f":"F1545*'Série - IPCA'!$C$444/'Série - IPCA'!$C$411","v":0},{"$f":"G1545*'Série - IPCA'!$C$444/'Série - IPCA'!$C$424","v":0},{"$f":"H1545*'Série - IPCA'!$C$444/'Série - IPCA'!$C$437","v":0},208.42384634405374,null,"S",null,"SIM","ENCARGOS DE GESTÃO","FIXO","TRIBUTOS_E_TAXAS_FISCAIS",4200,"GERÊNCIA FINANCEIRA"]
[null,null,null,6519.67,0,0,0,0,1303.934,{"$f":"D1546*'Série - IPCA'!$C$444/'Série - IPCA'!$C$385","v":8521.7091540966085},{"$f":"E1546*'Série - IPCA'!$C$444/'Série - IPCA'!$C$398","v":0},{"$f":"F1546*'Série - IPCA'!$C$444/'Série - IPCA'!$C$411","v":0},{"$f":"G1546*'Série - IPCA'!$C$444/'Série - IPCA'!$C$424","v":0},{"$f":"H1546*'Série - IPCA'!$C$444/'Série - IPCA'!$C$437","v":0},1704.3418308193218,null,"S",null,"SIM","ENCARGOS DE GESTÃO","FIXO","TRIBUTOS_E_TAXAS_FISCAIS",4200,"GERÊNCIA FINANCEIRA"]
[null,null,null,533.08000000000004,0,0,0,0,106.61600000000001,{"$f":"D1547*'Série - IPCA'!$C$444/'Série - IPCA'!$C$385","v":696.77648038410234},{"$f":"E1547*'Série - IPCA'!$C$444/'Série - IPCA'!$C$398","v":0},{"$f":"F1547*'Série - IPCA'!$C$444/'Série - IPCA'!$C$411","v":0},{"$f":"G1547*'Série - IPCA'!$C$444/'Série - IPCA'!$C$424","v":0},{"$f":"H1547*'Série - IPCA'!$C$444/'Série - IPCA'!$C$437","v":0},139.35529607682048,null,"S",null,"SIM","ENCARGOS DE GESTÃO","FIXO","TRIBUTOS_E_TAXAS_FISCAIS",4200,"GERÊNCIA FINANCEIRA"]
[null,null,null,302353.76,0,0,0,0,60470.752,{"$f":"D1548*'Série - IPCA'!$C$444/'Série - IPCA'!$C$385","v":395199.57365442254},{"$f":"E1548*'Série - IPCA'!$C$444/'Série - IPCA'!$C$398","v":0},{"$f":"F1548*'Série - IPCA'!$C$444/'Série - IPCA'!$C$411","v":0},{"$f":"G1548*'Série - IPCA'!$C$444/'Série - IPCA'!$C$424","v":0},{"$f":"H1548*'Série - IPCA'!$C$444/'Série - IPCA'!$C$437","v":0},79039.914730884513,null,"S",null,null,"ENCARGOS DE GESTÃO","FIXO","TRIBUTOS_E_TAXAS_FISCAIS",4200,"GERÊNCIA FINANCEIRA"]
[null,null,null,6664.07,0,0,0,0,1332.8139999999999,{"$f":"D1549*'Série - IPCA'!$C$444/'Série - IPCA'!$C$385","v":8710.4510385557223},{"$f":"E1549*'Série - IPCA'!$C$444/'Série - IPCA'!$C$398","v":0},{"$f":"F1549*'Série - IPCA'!$C$444/'Série - IPCA'!$C$411","v":0},{"$f":"G1549*'Série - IPCA'!$C$444/'Série - IPCA'!$C$424","v":0},{"$f":"H1549*'Série - IPCA'!$C$444/'Série - IPCA'!$C$437","v":0},1742.0902077111446,null,"S",null,null,"ENCARGOS DE GESTÃO","FIXO","TRIBUTOS_E_TAXAS_FISCAIS",4200,"GERÊNCIA FINANCEIRA"]
[null,null,null,756.84,0,0,0,0,151.36799999999999,{"$f":"D1550*'Série - IPCA'!$C$444/'Série - IPCA'!$C$385","v":989.2479766899977},{"$f":"E1550*'Série - IPCA'!$C$444/'Série - IPCA'!$C$398","v":0},{"$f":"F1550*'Série - IPCA'!$C$444/'Série - IPCA'!$C$411","v":0},{"$f":"G1550*'Série - IPCA'!$C$444/'Série - IPCA'!$C$424","v":0},{"$f":"H1550*'Série - IPCA'!$C$444/'Série - IPCA'!$C$437","v":0},197.84959533799955,null,"S",null,null,"ENCARGOS DE GESTÃO","FIXO","TRIBUTOS_E_TAXAS_FISCAIS",4200,"GERÊNCIA FINANCEIRA"]
[null,null,null,2792.43,0,0,0,0,558.48599999999999,{"$f":"D1551*'Série - IPCA'!$C$444/'Série - IPCA'!$C$385","v":3649.9203630205197},{"$f":"E1551*'Série - IPCA'!$C$444/'Série - IPCA'!$C$398","v":0},{"$f":"F1551*'Série - IPCA'!$C$444/'Série - IPCA'!$C$411","v":0},{"$f":"G1551*'Série - IPCA'!$C$444/'Série - IPCA'!$C$424","v":0},{"$f":"H1551*'Série - IPCA'!$C$444/'Série - IPCA'!$C$437","v":0},729.98407260410397,null,"S",null,null,"ENCARGOS DE GESTÃO","FIXO","TRIBUTOS_E_TAXAS_FISCAIS",4200,"GERÊNCIA FINANCEIRA"]
[null,null,null,611.27,0,0,0,0,122.25399999999999,{"$f":"D1552*'Série - IPCA'!$C$444/'Série - IPCA'!$C$385","v":798.97681241913074},{"$f":"E1552*'Série - IPCA'!$C$444/'Série - IPCA'!$C$398","v":0},{"$f":"F1552*'Série - IPCA'!$C$444/'Série - IPCA'!$C$411","v":0},{"$f":"G1552*'Série - IPCA'!$C$444/'Série - IPCA'!$C$424","v":0},{"$f":"H1552*'Série - IPCA'!$C$444/'Série - IPCA'!$C$437","v":0},159.79536248382615,null,"S",null,null,"ENCARGOS DE GESTÃO","FIXO","TRIBUTOS_E_TAXAS_FISCAIS",4200,"GERÊNCIA FINANCEIRA"]
[null,null,null,89.29,0,0,0,0,17.858000000000001,{"$f":"D1553*'Série - IPCA'!$C$444/'Série - IPCA'!$C$385","v":116.70888409525118},{"$f":"E1553*'Série - IPCA'!$C$444/'Série - IPCA'!$C$398","v":0},{"$f":"F1553*'Série - IPCA'!$C$444/'Série - IPCA'!$C$411","v":0},{"$f":"G1553*'Série - IPCA'!$C$444/'Série - IPCA'!$C$424","v":0},{"$f":"H1553*'Série - IPCA'!$C$444/'Série - IPCA'!$C$437","v":0},23.341776819050235,null,"S",null,null,"ENCARGOS DE GESTÃO","FIXO","TRIBUTOS_E_TAXAS_FISCAIS",4200,"GERÊNCIA FINANCEIRA"]
[null,null,null,78.69,0,0,0,0,15.738,{"$f":"D1554*'Série - IPCA'!$C$444/'Série - IPCA'!$C$385","v":102.85387041611955},{"$f":"E1554*'Série - IPCA'!$C$444/'Série - IPCA'!$C$398","v":0},{"$f":"F1554*'Série - IPCA'!$C$444/'Série - IPCA'!$C$411","v":0},{"$f":"G1554*'Série - IPCA'!$C$444/'Série - IPCA'!$C$424","v":0},{"$f":"H1554*'Série - IPCA'!$C$444/'Série - IPCA'!$C$437","v":0},20.57077408322391,null,"S",null,null,"ENCARGOS DE GESTÃO","FIXO","TRIBUTOS_E_TAXAS_FISCAIS",4200,"GERÊNCIA FINANCEIRA"]
[null,null,null,26.95,0,0,0,0,5.39,{"$f":"D1555*'Série - IPCA'!$C$444/'Série - IPCA'!$C$385","v":35.225718740811047},{"$f":"E1555*'Série - IPCA'!$C$444/'Série - IPCA'!$C$398","v":0},{"$f":"F1555*'Série - IPCA'!$C$444/'Série - IPCA'!$C$411","v":0},{"$f":"G1555*'Série - IPCA'!$C$444/'Série - IPCA'!$C$424","v":0},{"$f":"H1555*'Série - IPCA'!$C$444/'Série - IPCA'!$C$437","v":0},7.045143748162209,null,"S",null,null,"ENCARGOS DE GESTÃO","FIXO","TRIBUTOS_E_TAXAS_FISCAIS",4200,"GERÊNCIA FINANCEIRA"]
[null,null,null,0.82,0,0,0,0,0.16399999999999998,{"$f":"D1556*'Série - IPCA'!$C$444/'Série - IPCA'!$C$385","v":1.0718029449894273},{"$f":"E1556*'Série - IPCA'!$C$444/'Série - IPCA'!$C$398","v":0},{"$f":"F1556*'Série - IPCA'!$C$444/'Série - IPCA'!$C$411","v":0},{"$f":"G1556*'Série - IPCA'!$C$444/'Série - IPCA'!$C$424","v":0},{"$f":"H1556*'Série - IPCA'!$C$444/'Série - IPCA'!$C$437","v":0},0.21436058899788546,null,"S",null,null,"ENCARGOS DE GESTÃO","FIXO","TRIBUTOS_E_TAXAS_FISCAIS",4200,"GERÊNCIA FINANCEIRA"]
[null,null,null,68.72,0,0,0,0,13.744,{"$f":"D1557*'Série - IPCA'!$C$444/'Série - IPCA'!$C$385","v":89.822315097162729},{"$f":"E1557*'Série - IPCA'!$C$444/'Série - IPCA'!$C$398","v":0},{"$f":"F1557*'Série - IPCA'!$C$444/'Série - IPCA'!$C$411","v":0},{"$f":"G1557*'Série - IPCA'!$C$444/'Série - IPCA'!$C$424","v":0},{"$f":"H1557*'Série - IPCA'!$C$444/'Série - IPCA'!$C$437","v":0},17.964463019432547,null,"S",null,null,"ENCARGOS DE GESTÃO","FIXO","TRIBUTOS_E_TAXAS_FISCAIS",4200,"GERÊNCIA FINANCEIRA"]
[null,null,null,296.24,0,0,0,0,59.248000000000005,{"$f":"D1558*'Série - IPCA'!$C$444/'Série - IPCA'!$C$385","v":387.20842002886332},{"$f":"E1558*'Série - IPCA'!$C$444/'Série - IPCA'!$C$398","v":0},{"$f":"F1558*'Série - IPCA'!$C$444/'Série - IPCA'!$C$411","v":0},{"$f":"G1558*'Série - IPCA'!$C$444/'Série - IPCA'!$C$424","v":0},{"$f":"H1558*'Série - IPCA'!$C$444/'Série - IPCA'!$C$437","v":0},77.441684005772657,null,"S",null,null,"ENCARGOS DE GESTÃO","FIXO","TRIBUTOS_E_TAXAS_FISCAIS",4200,"GERÊNCIA FINANCEIRA"]
[null,null,null,42.67,0,0,0,0,8.5340000000000007,{"$f":"D1559*'Série - IPCA'!$C$444/'Série - IPCA'!$C$385","v":55.772965442315687},{"$f":"E1559*'Série - IPCA'!$C$444/'Série - IPCA'!$C$398","v":0},{"$f":"F1559*'Série - IPCA'!$C$444/'Série - IPCA'!$C$411","v":0},{"$f":"G1559*'Série - IPCA'!$C$444/'Série - IPCA'!$C$424","v":0},{"$f":"H1559*'Série - IPCA'!$C$444/'Série - IPCA'!$C$437","v":0},11.154593088463137,null,"N","SIM","NÃO","ENCARGOS DE GESTÃO","FIXO","DESPESAS_GERAIS",3300,"GERÊNCIA JURÍDICA"]
[null,null,null,253.29,0,0,0,0,50.658000000000001,{"$f":"D1560*'Série - IPCA'!$C$444/'Série - IPCA'!$C$385","v":331.06947309313659},{"$f":"E1560*'Série - IPCA'!$C$444/'Série - IPCA'!$C$398","v":0},{"$f":"F1560*'Série - IPCA'!$C$444/'Série - IPCA'!$C$411","v":0},{"$f":"G1560*'Série - IPCA'!$C$444/'Série - IPCA'!$C$424","v":0},{"$f":"H1560*'Série - IPCA'!$C$444/'Série - IPCA'!$C$437","v":0},66.213894618627322,null,"N","SIM","NÃO","ENCARGOS DE GESTÃO","FIXO","DESPESAS_GERAIS",3600,"GERÊNCIA DE GOVERNANÇA, RISCO E COMPLIANCE"]
[null,null,null,60.01,0,0,0,0,12.001999999999999,{"$f":"D1561*'Série - IPCA'!$C$444/'Série - IPCA'!$C$385","v":78.437676498555518},{"$f":"E1561*'Série - IPCA'!$C$444/'Série - IPCA'!$C$398","v":0},{"$f":"F1561*'Série - IPCA'!$C$444/'Série - IPCA'!$C$411","v":0},{"$f":"G1561*'Série - IPCA'!$C$444/'Série - IPCA'!$C$424","v":0},{"$f":"H1561*'Série - IPCA'!$C$444/'Série - IPCA'!$C$437","v":0},15.687535299711104,null,"N","SIM","NÃO","ENCARGOS DE GESTÃO","FIXO","DESPESAS_GERAIS",4500,"GERÊNCIA CONTÁBIL"]
[null,null,null,996.48,0,0,0,0,199.29599999999999,{"$f":"D1562*'Série - IPCA'!$C$444/'Série - IPCA'!$C$385","v":1302.4758519793468},{"$f":"E1562*'Série - IPCA'!$C$444/'Série - IPCA'!$C$398","v":0},{"$f":"F1562*'Série - IPCA'!$C$444/'Série - IPCA'!$C$411","v":0},{"$f":"G1562*'Série - IPCA'!$C$444/'Série - IPCA'!$C$424","v":0},{"$f":"H1562*'Série - IPCA'!$C$444/'Série - IPCA'!$C$437","v":0},260.49517039586937,null,"N","SIM","NÃO","ENCARGOS DE GESTÃO","FIXO","DESPESAS_GERAIS",4600,"GERÊNCIA DE PESSOAS E CULTURA"]
[null,null,null,0,1160.95,0,0,0,232.19,{"$f":"D1563*'Série - IPCA'!$C$444/'Série - IPCA'!$C$385","v":0},{"$f":"E1563*'Série - IPCA'!$C$444/'Série - IPCA'!$C$398","v":1451.8634611483312},{"$f":"F1563*'Série - IPCA'!$C$444/'Série - IPCA'!$C$411","v":0},{"$f":"G1563*'Série - IPCA'!$C$444/'Série - IPCA'!$C$424","v":0},{"$f":"H1563*'Série - IPCA'!$C$444/'Série - IPCA'!$C$437","v":0},290.37269222966626,null,"N","SIM","NÃO","OPEX","FIXO","DESPESAS_GERAIS",5100,"GERÊNCIA DE ENGENHARIA"]
[null,null,null,0,0,0,1578.64,150,345.72800000000001,{"$f":"D1564*'Série - IPCA'!$C$444/'Série - IPCA'!$C$385","v":0},{"$f":"E1564*'Série - IPCA'!$C$444/'Série - IPCA'!$C$398","v":0},{"$f":"F1564*'Série - IPCA'!$C$444/'Série - IPCA'!$C$411","v":0},{"$f":"G1564*'Série - IPCA'!$C$444/'Série - IPCA'!$C$424","v":1695.6550374375643},{"$f":"H1564*'Série - IPCA'!$C$444/'Série - IPCA'!$C$437","v":154.00187377736307},369.93138224298548,null,"N","SIM","NÃO","ENCARGOS DE COMERCIALIZAÇÃO","FIXO","DESPESAS_GERAIS",5300,"GERÊNCIA COMERCIAL"]
[null,null,null,0,576.55999999999995,0,0,0,115.31199999999998,{"$f":"D1565*'Série - IPCA'!$C$444/'Série - IPCA'!$C$385","v":0},{"$f":"E1565*'Série - IPCA'!$C$444/'Série - IPCA'!$C$398","v":721.03570107212352},{"$f":"F1565*'Série - IPCA'!$C$444/'Série - IPCA'!$C$411","v":0},{"$f":"G1565*'Série - IPCA'!$C$444/'Série - IPCA'!$C$424","v":0},{"$f":"H1565*'Série - IPCA'!$C$444/'Série - IPCA'!$C$437","v":0},144.2071402144247,null,"N","SIM","NÃO","ENCARGOS DE COMERCIALIZAÇÃO","FIXO","DESPESAS_GERAIS",5400,"GERÊNCIA COMERCIAL (inativo)"]
[null,null,null,0,0,0,0,0,0,{"$f":"D1566*'Série - IPCA'!$C$444/'Série - IPCA'!$C$385","v":0},{"$f":"E1566*'Série - IPCA'!$C$444/'Série - IPCA'!$C$398","v":0},{"$f":"F1566*'Série - IPCA'!$C$444/'Série - IPCA'!$C$411","v":0},{"$f":"G1566*'Série - IPCA'!$C$444/'Série - IPCA'!$C$424","v":0},{"$f":"H1566*'Série - IPCA'!$C$444/'Série - IPCA'!$C$437","v":0},0,null,"N","SIM","NÃO","ENCARGOS DE GESTÃO","FIXO","DESPESAS_GERAIS",5200,"GERÊNCIA DE OPERAÇÕES"]
[null,null,null,0,1205.4000000000001,0,0,0,241.08,{"$f":"D1567*'Série - IPCA'!$C$444/'Série - IPCA'!$C$385","v":0},{"$f":"E1567*'Série - IPCA'!$C$444/'Série - IPCA'!$C$398","v":1507.4518420846709},{"$f":"F1567*'Série - IPCA'!$C$444/'Série - IPCA'!$C$411","v":0},{"$f":"G1567*'Série - IPCA'!$C$444/'Série - IPCA'!$C$424","v":0},{"$f":"H1567*'Série - IPCA'!$C$444/'Série - IPCA'!$C$437","v":0},301.49036841693419,null,"N","SIM","NÃO","ENCARGOS DE GESTÃO","FIXO","DESPESAS_GERAIS",1005,"AUDITORIA INTERNA"]
[null,null,null,0,0,0,32.64,0,6.5280000000000005,{"$f":"D1568*'Série - IPCA'!$C$444/'Série - IPCA'!$C$385","v":0},{"$f":"E1568*'Série - IPCA'!$C$444/'Série - IPCA'!$C$398","v":0},{"$f":"F1568*'Série - IPCA'!$C$444/'Série - IPCA'!$C$411","v":0},{"$f":"G1568*'Série - IPCA'!$C$444/'Série - IPCA'!$C$424","v":35.059405831577877},{"$f":"H1568*'Série - IPCA'!$C$444/'Série - IPCA'!$C$437","v":0},7.0118811663155753,null,"N","SIM","NÃO","ENCARGOS DE GESTÃO","FIXO","DESPESAS_GERAIS",2120,"ASSESSORIA DA PRESIDÊNCIA"]
[null,null,null,0,0,42.26,1906.83,1010.94,592.00599999999997,{"$f":"D1569*'Série - IPCA'!$C$444/'Série - IPCA'!$C$385","v":0},{"$f":"E1569*'Série - IPCA'!$C$444/'Série - IPCA'!$C$398","v":0},{"$f":"F1569*'Série - IPCA'!$C$444/'Série - IPCA'!$C$411","v":48.018475301703909},{"$f":"G1569*'Série - IPCA'!$C$444/'Série - IPCA'!$C$424","v":2048.1717776295231},{"$f":"H1569*'Série - IPCA'!$C$444/'Série - IPCA'!$C$437","v":1037.9110285099162},626.82025628822862,null,"N","SIM","NÃO","ENCARGOS DE GESTÃO","FIXO","TRIBUTOS_E_TAXAS_FISCAIS",1005,"AUDITORIA INTERNA"]
[null,null,null,3562.39,0,0,0,0,712.47799999999995,{"$f":"D1570*'Série - IPCA'!$C$444/'Série - IPCA'!$C$385","v":4656.317186830348},{"$f":"E1570*'Série - IPCA'!$C$444/'Série - IPCA'!$C$398","v":0},{"$f":"F1570*'Série - IPCA'!$C$444/'Série - IPCA'!$C$411","v":0},{"$f":"G1570*'Série - IPCA'!$C$444/'Série - IPCA'!$C$424","v":0},{"$f":"H1570*'Série - IPCA'!$C$444/'Série - IPCA'!$C$437","v":0},931.26343736606964,null,"N","SIM","NÃO","ENCARGOS DE GESTÃO","FIXO","TRIBUTOS_E_TAXAS_FISCAIS",2100,"SECRETARIA"]
[null,null,null,0,3259.81,85.16,3843.04,2037.43,1845.0880000000002,{"$f":"D1571*'Série - IPCA'!$C$444/'Série - IPCA'!$C$385","v":0},{"$f":"E1571*'Série - IPCA'!$C$444/'Série - IPCA'!$C$398","v":4076.6605187871501},{"$f":"F1571*'Série - IPCA'!$C$444/'Série - IPCA'!$C$411","v":96.764158937366417},{"$f":"G1571*'Série - IPCA'!$C$444/'Série - IPCA'!$C$424","v":4127.9013170032786},{"$f":"H1571*'Série - IPCA'!$C$444/'Série - IPCA'!$C$437","v":2091.7869179347522},2078.6225825325096,null,"N","SIM","NÃO","ENCARGOS DE GESTÃO","FIXO","TRIBUTOS_E_TAXAS_FISCAIS",2110,"ASSESSORIA DA DIRETORIA EXECUTIVA"]
[null,null,null,0,0,127.42,5749.89,3048.37,1785.136,{"$f":"D1572*'Série - IPCA'!$C$444/'Série - IPCA'!$C$385","v":0},{"$f":"E1572*'Série - IPCA'!$C$444/'Série - IPCA'!$C$398","v":0},{"$f":"F1572*'Série - IPCA'!$C$444/'Série - IPCA'!$C$411","v":144.78263423907035},{"$f":"G1572*'Série - IPCA'!$C$444/'Série - IPCA'!$C$424","v":6176.0945771118668},{"$f":"H1572*'Série - IPCA'!$C$444/'Série - IPCA'!$C$437","v":3129.6979464446686},1890.115031559121,null,"N","SIM","NÃO","ENCARGOS DE GESTÃO","FIXO","TRIBUTOS_E_TAXAS_FISCAIS",2120,"ASSESSORIA DA PRESIDÊNCIA"]
[null,null,null,0,0,42.26,1906.83,1010.94,592.00599999999997,{"$f":"D1573*'Série - IPCA'!$C$444/'Série - IPCA'!$C$385","v":0},{"$f":"E1573*'Série - IPCA'!$C$444/'Série - IPCA'!$C$398","v":0},{"$f":"F1573*'Série - IPCA'!$C$444/'Série - IPCA'!$C$411","v":48.018475301703909},{"$f":"G1573*'Série - IPCA'!$C$444/'Série - IPCA'!$C$424","v":2048.1717776295231},{"$f":"H1573*'Série - IPCA'!$C$444/'Série - IPCA'!$C$437","v":1037.9110285099162},626.82025628822862,null,"N","SIM","NÃO","ENCARGOS DE GESTÃO","FIXO","TRIBUTOS_E_TAXAS_FISCAIS",2310,"ASSESSORIA DAF"]
[null,null,null,8117.57,7428.03,0,0,0,3109.12,{"$f":"D1574*'Série - IPCA'!$C$444/'Série - IPCA'!$C$385","v":10610.28711238759},{"$f":"E1574*'Série - IPCA'!$C$444/'Série - IPCA'!$C$398","v":9289.3624577403334},{"$f":"F1574*'Série - IPCA'!$C$444/'Série - IPCA'!$C$411","v":0},{"$f":"G1574*'Série - IPCA'!$C$444/'Série - IPCA'!$C$424","v":0},{"$f":"H1574*'Série - IPCA'!$C$444/'Série - IPCA'!$C$437","v":0},3979.9299140255848,null,"N","SIM","NÃO","ENCARGOS DE GESTÃO","FIXO","TRIBUTOS_E_TAXAS_FISCAIS",2200,"DIRETORIA COLEGIADA - PRESIDÊNCIA"]
[null,null,null,2024.53,1852.56,0,0,0,775.41800000000001,{"$f":"D1575*'Série - IPCA'!$C$444/'Série - IPCA'!$C$385","v":2646.2161173407867},{"$f":"E1575*'Série - IPCA'!$C$444/'Série - IPCA'!$C$398","v":2316.7786498858286},{"$f":"F1575*'Série - IPCA'!$C$444/'Série - IPCA'!$C$411","v":0},{"$f":"G1575*'Série - IPCA'!$C$444/'Série - IPCA'!$C$424","v":0},{"$f":"H1575*'Série - IPCA'!$C$444/'Série - IPCA'!$C$437","v":0},992.5989534453231,null,"N","SIM","NÃO","ENCARGOS DE GESTÃO","FIXO","TRIBUTOS_E_TAXAS_FISCAIS",2300,"DIRETORIA COLEGIADA - DAF"]
[null,null,null,2024.53,1852.56,0,0,0,775.41800000000001,{"$f":"D1576*'Série - IPCA'!$C$444/'Série - IPCA'!$C$385","v":2646.2161173407867},{"$f":"E1576*'Série - IPCA'!$C$444/'Série - IPCA'!$C$398","v":2316.7786498858286},{"$f":"F1576*'Série - IPCA'!$C$444/'Série - IPCA'!$C$411","v":0},{"$f":"G1576*'Série - IPCA'!$C$444/'Série - IPCA'!$C$424","v":0},{"$f":"H1576*'Série - IPCA'!$C$444/'Série - IPCA'!$C$437","v":0},992.5989534453231,null,"N","SIM","NÃO","ENCARGOS DE GESTÃO","FIXO","TRIBUTOS_E_TAXAS_FISCAIS",2400,"DIRETORIA COLEGIADA - DTC"]
[null,null,null,22796.53,0,0,0,0,4559.3059999999996,{"$f":"D1577*'Série - IPCA'!$C$444/'Série - IPCA'!$C$385","v":29796.814621390029},{"$f":"E1577*'Série - IPCA'!$C$444/'Série - IPCA'!$C$398","v":0},{"$f":"F1577*'Série - IPCA'!$C$444/'Série - IPCA'!$C$411","v":0},{"$f":"G1577*'Série - IPCA'!$C$444/'Série - IPCA'!$C$424","v":0},{"$f":"H1577*'Série - IPCA'!$C$444/'Série - IPCA'!$C$437","v":0},5959.3629242780062,null,"N","SIM","NÃO","ENCARGOS DE GESTÃO","FIXO","TRIBUTOS_E_TAXAS_FISCAIS",3100,"SMS"]
[null,null,null,5080.79,14172.8,509.67,24599.21,48390.15,18550.523999999998,{"$f":"D1578*'Série - IPCA'!$C$444/'Série - IPCA'!$C$385","v":6640.9825425278432},{"$f":"E1578*'Série - IPCA'!$C$444/'Série - IPCA'!$C$398","v":17724.252088516361},{"$f":"F1578*'Série - IPCA'!$C$444/'Série - IPCA'!$C$411","v":579.11917432606333},{"$f":"G1578*'Série - IPCA'!$C$444/'Série - IPCA'!$C$424","v":26422.600690141197},{"$f":"H1578*'Série - IPCA'!$C$444/'Série - IPCA'!$C$437","v":49681.158482451101},20209.622595592511,null,"N","SIM","NÃO","ENCARGOS DE GESTÃO","FIXO","TRIBUTOS_E_TAXAS_FISCAIS",3200,"GERÊNCIA DE PLANEJAMENTO E MEIO AMBIENTE"]
[null,null,null,6093.04,5575.51,169.67,7656.74,4059.29,4710.8500000000004,{"$f":"D1579*'Série - IPCA'!$C$444/'Série - IPCA'!$C$385","v":7964.0709950468045},{"$f":"E1579*'Série - IPCA'!$C$444/'Série - IPCA'!$C$398","v":6972.633831144436},{"$f":"F1579*'Série - IPCA'!$C$444/'Série - IPCA'!$C$411","v":192.78974691055615},{"$f":"G1579*'Série - IPCA'!$C$444/'Série - IPCA'!$C$424","v":8224.2878372204523},{"$f":"H1579*'Série - IPCA'!$C$444/'Série - IPCA'!$C$437","v":4167.5884413714139},5504.2741703387319,null,"N","SIM","NÃO","ENCARGOS DE GESTÃO","FIXO","TRIBUTOS_E_TAXAS_FISCAIS",3300,"GERÊNCIA JURÍDICA"]
[null,null,null,7105.29,0,0,0,0,1421.058,{"$f":"D1580*'Série - IPCA'!$C$444/'Série - IPCA'!$C$385","v":9287.1594475657657},{"$f":"E1580*'Série - IPCA'!$C$444/'Série - IPCA'!$C$398","v":0},{"$f":"F1580*'Série - IPCA'!$C$444/'Série - IPCA'!$C$411","v":0},{"$f":"G1580*'Série - IPCA'!$C$444/'Série - IPCA'!$C$424","v":0},{"$f":"H1580*'Série - IPCA'!$C$444/'Série - IPCA'!$C$437","v":0},1857.4318895131532,null,"N","SIM","NÃO","ENCARGOS DE GESTÃO","FIXO","TRIBUTOS_E_TAXAS_FISCAIS",3400,"MARKETING"]
[null,null,null,0,6501.8,169.67,7656.74,4059.29,3677.5,{"$f":"D1581*'Série - IPCA'!$C$444/'Série - IPCA'!$C$385","v":0},{"$f":"E1581*'Série - IPCA'!$C$444/'Série - IPCA'!$C$398","v":8131.0356619098338},{"$f":"F1581*'Série - IPCA'!$C$444/'Série - IPCA'!$C$411","v":192.78974691055615},{"$f":"G1581*'Série - IPCA'!$C$444/'Série - IPCA'!$C$424","v":8224.2878372204523},{"$f":"H1581*'Série - IPCA'!$C$444/'Série - IPCA'!$C$437","v":4167.5884413714139},4143.1403374824513,null,"N","SIM","NÃO","ENCARGOS DE GESTÃO","FIXO","TRIBUTOS_E_TAXAS_FISCAIS",3500,"ASSESSORIA DE COMUNICAÇÃO INSTITUCIONAL"]
[null,null,null,3056.27,2796.66,297.74,13435.96,7165.81,5350.4879999999994,{"$f":"D1582*'Série - IPCA'!$C$444/'Série - IPCA'!$C$385","v":3994.7794959546786},{"$f":"E1582*'Série - IPCA'!$C$444/'Série - IPCA'!$C$398","v":3497.4533504932097},{"$f":"F1582*'Série - IPCA'!$C$444/'Série - IPCA'!$C$411","v":338.31095211380318},{"$f":"G1582*'Série - IPCA'!$C$444/'Série - IPCA'!$C$424","v":14431.886469878891},{"$f":"H1582*'Série - IPCA'!$C$444/'Série - IPCA'!$C$437","v":7356.9877808837737},5923.8836098648717,null,"N","SIM","NÃO","ENCARGOS DE GESTÃO","FIXO","TRIBUTOS_E_TAXAS_FISCAIS",3600,"GERÊNCIA DE GOVERNANÇA, RISCO E COMPLIANCE"]
[null,null,null,34907.449999999997,47884.04,247281.09,37392.68,103480.48,94189.147999999986,{"$f":"D1583*'Série - IPCA'!$C$444/'Série - IPCA'!$C$385","v":45626.716722038022},{"$f":"E1583*'Série - IPCA'!$C$444/'Série - IPCA'!$C$398","v":59882.930400245612},{"$f":"F1583*'Série - IPCA'!$C$444/'Série - IPCA'!$C$411","v":280976.35855994845},{"$f":"G1583*'Série - IPCA'!$C$444/'Série - IPCA'!$C$424","v":40164.373261345754},{"$f":"H1583*'Série - IPCA'!$C$444/'Série - IPCA'!$C$437","v":106241.25212920629},106578.32621455684,null,"N","SIM","NÃO","ENCARGOS DE GESTÃO","FIXO","TRIBUTOS_E_TAXAS_FISCAIS",4100,"GERÊNCIA DE SERVIÇOS CORPORATIVOS"]
[null,null,null,11173.81,10224.719999999999,382.25,17521.18,9145.09,9689.41,{"$f":"D1584*'Série - IPCA'!$C$444/'Série - IPCA'!$C$385","v":14605.027396039404},{"$f":"E1584*'Série - IPCA'!$C$444/'Série - IPCA'!$C$398","v":12786.853325700991},{"$f":"F1584*'Série - IPCA'!$C$444/'Série - IPCA'!$C$411","v":434.3365400869929},{"$f":"G1584*'Série - IPCA'!$C$444/'Série - IPCA'!$C$424","v":18819.919125861692},{"$f":"H1584*'Série - IPCA'!$C$444/'Série - IPCA'!$C$437","v":9389.0733057508351},11207.041938687984,null,"N","SIM","NÃO","ENCARGOS DE GESTÃO","FIXO","TRIBUTOS_E_TAXAS_FISCAIS",4200,"GERÊNCIA FINANCEIRA"]
[null,null,null,12614.34,11542.9,340,15342.82,8134.15,9594.8420000000006,{"$f":"D1585*'Série - IPCA'!$C$444/'Série - IPCA'!$C$385","v":16487.910684265767},{"$f":"E1585*'Série - IPCA'!$C$444/'Série - IPCA'!$C$398","v":14435.345833747426},{"$f":"F1585*'Série - IPCA'!$C$444/'Série - IPCA'!$C$411","v":386.32942741550704},{"$f":"G1585*'Série - IPCA'!$C$444/'Série - IPCA'!$C$424","v":16480.090471227009},{"$f":"H1585*'Série - IPCA'!$C$444/'Série - IPCA'!$C$437","v":8351.1622772409173},11228.167738779326,null,"N","SIM","NÃO","ENCARGOS DE GESTÃO","FIXO","TRIBUTOS_E_TAXAS_FISCAIS",4300,"GERÊNCIA DE TECNOLOGIA E SISTEMAS DE INFORMAÇÃO"]
[null,null,null,8117.57,7428.05,254.84,11499.77,6133.32,6686.7100000000009,{"$f":"D1586*'Série - IPCA'!$C$444/'Série - IPCA'!$C$385","v":10610.28711238759},{"$f":"E1586*'Série - IPCA'!$C$444/'Série - IPCA'!$C$398","v":9289.3874693852995},{"$f":"F1586*'Série - IPCA'!$C$444/'Série - IPCA'!$C$411","v":289.56526847814069},{"$f":"G1586*'Série - IPCA'!$C$444/'Série - IPCA'!$C$424","v":12352.1784129842},{"$f":"H1586*'Série - IPCA'!$C$444/'Série - IPCA'!$C$437","v":6296.9518165078425},7767.6740159486144,null,"N","SIM","NÃO","ENCARGOS DE GESTÃO","FIXO","TRIBUTOS_E_TAXAS_FISCAIS",4500,"GERÊNCIA CONTÁBIL"]
[null,null,null,7105.29,0,0,0,0,1421.058,{"$f":"D1587*'Série - IPCA'!$C$444/'Série - IPCA'!$C$385","v":9287.1594475657657},{"$f":"E1587*'Série - IPCA'!$C$444/'Série - IPCA'!$C$398","v":0},{"$f":"F1587*'Série - IPCA'!$C$444/'Série - IPCA'!$C$411","v":0},{"$f":"G1587*'Série - IPCA'!$C$444/'Série - IPCA'!$C$424","v":0},{"$f":"H1587*'Série - IPCA'!$C$444/'Série - IPCA'!$C$437","v":0},1857.4318895131532,null,"N","SIM","NÃO","ENCARGOS DE GESTÃO","FIXO","TRIBUTOS_E_TAXAS_FISCAIS",4600,"GERÊNCIA DE PESSOAS E CULTURA"]
[null,null,null,2221.8000000000002,1516.09,0,0,0,747.57800000000009,{"$f":"D1588*'Série - IPCA'!$C$444/'Série - IPCA'!$C$385","v":2904.0631502164752},{"$f":"E1588*'Série - IPCA'!$C$444/'Série - IPCA'!$C$398","v":1895.9952408048352},{"$f":"F1588*'Série - IPCA'!$C$444/'Série - IPCA'!$C$411","v":0},{"$f":"G1588*'Série - IPCA'!$C$444/'Série - IPCA'!$C$424","v":0},{"$f":"H1588*'Série - IPCA'!$C$444/'Série - IPCA'!$C$437","v":0},960.01167820426201,null,"N","SIM","NÃO","ENCARGOS DE GESTÃO","FIXO","DESPESAS_GERAIS",2200,"DIRETORIA COLEGIADA - PRESIDÊNCIA"]
[null,null,null,899.8,442.9,0,0,0,268.53999999999996,{"$f":"D1589*'Série - IPCA'!$C$444/'Série - IPCA'!$C$385","v":1176.1076706115689},{"$f":"E1589*'Série - IPCA'!$C$444/'Série - IPCA'!$C$398","v":553.88287776613629},{"$f":"F1589*'Série - IPCA'!$C$444/'Série - IPCA'!$C$411","v":0},{"$f":"G1589*'Série - IPCA'!$C$444/'Série - IPCA'!$C$424","v":0},{"$f":"H1589*'Série - IPCA'!$C$444/'Série - IPCA'!$C$437","v":0},345.99810967554106,null,"N","SIM","NÃO","ENCARGOS DE GESTÃO","FIXO","DESPESAS_GERAIS",2400,"DIRETORIA COLEGIADA - DTC"]
[null,null,null,0,722.16,0,0,0,144.43199999999999,{"$f":"D1590*'Série - IPCA'!$C$444/'Série - IPCA'!$C$385","v":0},{"$f":"E1590*'Série - IPCA'!$C$444/'Série - IPCA'!$C$398","v":903.12047642265304},{"$f":"F1590*'Série - IPCA'!$C$444/'Série - IPCA'!$C$411","v":0},{"$f":"G1590*'Série - IPCA'!$C$444/'Série - IPCA'!$C$424","v":0},{"$f":"H1590*'Série - IPCA'!$C$444/'Série - IPCA'!$C$437","v":0},180.6240952845306,null,"N","SIM","NÃO","ENCARGOS DE GESTÃO","FIXO","DESPESAS_GERAIS",3300,"GERÊNCIA JURÍDICA"]
[null,null,null,1139,523.12,0,0,0,332.42399999999998,{"$f":"D1591*'Série - IPCA'!$C$444/'Série - IPCA'!$C$385","v":1488.7604321255581},{"$f":"E1591*'Série - IPCA'!$C$444/'Série - IPCA'!$C$398","v":654.20458572368761},{"$f":"F1591*'Série - IPCA'!$C$444/'Série - IPCA'!$C$411","v":0},{"$f":"G1591*'Série - IPCA'!$C$444/'Série - IPCA'!$C$424","v":0},{"$f":"H1591*'Série - IPCA'!$C$444/'Série - IPCA'!$C$437","v":0},428.59300356984915,null,"N","SIM","NÃO","ENCARGOS DE GESTÃO","FIXO","DESPESAS_GERAIS",3600,"GERÊNCIA DE GOVERNANÇA, RISCO E COMPLIANCE"]
[null,null,null,0,105768.64,258737.49,170573.36,170067.45,141029.38799999998,{"$f":"D1592*'Série - IPCA'!$C$444/'Série - IPCA'!$C$385","v":0},{"$f":"E1592*'Série - IPCA'!$C$444/'Série - IPCA'!$C$398","v":132272.38360941628},{"$f":"F1592*'Série - IPCA'!$C$444/'Série - IPCA'!$C$411","v":293993.84224301612},{"$f":"G1592*'Série - IPCA'!$C$444/'Série - IPCA'!$C$424","v":183216.93174925956},{"$f":"H1592*'Série - IPCA'!$C$444/'Série - IPCA'!$C$437","v":174604.70645692004},156817.57281172241,null,"N","SIM","NÃO","ENCARGOS DE GESTÃO","FIXO","DESPESAS_GERAIS",4100,"GERÊNCIA DE SERVIÇOS CORPORATIVOS"]
[null,null,null,108644.55,7603.52,0,0,0,23249.614000000001,{"$f":"D1593*'Série - IPCA'!$C$444/'Série - IPCA'!$C$385","v":142006.76664274524},{"$f":"E1593*'Série - IPCA'!$C$444/'Série - IPCA'!$C$398","v":9508.8271364921493},{"$f":"F1593*'Série - IPCA'!$C$444/'Série - IPCA'!$C$411","v":0},{"$f":"G1593*'Série - IPCA'!$C$444/'Série - IPCA'!$C$424","v":0},{"$f":"H1593*'Série - IPCA'!$C$444/'Série - IPCA'!$C$437","v":0},30303.118755847478,null,"N","SIM","NÃO","ENCARGOS DE GESTÃO","FIXO","DESPESAS_GERAIS",4600,"GERÊNCIA DE PESSOAS E CULTURA"]
[null,null,null,231954.85,0,0,0,0,46390.97,{"$f":"D1594*'Série - IPCA'!$C$444/'Série - IPCA'!$C$385","v":303182.79431046447},{"$f":"E1594*'Série - IPCA'!$C$444/'Série - IPCA'!$C$398","v":0},{"$f":"F1594*'Série - IPCA'!$C$444/'Série - IPCA'!$C$411","v":0},{"$f":"G1594*'Série - IPCA'!$C$444/'Série - IPCA'!$C$424","v":0},{"$f":"H1594*'Série - IPCA'!$C$444/'Série - IPCA'!$C$437","v":0},60636.55886209289,null,"N","SIM","NÃO","ENCARGOS DE COMERCIALIZAÇÃO","FUNCIONÁRIOS","PESSOAL",5400,"GERÊNCIA COMERCIAL (inativo)"]
[null,null,null,116088.6,0,0,0,0,23217.72,{"$f":"D1595*'Série - IPCA'!$C$444/'Série - IPCA'!$C$385","v":151736.71141426783},{"$f":"E1595*'Série - IPCA'!$C$444/'Série - IPCA'!$C$398","v":0},{"$f":"F1595*'Série - IPCA'!$C$444/'Série - IPCA'!$C$411","v":0},{"$f":"G1595*'Série - IPCA'!$C$444/'Série - IPCA'!$C$424","v":0},{"$f":"H1595*'Série - IPCA'!$C$444/'Série - IPCA'!$C$437","v":0},30347.342282853566,null,"N","SIM","NÃO","ENCARGOS DE COMERCIALIZAÇÃO","FUNCIONÁRIOS","PESSOAL",5500,"GERÊNCIA COMERCIAL (inativo)"]
[null,null,null,-1828271.72,0,0,0,0,-365654.34399999998,{"$f":"D1596*'Série - IPCA'!$C$444/'Série - IPCA'!$C$385","v":-2389691.4801669335},{"$f":"E1596*'Série - IPCA'!$C$444/'Série - IPCA'!$C$398","v":0},{"$f":"F1596*'Série - IPCA'!$C$444/'Série - IPCA'!$C$411","v":0},{"$f":"G1596*'Série - IPCA'!$C$444/'Série - IPCA'!$C$424","v":0},{"$f":"H1596*'Série - IPCA'!$C$444/'Série - IPCA'!$C$437","v":0},-477938.29603338672,null,"S",null,null,"OPEX",null,"TRIBUTOS_E_TAXAS_FISCAIS",4200,"GERÊNCIA FINANCEIRA"]
[null,null,null,-396927.42,0,0,0,0,-79385.483999999997,{"$f":"D1597*'Série - IPCA'!$C$444/'Série - IPCA'!$C$385","v":-518814.60695494548},{"$f":"E1597*'Série - IPCA'!$C$444/'Série - IPCA'!$C$398","v":0},{"$f":"F1597*'Série - IPCA'!$C$444/'Série - IPCA'!$C$411","v":0},{"$f":"G1597*'Série - IPCA'!$C$444/'Série - IPCA'!$C$424","v":0},{"$f":"H1597*'Série - IPCA'!$C$444/'Série - IPCA'!$C$437","v":0},-103762.9213909891,null,"S",null,null,"OPEX",null,"TRIBUTOS_E_TAXAS_FISCAIS",4200,"GERÊNCIA FINANCEIRA"]
[null,null,null,98519.65,0,0,0,0,19703.93,{"$f":"D1598*'Série - IPCA'!$C$444/'Série - IPCA'!$C$385","v":128772.74513332636},{"$f":"E1598*'Série - IPCA'!$C$444/'Série - IPCA'!$C$398","v":0},{"$f":"F1598*'Série - IPCA'!$C$444/'Série - IPCA'!$C$411","v":0},{"$f":"G1598*'Série - IPCA'!$C$444/'Série - IPCA'!$C$424","v":0},{"$f":"H1598*'Série - IPCA'!$C$444/'Série - IPCA'!$C$437","v":0},25754.549026665271,null,"N","SIM","NÃO","ENCARGOS DE GESTÃO","FUNCIONÁRIOS","PESSOAL",3100,"SMS"]
[null,null,null,81173.070000000007,0,0,0,0,16234.614000000001,{"$f":"D1599*'Série - IPCA'!$C$444/'Série - IPCA'!$C$385","v":106099.43351199137},{"$f":"E1599*'Série - IPCA'!$C$444/'Série - IPCA'!$C$398","v":0},{"$f":"F1599*'Série - IPCA'!$C$444/'Série - IPCA'!$C$411","v":0},{"$f":"G1599*'Série - IPCA'!$C$444/'Série - IPCA'!$C$424","v":0},{"$f":"H1599*'Série - IPCA'!$C$444/'Série - IPCA'!$C$437","v":0},21219.886702398275,null,"N","SIM","NÃO","ENCARGOS DE GESTÃO","FUNCIONÁRIOS","PESSOAL",3400,"MARKETING"]
[null,null,null,81173.070000000007,0,0,0,0,16234.614000000001,{"$f":"D1600*'Série - IPCA'!$C$444/'Série - IPCA'!$C$385","v":106099.43351199137},{"$f":"E1600*'Série - IPCA'!$C$444/'Série - IPCA'!$C$398","v":0},{"$f":"F1600*'Série - IPCA'!$C$444/'Série - IPCA'!$C$411","v":0},{"$f":"G1600*'Série - IPCA'!$C$444/'Série - IPCA'!$C$424","v":0},{"$f":"H1600*'Série - IPCA'!$C$444/'Série - IPCA'!$C$437","v":0},21219.886702398275,null,"N","SIM","NÃO","ENCARGOS DE GESTÃO","FUNCIONÁRIOS","PESSOAL",4600,"GERÊNCIA DE PESSOAS E CULTURA"]
[null,null,null,187501.1,229479.55,320432.78999999998,344166.07,362852.47,288886.39600000001,{"$f":"D1601*'Série - IPCA'!$C$444/'Série - IPCA'!$C$385","v":245078.33069360623},{"$f":"E1601*'Série - IPCA'!$C$444/'Série - IPCA'!$C$398","v":286983.05157479784},{"$f":"F1601*'Série - IPCA'!$C$444/'Série - IPCA'!$C$411","v":364095.93025251006},{"$f":"G1601*'Série - IPCA'!$C$444/'Série - IPCA'!$C$424","v":369677.01965653308},{"$f":"H1601*'Série - IPCA'!$C$444/'Série - IPCA'!$C$437","v":372533.06856496277},327673.48014848202,null,"N","SIM","NÃO","OPEX","FUNCIONÁRIOS","PESSOAL",5100,"GERÊNCIA DE ENGENHARIA"]
[null,null,null,0,-14320.32,-43592.84,-109551582.45999999,15803.82,-21918738.359999999,{"$f":"D1602*'Série - IPCA'!$C$444/'Série - IPCA'!$C$385","v":0},{"$f":"E1602*'Série - IPCA'!$C$444/'Série - IPCA'!$C$398","v":-17908.737981783601},{"$f":"F1602*'Série - IPCA'!$C$444/'Série - IPCA'!$C$411","v":-49532.932107693567},{"$f":"G1602*'Série - IPCA'!$C$444/'Série - IPCA'!$C$424","v":-117671978.82833052},{"$f":"H1602*'Série - IPCA'!$C$444/'Série - IPCA'!$C$437","v":16225.45261893444},-23544639.009160213,null,"S",null,"SIM","OPEX",null,"DESPESAS_GERAIS",9999,"RATEIO"]
[null,null,null,-1466.35,-11461.58,0,-28127.73,0,-8211.1320000000014,{"$f":"D1603*'Série - IPCA'!$C$444/'Série - IPCA'!$C$385","v":-1916.6320102259101},{"$f":"E1603*'Série - IPCA'!$C$444/'Série - IPCA'!$C$398","v":-14333.64848531676},{"$f":"F1603*'Série - IPCA'!$C$444/'Série - IPCA'!$C$411","v":0},{"$f":"G1603*'Série - IPCA'!$C$444/'Série - IPCA'!$C$424","v":-30212.668541392399},{"$f":"H1603*'Série - IPCA'!$C$444/'Série - IPCA'!$C$437","v":0},-9292.5898073870139,null,"S",null,"SIM","OPEX",null,"DESPESAS_GERAIS",9999,"RATEIO"]
[null,null,null,0,-20000,0,0,-4333.5,-4866.7,{"$f":"D1604*'Série - IPCA'!$C$444/'Série - IPCA'!$C$385","v":0},{"$f":"E1604*'Série - IPCA'!$C$444/'Série - IPCA'!$C$398","v":-25011.644965732052},{"$f":"F1604*'Série - IPCA'!$C$444/'Série - IPCA'!$C$411","v":0},{"$f":"G1604*'Série - IPCA'!$C$444/'Série - IPCA'!$C$424","v":0},{"$f":"H1604*'Série - IPCA'!$C$444/'Série - IPCA'!$C$437","v":-4449.1141334280192},-5892.1518198320136,null,"S",null,"SIM","OPEX",null,"DESPESAS_GERAIS",9999,"RATEIO"]
[null,null,null,-105224725.44,-35251.5,-24178.95,0,0,{"$f":"AVERAGE(D1605:H1605)","v":-21056831.177999999},{"$f":"D1605*'Série - IPCA'!$C$444/'Série - IPCA'!$C$385","v":-137536793.42962915},{"$f":"E1605*'Série - IPCA'!$C$444/'Série - IPCA'!$C$398","v":-44084.900125475171},{"$f":"F1605*'Série - IPCA'!$C$444/'Série - IPCA'!$C$411","v":-27473.646791200517},{"$f":"G1605*'Série - IPCA'!$C$444/'Série - IPCA'!$C$424","v":0},{"$f":"H1605*'Série - IPCA'!$C$444/'Série - IPCA'!$C$437","v":0},{"$f":"AVERAGE(J1605:N1605)","v":-27521670.395309161},null,"S",null,"SIM","OPEX",null,"DESPESAS_GERAIS",9999,"RATEIO"]
[null,null,null,-32307.18,0,0,0,0,-6461.4359999999997,{"$f":"D1606*'Série - IPCA'!$C$444/'Série - IPCA'!$C$385","v":-42227.964229638441},{"$f":"E1606*'Série - IPCA'!$C$444/'Série - IPCA'!$C$398","v":0},{"$f":"F1606*'Série - IPCA'!$C$444/'Série - IPCA'!$C$411","v":0},{"$f":"G1606*'Série - IPCA'!$C$444/'Série - IPCA'!$C$424","v":0},{"$f":"H1606*'Série - IPCA'!$C$444/'Série - IPCA'!$C$437","v":0},-8445.5928459276874,null,"S",null,"SIM","OPEX",null,"DESPESAS_GERAIS",9999,"RATEIO"]
[null,null,null,0,0,4326.71,0,0,865.34199999999998,{"$f":"D1607*'Série - IPCA'!$C$444/'Série - IPCA'!$C$385","v":0},{"$f":"E1607*'Série - IPCA'!$C$444/'Série - IPCA'!$C$398","v":0},{"$f":"F1607*'Série - IPCA'!$C$444/'Série - IPCA'!$C$411","v":4916.2805790969078},{"$f":"G1607*'Série - IPCA'!$C$444/'Série - IPCA'!$C$424","v":0},{"$f":"H1607*'Série - IPCA'!$C$444/'Série - IPCA'!$C$437","v":0},983.25611581938153,null,"S",null,"SIM","OPEX",null,"DESPESAS_GERAIS",5300,"GERÊNCIA COMERCIAL"]
[null,null,null,0,0,-622.92999999999995,0,0,-124.58599999999998,{"$f":"D1608*'Série - IPCA'!$C$444/'Série - IPCA'!$C$385","v":0},{"$f":"E1608*'Série - IPCA'!$C$444/'Série - IPCA'!$C$398","v":0},{"$f":"F1608*'Série - IPCA'!$C$444/'Série - IPCA'!$C$411","v":-707.8123241762994},{"$f":"G1608*'Série - IPCA'!$C$444/'Série - IPCA'!$C$424","v":0},{"$f":"H1608*'Série - IPCA'!$C$444/'Série - IPCA'!$C$437","v":0},-141.56246483525987,null,"S",null,"SIM","OPEX",null,"DESPESAS_GERAIS",5300,"GERÊNCIA COMERCIAL"]
[null,null,null,-9324.32,0,0,-885.13,0,-2041.8899999999999,{"$f":"D1609*'Série - IPCA'!$C$444/'Série - IPCA'!$C$385","v":-12187.601995150995},{"$f":"E1609*'Série - IPCA'!$C$444/'Série - IPCA'!$C$398","v":0},{"$f":"F1609*'Série - IPCA'!$C$444/'Série - IPCA'!$C$411","v":0},{"$f":"G1609*'Série - IPCA'!$C$444/'Série - IPCA'!$C$424","v":-950.73933467231996},{"$f":"H1609*'Série - IPCA'!$C$444/'Série - IPCA'!$C$437","v":0},-2627.6682659646631,null,"S",null,"SIM","OPEX",null,"DESPESAS_GERAIS",9999,"RATEIO"]
[null,null,null,0,0,-31461.46,0,0,-6292.2919999999995,{"$f":"D1610*'Série - IPCA'!$C$444/'Série - IPCA'!$C$385","v":0},{"$f":"E1610*'Série - IPCA'!$C$444/'Série - IPCA'!$C$398","v":0},{"$f":"F1610*'Série - IPCA'!$C$444/'Série - IPCA'!$C$411","v":-35748.493610164347},{"$f":"G1610*'Série - IPCA'!$C$444/'Série - IPCA'!$C$424","v":0},{"$f":"H1610*'Série - IPCA'!$C$444/'Série - IPCA'!$C$437","v":0},-7149.6987220328692,null,"S",null,"SIM","OPEX",null,"DESPESAS_GERAIS",5300,"GERÊNCIA COMERCIAL"]
[null,null,null,0,0,-907.23,0,0,-181.446,{"$f":"D1611*'Série - IPCA'!$C$444/'Série - IPCA'!$C$385","v":0},{"$f":"E1611*'Série - IPCA'!$C$444/'Série - IPCA'!$C$398","v":0},{"$f":"F1611*'Série - IPCA'!$C$444/'Série - IPCA'!$C$411","v":-1030.8519012769721},{"$f":"G1611*'Série - IPCA'!$C$444/'Série - IPCA'!$C$424","v":0},{"$f":"H1611*'Série - IPCA'!$C$444/'Série - IPCA'!$C$437","v":0},-206.17038025539441,null,"S",null,"SIM","OPEX",null,"DESPESAS_GERAIS",5300,"GERÊNCIA COMERCIAL"]
[null,null,null,464354.45,465945.65,523459.82,565362.81000000006,593500.41,522524.62800000003,{"$f":"D1612*'Série - IPCA'!$C$444/'Série - IPCA'!$C$385","v":606946.91101090948},{"$f":"E1612*'Série - IPCA'!$C$444/'Série - IPCA'!$C$398","v":582703.35855636245},{"$f":"F1612*'Série - IPCA'!$C$444/'Série - IPCA'!$C$411","v":594788.03686948353},{"$f":"G1612*'Série - IPCA'!$C$444/'Série - IPCA'!$C$424","v":607269.73645438894},{"$f":"H1612*'Série - IPCA'!$C$444/'Série - IPCA'!$C$437","v":609334.50151755486},600208.50888173981,null,"N","SIM","NÃO","OPEX","FUNCIONÁRIOS","PESSOAL",5200,"GERÊNCIA DE OPERAÇÕES"]
[null,null,null,104524.24,367041.57,275855.59000000003,298292.56,313334.61,271809.71399999998,{"$f":"D1613*'Série - IPCA'!$C$444/'Série - IPCA'!$C$385","v":136621.20518875818},{"$f":"E1613*'Série - IPCA'!$C$444/'Série - IPCA'!$C$398","v":459015.67182524444},{"$f":"F1613*'Série - IPCA'!$C$444/'Série - IPCA'!$C$411","v":313444.50627666735},{"$f":"G1613*'Série - IPCA'!$C$444/'Série - IPCA'!$C$424","v":320403.18374939624},{"$f":"H1613*'Série - IPCA'!$C$444/'Série - IPCA'!$C$437","v":321694.11372866191},310235.73615374567,null,"N","SIM","NÃO","ENCARGOS DE COMERCIALIZAÇÃO","FUNCIONÁRIOS","PESSOAL",5300,"GERÊNCIA COMERCIAL"]
[null,null,null,0,5386.96,14484.12,15611.1,16401.53,10376.742,{"$f":"D1614*'Série - IPCA'!$C$444/'Série - IPCA'!$C$385","v":0},{"$f":"E1614*'Série - IPCA'!$C$444/'Série - IPCA'!$C$398","v":6736.836548229996},{"$f":"F1614*'Série - IPCA'!$C$444/'Série - IPCA'!$C$411","v":16457.769959463221},{"$f":"G1614*'Série - IPCA'!$C$444/'Série - IPCA'!$C$424","v":16768.256445384355},{"$f":"H1614*'Série - IPCA'!$C$444/'Série - IPCA'!$C$437","v":16839.109018770891},11360.394394369692,null,"N","SIM","NÃO","ENCARGOS DE GESTÃO","FUNCIONÁRIOS","PESSOAL",1005,"AUDITORIA INTERNA"]
[null,null,null,40697.74,0,0,773.28,0,8294.2039999999997,{"$f":"D1615*'Série - IPCA'!$C$444/'Série - IPCA'!$C$385","v":53195.070227334152},{"$f":"E1615*'Série - IPCA'!$C$444/'Série - IPCA'!$C$398","v":0},{"$f":"F1615*'Série - IPCA'!$C$444/'Série - IPCA'!$C$411","v":0},{"$f":"G1615*'Série - IPCA'!$C$444/'Série - IPCA'!$C$424","v":830.5985705098816},{"$f":"H1615*'Série - IPCA'!$C$444/'Série - IPCA'!$C$437","v":0},10805.133759568806,null,"N","SIM","NÃO","ENCARGOS DE GESTÃO","FUNCIONÁRIOS","PESSOAL",2100,"SECRETARIA"]
[null,null,null,0,16243.76,43675.13,45732.77,49456.94,31021.72,{"$f":"D1616*'Série - IPCA'!$C$444/'Série - IPCA'!$C$385","v":0},{"$f":"E1616*'Série - IPCA'!$C$444/'Série - IPCA'!$C$398","v":20314.157901427985},{"$f":"F1616*'Série - IPCA'!$C$444/'Série - IPCA'!$C$411","v":49626.435191758341},{"$f":"G1616*'Série - IPCA'!$C$444/'Série - IPCA'!$C$424","v":49122.663701967198},{"$f":"H1616*'Série - IPCA'!$C$444/'Série - IPCA'!$C$437","v":50776.409541964131},33967.933267423527,null,"N","SIM","NÃO","ENCARGOS DE GESTÃO","FUNCIONÁRIOS","PESSOAL",2120,"ASSESSORIA DA PRESIDÊNCIA"]
[null,null,null,0,34660.53,29190.98,31462.41,33055.42,25673.867999999999,{"$f":"D1617*'Série - IPCA'!$C$444/'Série - IPCA'!$C$385","v":0},{"$f":"E1617*'Série - IPCA'!$C$444/'Série - IPCA'!$C$398","v":43345.84353420524},{"$f":"F1617*'Série - IPCA'!$C$444/'Série - IPCA'!$C$411","v":33168.63114440447},{"$f":"G1617*'Série - IPCA'!$C$444/'Série - IPCA'!$C$424","v":33794.528205560477},{"$f":"H1617*'Série - IPCA'!$C$444/'Série - IPCA'!$C$437","v":33937.310789984818},28849.262734831002,null,"N","SIM","NÃO","ENCARGOS DE GESTÃO","FUNCIONÁRIOS","PESSOAL",2110,"ASSESSORIA DA DIRETORIA EXECUTIVA"]
[null,null,null,0,5386.96,14484.12,15611.1,16401.53,10376.742,{"$f":"D1618*'Série - IPCA'!$C$444/'Série - IPCA'!$C$385","v":0},{"$f":"E1618*'Série - IPCA'!$C$444/'Série - IPCA'!$C$398","v":6736.836548229996},{"$f":"F1618*'Série - IPCA'!$C$444/'Série - IPCA'!$C$411","v":16457.769959463221},{"$f":"G1618*'Série - IPCA'!$C$444/'Série - IPCA'!$C$424","v":16768.256445384355},{"$f":"H1618*'Série - IPCA'!$C$444/'Série - IPCA'!$C$437","v":16839.109018770891},11360.394394369692,null,"N","SIM","NÃO","ENCARGOS DE GESTÃO","FUNCIONÁRIOS","PESSOAL",2310,"ASSESSORIA DAF"]
[null,null,null,88555.62,54241.21,0,0,0,28559.365999999998,{"$f":"D1619*'Série - IPCA'!$C$444/'Série - IPCA'!$C$385","v":115748.99306263977},{"$f":"E1619*'Série - IPCA'!$C$444/'Série - IPCA'!$C$398","v":67833.094351585751},{"$f":"F1619*'Série - IPCA'!$C$444/'Série - IPCA'!$C$411","v":0},{"$f":"G1619*'Série - IPCA'!$C$444/'Série - IPCA'!$C$424","v":0},{"$f":"H1619*'Série - IPCA'!$C$444/'Série - IPCA'!$C$437","v":0},36716.4174828451,null,"N","SIM","NÃO","ENCARGOS DE GESTÃO","FUNCIONÁRIOS","PESSOAL",2200,"DIRETORIA COLEGIADA - PRESIDÊNCIA"]
[null,null,null,23128.78,13527.78,-927.35,0,0,7145.8419999999996,{"$f":"D1620*'Série - IPCA'!$C$444/'Série - IPCA'!$C$385","v":30231.090875625079},{"$f":"E1620*'Série - IPCA'!$C$444/'Série - IPCA'!$C$398","v":16917.601526726536},{"$f":"F1620*'Série - IPCA'!$C$444/'Série - IPCA'!$C$411","v":-1053.7135132757955},{"$f":"G1620*'Série - IPCA'!$C$444/'Série - IPCA'!$C$424","v":0},{"$f":"H1620*'Série - IPCA'!$C$444/'Série - IPCA'!$C$437","v":0},9218.9957778151638,null,"N","SIM","NÃO","ENCARGOS DE GESTÃO","FUNCIONÁRIOS","PESSOAL",2300,"DIRETORIA COLEGIADA - DAF"]
[null,null,null,23128.78,13527.78,0,192,73,7384.3119999999999,{"$f":"D1621*'Série - IPCA'!$C$444/'Série - IPCA'!$C$385","v":30231.090875625079},{"$f":"E1621*'Série - IPCA'!$C$444/'Série - IPCA'!$C$398","v":16917.601526726536},{"$f":"F1621*'Série - IPCA'!$C$444/'Série - IPCA'!$C$411","v":0},{"$f":"G1621*'Série - IPCA'!$C$444/'Série - IPCA'!$C$424","v":206.23179900928162},{"$f":"H1621*'Série - IPCA'!$C$444/'Série - IPCA'!$C$437","v":74.947578571650027},9485.974355986511,null,"N","SIM","NÃO","ENCARGOS DE GESTÃO","FUNCIONÁRIOS","PESSOAL",2400,"DIRETORIA COLEGIADA - DTC"]
[null,null,null,58044.31,156547.70000000001,174700.51,188294.17,197827.79,155082.89600000001,{"$f":"D1622*'Série - IPCA'!$C$444/'Série - IPCA'!$C$385","v":75868.368777901531},{"$f":"E1622*'Série - IPCA'!$C$444/'Série - IPCA'!$C$398","v":195775.7746300966},{"$f":"F1622*'Série - IPCA'!$C$444/'Série - IPCA'!$C$411","v":198505.72940440316},{"$f":"G1622*'Série - IPCA'!$C$444/'Série - IPCA'!$C$424","v":202251.27823989326},{"$f":"H1622*'Série - IPCA'!$C$444/'Série - IPCA'!$C$437","v":203105.66896823124},175101.36400410515,null,"N","SIM","NÃO","ENCARGOS DE GESTÃO","FUNCIONÁRIOS","PESSOAL",3200,"GERÊNCIA DE PLANEJAMENTO E MEIO AMBIENTE"]
[null,null,null,69608.679999999993,60762.6,58159.25,62684.67,65858.490000000005,63414.737999999998,{"$f":"D1623*'Série - IPCA'!$C$444/'Série - IPCA'!$C$385","v":90983.888074178831},{"$f":"E1623*'Série - IPCA'!$C$444/'Série - IPCA'!$C$398","v":75988.628919739524},{"$f":"F1623*'Série - IPCA'!$C$444/'Série - IPCA'!$C$411","v":66084.205151221555},{"$f":"G1623*'Série - IPCA'!$C$444/'Série - IPCA'!$C$424","v":67331.105543766374},{"$f":"H1623*'Série - IPCA'!$C$444/'Série - IPCA'!$C$437","v":67615.539094318185},73600.673356644882,null,"N","SIM","NÃO","ENCARGOS DE GESTÃO","FUNCIONÁRIOS","PESSOAL",3300,"GERÊNCIA JURÍDICA"]
[null,null,null,0,69108.03,58159.25,62684.67,65858.490000000005,51162.088000000003,{"$f":"D1624*'Série - IPCA'!$C$444/'Série - IPCA'!$C$385","v":0},{"$f":"E1624*'Série - IPCA'!$C$444/'Série - IPCA'!$C$398","v":86425.275532057989},{"$f":"F1624*'Série - IPCA'!$C$444/'Série - IPCA'!$C$411","v":66084.205151221555},{"$f":"G1624*'Série - IPCA'!$C$444/'Série - IPCA'!$C$424","v":67331.105543766374},{"$f":"H1624*'Série - IPCA'!$C$444/'Série - IPCA'!$C$437","v":67615.539094318185},57491.225064272818,null,"N","SIM","NÃO","ENCARGOS DE GESTÃO","FUNCIONÁRIOS","PESSOAL",3500,"ASSESSORIA DE COMUNICAÇÃO INSTITUCIONAL"]
[null,null,null,0,0,-46510634.409999996,-23052944.960000001,-88978.4,-13930511.554000001,{"$f":"D1625*'Série - IPCA'!$C$444/'Série - IPCA'!$C$385","v":0},{"$f":"E1625*'Série - IPCA'!$C$444/'Série - IPCA'!$C$398","v":0},{"$f":"F1625*'Série - IPCA'!$C$444/'Série - IPCA'!$C$411","v":-52848314.001021415},{"$f":"G1625*'Série - IPCA'!$C$444/'Série - IPCA'!$C$424","v":-24761720.372722667},{"$f":"H1625*'Série - IPCA'!$C$444/'Série - IPCA'!$C$437","v":-91352.268838078133},-15540277.328516433,null,"S",null,null,"OPEX",null,"SERVIÇOS",9999,"RATEIO"]
[null,null,null,0,0,0,-108915,-59597.47,-33702.493999999999,{"$f":"D1626*'Série - IPCA'!$C$444/'Série - IPCA'!$C$385","v":0},{"$f":"E1626*'Série - IPCA'!$C$444/'Série - IPCA'!$C$398","v":0},{"$f":"F1626*'Série - IPCA'!$C$444/'Série - IPCA'!$C$411","v":0},{"$f":"G1626*'Série - IPCA'!$C$444/'Série - IPCA'!$C$424","v":-116988.21035987452},{"$f":"H1626*'Série - IPCA'!$C$444/'Série - IPCA'!$C$437","v":-61187.480349267877},-35635.13814182848,null,"S",null,null,"OPEX",null,"DESPESAS_GERAIS",9999,"RATEIO"]
[null,null,null,0,-302894,1693.91,1623622.17,4102.34,265304.88399999996,{"$f":"D1627*'Série - IPCA'!$C$444/'Série - IPCA'!$C$385","v":0},{"$f":"E1627*'Série - IPCA'!$C$444/'Série - IPCA'!$C$398","v":-378793.85951252223},{"$f":"F1627*'Série - IPCA'!$C$444/'Série - IPCA'!$C$411","v":1924.7272952747107},{"$f":"G1627*'Série - IPCA'!$C$444/'Série - IPCA'!$C$424","v":1743971.4637002794},{"$f":"H1627*'Série - IPCA'!$C$444/'Série - IPCA'!$C$437","v":4211.7869791455169},274262.82369243552,null,"S",null,null,"OPEX",null,"TRIBUTOS_E_TAXAS_FISCAIS",4200,"GERÊNCIA FINANCEIRA"]
[null,null,null,0,-1395148.01,7802.25,7478502.1200000001,0,1218231.2720000001,{"$f":"D1628*'Série - IPCA'!$C$444/'Série - IPCA'!$C$385","v":0},{"$f":"E1628*'Série - IPCA'!$C$444/'Série - IPCA'!$C$398","v":-1744747.3350383798},{"$f":"F1628*'Série - IPCA'!$C$444/'Série - IPCA'!$C$411","v":8865.4081619195294},{"$f":"G1628*'Série - IPCA'!$C$444/'Série - IPCA'!$C$424","v":8032838.2609496173},{"$f":"H1628*'Série - IPCA'!$C$444/'Série - IPCA'!$C$437","v":0},1259391.2668146314,null,"S",null,"SIM","OPEX",null,"TRIBUTOS_E_TAXAS_FISCAIS",4200,"GERÊNCIA FINANCEIRA"]
[null,null,null,34915.480000000003,57687.16,102057.16,109998.39,115567.77,84045.19200000001,{"$f":"D1629*'Série - IPCA'!$C$444/'Série - IPCA'!$C$385","v":45637.21254843835},{"$f":"E1629*'Série - IPCA'!$C$444/'Série - IPCA'!$C$398","v":72142.538250068974},{"$f":"F1629*'Série - IPCA'!$C$444/'Série - IPCA'!$C$411","v":115963.77701897881},{"$f":"G1629*'Série - IPCA'!$C$444/'Série - IPCA'!$C$424","v":118151.90550950298},{"$f":"H1629*'Série - IPCA'!$C$444/'Série - IPCA'!$C$437","v":118651.02085514217},94109.290836426255,null,"N","SIM","NÃO","ENCARGOS DE GESTÃO","FUNCIONÁRIOS","PESSOAL",3600,"GERÊNCIA DE GOVERNANÇA, RISCO E COMPLIANCE"]
[null,null,null,150781.75,210320.06,272190.34000000003,298292.56,313395.55,248996.052,{"$f":"D1630*'Série - IPCA'!$C$444/'Série - IPCA'!$C$385","v":197083.3215861702},{"$f":"E1630*'Série - IPCA'!$C$444/'Série - IPCA'!$C$398","v":263022.53349457314},{"$f":"F1630*'Série - IPCA'!$C$444/'Série - IPCA'!$C$411","v":309279.81823597709},{"$f":"G1630*'Série - IPCA'!$C$444/'Série - IPCA'!$C$424","v":320403.18374939624},{"$f":"H1630*'Série - IPCA'!$C$444/'Série - IPCA'!$C$437","v":321756.67955658177},282309.10732453968,null,"N","SIM","NÃO","ENCARGOS DE GESTÃO","FUNCIONÁRIOS","PESSOAL",4100,"GERÊNCIA DE SERVIÇOS CORPORATIVOS"]
[null,null,null,127653,123394.21,131025.37,141220.62,148370.82999999999,134332.80600000001,{"$f":"D1631*'Série - IPCA'!$C$444/'Série - IPCA'!$C$385","v":166852.26992284798},{"$f":"E1631*'Série - IPCA'!$C$444/'Série - IPCA'!$C$398","v":154314.60856734921},{"$f":"F1631*'Série - IPCA'!$C$444/'Série - IPCA'!$C$411","v":148879.28285001457},{"$f":"G1631*'Série - IPCA'!$C$444/'Série - IPCA'!$C$424","v":151688.45062399027},{"$f":"H1631*'Série - IPCA'!$C$444/'Série - IPCA'!$C$437","v":152329.23889268396},154812.7701713772,null,"N","SIM","NÃO","ENCARGOS DE GESTÃO","FUNCIONÁRIOS","PESSOAL",4200,"GERÊNCIA FINANCEIRA"]
[null,null,null,143919.91,127632.77,116049.42,125609.53,131969.26999999999,129036.18000000001,{"$f":"D1632*'Série - IPCA'!$C$444/'Série - IPCA'!$C$385","v":188114.3699763577},{"$f":"E1632*'Série - IPCA'!$C$444/'Série - IPCA'!$C$398","v":159615.27646164683},{"$f":"F1632*'Série - IPCA'!$C$444/'Série - IPCA'!$C$411","v":131862.66464853441},{"$f":"G1632*'Série - IPCA'!$C$444/'Série - IPCA'!$C$424","v":134920.20491984548},{"$f":"H1632*'Série - IPCA'!$C$444/'Série - IPCA'!$C$437","v":135490.09907353829},150000.52301598454,null,"N","SIM","NÃO","ENCARGOS DE GESTÃO","FUNCIONÁRIOS","PESSOAL",4300,"GERÊNCIA DE TECNOLOGIA E SISTEMAS DE INFORMAÇÃO"]
[null,null,null,92737.47,86896.63,87350.25,94147.08,98913.89,92009.063999999998,{"$f":"D1633*'Série - IPCA'!$C$444/'Série - IPCA'!$C$385","v":121214.99202057153},{"$f":"E1633*'Série - IPCA'!$C$444/'Série - IPCA'!$C$398","v":108671.38291392905},{"$f":"F1633*'Série - IPCA'!$C$444/'Série - IPCA'!$C$411","v":99252.859020886463},{"$f":"G1633*'Série - IPCA'!$C$444/'Série - IPCA'!$C$424","v":101125.63374932687},{"$f":"H1633*'Série - IPCA'!$C$444/'Série - IPCA'!$C$437","v":101552.82935071984},106363.53941108675,null,"N","SIM","NÃO","ENCARGOS DE GESTÃO","FUNCIONÁRIOS","PESSOAL",4500,"GERÊNCIA CONTÁBIL"]
[null,null,null,1150.51,0,0,0,0,230.102,{"$f":"D1634*'Série - IPCA'!$C$444/'Série - IPCA'!$C$385","v":1503.8048856582755},{"$f":"E1634*'Série - IPCA'!$C$444/'Série - IPCA'!$C$398","v":0},{"$f":"F1634*'Série - IPCA'!$C$444/'Série - IPCA'!$C$411","v":0},{"$f":"G1634*'Série - IPCA'!$C$444/'Série - IPCA'!$C$424","v":0},{"$f":"H1634*'Série - IPCA'!$C$444/'Série - IPCA'!$C$437","v":0},300.76097713165507,null,"N","SIM","NÃO","ENCARGOS DE GESTÃO","FUNCIONÁRIOS","PESSOAL",4600,"GERÊNCIA DE PESSOAS E CULTURA"]
[null,null,null,25092.87,37508.050000000003,45804.02,71290.240000000005,6456.68,37230.371999999996,{"$f":"D1635*'Série - IPCA'!$C$444/'Série - IPCA'!$C$385","v":32798.30727345957},{"$f":"E1635*'Série - IPCA'!$C$444/'Série - IPCA'!$C$398","v":46906.901497846309},{"$f":"F1635*'Série - IPCA'!$C$444/'Série - IPCA'!$C$411","v":52045.414176260099},{"$f":"G1635*'Série - IPCA'!$C$444/'Série - IPCA'!$C$424","v":76574.554411476289},{"$f":"H1635*'Série - IPCA'!$C$444/'Série - IPCA'!$C$437","v":6628.9387892054974},42990.823229649555,null,"N","SIM","NÃO","OPEX","EXTENSÃO","VEÍCULOS",5100,"GERÊNCIA DE ENGENHARIA"]
[null,null,null,139730.76,117699.24,177409.17,214146.38,147208.10999999999,159238.73200000002,{"$f":"D1636*'Série - IPCA'!$C$444/'Série - IPCA'!$C$385","v":182638.82935806204},{"$f":"E1636*'Série - IPCA'!$C$444/'Série - IPCA'!$C$398","v":147192.58018082444},{"$f":"F1636*'Série - IPCA'!$C$444/'Série - IPCA'!$C$411","v":201583.47960105989},{"$f":"G1636*'Série - IPCA'!$C$444/'Série - IPCA'!$C$424","v":230019.75624336064},{"$f":"H1636*'Série - IPCA'!$C$444/'Série - IPCA'!$C$437","v":151135.4985014945},182514.0287769603,null,"N","SIM","NÃO","OPEX","EXTENSÃO","VEÍCULOS",5200,"GERÊNCIA DE OPERAÇÕES"]
[null,null,null,709.88,0,0,388.84,33369.97,6893.7380000000003,{"$f":"D1637*'Série - IPCA'!$C$444/'Série - IPCA'!$C$385","v":927.8676519379203},{"$f":"E1637*'Série - IPCA'!$C$444/'Série - IPCA'!$C$398","v":0},{"$f":"F1637*'Série - IPCA'!$C$444/'Série - IPCA'!$C$411","v":0},{"$f":"G1637*'Série - IPCA'!$C$444/'Série - IPCA'!$C$424","v":417.66235795192216},{"$f":"H1637*'Série - IPCA'!$C$444/'Série - IPCA'!$C$437","v":34260.252719295946},7121.1565458371579,null,"N","SIM","NÃO","ENCARGOS DE COMERCIALIZAÇÃO","NÚMERO DE CLIENTES","VEÍCULOS",5300,"GERÊNCIA COMERCIAL"]
[null,null,null,128,0,0,0,4226.7700000000004,870.95400000000006,{"$f":"D1638*'Série - IPCA'!$C$444/'Série - IPCA'!$C$385","v":167.30582555932523},{"$f":"E1638*'Série - IPCA'!$C$444/'Série - IPCA'!$C$398","v":0},{"$f":"F1638*'Série - IPCA'!$C$444/'Série - IPCA'!$C$411","v":0},{"$f":"G1638*'Série - IPCA'!$C$444/'Série - IPCA'!$C$424","v":0},{"$f":"H1638*'Série - IPCA'!$C$444/'Série - IPCA'!$C$437","v":4339.5366668396337},901.3684984797917,null,"N","SIM","NÃO","ENCARGOS DE COMERCIALIZAÇÃO","NÚMERO DE CLIENTES","VEÍCULOS",5300,"GERÊNCIA COMERCIAL"]
[null,null,null,0,0,838.25,608.6,0,289.37,{"$f":"D1639*'Série - IPCA'!$C$444/'Série - IPCA'!$C$385","v":0},{"$f":"E1639*'Série - IPCA'!$C$444/'Série - IPCA'!$C$398","v":0},{"$f":"F1639*'Série - IPCA'!$C$444/'Série - IPCA'!$C$411","v":952.4724780324965},{"$f":"G1639*'Série - IPCA'!$C$444/'Série - IPCA'!$C$424","v":653.71183790129578},{"$f":"H1639*'Série - IPCA'!$C$444/'Série - IPCA'!$C$437","v":0},321.23686318675846,null,"N","SIM","NÃO","ENCARGOS DE GESTÃO","FIXO","VEÍCULOS",2120,"ASSESSORIA DA PRESIDÊNCIA"]
[null,null,null,0,0,0,253.14,0,50.628,{"$f":"D1640*'Série - IPCA'!$C$444/'Série - IPCA'!$C$385","v":0},{"$f":"E1640*'Série - IPCA'!$C$444/'Série - IPCA'!$C$398","v":0},{"$f":"F1640*'Série - IPCA'!$C$444/'Série - IPCA'!$C$411","v":0},{"$f":"G1640*'Série - IPCA'!$C$444/'Série - IPCA'!$C$424","v":271.90373750629971},{"$f":"H1640*'Série - IPCA'!$C$444/'Série - IPCA'!$C$437","v":0},54.38074750125994,null,"N","SIM","NÃO","ENCARGOS DE GESTÃO","FIXO","VEÍCULOS",2100,"SECRETARIA"]
[null,null,null,0,0,0,0,255.21,51.042000000000002,{"$f":"D1641*'Série - IPCA'!$C$444/'Série - IPCA'!$C$385","v":0},{"$f":"E1641*'Série - IPCA'!$C$444/'Série - IPCA'!$C$398","v":0},{"$f":"F1641*'Série - IPCA'!$C$444/'Série - IPCA'!$C$411","v":0},{"$f":"G1641*'Série - IPCA'!$C$444/'Série - IPCA'!$C$424","v":0},{"$f":"H1641*'Série - IPCA'!$C$444/'Série - IPCA'!$C$437","v":262.01878804480549},52.403757608961101,null,"N","SIM","NÃO","ENCARGOS DE GESTÃO","FIXO","VEÍCULOS",2130,"ASSESSORIA DE RELAÇÕES INSTITUCIONAIS E NOVOS NEGÓCIOS"]
[null,null,null,6798.65,9288.73,10009.16,18776.79,7985.91,10571.848000000002,{"$f":"D1642*'Série - IPCA'!$C$444/'Série - IPCA'!$C$385","v":8886.3574292102057},{"$f":"E1642*'Série - IPCA'!$C$444/'Série - IPCA'!$C$398","v":11616.320847127214},{"$f":"F1642*'Série - IPCA'!$C$444/'Série - IPCA'!$C$411","v":11373.038387382931},{"$f":"G1642*'Série - IPCA'!$C$444/'Série - IPCA'!$C$424","v":20168.599902705671},{"$f":"H1642*'Série - IPCA'!$C$444/'Série - IPCA'!$C$437","v":8198.9673587825437},12048.656785041714,null,"N","SIM","NÃO","ENCARGOS DE GESTÃO","FIXO","VEÍCULOS",2200,"DIRETORIA COLEGIADA - PRESIDÊNCIA"]
[null,null,null,2940.37,899.34,0,266.39999999999998,3321.45,1485.5119999999999,{"$f":"D1643*'Série - IPCA'!$C$444/'Série - IPCA'!$C$385","v":3843.2892992177585},{"$f":"E1643*'Série - IPCA'!$C$444/'Série - IPCA'!$C$398","v":1124.6986391740734},{"$f":"F1643*'Série - IPCA'!$C$444/'Série - IPCA'!$C$411","v":0},{"$f":"G1643*'Série - IPCA'!$C$444/'Série - IPCA'!$C$424","v":286.1466211253782},{"$f":"H1643*'Série - IPCA'!$C$444/'Série - IPCA'!$C$437","v":3410.0634910521499},1732.8396101138721,null,"N","SIM","NÃO","ENCARGOS DE GESTÃO","FIXO","VEÍCULOS",2300,"DIRETORIA COLEGIADA - DAF"]
[null,null,null,0,0,1020.91,0,0,204.18199999999999,{"$f":"D1644*'Série - IPCA'!$C$444/'Série - IPCA'!$C$385","v":0},{"$f":"E1644*'Série - IPCA'!$C$444/'Série - IPCA'!$C$398","v":0},{"$f":"F1644*'Série - IPCA'!$C$444/'Série - IPCA'!$C$411","v":1160.0222815963687},{"$f":"G1644*'Série - IPCA'!$C$444/'Série - IPCA'!$C$424","v":0},{"$f":"H1644*'Série - IPCA'!$C$444/'Série - IPCA'!$C$437","v":0},232.00445631927374,null,"N","SIM","NÃO","ENCARGOS DE GESTÃO","FIXO","VEÍCULOS",2310,"ASSESSORIA DAF"]
[null,null,null,42.45,0,0,484.56,3117.65,728.93200000000002,{"$f":"D1645*'Série - IPCA'!$C$444/'Série - IPCA'!$C$385","v":55.48540855463559},{"$f":"E1645*'Série - IPCA'!$C$444/'Série - IPCA'!$C$398","v":0},{"$f":"F1645*'Série - IPCA'!$C$444/'Série - IPCA'!$C$411","v":0},{"$f":"G1645*'Série - IPCA'!$C$444/'Série - IPCA'!$C$424","v":520.4775027496745},{"$f":"H1645*'Série - IPCA'!$C$444/'Série - IPCA'!$C$437","v":3200.82627854664},755.35783797019008,null,"N","SIM","NÃO","ENCARGOS DE GESTÃO","FIXO","VEÍCULOS",2400,"DIRETORIA COLEGIADA - DTC"]
[null,null,null,0,25,66.86,4439.7,12102.85,3326.8820000000001,{"$f":"D1646*'Série - IPCA'!$C$444/'Série - IPCA'!$C$385","v":0},{"$f":"E1646*'Série - IPCA'!$C$444/'Série - IPCA'!$C$398","v":31.264556207165064},{"$f":"F1646*'Série - IPCA'!$C$444/'Série - IPCA'!$C$411","v":75.970545638237667},{"$f":"G1646*'Série - IPCA'!$C$444/'Série - IPCA'!$C$424","v":4768.7881149036848},{"$f":"H1646*'Série - IPCA'!$C$444/'Série - IPCA'!$C$437","v":12425.743853642391},3460.3534140782954,null,"N","SIM","NÃO","ENCARGOS DE GESTÃO","FIXO","VEÍCULOS",2410,"ASSESSORIA DE SEGURANÇA DO TRABALHO"]
[null,null,null,11146.82,3097.78,9495.18,5610.92,0,5870.1399999999994,{"$f":"D1647*'Série - IPCA'!$C$444/'Série - IPCA'!$C$385","v":14569.749394228105},{"$f":"E1647*'Série - IPCA'!$C$444/'Série - IPCA'!$C$398","v":3874.0286770972721},{"$f":"F1647*'Série - IPCA'!$C$444/'Série - IPCA'!$C$411","v":10789.021919432867},{"$f":"G1647*'Série - IPCA'!$C$444/'Série - IPCA'!$C$424","v":6026.8235713393669},{"$f":"H1647*'Série - IPCA'!$C$444/'Série - IPCA'!$C$437","v":0},7051.9247124195226,null,"N","SIM","NÃO","ENCARGOS DE GESTÃO","FIXO","VEÍCULOS",3100,"SMS"]
[null,null,null,54.69,3192.91,279.58999999999997,251.69,1411.74,1038.124,{"$f":"D1648*'Série - IPCA'!$C$444/'Série - IPCA'!$C$385","v":71.484028123746057},{"$f":"E1648*'Série - IPCA'!$C$444/'Série - IPCA'!$C$398","v":3992.9965663767762},{"$f":"F1648*'Série - IPCA'!$C$444/'Série - IPCA'!$C$411","v":317.68777826794593},{"$f":"G1648*'Série - IPCA'!$C$444/'Série - IPCA'!$C$424","v":270.34625777419836},{"$f":"H1648*'Série - IPCA'!$C$444/'Série - IPCA'!$C$437","v":1449.4040352430302},1220.3837331571394,null,"N","SIM","NÃO","ENCARGOS DE GESTÃO","FIXO","VEÍCULOS",3200,"GERÊNCIA DE PLANEJAMENTO E MEIO AMBIENTE"]
[null,null,null,18075.04,7506.42,9864.81,16301.22,13570.08,13063.513999999999,{"$f":"D1649*'Série - IPCA'!$C$444/'Série - IPCA'!$C$385","v":23625.464759514267},{"$f":"E1649*'Série - IPCA'!$C$444/'Série - IPCA'!$C$398","v":9387.3956001835213},{"$f":"F1649*'Série - IPCA'!$C$444/'Série - IPCA'!$C$411","v":11209.018820184612},{"$f":"G1649*'Série - IPCA'!$C$444/'Série - IPCA'!$C$424","v":17509.530867948342},{"$f":"H1649*'Série - IPCA'!$C$444/'Série - IPCA'!$C$437","v":13932.118315391461},15132.705672644439,null,"N","SIM","NÃO","ENCARGOS DE GESTÃO","FIXO","VEÍCULOS",4100,"GERÊNCIA DE SERVIÇOS CORPORATIVOS"]
[null,null,null,90.13,0,26.04,121.35,971.04,241.71199999999999,{"$f":"D1650*'Série - IPCA'!$C$444/'Série - IPCA'!$C$385","v":117.80682857548423},{"$f":"E1650*'Série - IPCA'!$C$444/'Série - IPCA'!$C$398","v":0},{"$f":"F1650*'Série - IPCA'!$C$444/'Série - IPCA'!$C$411","v":29.588289087940602},{"$f":"G1650*'Série - IPCA'!$C$444/'Série - IPCA'!$C$424","v":130.34494171758502},{"$f":"H1650*'Série - IPCA'!$C$444/'Série - IPCA'!$C$437","v":996.94653008513751},254.93731789322948,null,"N","SIM","NÃO","OPEX","EXTENSÃO","VEÍCULOS",5100,"GERÊNCIA DE ENGENHARIA"]
[null,null,null,640.22,2553.02,737.15,-84.13,14716.96,3712.6439999999993,{"$f":"D1651*'Série - IPCA'!$C$444/'Série - IPCA'!$C$385","v":836.81668468430621},{"$f":"E1651*'Série - IPCA'!$C$444/'Série - IPCA'!$C$398","v":3192.7614915206623},{"$f":"F1651*'Série - IPCA'!$C$444/'Série - IPCA'!$C$411","v":837.59628652747358},{"$f":"G1651*'Série - IPCA'!$C$444/'Série - IPCA'!$C$424","v":-90.366048180473229},{"$f":"H1651*'Série - IPCA'!$C$444/'Série - IPCA'!$C$437","v":15109.596108710006},3977.2809046523953,null,"N","SIM","NÃO","OPEX","EXTENSÃO","VEÍCULOS",5200,"GERÊNCIA DE OPERAÇÕES"]
[null,null,null,70,30,293.45999999999998,104.13,736.16,246.75,{"$f":"D1652*'Série - IPCA'!$C$444/'Série - IPCA'!$C$385","v":91.495373352755976},{"$f":"E1652*'Série - IPCA'!$C$444/'Série - IPCA'!$C$398","v":37.517467448598083},{"$f":"F1652*'Série - IPCA'!$C$444/'Série - IPCA'!$C$411","v":333.44774638045504},{"$f":"G1652*'Série - IPCA'!$C$444/'Série - IPCA'!$C$424","v":111.84852724394007},{"$f":"H1652*'Série - IPCA'!$C$444/'Série - IPCA'!$C$437","v":755.80012933295734},266.02184875174129,null,"N","SIM","NÃO","ENCARGOS DE GESTÃO","FIXO","VEÍCULOS",2200,"DIRETORIA COLEGIADA - PRESIDÊNCIA"]
[null,null,null,0,0,-2362.11,0,1977.32,-76.958000000000041,{"$f":"D1653*'Série - IPCA'!$C$444/'Série - IPCA'!$C$385","v":0},{"$f":"E1653*'Série - IPCA'!$C$444/'Série - IPCA'!$C$398","v":0},{"$f":"F1653*'Série - IPCA'!$C$444/'Série - IPCA'!$C$411","v":-2683.9782464483633},{"$f":"G1653*'Série - IPCA'!$C$444/'Série - IPCA'!$C$424","v":0},{"$f":"H1653*'Série - IPCA'!$C$444/'Série - IPCA'!$C$437","v":2030.0732337163702},-130.78100254639861,null,"N","SIM","NÃO","ENCARGOS DE GESTÃO","FIXO","VEÍCULOS",2400,"DIRETORIA COLEGIADA - DTC"]
[null,null,null,0,300,750,1210,2505.27,953.05400000000009,{"$f":"D1654*'Série - IPCA'!$C$444/'Série - IPCA'!$C$385","v":0},{"$f":"E1654*'Série - IPCA'!$C$444/'Série - IPCA'!$C$398","v":375.1746744859808},{"$f":"F1654*'Série - IPCA'!$C$444/'Série - IPCA'!$C$411","v":852.19726635773623},{"$f":"G1654*'Série - IPCA'!$C$444/'Série - IPCA'!$C$424","v":1299.6899833397435},{"$f":"H1654*'Série - IPCA'!$C$444/'Série - IPCA'!$C$437","v":2572.1084954547628},1019.8340839276447,null,"N","SIM","NÃO","ENCARGOS DE GESTÃO","FIXO","VEÍCULOS",2410,"ASSESSORIA DE SEGURANÇA DO TRABALHO"]
[null,null,null,22,0,195.23,0,0,43.445999999999998,{"$f":"D1655*'Série - IPCA'!$C$444/'Série - IPCA'!$C$385","v":28.755688768009023},{"$f":"E1655*'Série - IPCA'!$C$444/'Série - IPCA'!$C$398","v":0},{"$f":"F1655*'Série - IPCA'!$C$444/'Série - IPCA'!$C$411","v":221.83262974802778},{"$f":"G1655*'Série - IPCA'!$C$444/'Série - IPCA'!$C$424","v":0},{"$f":"H1655*'Série - IPCA'!$C$444/'Série - IPCA'!$C$437","v":0},50.117663703207356,null,"N","SIM","NÃO","ENCARGOS DE GESTÃO","FIXO","VEÍCULOS",3200,"GERÊNCIA DE PLANEJAMENTO E MEIO AMBIENTE"]
[null,null,null,158111.41,117378.46,101889.76,103453.83,108500.12,117866.71600000001,{"$f":"D1656*'Série - IPCA'!$C$444/'Série - IPCA'!$C$385","v":206663.74984686676},{"$f":"E1656*'Série - IPCA'!$C$444/'Série - IPCA'!$C$398","v":146791.41840721905},{"$f":"F1656*'Série - IPCA'!$C$444/'Série - IPCA'!$C$411","v":115773.56658912776},{"$f":"G1656*'Série - IPCA'!$C$444/'Série - IPCA'!$C$424","v":111122.23685052287},{"$f":"H1656*'Série - IPCA'!$C$444/'Série - IPCA'!$C$437","v":111394.8119004583},138349.15671883896,null,"N","SIM","NÃO","ENCARGOS DE GESTÃO","FIXO","VEÍCULOS",4100,"GERÊNCIA DE SERVIÇOS CORPORATIVOS"]
[null,null,null,-69733.929999999993,0,0,0,0,-13946.785999999998,{"$f":"D1657*'Série - IPCA'!$C$444/'Série - IPCA'!$C$385","v":-91147.599438642152},{"$f":"E1657*'Série - IPCA'!$C$444/'Série - IPCA'!$C$398","v":0},{"$f":"F1657*'Série - IPCA'!$C$444/'Série - IPCA'!$C$411","v":0},{"$f":"G1657*'Série - IPCA'!$C$444/'Série - IPCA'!$C$424","v":0},{"$f":"H1657*'Série - IPCA'!$C$444/'Série - IPCA'!$C$437","v":0},-18229.519887728431,null,"S","NÃO","SIM","ENCARGOS DE GESTÃO","FIXO","DESPESAS_GERAIS",9999,"RATEIO"]
[null,null,null,0,0,11153184.640000001,0,0,2230636.9280000003,{"$f":"D1658*'Série - IPCA'!$C$444/'Série - IPCA'!$C$385","v":0},{"$f":"E1658*'Série - IPCA'!$C$444/'Série - IPCA'!$C$398","v":0},{"$f":"F1658*'Série - IPCA'!$C$444/'Série - IPCA'!$C$411","v":12672951.281854792},{"$f":"G1658*'Série - IPCA'!$C$444/'Série - IPCA'!$C$424","v":0},{"$f":"H1658*'Série - IPCA'!$C$444/'Série - IPCA'!$C$437","v":0},2534590.2563709584,null,"S",null,null,"OPEX",null,"SERVIÇOS",9999,"RATEIO"]
[null,null,null,0,22571787.719999999,0,0,4828295.5199999996,5480016.648,{"$f":"D1659*'Série - IPCA'!$C$444/'Série - IPCA'!$C$385","v":0},{"$f":"E1659*'Série - IPCA'!$C$444/'Série - IPCA'!$C$398","v":28227877.034725524},{"$f":"F1659*'Série - IPCA'!$C$444/'Série - IPCA'!$C$411","v":0},{"$f":"G1659*'Série - IPCA'!$C$444/'Série - IPCA'!$C$424","v":0},{"$f":"H1659*'Série - IPCA'!$C$444/'Série - IPCA'!$C$437","v":4957110.3815389834},6636997.4832529016,null,"S",null,null,"OPEX",null,"DESPESA GERAIS",4200,"GERÊNCIA FINANCEIRA"]
[null,null,null,90919.91,0,0,0,0,18183.982,{"$f":"D1660*'Série - IPCA'!$C$444/'Série - IPCA'!$C$385","v":118839.3015806996},{"$f":"E1660*'Série - IPCA'!$C$444/'Série - IPCA'!$C$398","v":0},{"$f":"F1660*'Série - IPCA'!$C$444/'Série - IPCA'!$C$411","v":0},{"$f":"G1660*'Série - IPCA'!$C$444/'Série - IPCA'!$C$424","v":0},{"$f":"H1660*'Série - IPCA'!$C$444/'Série - IPCA'!$C$437","v":0},23767.860316139919,null,"N","SIM","NÃO","ENCARGOS DE COMERCIALIZAÇÃO","FIXO","DESPESAS_GERAIS",5400,"GERÊNCIA COMERCIAL (inativo)"]
[null,null,null,45503.54,0,0,0,0,9100.7080000000005,{"$f":"D1661*'Série - IPCA'!$C$444/'Série - IPCA'!$C$385","v":59476.619731029517},{"$f":"E1661*'Série - IPCA'!$C$444/'Série - IPCA'!$C$398","v":0},{"$f":"F1661*'Série - IPCA'!$C$444/'Série - IPCA'!$C$411","v":0},{"$f":"G1661*'Série - IPCA'!$C$444/'Série - IPCA'!$C$424","v":0},{"$f":"H1661*'Série - IPCA'!$C$444/'Série - IPCA'!$C$437","v":0},11895.323946205903,null,"N","SIM","NÃO","ENCARGOS DE COMERCIALIZAÇÃO","FIXO","DESPESAS_GERAIS",5500,"GERÊNCIA COMERCIAL (inativo)"]
[null,null,null,15952.38,0,0,0,0,3190.4759999999997,{"$f":"D1662*'Série - IPCA'!$C$444/'Série - IPCA'!$C$385","v":20850.985199500534},{"$f":"E1662*'Série - IPCA'!$C$444/'Série - IPCA'!$C$398","v":0},{"$f":"F1662*'Série - IPCA'!$C$444/'Série - IPCA'!$C$411","v":0},{"$f":"G1662*'Série - IPCA'!$C$444/'Série - IPCA'!$C$424","v":0},{"$f":"H1662*'Série - IPCA'!$C$444/'Série - IPCA'!$C$437","v":0},4170.1970399001066,null,"N","SIM","NÃO","ENCARGOS DE GESTÃO","FIXO","DESPESAS_GERAIS",2100,"SECRETARIA"]
[null,null,null,38616.99,0,0,0,0,7723.3979999999992,{"$f":"D1663*'Série - IPCA'!$C$444/'Série - IPCA'!$C$385","v":50475.370254423491},{"$f":"E1663*'Série - IPCA'!$C$444/'Série - IPCA'!$C$398","v":0},{"$f":"F1663*'Série - IPCA'!$C$444/'Série - IPCA'!$C$411","v":0},{"$f":"G1663*'Série - IPCA'!$C$444/'Série - IPCA'!$C$424","v":0},{"$f":"H1663*'Série - IPCA'!$C$444/'Série - IPCA'!$C$437","v":0},10095.074050884697,null,"N","SIM","NÃO","ENCARGOS DE GESTÃO","FIXO","DESPESAS_GERAIS",3100,"SMS"]
[null,null,null,0,-95814.19,10955.45,105178.13,2449553.61,493974.6,{"$f":"D1664*'Série - IPCA'!$C$444/'Série - IPCA'!$C$385","v":0},{"$f":"E1664*'Série - IPCA'!$C$444/'Série - IPCA'!$C$398","v":-119823.52514795974},{"$f":"F1664*'Série - IPCA'!$C$444/'Série - IPCA'!$C$411","v":12448.272722291817},{"$f":"G1664*'Série - IPCA'!$C$444/'Série - IPCA'!$C$424","v":112974.34878297966},{"$f":"H1664*'Série - IPCA'!$C$444/'Série - IPCA'!$C$437","v":2514905.6390540265},504100.94708226761,null,"S",null,null,"OPEX",null,"DESPESA GERAIS",9999,"RATEIO"]
[null,null,null,31817.59,0,0,0,0,6363.518,{"$f":"D1665*'Série - IPCA'!$C$444/'Série - IPCA'!$C$385","v":41588.032517641645},{"$f":"E1665*'Série - IPCA'!$C$444/'Série - IPCA'!$C$398","v":0},{"$f":"F1665*'Série - IPCA'!$C$444/'Série - IPCA'!$C$411","v":0},{"$f":"G1665*'Série - IPCA'!$C$444/'Série - IPCA'!$C$424","v":0},{"$f":"H1665*'Série - IPCA'!$C$444/'Série - IPCA'!$C$437","v":0},8317.6065035283282,null,"N","SIM","NÃO","ENCARGOS DE GESTÃO","FIXO","DESPESAS_GERAIS",3400,"MARKETING"]
[null,null,null,31817.61,0,0,0,0,6363.5219999999999,{"$f":"D1666*'Série - IPCA'!$C$444/'Série - IPCA'!$C$385","v":41588.058659176888},{"$f":"E1666*'Série - IPCA'!$C$444/'Série - IPCA'!$C$398","v":0},{"$f":"F1666*'Série - IPCA'!$C$444/'Série - IPCA'!$C$411","v":0},{"$f":"G1666*'Série - IPCA'!$C$444/'Série - IPCA'!$C$424","v":0},{"$f":"H1666*'Série - IPCA'!$C$444/'Série - IPCA'!$C$437","v":0},8317.6117318353772,null,"N","SIM","NÃO","ENCARGOS DE GESTÃO","FIXO","DESPESAS_GERAIS",4600,"GERÊNCIA DE PESSOAS E CULTURA"]
[null,"TOTAL",null,{"$f":"SUM(D4:D1666)","v":535893728.31999934},483110935.45999914,603949114.43000257,1060197711.6,823865470.23999798,701403468.13999951,null,null,null,null,null,null,null,0,0,0,0,0]
[]
[null,"TOTAL",null,{"$f":"SUBTOTAL(9,D4:D1666)","v":535893728.31999934},483110935.45999914,603949114.43000257,1060197711.6,823865470.23999798,701403468.13999951,700454239.28626966,604169959.83941031,686245045.78189588,1138783757.1291199,845845507.71618831,795099701.95057571]

{"sheet":"DRIVER_OPEX","index":9,"n_rows":459,"n_cols":11,"rows_kept":459,"cut":false,"hidden":false,"merged":[]}
["Grupo de Gastos","Centro de Custo","Descrição do Centro de Custo",null,"Critérios","Orçamento Base","2024/2025","2025/2026","2026/2027","2027/2028","2028/2029"]
[null,null,null,null,null,{"$f":"SUMIF($C$3:$C$436,$C$3,F3:F436)","v":70185789.00419414},{"$f":"SUMIF($C$3:$C$436,$C$3,G3:G436)","v":76267264.250371888},82659605.682843521,90348522.000385821,93246244.642807618,94772628.831821248]
["ALUGUÉIS","TOTAL","TOTAL","ALOCAÇÃO",null,{"$f":"SUM(F4:F38)","v":2481429.7437205319},{"$f":"SUM(G4:G38)","v":2481429.7437205319},2481429.7437205319,2481429.7437205319,2481429.7437205319,2481429.7437205319]
["ALUGUÉIS",2130,{"$f":"VLOOKUP(B4,Centro_Custo!$A$2:$B$36,2,0)","v":"ASSESSORIA DE RELAÇÕES INSTITUCIONAIS E NOVOS NEGÓCIOS"},{"$f":"VLOOKUP(B4,Centro_Custo!$A$2:$C$36,3)","v":"Encargos de Gestão"},"Fixo",{"$f":"SUMIFS('Classificação OPEX'!$O$4:$O$1666,'Classificação OPEX'!$Q$4:$Q$1666,\"N\",'Classificação OPEX'!$S$4:$S$1666,\"NÃO\",'Classificação OPEX'!$V$4:$V$1666,DRIVER_OPEX!A4,'Classificação OPEX'!$W$4:$W$1666,DRIVER_OPEX!B4)","v":136.21979075187022},{"$f":"IF($F4=\"\",0,VLOOKUP($E4,Drivers!$A$26:$F$48,MATCH(G$1,Drivers!$A$25:$F$25,0),0)*$F4)","v":136.21979075187022},{"$f":"IF($F4=\"\",0,VLOOKUP($E4,Drivers!$A$26:$F$48,MATCH(H$1,Drivers!$A$25:$F$25,0),0)*$F4)","v":136.21979075187022},{"$f":"IF($F4=\"\",0,VLOOKUP($E4,Drivers!$A$26:$F$48,MATCH(I$1,Drivers!$A$25:$F$25,0),0)*$F4)","v":136.21979075187022},{"$f":"IF($F4=\"\",0,VLOOKUP($E4,Drivers!$A$26:$F$48,MATCH(J$1,Drivers!$A$25:$F$25,0),0)*$F4)","v":136.21979075187022},{"$f":"IF($F4=\"\",0,VLOOKUP($E4,Drivers!$A$26:$F$48,MATCH(K$1,Drivers!$A$25:$F$25,0),0)*$F4)","v":136.21979075187022}]
["ALUGUÉIS",2400,{"$f":"VLOOKUP(B5,Centro_Custo!$A$2:$B$36,2,0)","v":"DIRETORIA COLEGIADA - DTC"},{"$f":"VLOOKUP(B5,Centro_Custo!$A$2:$C$36,3)","v":"Encargos de Comercialização"},"Fixo",{"$f":"SUMIFS('Classificação OPEX'!$O$4:$O$1666,'Classificação OPEX'!$Q$4:$Q$1666,\"N\",'Classificação OPEX'!$S$4:$S$1666,\"NÃO\",'Classificação OPEX'!$V$4:$V$1666,DRIVER_OPEX!A5,'Classificação OPEX'!$W$4:$W$1666,DRIVER_OPEX!B5)","v":957.71675663898463},{"$f":"IF($F5=\"\",0,VLOOKUP($E5,Drivers!$A$26:$F$48,MATCH(G$1,Drivers!$A$25:$F$25,0),0)*$F5)","v":957.71675663898463},{"$f":"IF($F5=\"\",0,VLOOKUP($E5,Drivers!$A$26:$F$48,MATCH(H$1,Drivers!$A$25:$F$25,0),0)*$F5)","v":957.71675663898463},{"$f":"IF($F5=\"\",0,VLOOKUP($E5,Drivers!$A$26:$F$48,MATCH(I$1,Drivers!$A$25:$F$25,0),0)*$F5)","v":957.71675663898463},{"$f":"IF($F5=\"\",0,VLOOKUP($E5,Drivers!$A$26:$F$48,MATCH(J$1,Drivers!$A$25:$F$25,0),0)*$F5)","v":957.71675663898463},{"$f":"IF($F5=\"\",0,VLOOKUP($E5,Drivers!$A$26:$F$48,MATCH(K$1,Drivers!$A$25:$F$25,0),0)*$F5)","v":957.71675663898463}]
["ALUGUÉIS",4100,{"$f":"VLOOKUP(B6,Centro_Custo!$A$2:$B$36,2,0)","v":"GERÊNCIA DE SERVIÇOS CORPORATIVOS"},{"$f":"VLOOKUP(B6,Centro_Custo!$A$2:$C$36,3)","v":"Encargos de Gestão"},"Fixo",{"$f":"SUMIFS('Classificação OPEX'!$O$4:$O$1666,'Classificação OPEX'!$Q$4:$Q$1666,\"N\",'Classificação OPEX'!$S$4:$S$1666,\"NÃO\",'Classificação OPEX'!$V$4:$V$1666,DRIVER_OPEX!A6,'Classificação OPEX'!$W$4:$W$1666,DRIVER_OPEX!B6)","v":2009786.9992076834},{"$f":"IF($F6=\"\",0,VLOOKUP($E6,Drivers!$A$26:$F$48,MATCH(G$1,Drivers!$A$25:$F$25,0),0)*$F6)","v":2009786.9992076834},{"$f":"IF($F6=\"\",0,VLOOKUP($E6,Drivers!$A$26:$F$48,MATCH(H$1,Drivers!$A$25:$F$25,0),0)*$F6)","v":2009786.9992076834},{"$f":"IF($F6=\"\",0,VLOOKUP($E6,Drivers!$A$26:$F$48,MATCH(I$1,Drivers!$A$25:$F$25,0),0)*$F6)","v":2009786.9992076834},{"$f":"IF($F6=\"\",0,VLOOKUP($E6,Drivers!$A$26:$F$48,MATCH(J$1,Drivers!$A$25:$F$25,0),0)*$F6)","v":2009786.9992076834},{"$f":"IF($F6=\"\",0,VLOOKUP($E6,Drivers!$A$26:$F$48,MATCH(K$1,Drivers!$A$25:$F$25,0),0)*$F6)","v":2009786.9992076834}]
["ALUGUÉIS",4300,{"$f":"VLOOKUP(B7,Centro_Custo!$A$2:$B$36,2,0)","v":"GERÊNCIA DE TECNOLOGIA E SISTEMAS DE INFORMAÇÃO"},{"$f":"VLOOKUP(B7,Centro_Custo!$A$2:$C$36,3)","v":"Encargos de Gestão"},"Fixo",{"$f":"SUMIFS('Classificação OPEX'!$O$4:$O$1666,'Classificação OPEX'!$Q$4:$Q$1666,\"N\",'Classificação OPEX'!$S$4:$S$1666,\"NÃO\",'Classificação OPEX'!$V$4:$V$1666,DRIVER_OPEX!A7,'Classificação OPEX'!$W$4:$W$1666,DRIVER_OPEX!B7)","v":142004.68682264342},{"$f":"IF($F7=\"\",0,VLOOKUP($E7,Drivers!$A$26:$F$48,MATCH(G$1,Drivers!$A$25:$F$25,0),0)*$F7)","v":142004.68682264342},{"$f":"IF($F7=\"\",0,VLOOKUP($E7,Drivers!$A$26:$F$48,MATCH(H$1,Drivers!$A$25:$F$25,0),0)*$F7)","v":142004.68682264342},{"$f":"IF($F7=\"\",0,VLOOKUP($E7,Drivers!$A$26:$F$48,MATCH(I$1,Drivers!$A$25:$F$25,0),0)*$F7)","v":142004.68682264342},{"$f":"IF($F7=\"\",0,VLOOKUP($E7,Drivers!$A$26:$F$48,MATCH(J$1,Drivers!$A$25:$F$25,0),0)*$F7)","v":142004.68682264342},{"$f":"IF($F7=\"\",0,VLOOKUP($E7,Drivers!$A$26:$F$48,MATCH(K$1,Drivers!$A$25:$F$25,0),0)*$F7)","v":142004.68682264342}]
["ALUGUÉIS",5100,{"$f":"VLOOKUP(B8,Centro_Custo!$A$2:$B$36,2,0)","v":"GERÊNCIA DE ENGENHARIA"},{"$f":"VLOOKUP(B8,Centro_Custo!$A$2:$C$36,3)","v":"OPEX&ODESP"},"Fixo",{"$f":"SUMIFS('Classificação OPEX'!$O$4:$O$1666,'Classificação OPEX'!$Q$4:$Q$1666,\"N\",'Classificação OPEX'!$S$4:$S$1666,\"NÃO\",'Classificação OPEX'!$V$4:$V$1666,DRIVER_OPEX!A8,'Classificação OPEX'!$W$4:$W$1666,DRIVER_OPEX!B8)","v":50331.645569434811},{"$f":"IF($F8=\"\",0,VLOOKUP($E8,Drivers!$A$26:$F$48,MATCH(G$1,Drivers!$A$25:$F$25,0),0)*$F8)","v":50331.645569434811},{"$f":"IF($F8=\"\",0,VLOOKUP($E8,Drivers!$A$26:$F$48,MATCH(H$1,Drivers!$A$25:$F$25,0),0)*$F8)","v":50331.645569434811},{"$f":"IF($F8=\"\",0,VLOOKUP($E8,Drivers!$A$26:$F$48,MATCH(I$1,Drivers!$A$25:$F$25,0),0)*$F8)","v":50331.645569434811},{"$f":"IF($F8=\"\",0,VLOOKUP($E8,Drivers!$A$26:$F$48,MATCH(J$1,Drivers!$A$25:$F$25,0),0)*$F8)","v":50331.645569434811},{"$f":"IF($F8=\"\",0,VLOOKUP($E8,Drivers!$A$26:$F$48,MATCH(K$1,Drivers!$A$25:$F$25,0),0)*$F8)","v":50331.645569434811}]
["ALUGUÉIS",5200,{"$f":"VLOOKUP(B9,Centro_Custo!$A$2:$B$36,2,0)","v":"GERÊNCIA DE OPERAÇÕES"},{"$f":"VLOOKUP(B9,Centro_Custo!$A$2:$C$36,3)","v":"OPEX&ODESP"},"Fixo",{"$f":"SUMIFS('Classificação OPEX'!$O$4:$O$1666,'Classificação OPEX'!$Q$4:$Q$1666,\"N\",'Classificação OPEX'!$S$4:$S$1666,\"NÃO\",'Classificação OPEX'!$V$4:$V$1666,DRIVER_OPEX!A9,'Classificação OPEX'!$W$4:$W$1666,DRIVER_OPEX!B9)","v":86611.293475920771},{"$f":"IF($F9=\"\",0,VLOOKUP($E9,Drivers!$A$26:$F$48,MATCH(G$1,Drivers!$A$25:$F$25,0),0)*$F9)","v":86611.293475920771},{"$f":"IF($F9=\"\",0,VLOOKUP($E9,Drivers!$A$26:$F$48,MATCH(H$1,Drivers!$A$25:$F$25,0),0)*$F9)","v":86611.293475920771},{"$f":"IF($F9=\"\",0,VLOOKUP($E9,Drivers!$A$26:$F$48,MATCH(I$1,Drivers!$A$25:$F$25,0),0)*$F9)","v":86611.293475920771},{"$f":"IF($F9=\"\",0,VLOOKUP($E9,Drivers!$A$26:$F$48,MATCH(J$1,Drivers!$A$25:$F$25,0),0)*$F9)","v":86611.293475920771},{"$f":"IF($F9=\"\",0,VLOOKUP($E9,Drivers!$A$26:$F$48,MATCH(K$1,Drivers!$A$25:$F$25,0),0)*$F9)","v":86611.293475920771}]
["ALUGUÉIS",9999,{"$f":"VLOOKUP(B10,Centro_Custo!$A$2:$B$36,2,0)","v":"RATEIO"},{"$f":"VLOOKUP(B10,Centro_Custo!$A$2:$C$36,3)","v":"Encargos de Gestão"},"Município",{"$f":"SUMIFS('Classificação OPEX'!$O$4:$O$1666,'Classificação OPEX'!$Q$4:$Q$1666,\"N\",'Classificação OPEX'!$S$4:$S$1666,\"NÃO\",'Classificação OPEX'!$V$4:$V$1666,DRIVER_OPEX!A10,'Classificação OPEX'!$W$4:$W$1666,DRIVER_OPEX!B10)","v":0},{"$f":"IF($F10=\"\",0,VLOOKUP($E10,Drivers!$A$26:$F$48,MATCH(G$1,Drivers!$A$25:$F$25,0),0)*$F10)","v":0},{"$f":"IF($F10=\"\",0,VLOOKUP($E10,Drivers!$A$26:$F$48,MATCH(H$1,Drivers!$A$25:$F$25,0),0)*$F10)","v":0},{"$f":"IF($F10=\"\",0,VLOOKUP($E10,Drivers!$A$26:$F$48,MATCH(I$1,Drivers!$A$25:$F$25,0),0)*$F10)","v":0},{"$f":"IF($F10=\"\",0,VLOOKUP($E10,Drivers!$A$26:$F$48,MATCH(J$1,Drivers!$A$25:$F$25,0),0)*$F10)","v":0},{"$f":"IF($F10=\"\",0,VLOOKUP($E10,Drivers!$A$26:$F$48,MATCH(K$1,Drivers!$A$25:$F$25,0),0)*$F10)","v":0}]
["ALUGUÉIS",1001,"CONSELHO DE ADMINISTRAÇÃO",{"$f":"VLOOKUP(B11,Centro_Custo!$A$2:$C$36,3)","v":"Encargos de Gestão"},"Fixo",{"$f":"SUMIFS('Classificação OPEX'!$O$4:$O$1666,'Classificação OPEX'!$Q$4:$Q$1666,\"N\",'Classificação OPEX'!$S$4:$S$1666,\"NÃO\",'Classificação OPEX'!$V$4:$V$1666,DRIVER_OPEX!A11,'Classificação OPEX'!$W$4:$W$1666,DRIVER_OPEX!B11)","v":0},{"$f":"IF($F11=\"\",0,VLOOKUP($E11,Drivers!$A$26:$F$48,MATCH(G$1,Drivers!$A$25:$F$25,0),0)*$F11)","v":0},{"$f":"IF($F11=\"\",0,VLOOKUP($E11,Drivers!$A$26:$F$48,MATCH(H$1,Drivers!$A$25:$F$25,0),0)*$F11)","v":0},{"$f":"IF($F11=\"\",0,VLOOKUP($E11,Drivers!$A$26:$F$48,MATCH(I$1,Drivers!$A$25:$F$25,0),0)*$F11)","v":0},{"$f":"IF($F11=\"\",0,VLOOKUP($E11,Drivers!$A$26:$F$48,MATCH(J$1,Drivers!$A$25:$F$25,0),0)*$F11)","v":0},{"$f":"IF($F11=\"\",0,VLOOKUP($E11,Drivers!$A$26:$F$48,MATCH(K$1,Drivers!$A$25:$F$25,0),0)*$F11)","v":0}]
["ALUGUÉIS",1002,"CONSELHO FISCAL",{"$f":"VLOOKUP(B12,Centro_Custo!$A$2:$C$36,3)","v":"Encargos de Gestão"},"Fixo",{"$f":"SUMIFS('Classificação OPEX'!$O$4:$O$1666,'Classificação OPEX'!$Q$4:$Q$1666,\"N\",'Classificação OPEX'!$S$4:$S$1666,\"NÃO\",'Classificação OPEX'!$V$4:$V$1666,DRIVER_OPEX!A12,'Classificação OPEX'!$W$4:$W$1666,DRIVER_OPEX!B12)","v":0},{"$f":"IF($F12=\"\",0,VLOOKUP($E12,Drivers!$A$26:$F$48,MATCH(G$1,Drivers!$A$25:$F$25,0),0)*$F12)","v":0},{"$f":"IF($F12=\"\",0,VLOOKUP($E12,Drivers!$A$26:$F$48,MATCH(H$1,Drivers!$A$25:$F$25,0),0)*$F12)","v":0},{"$f":"IF($F12=\"\",0,VLOOKUP($E12,Drivers!$A$26:$F$48,MATCH(I$1,Drivers!$A$25:$F$25,0),0)*$F12)","v":0},{"$f":"IF($F12=\"\",0,VLOOKUP($E12,Drivers!$A$26:$F$48,MATCH(J$1,Drivers!$A$25:$F$25,0),0)*$F12)","v":0},{"$f":"IF($F12=\"\",0,VLOOKUP($E12,Drivers!$A$26:$F$48,MATCH(K$1,Drivers!$A$25:$F$25,0),0)*$F12)","v":0}]
["ALUGUÉIS",1003,"COMITÊ DE INDICAÇÃO E AVALIAÇÃO",{"$f":"VLOOKUP(B13,Centro_Custo!$A$2:$C$36,3)","v":"Encargos de Gestão"},"Fixo",{"$f":"SUMIFS('Classificação OPEX'!$O$4:$O$1666,'Classificação OPEX'!$Q$4:$Q$1666,\"N\",'Classificação OPEX'!$S$4:$S$1666,\"NÃO\",'Classificação OPEX'!$V$4:$V$1666,DRIVER_OPEX!A13,'Classificação OPEX'!$W$4:$W$1666,DRIVER_OPEX!B13)","v":0},{"$f":"IF($F13=\"\",0,VLOOKUP($E13,Drivers!$A$26:$F$48,MATCH(G$1,Drivers!$A$25:$F$25,0),0)*$F13)","v":0},{"$f":"IF($F13=\"\",0,VLOOKUP($E13,Drivers!$A$26:$F$48,MATCH(H$1,Drivers!$A$25:$F$25,0),0)*$F13)","v":0},{"$f":"IF($F13=\"\",0,VLOOKUP($E13,Drivers!$A$26:$F$48,MATCH(I$1,Drivers!$A$25:$F$25,0),0)*$F13)","v":0},{"$f":"IF($F13=\"\",0,VLOOKUP($E13,Drivers!$A$26:$F$48,MATCH(J$1,Drivers!$A$25:$F$25,0),0)*$F13)","v":0},{"$f":"IF($F13=\"\",0,VLOOKUP($E13,Drivers!$A$26:$F$48,MATCH(K$1,Drivers!$A$25:$F$25,0),0)*$F13)","v":0}]
["ALUGUÉIS",1004,"COMITÊ DE AUDITORIA ESTATUTÁRIA",{"$f":"VLOOKUP(B14,Centro_Custo!$A$2:$C$36,3)","v":"Encargos de Gestão"},"Fixo",{"$f":"SUMIFS('Classificação OPEX'!$O$4:$O$1666,'Classificação OPEX'!$Q$4:$Q$1666,\"N\",'Classificação OPEX'!$S$4:$S$1666,\"NÃO\",'Classificação OPEX'!$V$4:$V$1666,DRIVER_OPEX!A14,'Classificação OPEX'!$W$4:$W$1666,DRIVER_OPEX!B14)","v":0},{"$f":"IF($F14=\"\",0,VLOOKUP($E14,Drivers!$A$26:$F$48,MATCH(G$1,Drivers!$A$25:$F$25,0),0)*$F14)","v":0},{"$f":"IF($F14=\"\",0,VLOOKUP($E14,Drivers!$A$26:$F$48,MATCH(H$1,Drivers!$A$25:$F$25,0),0)*$F14)","v":0},{"$f":"IF($F14=\"\",0,VLOOKUP($E14,Drivers!$A$26:$F$48,MATCH(I$1,Drivers!$A$25:$F$25,0),0)*$F14)","v":0},{"$f":"IF($F14=\"\",0,VLOOKUP($E14,Drivers!$A$26:$F$48,MATCH(J$1,Drivers!$A$25:$F$25,0),0)*$F14)","v":0},{"$f":"IF($F14=\"\",0,VLOOKUP($E14,Drivers!$A$26:$F$48,MATCH(K$1,Drivers!$A$25:$F$25,0),0)*$F14)","v":0}]
["ALUGUÉIS",1005,"AUDITORIA INTERNA",{"$f":"VLOOKUP(B15,Centro_Custo!$A$2:$C$36,3)","v":"Encargos de Gestão"},"Fixo",{"$f":"SUMIFS('Classificação OPEX'!$O$4:$O$1666,'Classificação OPEX'!$Q$4:$Q$1666,\"N\",'Classificação OPEX'!$S$4:$S$1666,\"NÃO\",'Classificação OPEX'!$V$4:$V$1666,DRIVER_OPEX!A15,'Classificação OPEX'!$W$4:$W$1666,DRIVER_OPEX!B15)","v":1741.2417092287349},{"$f":"IF($F15=\"\",0,VLOOKUP($E15,Drivers!$A$26:$F$48,MATCH(G$1,Drivers!$A$25:$F$25,0),0)*$F15)","v":1741.2417092287349},{"$f":"IF($F15=\"\",0,VLOOKUP($E15,Drivers!$A$26:$F$48,MATCH(H$1,Drivers!$A$25:$F$25,0),0)*$F15)","v":1741.2417092287349},{"$f":"IF($F15=\"\",0,VLOOKUP($E15,Drivers!$A$26:$F$48,MATCH(I$1,Drivers!$A$25:$F$25,0),0)*$F15)","v":1741.2417092287349},{"$f":"IF($F15=\"\",0,VLOOKUP($E15,Drivers!$A$26:$F$48,MATCH(J$1,Drivers!$A$25:$F$25,0),0)*$F15)","v":1741.2417092287349},{"$f":"IF($F15=\"\",0,VLOOKUP($E15,Drivers!$A$26:$F$48,MATCH(K$1,Drivers!$A$25:$F$25,0),0)*$F15)","v":1741.2417092287349}]
["ALUGUÉIS",1010,"GOVERNANÇA SOCIETÁRIA",{"$f":"VLOOKUP(B16,Centro_Custo!$A$2:$C$36,3)","v":"Encargos de Gestão"},"Fixo",{"$f":"SUMIFS('Classificação OPEX'!$O$4:$O$1666,'Classificação OPEX'!$Q$4:$Q$1666,\"N\",'Classificação OPEX'!$S$4:$S$1666,\"NÃO\",'Classificação OPEX'!$V$4:$V$1666,DRIVER_OPEX!A16,'Classificação OPEX'!$W$4:$W$1666,DRIVER_OPEX!B16)","v":0},{"$f":"IF($F16=\"\",0,VLOOKUP($E16,Drivers!$A$26:$F$48,MATCH(G$1,Drivers!$A$25:$F$25,0),0)*$F16)","v":0},{"$f":"IF($F16=\"\",0,VLOOKUP($E16,Drivers!$A$26:$F$48,MATCH(H$1,Drivers!$A$25:$F$25,0),0)*$F16)","v":0},{"$f":"IF($F16=\"\",0,VLOOKUP($E16,Drivers!$A$26:$F$48,MATCH(I$1,Drivers!$A$25:$F$25,0),0)*$F16)","v":0},{"$f":"IF($F16=\"\",0,VLOOKUP($E16,Drivers!$A$26:$F$48,MATCH(J$1,Drivers!$A$25:$F$25,0),0)*$F16)","v":0},{"$f":"IF($F16=\"\",0,VLOOKUP($E16,Drivers!$A$26:$F$48,MATCH(K$1,Drivers!$A$25:$F$25,0),0)*$F16)","v":0}]
["ALUGUÉIS",2100,"SECRETARIA",{"$f":"VLOOKUP(B17,Centro_Custo!$A$2:$C$36,3)","v":"Encargos de Gestão"},"Fixo",{"$f":"SUMIFS('Classificação OPEX'!$O$4:$O$1666,'Classificação OPEX'!$Q$4:$Q$1666,\"N\",'Classificação OPEX'!$S$4:$S$1666,\"NÃO\",'Classificação OPEX'!$V$4:$V$1666,DRIVER_OPEX!A17,'Classificação OPEX'!$W$4:$W$1666,DRIVER_OPEX!B17)","v":1117.5244901305614},{"$f":"IF($F17=\"\",0,VLOOKUP($E17,Drivers!$A$26:$F$48,MATCH(G$1,Drivers!$A$25:$F$25,0),0)*$F17)","v":1117.5244901305614},{"$f":"IF($F17=\"\",0,VLOOKUP($E17,Drivers!$A$26:$F$48,MATCH(H$1,Drivers!$A$25:$F$25,0),0)*$F17)","v":1117.5244901305614},{"$f":"IF($F17=\"\",0,VLOOKUP($E17,Drivers!$A$26:$F$48,MATCH(I$1,Drivers!$A$25:$F$25,0),0)*$F17)","v":1117.5244901305614},{"$f":"IF($F17=\"\",0,VLOOKUP($E17,Drivers!$A$26:$F$48,MATCH(J$1,Drivers!$A$25:$F$25,0),0)*$F17)","v":1117.5244901305614},{"$f":"IF($F17=\"\",0,VLOOKUP($E17,Drivers!$A$26:$F$48,MATCH(K$1,Drivers!$A$25:$F$25,0),0)*$F17)","v":1117.5244901305614}]
["ALUGUÉIS",2110,"ASSESSORIA DA DIRETORIA EXECUTIVA",{"$f":"VLOOKUP(B18,Centro_Custo!$A$2:$C$36,3)","v":"Encargos de Gestão"},"Fixo",{"$f":"SUMIFS('Classificação OPEX'!$O$4:$O$1666,'Classificação OPEX'!$Q$4:$Q$1666,\"N\",'Classificação OPEX'!$S$4:$S$1666,\"NÃO\",'Classificação OPEX'!$V$4:$V$1666,DRIVER_OPEX!A18,'Classificação OPEX'!$W$4:$W$1666,DRIVER_OPEX!B18)","v":4271.1286219612502},{"$f":"IF($F18=\"\",0,VLOOKUP($E18,Drivers!$A$26:$F$48,MATCH(G$1,Drivers!$A$25:$F$25,0),0)*$F18)","v":4271.1286219612502},{"$f":"IF($F18=\"\",0,VLOOKUP($E18,Drivers!$A$26:$F$48,MATCH(H$1,Drivers!$A$25:$F$25,0),0)*$F18)","v":4271.1286219612502},{"$f":"IF($F18=\"\",0,VLOOKUP($E18,Drivers!$A$26:$F$48,MATCH(I$1,Drivers!$A$25:$F$25,0),0)*$F18)","v":4271.1286219612502},{"$f":"IF($F18=\"\",0,VLOOKUP($E18,Drivers!$A$26:$F$48,MATCH(J$1,Drivers!$A$25:$F$25,0),0)*$F18)","v":4271.1286219612502},{"$f":"IF($F18=\"\",0,VLOOKUP($E18,Drivers!$A$26:$F$48,MATCH(K$1,Drivers!$A$25:$F$25,0),0)*$F18)","v":4271.1286219612502}]
["ALUGUÉIS",2120,"ASSESSORIA DA PRESIDÊNCIA",{"$f":"VLOOKUP(B19,Centro_Custo!$A$2:$C$36,3)","v":"Encargos de Gestão"},"Fixo",{"$f":"SUMIFS('Classificação OPEX'!$O$4:$O$1666,'Classificação OPEX'!$Q$4:$Q$1666,\"N\",'Classificação OPEX'!$S$4:$S$1666,\"NÃO\",'Classificação OPEX'!$V$4:$V$1666,DRIVER_OPEX!A19,'Classificação OPEX'!$W$4:$W$1666,DRIVER_OPEX!B19)","v":5281.1323534167514},{"$f":"IF($F19=\"\",0,VLOOKUP($E19,Drivers!$A$26:$F$48,MATCH(G$1,Drivers!$A$25:$F$25,0),0)*$F19)","v":5281.1323534167514},{"$f":"IF($F19=\"\",0,VLOOKUP($E19,Drivers!$A$26:$F$48,MATCH(H$1,Drivers!$A$25:$F$25,0),0)*$F19)","v":5281.1323534167514},{"$f":"IF($F19=\"\",0,VLOOKUP($E19,Drivers!$A$26:$F$48,MATCH(I$1,Drivers!$A$25:$F$25,0),0)*$F19)","v":5281.1323534167514},{"$f":"IF($F19=\"\",0,VLOOKUP($E19,Drivers!$A$26:$F$48,MATCH(J$1,Drivers!$A$25:$F$25,0),0)*$F19)","v":5281.1323534167514},{"$f":"IF($F19=\"\",0,VLOOKUP($E19,Drivers!$A$26:$F$48,MATCH(K$1,Drivers!$A$25:$F$25,0),0)*$F19)","v":5281.1323534167514}]
["ALUGUÉIS",2140,"ASSESSORIA DTC",{"$f":"VLOOKUP(B20,Centro_Custo!$A$2:$C$36,3)","v":"Encargos de Comercialização"},"Fixo",{"$f":"SUMIFS('Classificação OPEX'!$O$4:$O$1666,'Classificação OPEX'!$Q$4:$Q$1666,\"N\",'Classificação OPEX'!$S$4:$S$1666,\"NÃO\",'Classificação OPEX'!$V$4:$V$1666,DRIVER_OPEX!A20,'Classificação OPEX'!$W$4:$W$1666,DRIVER_OPEX!B20)","v":0},{"$f":"IF($F20=\"\",0,VLOOKUP($E20,Drivers!$A$26:$F$48,MATCH(G$1,Drivers!$A$25:$F$25,0),0)*$F20)","v":0},{"$f":"IF($F20=\"\",0,VLOOKUP($E20,Drivers!$A$26:$F$48,MATCH(H$1,Drivers!$A$25:$F$25,0),0)*$F20)","v":0},{"$f":"IF($F20=\"\",0,VLOOKUP($E20,Drivers!$A$26:$F$48,MATCH(I$1,Drivers!$A$25:$F$25,0),0)*$F20)","v":0},{"$f":"IF($F20=\"\",0,VLOOKUP($E20,Drivers!$A$26:$F$48,MATCH(J$1,Drivers!$A$25:$F$25,0),0)*$F20)","v":0},{"$f":"IF($F20=\"\",0,VLOOKUP($E20,Drivers!$A$26:$F$48,MATCH(K$1,Drivers!$A$25:$F$25,0),0)*$F20)","v":0}]
["ALUGUÉIS",2200,"DIRETORIA COLEGIADA - PRESIDÊNCIA",{"$f":"VLOOKUP(B21,Centro_Custo!$A$2:$C$36,3)","v":"Encargos de Gestão"},"Fixo",{"$f":"SUMIFS('Classificação OPEX'!$O$4:$O$1666,'Classificação OPEX'!$Q$4:$Q$1666,\"N\",'Classificação OPEX'!$S$4:$S$1666,\"NÃO\",'Classificação OPEX'!$V$4:$V$1666,DRIVER_OPEX!A21,'Classificação OPEX'!$W$4:$W$1666,DRIVER_OPEX!B21)","v":1271.8847145233169},{"$f":"IF($F21=\"\",0,VLOOKUP($E21,Drivers!$A$26:$F$48,MATCH(G$1,Drivers!$A$25:$F$25,0),0)*$F21)","v":1271.8847145233169},{"$f":"IF($F21=\"\",0,VLOOKUP($E21,Drivers!$A$26:$F$48,MATCH(H$1,Drivers!$A$25:$F$25,0),0)*$F21)","v":1271.8847145233169},{"$f":"IF($F21=\"\",0,VLOOKUP($E21,Drivers!$A$26:$F$48,MATCH(I$1,Drivers!$A$25:$F$25,0),0)*$F21)","v":1271.8847145233169},{"$f":"IF($F21=\"\",0,VLOOKUP($E21,Drivers!$A$26:$F$48,MATCH(J$1,Drivers!$A$25:$F$25,0),0)*$F21)","v":1271.8847145233169},{"$f":"IF($F21=\"\",0,VLOOKUP($E21,Drivers!$A$26:$F$48,MATCH(K$1,Drivers!$A$25:$F$25,0),0)*$F21)","v":1271.8847145233169}]
["ALUGUÉIS",2300,"DIRETORIA COLEGIADA - DAF",{"$f":"VLOOKUP(B22,Centro_Custo!$A$2:$C$36,3)","v":"Encargos de Gestão"},"Fixo",{"$f":"SUMIFS('Classificação OPEX'!$O$4:$O$1666,'Classificação OPEX'!$Q$4:$Q$1666,\"N\",'Classificação OPEX'!$S$4:$S$1666,\"NÃO\",'Classificação OPEX'!$V$4:$V$1666,DRIVER_OPEX!A22,'Classificação OPEX'!$W$4:$W$1666,DRIVER_OPEX!B22)","v":912.66402180499631},{"$f":"IF($F22=\"\",0,VLOOKUP($E22,Drivers!$A$26:$F$48,MATCH(G$1,Drivers!$A$25:$F$25,0),0)*$F22)","v":912.66402180499631},{"$f":"IF($F22=\"\",0,VLOOKUP($E22,Drivers!$A$26:$F$48,MATCH(H$1,Drivers!$A$25:$F$25,0),0)*$F22)","v":912.66402180499631},{"$f":"IF($F22=\"\",0,VLOOKUP($E22,Drivers!$A$26:$F$48,MATCH(I$1,Drivers!$A$25:$F$25,0),0)*$F22)","v":912.66402180499631},{"$f":"IF($F22=\"\",0,VLOOKUP($E22,Drivers!$A$26:$F$48,MATCH(J$1,Drivers!$A$25:$F$25,0),0)*$F22)","v":912.66402180499631},{"$f":"IF($F22=\"\",0,VLOOKUP($E22,Drivers!$A$26:$F$48,MATCH(K$1,Drivers!$A$25:$F$25,0),0)*$F22)","v":912.66402180499631}]
["ALUGUÉIS",2310,"ASSESSORIA DAF",{"$f":"VLOOKUP(B23,Centro_Custo!$A$2:$C$36,3)","v":"Encargos de Gestão"},"Fixo",{"$f":"SUMIFS('Classificação OPEX'!$O$4:$O$1666,'Classificação OPEX'!$Q$4:$Q$1666,\"N\",'Classificação OPEX'!$S$4:$S$1666,\"NÃO\",'Classificação OPEX'!$V$4:$V$1666,DRIVER_OPEX!A23,'Classificação OPEX'!$W$4:$W$1666,DRIVER_OPEX!B23)","v":1741.2462542808221},{"$f":"IF($F23=\"\",0,VLOOKUP($E23,Drivers!$A$26:$F$48,MATCH(G$1,Drivers!$A$25:$F$25,0),0)*$F23)","v":1741.2462542808221},{"$f":"IF($F23=\"\",0,VLOOKUP($E23,Drivers!$A$26:$F$48,MATCH(H$1,Drivers!$A$25:$F$25,0),0)*$F23)","v":1741.2462542808221},{"$f":"IF($F23=\"\",0,VLOOKUP($E23,Drivers!$A$26:$F$48,MATCH(I$1,Drivers!$A$25:$F$25,0),0)*$F23)","v":1741.2462542808221},{"$f":"IF($F23=\"\",0,VLOOKUP($E23,Drivers!$A$26:$F$48,MATCH(J$1,Drivers!$A$25:$F$25,0),0)*$F23)","v":1741.2462542808221},{"$f":"IF($F23=\"\",0,VLOOKUP($E23,Drivers!$A$26:$F$48,MATCH(K$1,Drivers!$A$25:$F$25,0),0)*$F23)","v":1741.2462542808221}]
["ALUGUÉIS",2410,"ASSESSORIA DE SEGURANÇA DO TRABALHO",{"$f":"VLOOKUP(B24,Centro_Custo!$A$2:$C$36,3)","v":"OPEX&ODESP"},"Fixo",{"$f":"SUMIFS('Classificação OPEX'!$O$4:$O$1666,'Classificação OPEX'!$Q$4:$Q$1666,\"N\",'Classificação OPEX'!$S$4:$S$1666,\"NÃO\",'Classificação OPEX'!$V$4:$V$1666,DRIVER_OPEX!A24,'Classificação OPEX'!$W$4:$W$1666,DRIVER_OPEX!B24)","v":0},{"$f":"IF($F24=\"\",0,VLOOKUP($E24,Drivers!$A$26:$F$48,MATCH(G$1,Drivers!$A$25:$F$25,0),0)*$F24)","v":0},{"$f":"IF($F24=\"\",0,VLOOKUP($E24,Drivers!$A$26:$F$48,MATCH(H$1,Drivers!$A$25:$F$25,0),0)*$F24)","v":0},{"$f":"IF($F24=\"\",0,VLOOKUP($E24,Drivers!$A$26:$F$48,MATCH(I$1,Drivers!$A$25:$F$25,0),0)*$F24)","v":0},{"$f":"IF($F24=\"\",0,VLOOKUP($E24,Drivers!$A$26:$F$48,MATCH(J$1,Drivers!$A$25:$F$25,0),0)*$F24)","v":0},{"$f":"IF($F24=\"\",0,VLOOKUP($E24,Drivers!$A$26:$F$48,MATCH(K$1,Drivers!$A$25:$F$25,0),0)*$F24)","v":0}]
["ALUGUÉIS",3100,"SMS",{"$f":"VLOOKUP(B25,Centro_Custo!$A$2:$C$36,3)","v":"OPEX&ODESP"},"Fixo",{"$f":"SUMIFS('Classificação OPEX'!$O$4:$O$1666,'Classificação OPEX'!$Q$4:$Q$1666,\"N\",'Classificação OPEX'!$S$4:$S$1666,\"NÃO\",'Classificação OPEX'!$V$4:$V$1666,DRIVER_OPEX!A25,'Classificação OPEX'!$W$4:$W$1666,DRIVER_OPEX!B25)","v":2153.0978814258215},{"$f":"IF($F25=\"\",0,VLOOKUP($E25,Drivers!$A$26:$F$48,MATCH(G$1,Drivers!$A$25:$F$25,0),0)*$F25)","v":2153.0978814258215},{"$f":"IF($F25=\"\",0,VLOOKUP($E25,Drivers!$A$26:$F$48,MATCH(H$1,Drivers!$A$25:$F$25,0),0)*$F25)","v":2153.0978814258215},{"$f":"IF($F25=\"\",0,VLOOKUP($E25,Drivers!$A$26:$F$48,MATCH(I$1,Drivers!$A$25:$F$25,0),0)*$F25)","v":2153.0978814258215},{"$f":"IF($F25=\"\",0,VLOOKUP($E25,Drivers!$A$26:$F$48,MATCH(J$1,Drivers!$A$25:$F$25,0),0)*$F25)","v":2153.0978814258215},{"$f":"IF($F25=\"\",0,VLOOKUP($E25,Drivers!$A$26:$F$48,MATCH(K$1,Drivers!$A$25:$F$25,0),0)*$F25)","v":2153.0978814258215}]
["ALUGUÉIS",3200,"GERÊNCIA DE PLANEJAMENTO E MEIO AMBIENTE",{"$f":"VLOOKUP(B26,Centro_Custo!$A$2:$C$36,3)","v":"OPEX&ODESP"},"Fixo",{"$f":"SUMIFS('Classificação OPEX'!$O$4:$O$1666,'Classificação OPEX'!$Q$4:$Q$1666,\"N\",'Classificação OPEX'!$S$4:$S$1666,\"NÃO\",'Classificação OPEX'!$V$4:$V$1666,DRIVER_OPEX!A26,'Classificação OPEX'!$W$4:$W$1666,DRIVER_OPEX!B26)","v":26130.616072853933},{"$f":"IF($F26=\"\",0,VLOOKUP($E26,Drivers!$A$26:$F$48,MATCH(G$1,Drivers!$A$25:$F$25,0),0)*$F26)","v":26130.616072853933},{"$f":"IF($F26=\"\",0,VLOOKUP($E26,Drivers!$A$26:$F$48,MATCH(H$1,Drivers!$A$25:$F$25,0),0)*$F26)","v":26130.616072853933},{"$f":"IF($F26=\"\",0,VLOOKUP($E26,Drivers!$A$26:$F$48,MATCH(I$1,Drivers!$A$25:$F$25,0),0)*$F26)","v":26130.616072853933},{"$f":"IF($F26=\"\",0,VLOOKUP($E26,Drivers!$A$26:$F$48,MATCH(J$1,Drivers!$A$25:$F$25,0),0)*$F26)","v":26130.616072853933},{"$f":"IF($F26=\"\",0,VLOOKUP($E26,Drivers!$A$26:$F$48,MATCH(K$1,Drivers!$A$25:$F$25,0),0)*$F26)","v":26130.616072853933}]
["ALUGUÉIS",3300,"GERÊNCIA JURÍDICA",{"$f":"VLOOKUP(B27,Centro_Custo!$A$2:$C$36,3)","v":"Encargos de Gestão"},"Fixo",{"$f":"SUMIFS('Classificação OPEX'!$O$4:$O$1666,'Classificação OPEX'!$Q$4:$Q$1666,\"N\",'Classificação OPEX'!$S$4:$S$1666,\"NÃO\",'Classificação OPEX'!$V$4:$V$1666,DRIVER_OPEX!A27,'Classificação OPEX'!$W$4:$W$1666,DRIVER_OPEX!B27)","v":10234.875071474151},{"$f":"IF($F27=\"\",0,VLOOKUP($E27,Drivers!$A$26:$F$48,MATCH(G$1,Drivers!$A$25:$F$25,0),0)*$F27)","v":10234.875071474151},{"$f":"IF($F27=\"\",0,VLOOKUP($E27,Drivers!$A$26:$F$48,MATCH(H$1,Drivers!$A$25:$F$25,0),0)*$F27)","v":10234.875071474151},{"$f":"IF($F27=\"\",0,VLOOKUP($E27,Drivers!$A$26:$F$48,MATCH(I$1,Drivers!$A$25:$F$25,0),0)*$F27)","v":10234.875071474151},{"$f":"IF($F27=\"\",0,VLOOKUP($E27,Drivers!$A$26:$F$48,MATCH(J$1,Drivers!$A$25:$F$25,0),0)*$F27)","v":10234.875071474151},{"$f":"IF($F27=\"\",0,VLOOKUP($E27,Drivers!$A$26:$F$48,MATCH(K$1,Drivers!$A$25:$F$25,0),0)*$F27)","v":10234.875071474151}]
["ALUGUÉIS",3400,"MARKETING",{"$f":"VLOOKUP(B28,Centro_Custo!$A$2:$C$36,3)","v":"Encargos de Comercialização"},"Fixo",{"$f":"SUMIFS('Classificação OPEX'!$O$4:$O$1666,'Classificação OPEX'!$Q$4:$Q$1666,\"N\",'Classificação OPEX'!$S$4:$S$1666,\"NÃO\",'Classificação OPEX'!$V$4:$V$1666,DRIVER_OPEX!A28,'Classificação OPEX'!$W$4:$W$1666,DRIVER_OPEX!B28)","v":3762.3341928752402},{"$f":"IF($F28=\"\",0,VLOOKUP($E28,Drivers!$A$26:$F$48,MATCH(G$1,Drivers!$A$25:$F$25,0),0)*$F28)","v":3762.3341928752402},{"$f":"IF($F28=\"\",0,VLOOKUP($E28,Drivers!$A$26:$F$48,MATCH(H$1,Drivers!$A$25:$F$25,0),0)*$F28)","v":3762.3341928752402},{"$f":"IF($F28=\"\",0,VLOOKUP($E28,Drivers!$A$26:$F$48,MATCH(I$1,Drivers!$A$25:$F$25,0),0)*$F28)","v":3762.3341928752402},{"$f":"IF($F28=\"\",0,VLOOKUP($E28,Drivers!$A$26:$F$48,MATCH(J$1,Drivers!$A$25:$F$25,0),0)*$F28)","v":3762.3341928752402},{"$f":"IF($F28=\"\",0,VLOOKUP($E28,Drivers!$A$26:$F$48,MATCH(K$1,Drivers!$A$25:$F$25,0),0)*$F28)","v":3762.3341928752402}]
["ALUGUÉIS",3500,"ASSESSORIA DE COMUNICAÇÃO INSTITUCIONAL",{"$f":"VLOOKUP(B29,Centro_Custo!$A$2:$C$36,3)","v":"Encargos de Gestão"},"Fixo",{"$f":"SUMIFS('Classificação OPEX'!$O$4:$O$1666,'Classificação OPEX'!$Q$4:$Q$1666,\"N\",'Classificação OPEX'!$S$4:$S$1666,\"NÃO\",'Classificação OPEX'!$V$4:$V$1666,DRIVER_OPEX!A29,'Classificação OPEX'!$W$4:$W$1666,DRIVER_OPEX!B29)","v":9392.4682621289085},{"$f":"IF($F29=\"\",0,VLOOKUP($E29,Drivers!$A$26:$F$48,MATCH(G$1,Drivers!$A$25:$F$25,0),0)*$F29)","v":9392.4682621289085},{"$f":"IF($F29=\"\",0,VLOOKUP($E29,Drivers!$A$26:$F$48,MATCH(H$1,Drivers!$A$25:$F$25,0),0)*$F29)","v":9392.4682621289085},{"$f":"IF($F29=\"\",0,VLOOKUP($E29,Drivers!$A$26:$F$48,MATCH(I$1,Drivers!$A$25:$F$25,0),0)*$F29)","v":9392.4682621289085},{"$f":"IF($F29=\"\",0,VLOOKUP($E29,Drivers!$A$26:$F$48,MATCH(J$1,Drivers!$A$25:$F$25,0),0)*$F29)","v":9392.4682621289085},{"$f":"IF($F29=\"\",0,VLOOKUP($E29,Drivers!$A$26:$F$48,MATCH(K$1,Drivers!$A$25:$F$25,0),0)*$F29)","v":9392.4682621289085}]
["ALUGUÉIS",3600,"GERÊNCIA DE GOVERNANÇA, RISCO E COMPLIANCE",{"$f":"VLOOKUP(B30,Centro_Custo!$A$2:$C$36,3)","v":"Encargos de Gestão"},"Fixo",{"$f":"SUMIFS('Classificação OPEX'!$O$4:$O$1666,'Classificação OPEX'!$Q$4:$Q$1666,\"N\",'Classificação OPEX'!$S$4:$S$1666,\"NÃO\",'Classificação OPEX'!$V$4:$V$1666,DRIVER_OPEX!A30,'Classificação OPEX'!$W$4:$W$1666,DRIVER_OPEX!B30)","v":12371.766016675179},{"$f":"IF($F30=\"\",0,VLOOKUP($E30,Drivers!$A$26:$F$48,MATCH(G$1,Drivers!$A$25:$F$25,0),0)*$F30)","v":12371.766016675179},{"$f":"IF($F30=\"\",0,VLOOKUP($E30,Drivers!$A$26:$F$48,MATCH(H$1,Drivers!$A$25:$F$25,0),0)*$F30)","v":12371.766016675179},{"$f":"IF($F30=\"\",0,VLOOKUP($E30,Drivers!$A$26:$F$48,MATCH(I$1,Drivers!$A$25:$F$25,0),0)*$F30)","v":12371.766016675179},{"$f":"IF($F30=\"\",0,VLOOKUP($E30,Drivers!$A$26:$F$48,MATCH(J$1,Drivers!$A$25:$F$25,0),0)*$F30)","v":12371.766016675179},{"$f":"IF($F30=\"\",0,VLOOKUP($E30,Drivers!$A$26:$F$48,MATCH(K$1,Drivers!$A$25:$F$25,0),0)*$F30)","v":12371.766016675179}]
["ALUGUÉIS",3700,"GERÊNCIA DE REGULAÇÃO",{"$f":"VLOOKUP(B31,Centro_Custo!$A$2:$C$36,3)","v":"Encargos de Gestão"},"Fixo",{"$f":"SUMIFS('Classificação OPEX'!$O$4:$O$1666,'Classificação OPEX'!$Q$4:$Q$1666,\"N\",'Classificação OPEX'!$S$4:$S$1666,\"NÃO\",'Classificação OPEX'!$V$4:$V$1666,DRIVER_OPEX!A31,'Classificação OPEX'!$W$4:$W$1666,DRIVER_OPEX!B31)","v":0},{"$f":"IF($F31=\"\",0,VLOOKUP($E31,Drivers!$A$26:$F$48,MATCH(G$1,Drivers!$A$25:$F$25,0),0)*$F31)","v":0},{"$f":"IF($F31=\"\",0,VLOOKUP($E31,Drivers!$A$26:$F$48,MATCH(H$1,Drivers!$A$25:$F$25,0),0)*$F31)","v":0},{"$f":"IF($F31=\"\",0,VLOOKUP($E31,Drivers!$A$26:$F$48,MATCH(I$1,Drivers!$A$25:$F$25,0),0)*$F31)","v":0},{"$f":"IF($F31=\"\",0,VLOOKUP($E31,Drivers!$A$26:$F$48,MATCH(J$1,Drivers!$A$25:$F$25,0),0)*$F31)","v":0},{"$f":"IF($F31=\"\",0,VLOOKUP($E31,Drivers!$A$26:$F$48,MATCH(K$1,Drivers!$A$25:$F$25,0),0)*$F31)","v":0}]
["ALUGUÉIS",4200,"GERÊNCIA FINANCEIRA",{"$f":"VLOOKUP(B32,Centro_Custo!$A$2:$C$36,3)","v":"Encargos de Gestão"},"Fixo",{"$f":"SUMIFS('Classificação OPEX'!$O$4:$O$1666,'Classificação OPEX'!$Q$4:$Q$1666,\"N\",'Classificação OPEX'!$S$4:$S$1666,\"NÃO\",'Classificação OPEX'!$V$4:$V$1666,DRIVER_OPEX!A32,'Classificação OPEX'!$W$4:$W$1666,DRIVER_OPEX!B32)","v":24596.997722675027},{"$f":"IF($F32=\"\",0,VLOOKUP($E32,Drivers!$A$26:$F$48,MATCH(G$1,Drivers!$A$25:$F$25,0),0)*$F32)","v":24596.997722675027},{"$f":"IF($F32=\"\",0,VLOOKUP($E32,Drivers!$A$26:$F$48,MATCH(H$1,Drivers!$A$25:$F$25,0),0)*$F32)","v":24596.997722675027},{"$f":"IF($F32=\"\",0,VLOOKUP($E32,Drivers!$A$26:$F$48,MATCH(I$1,Drivers!$A$25:$F$25,0),0)*$F32)","v":24596.997722675027},{"$f":"IF($F32=\"\",0,VLOOKUP($E32,Drivers!$A$26:$F$48,MATCH(J$1,Drivers!$A$25:$F$25,0),0)*$F32)","v":24596.997722675027},{"$f":"IF($F32=\"\",0,VLOOKUP($E32,Drivers!$A$26:$F$48,MATCH(K$1,Drivers!$A$25:$F$25,0),0)*$F32)","v":24596.997722675027}]
["ALUGUÉIS",4500,"GERÊNCIA CONTÁBIL",{"$f":"VLOOKUP(B33,Centro_Custo!$A$2:$C$36,3)","v":"Encargos de Gestão"},"Fixo",{"$f":"SUMIFS('Classificação OPEX'!$O$4:$O$1666,'Classificação OPEX'!$Q$4:$Q$1666,\"N\",'Classificação OPEX'!$S$4:$S$1666,\"NÃO\",'Classificação OPEX'!$V$4:$V$1666,DRIVER_OPEX!A33,'Classificação OPEX'!$W$4:$W$1666,DRIVER_OPEX!B33)","v":16617.18817080287},{"$f":"IF($F33=\"\",0,VLOOKUP($E33,Drivers!$A$26:$F$48,MATCH(G$1,Drivers!$A$25:$F$25,0),0)*$F33)","v":16617.18817080287},{"$f":"IF($F33=\"\",0,VLOOKUP($E33,Drivers!$A$26:$F$48,MATCH(H$1,Drivers!$A$25:$F$25,0),0)*$F33)","v":16617.18817080287},{"$f":"IF($F33=\"\",0,VLOOKUP($E33,Drivers!$A$26:$F$48,MATCH(I$1,Drivers!$A$25:$F$25,0),0)*$F33)","v":16617.18817080287},{"$f":"IF($F33=\"\",0,VLOOKUP($E33,Drivers!$A$26:$F$48,MATCH(J$1,Drivers!$A$25:$F$25,0),0)*$F33)","v":16617.18817080287},{"$f":"IF($F33=\"\",0,VLOOKUP($E33,Drivers!$A$26:$F$48,MATCH(K$1,Drivers!$A$25:$F$25,0),0)*$F33)","v":16617.18817080287}]
["ALUGUÉIS",4600,"GERÊNCIA DE PESSOAS E CULTURA",{"$f":"VLOOKUP(B34,Centro_Custo!$A$2:$C$36,3)","v":"Encargos de Gestão"},"Fixo",{"$f":"SUMIFS('Classificação OPEX'!$O$4:$O$1666,'Classificação OPEX'!$Q$4:$Q$1666,\"N\",'Classificação OPEX'!$S$4:$S$1666,\"NÃO\",'Classificação OPEX'!$V$4:$V$1666,DRIVER_OPEX!A34,'Classificação OPEX'!$W$4:$W$1666,DRIVER_OPEX!B34)","v":3762.3341928752402},{"$f":"IF($F34=\"\",0,VLOOKUP($E34,Drivers!$A$26:$F$48,MATCH(G$1,Drivers!$A$25:$F$25,0),0)*$F34)","v":3762.3341928752402},{"$f":"IF($F34=\"\",0,VLOOKUP($E34,Drivers!$A$26:$F$48,MATCH(H$1,Drivers!$A$25:$F$25,0),0)*$F34)","v":3762.3341928752402},{"$f":"IF($F34=\"\",0,VLOOKUP($E34,Drivers!$A$26:$F$48,MATCH(I$1,Drivers!$A$25:$F$25,0),0)*$F34)","v":3762.3341928752402},{"$f":"IF($F34=\"\",0,VLOOKUP($E34,Drivers!$A$26:$F$48,MATCH(J$1,Drivers!$A$25:$F$25,0),0)*$F34)","v":3762.3341928752402},{"$f":"IF($F34=\"\",0,VLOOKUP($E34,Drivers!$A$26:$F$48,MATCH(K$1,Drivers!$A$25:$F$25,0),0)*$F34)","v":3762.3341928752402}]
["ALUGUÉIS",5300,"GERÊNCIA COMERCIAL",{"$f":"VLOOKUP(B35,Centro_Custo!$A$2:$C$36,3)","v":"Encargos de Comercialização"},"Fixo",{"$f":"SUMIFS('Classificação OPEX'!$O$4:$O$1666,'Classificação OPEX'!$Q$4:$Q$1666,\"N\",'Classificação OPEX'!$S$4:$S$1666,\"NÃO\",'Classificação OPEX'!$V$4:$V$1666,DRIVER_OPEX!A35,'Classificação OPEX'!$W$4:$W$1666,DRIVER_OPEX!B35)","v":50471.366042312126},{"$f":"IF($F35=\"\",0,VLOOKUP($E35,Drivers!$A$26:$F$48,MATCH(G$1,Drivers!$A$25:$F$25,0),0)*$F35)","v":50471.366042312126},{"$f":"IF($F35=\"\",0,VLOOKUP($E35,Drivers!$A$26:$F$48,MATCH(H$1,Drivers!$A$25:$F$25,0),0)*$F35)","v":50471.366042312126},{"$f":"IF($F35=\"\",0,VLOOKUP($E35,Drivers!$A$26:$F$48,MATCH(I$1,Drivers!$A$25:$F$25,0),0)*$F35)","v":50471.366042312126},{"$f":"IF($F35=\"\",0,VLOOKUP($E35,Drivers!$A$26:$F$48,MATCH(J$1,Drivers!$A$25:$F$25,0),0)*$F35)","v":50471.366042312126},{"$f":"IF($F35=\"\",0,VLOOKUP($E35,Drivers!$A$26:$F$48,MATCH(K$1,Drivers!$A$25:$F$25,0),0)*$F35)","v":50471.366042312126}]
["ALUGUÉIS","0000","RATEIO",{"$f":"VLOOKUP(B36,Centro_Custo!$A$2:$C$36,3)","v":"Encargos de Gestão"},"Município",{"$f":"SUMIFS('Classificação OPEX'!$O$4:$O$1666,'Classificação OPEX'!$Q$4:$Q$1666,\"N\",'Classificação OPEX'!$S$4:$S$1666,\"NÃO\",'Classificação OPEX'!$V$4:$V$1666,DRIVER_OPEX!A36,'Classificação OPEX'!$W$4:$W$1666,DRIVER_OPEX!B36)","v":0},{"$f":"IF($F36=\"\",0,VLOOKUP($E36,Drivers!$A$26:$F$48,MATCH(G$1,Drivers!$A$25:$F$25,0),0)*$F36)","v":0},{"$f":"IF($F36=\"\",0,VLOOKUP($E36,Drivers!$A$26:$F$48,MATCH(H$1,Drivers!$A$25:$F$25,0),0)*$F36)","v":0},{"$f":"IF($F36=\"\",0,VLOOKUP($E36,Drivers!$A$26:$F$48,MATCH(I$1,Drivers!$A$25:$F$25,0),0)*$F36)","v":0},{"$f":"IF($F36=\"\",0,VLOOKUP($E36,Drivers!$A$26:$F$48,MATCH(J$1,Drivers!$A$25:$F$25,0),0)*$F36)","v":0},{"$f":"IF($F36=\"\",0,VLOOKUP($E36,Drivers!$A$26:$F$48,MATCH(K$1,Drivers!$A$25:$F$25,0),0)*$F36)","v":0}]
["ALUGUÉIS","5400","GERÊNCIA COMERCIAL",{"$f":"VLOOKUP(B37,Centro_Custo!$A$2:$C$36,3)","v":"Encargos de Gestão"},"Fixo",{"$f":"SUMIFS('Classificação OPEX'!$O$4:$O$1666,'Classificação OPEX'!$Q$4:$Q$1666,\"N\",'Classificação OPEX'!$S$4:$S$1666,\"NÃO\",'Classificação OPEX'!$V$4:$V$1666,DRIVER_OPEX!A37,'Classificação OPEX'!$W$4:$W$1666,DRIVER_OPEX!B37)","v":12903.694455926625},{"$f":"IF($F37=\"\",0,VLOOKUP($E37,Drivers!$A$26:$F$48,MATCH(G$1,Drivers!$A$25:$F$25,0),0)*$F37)","v":12903.694455926625},{"$f":"IF($F37=\"\",0,VLOOKUP($E37,Drivers!$A$26:$F$48,MATCH(H$1,Drivers!$A$25:$F$25,0),0)*$F37)","v":12903.694455926625},{"$f":"IF($F37=\"\",0,VLOOKUP($E37,Drivers!$A$26:$F$48,MATCH(I$1,Drivers!$A$25:$F$25,0),0)*$F37)","v":12903.694455926625},{"$f":"IF($F37=\"\",0,VLOOKUP($E37,Drivers!$A$26:$F$48,MATCH(J$1,Drivers!$A$25:$F$25,0),0)*$F37)","v":12903.694455926625},{"$f":"IF($F37=\"\",0,VLOOKUP($E37,Drivers!$A$26:$F$48,MATCH(K$1,Drivers!$A$25:$F$25,0),0)*$F37)","v":12903.694455926625}]
["ALUGUÉIS","5500","GERÊNCIA COMERCIAL",{"$f":"VLOOKUP(B38,Centro_Custo!$A$2:$C$36,3)","v":"Encargos de Gestão"},"Fixo",{"$f":"SUMIFS('Classificação OPEX'!$O$4:$O$1666,'Classificação OPEX'!$Q$4:$Q$1666,\"N\",'Classificação OPEX'!$S$4:$S$1666,\"NÃO\",'Classificação OPEX'!$V$4:$V$1666,DRIVER_OPEX!A38,'Classificação OPEX'!$W$4:$W$1666,DRIVER_OPEX!B38)","v":2867.621850086834},{"$f":"IF($F38=\"\",0,VLOOKUP($E38,Drivers!$A$26:$F$48,MATCH(G$1,Drivers!$A$25:$F$25,0),0)*$F38)","v":2867.621850086834},{"$f":"IF($F38=\"\",0,VLOOKUP($E38,Drivers!$A$26:$F$48,MATCH(H$1,Drivers!$A$25:$F$25,0),0)*$F38)","v":2867.621850086834},{"$f":"IF($F38=\"\",0,VLOOKUP($E38,Drivers!$A$26:$F$48,MATCH(I$1,Drivers!$A$25:$F$25,0),0)*$F38)","v":2867.621850086834},{"$f":"IF($F38=\"\",0,VLOOKUP($E38,Drivers!$A$26:$F$48,MATCH(J$1,Drivers!$A$25:$F$25,0),0)*$F38)","v":2867.621850086834},{"$f":"IF($F38=\"\",0,VLOOKUP($E38,Drivers!$A$26:$F$48,MATCH(K$1,Drivers!$A$25:$F$25,0),0)*$F38)","v":2867.621850086834}]
["CUSTO_ODORIZAÇAO","TOTAL","TOTAL",null,null,{"$f":"SUM(F40:F74)","v":231949.58564897874},{"$f":"SUM(G40:G74)","v":230712.12966244953},{"$f":"SUM(H40:H74)","v":248867.81978704312},268459.66340242507,313996.54991604359,355213.78711391042]
["CUSTO_ODORIZAÇAO",5200,{"$f":"VLOOKUP(B40,Centro_Custo!$A$2:$B$36,2,0)","v":"GERÊNCIA DE OPERAÇÕES"},{"$f":"VLOOKUP(B40,Centro_Custo!$A$2:$C$36,3)","v":"OPEX&ODESP"},"Volume distribuído - Sem Termoelétrica",{"$f":"SUMIFS('Classificação OPEX'!$O$4:$O$1666,'Classificação OPEX'!$Q$4:$Q$1666,\"N\",'Classificação OPEX'!$S$4:$S$1666,\"NÃO\",'Classificação OPEX'!$V$4:$V$1666,DRIVER_OPEX!A40,'Classificação OPEX'!$W$4:$W$1666,DRIVER_OPEX!B40)","v":231949.58564897874},{"$f":"IF($F40=\"\",0,VLOOKUP($E40,Drivers!$A$26:$F$48,MATCH(G$1,Drivers!$A$25:$F$25,0),0)*$F40)","v":230712.12966244953},{"$f":"IF($F40=\"\",0,VLOOKUP($E40,Drivers!$A$26:$F$48,MATCH(H$1,Drivers!$A$25:$F$25,0),0)*$F40)","v":248867.81978704312},{"$f":"IF($F40=\"\",0,VLOOKUP($E40,Drivers!$A$26:$F$48,MATCH(I$1,Drivers!$A$25:$F$25,0),0)*$F40)","v":268459.66340242507},{"$f":"IF($F40=\"\",0,VLOOKUP($E40,Drivers!$A$26:$F$48,MATCH(J$1,Drivers!$A$25:$F$25,0),0)*$F40)","v":313996.54991604359},{"$f":"IF($F40=\"\",0,VLOOKUP($E40,Drivers!$A$26:$F$48,MATCH(K$1,Drivers!$A$25:$F$25,0),0)*$F40)","v":355213.78711391042}]
["CUSTO_ODORIZAÇAO","0000","RATEIO",{"$f":"VLOOKUP(B41,Centro_Custo!$A$2:$C$36,3)","v":"Encargos de Gestão"},"Fixo",{"$f":"SUMIFS('Classificação OPEX'!$O$4:$O$1666,'Classificação OPEX'!$Q$4:$Q$1666,\"N\",'Classificação OPEX'!$S$4:$S$1666,\"NÃO\",'Classificação OPEX'!$V$4:$V$1666,DRIVER_OPEX!A41,'Classificação OPEX'!$W$4:$W$1666,DRIVER_OPEX!B41)","v":0},{"$f":"IF($F41=\"\",0,VLOOKUP($E41,Drivers!$A$26:$F$48,MATCH(G$1,Drivers!$A$25:$F$25,0),0)*$F41)","v":0},{"$f":"IF($F41=\"\",0,VLOOKUP($E41,Drivers!$A$26:$F$48,MATCH(H$1,Drivers!$A$25:$F$25,0),0)*$F41)","v":0},{"$f":"IF($F41=\"\",0,VLOOKUP($E41,Drivers!$A$26:$F$48,MATCH(I$1,Drivers!$A$25:$F$25,0),0)*$F41)","v":0},{"$f":"IF($F41=\"\",0,VLOOKUP($E41,Drivers!$A$26:$F$48,MATCH(J$1,Drivers!$A$25:$F$25,0),0)*$F41)","v":0},{"$f":"IF($F41=\"\",0,VLOOKUP($E41,Drivers!$A$26:$F$48,MATCH(K$1,Drivers!$A$25:$F$25,0),0)*$F41)","v":0}]
["CUSTO_ODORIZAÇAO",1001,"CONSELHO DE ADMINISTRAÇÃO",{"$f":"VLOOKUP(B42,Centro_Custo!$A$2:$C$36,3)","v":"Encargos de Gestão"},"Fixo",{"$f":"SUMIFS('Classificação OPEX'!$O$4:$O$1666,'Classificação OPEX'!$Q$4:$Q$1666,\"N\",'Classificação OPEX'!$S$4:$S$1666,\"NÃO\",'Classificação OPEX'!$V$4:$V$1666,DRIVER_OPEX!A42,'Classificação OPEX'!$W$4:$W$1666,DRIVER_OPEX!B42)","v":0},{"$f":"IF($F42=\"\",0,VLOOKUP($E42,Drivers!$A$26:$F$48,MATCH(G$1,Drivers!$A$25:$F$25,0),0)*$F42)","v":0},{"$f":"IF($F42=\"\",0,VLOOKUP($E42,Drivers!$A$26:$F$48,MATCH(H$1,Drivers!$A$25:$F$25,0),0)*$F42)","v":0},{"$f":"IF($F42=\"\",0,VLOOKUP($E42,Drivers!$A$26:$F$48,MATCH(I$1,Drivers!$A$25:$F$25,0),0)*$F42)","v":0},{"$f":"IF($F42=\"\",0,VLOOKUP($E42,Drivers!$A$26:$F$48,MATCH(J$1,Drivers!$A$25:$F$25,0),0)*$F42)","v":0},{"$f":"IF($F42=\"\",0,VLOOKUP($E42,Drivers!$A$26:$F$48,MATCH(K$1,Drivers!$A$25:$F$25,0),0)*$F42)","v":0}]
["CUSTO_ODORIZAÇAO",1002,"CONSELHO FISCAL",{"$f":"VLOOKUP(B43,Centro_Custo!$A$2:$C$36,3)","v":"Encargos de Gestão"},"Fixo",{"$f":"SUMIFS('Classificação OPEX'!$O$4:$O$1666,'Classificação OPEX'!$Q$4:$Q$1666,\"N\",'Classificação OPEX'!$S$4:$S$1666,\"NÃO\",'Classificação OPEX'!$V$4:$V$1666,DRIVER_OPEX!A43,'Classificação OPEX'!$W$4:$W$1666,DRIVER_OPEX!B43)","v":0},{"$f":"IF($F43=\"\",0,VLOOKUP($E43,Drivers!$A$26:$F$48,MATCH(G$1,Drivers!$A$25:$F$25,0),0)*$F43)","v":0},{"$f":"IF($F43=\"\",0,VLOOKUP($E43,Drivers!$A$26:$F$48,MATCH(H$1,Drivers!$A$25:$F$25,0),0)*$F43)","v":0},{"$f":"IF($F43=\"\",0,VLOOKUP($E43,Drivers!$A$26:$F$48,MATCH(I$1,Drivers!$A$25:$F$25,0),0)*$F43)","v":0},{"$f":"IF($F43=\"\",0,VLOOKUP($E43,Drivers!$A$26:$F$48,MATCH(J$1,Drivers!$A$25:$F$25,0),0)*$F43)","v":0},{"$f":"IF($F43=\"\",0,VLOOKUP($E43,Drivers!$A$26:$F$48,MATCH(K$1,Drivers!$A$25:$F$25,0),0)*$F43)","v":0}]
["CUSTO_ODORIZAÇAO",1003,"COMITÊ DE INDICAÇÃO E AVALIAÇÃO",{"$f":"VLOOKUP(B44,Centro_Custo!$A$2:$C$36,3)","v":"Encargos de Gestão"},"Fixo",{"$f":"SUMIFS('Classificação OPEX'!$O$4:$O$1666,'Classificação OPEX'!$Q$4:$Q$1666,\"N\",'Classificação OPEX'!$S$4:$S$1666,\"NÃO\",'Classificação OPEX'!$V$4:$V$1666,DRIVER_OPEX!A44,'Classificação OPEX'!$W$4:$W$1666,DRIVER_OPEX!B44)","v":0},{"$f":"IF($F44=\"\",0,VLOOKUP($E44,Drivers!$A$26:$F$48,MATCH(G$1,Drivers!$A$25:$F$25,0),0)*$F44)","v":0},{"$f":"IF($F44=\"\",0,VLOOKUP($E44,Drivers!$A$26:$F$48,MATCH(H$1,Drivers!$A$25:$F$25,0),0)*$F44)","v":0},{"$f":"IF($F44=\"\",0,VLOOKUP($E44,Drivers!$A$26:$F$48,MATCH(I$1,Drivers!$A$25:$F$25,0),0)*$F44)","v":0},{"$f":"IF($F44=\"\",0,VLOOKUP($E44,Drivers!$A$26:$F$48,MATCH(J$1,Drivers!$A$25:$F$25,0),0)*$F44)","v":0},{"$f":"IF($F44=\"\",0,VLOOKUP($E44,Drivers!$A$26:$F$48,MATCH(K$1,Drivers!$A$25:$F$25,0),0)*$F44)","v":0}]
["CUSTO_ODORIZAÇAO",1004,"COMITÊ DE AUDITORIA ESTATUTÁRIA",{"$f":"VLOOKUP(B45,Centro_Custo!$A$2:$C$36,3)","v":"Encargos de Gestão"},"Fixo",{"$f":"SUMIFS('Classificação OPEX'!$O$4:$O$1666,'Classificação OPEX'!$Q$4:$Q$1666,\"N\",'Classificação OPEX'!$S$4:$S$1666,\"NÃO\",'Classificação OPEX'!$V$4:$V$1666,DRIVER_OPEX!A45,'Classificação OPEX'!$W$4:$W$1666,DRIVER_OPEX!B45)","v":0},{"$f":"IF($F45=\"\",0,VLOOKUP($E45,Drivers!$A$26:$F$48,MATCH(G$1,Drivers!$A$25:$F$25,0),0)*$F45)","v":0},{"$f":"IF($F45=\"\",0,VLOOKUP($E45,Drivers!$A$26:$F$48,MATCH(H$1,Drivers!$A$25:$F$25,0),0)*$F45)","v":0},{"$f":"IF($F45=\"\",0,VLOOKUP($E45,Drivers!$A$26:$F$48,MATCH(I$1,Drivers!$A$25:$F$25,0),0)*$F45)","v":0},{"$f":"IF($F45=\"\",0,VLOOKUP($E45,Drivers!$A$26:$F$48,MATCH(J$1,Drivers!$A$25:$F$25,0),0)*$F45)","v":0},{"$f":"IF($F45=\"\",0,VLOOKUP($E45,Drivers!$A$26:$F$48,MATCH(K$1,Drivers!$A$25:$F$25,0),0)*$F45)","v":0}]
["CUSTO_ODORIZAÇAO",1005,"AUDITORIA INTERNA",{"$f":"VLOOKUP(B46,Centro_Custo!$A$2:$C$36,3)","v":"Encargos de Gestão"},"Fixo",{"$f":"SUMIFS('Classificação OPEX'!$O$4:$O$1666,'Classificação OPEX'!$Q$4:$Q$1666,\"N\",'Classificação OPEX'!$S$4:$S$1666,\"NÃO\",'Classificação OPEX'!$V$4:$V$1666,DRIVER_OPEX!A46,'Classificação OPEX'!$W$4:$W$1666,DRIVER_OPEX!B46)","v":0},{"$f":"IF($F46=\"\",0,VLOOKUP($E46,Drivers!$A$26:$F$48,MATCH(G$1,Drivers!$A$25:$F$25,0),0)*$F46)","v":0},{"$f":"IF($F46=\"\",0,VLOOKUP($E46,Drivers!$A$26:$F$48,MATCH(H$1,Drivers!$A$25:$F$25,0),0)*$F46)","v":0},{"$f":"IF($F46=\"\",0,VLOOKUP($E46,Drivers!$A$26:$F$48,MATCH(I$1,Drivers!$A$25:$F$25,0),0)*$F46)","v":0},{"$f":"IF($F46=\"\",0,VLOOKUP($E46,Drivers!$A$26:$F$48,MATCH(J$1,Drivers!$A$25:$F$25,0),0)*$F46)","v":0},{"$f":"IF($F46=\"\",0,VLOOKUP($E46,Drivers!$A$26:$F$48,MATCH(K$1,Drivers!$A$25:$F$25,0),0)*$F46)","v":0}]
["CUSTO_ODORIZAÇAO",1010,"GOVERNANÇA SOCIETÁRIA",{"$f":"VLOOKUP(B47,Centro_Custo!$A$2:$C$36,3)","v":"Encargos de Gestão"},"Fixo",{"$f":"SUMIFS('Classificação OPEX'!$O$4:$O$1666,'Classificação OPEX'!$Q$4:$Q$1666,\"N\",'Classificação OPEX'!$S$4:$S$1666,\"NÃO\",'Classificação OPEX'!$V$4:$V$1666,DRIVER_OPEX!A47,'Classificação OPEX'!$W$4:$W$1666,DRIVER_OPEX!B47)","v":0},{"$f":"IF($F47=\"\",0,VLOOKUP($E47,Drivers!$A$26:$F$48,MATCH(G$1,Drivers!$A$25:$F$25,0),0)*$F47)","v":0},{"$f":"IF($F47=\"\",0,VLOOKUP($E47,Drivers!$A$26:$F$48,MATCH(H$1,Drivers!$A$25:$F$25,0),0)*$F47)","v":0},{"$f":"IF($F47=\"\",0,VLOOKUP($E47,Drivers!$A$26:$F$48,MATCH(I$1,Drivers!$A$25:$F$25,0),0)*$F47)","v":0},{"$f":"IF($F47=\"\",0,VLOOKUP($E47,Drivers!$A$26:$F$48,MATCH(J$1,Drivers!$A$25:$F$25,0),0)*$F47)","v":0},{"$f":"IF($F47=\"\",0,VLOOKUP($E47,Drivers!$A$26:$F$48,MATCH(K$1,Drivers!$A$25:$F$25,0),0)*$F47)","v":0}]
["CUSTO_ODORIZAÇAO",2100,"SECRETARIA",{"$f":"VLOOKUP(B48,Centro_Custo!$A$2:$C$36,3)","v":"Encargos de Gestão"},"Fixo",{"$f":"SUMIFS('Classificação OPEX'!$O$4:$O$1666,'Classificação OPEX'!$Q$4:$Q$1666,\"N\",'Classificação OPEX'!$S$4:$S$1666,\"NÃO\",'Classificação OPEX'!$V$4:$V$1666,DRIVER_OPEX!A48,'Classificação OPEX'!$W$4:$W$1666,DRIVER_OPEX!B48)","v":0},{"$f":"IF($F48=\"\",0,VLOOKUP($E48,Drivers!$A$26:$F$48,MATCH(G$1,Drivers!$A$25:$F$25,0),0)*$F48)","v":0},{"$f":"IF($F48=\"\",0,VLOOKUP($E48,Drivers!$A$26:$F$48,MATCH(H$1,Drivers!$A$25:$F$25,0),0)*$F48)","v":0},{"$f":"IF($F48=\"\",0,VLOOKUP($E48,Drivers!$A$26:$F$48,MATCH(I$1,Drivers!$A$25:$F$25,0),0)*$F48)","v":0},{"$f":"IF($F48=\"\",0,VLOOKUP($E48,Drivers!$A$26:$F$48,MATCH(J$1,Drivers!$A$25:$F$25,0),0)*$F48)","v":0},{"$f":"IF($F48=\"\",0,VLOOKUP($E48,Drivers!$A$26:$F$48,MATCH(K$1,Drivers!$A$25:$F$25,0),0)*$F48)","v":0}]
["CUSTO_ODORIZAÇAO",2110,"ASSESSORIA DA DIRETORIA EXECUTIVA",{"$f":"VLOOKUP(B49,Centro_Custo!$A$2:$C$36,3)","v":"Encargos de Gestão"},"Fixo",{"$f":"SUMIFS('Classificação OPEX'!$O$4:$O$1666,'Classificação OPEX'!$Q$4:$Q$1666,\"N\",'Classificação OPEX'!$S$4:$S$1666,\"NÃO\",'Classificação OPEX'!$V$4:$V$1666,DRIVER_OPEX!A49,'Classificação OPEX'!$W$4:$W$1666,DRIVER_OPEX!B49)","v":0},{"$f":"IF($F49=\"\",0,VLOOKUP($E49,Drivers!$A$26:$F$48,MATCH(G$1,Drivers!$A$25:$F$25,0),0)*$F49)","v":0},{"$f":"IF($F49=\"\",0,VLOOKUP($E49,Drivers!$A$26:$F$48,MATCH(H$1,Drivers!$A$25:$F$25,0),0)*$F49)","v":0},{"$f":"IF($F49=\"\",0,VLOOKUP($E49,Drivers!$A$26:$F$48,MATCH(I$1,Drivers!$A$25:$F$25,0),0)*$F49)","v":0},{"$f":"IF($F49=\"\",0,VLOOKUP($E49,Drivers!$A$26:$F$48,MATCH(J$1,Drivers!$A$25:$F$25,0),0)*$F49)","v":0},{"$f":"IF($F49=\"\",0,VLOOKUP($E49,Drivers!$A$26:$F$48,MATCH(K$1,Drivers!$A$25:$F$25,0),0)*$F49)","v":0}]
["CUSTO_ODORIZAÇAO",2120,"ASSESSORIA DA PRESIDÊNCIA",{"$f":"VLOOKUP(B50,Centro_Custo!$A$2:$C$36,3)","v":"Encargos de Gestão"},"Fixo",{"$f":"SUMIFS('Classificação OPEX'!$O$4:$O$1666,'Classificação OPEX'!$Q$4:$Q$1666,\"N\",'Classificação OPEX'!$S$4:$S$1666,\"NÃO\",'Classificação OPEX'!$V$4:$V$1666,DRIVER_OPEX!A50,'Classificação OPEX'!$W$4:$W$1666,DRIVER_OPEX!B50)","v":0},{"$f":"IF($F50=\"\",0,VLOOKUP($E50,Drivers!$A$26:$F$48,MATCH(G$1,Drivers!$A$25:$F$25,0),0)*$F50)","v":0},{"$f":"IF($F50=\"\",0,VLOOKUP($E50,Drivers!$A$26:$F$48,MATCH(H$1,Drivers!$A$25:$F$25,0),0)*$F50)","v":0},{"$f":"IF($F50=\"\",0,VLOOKUP($E50,Drivers!$A$26:$F$48,MATCH(I$1,Drivers!$A$25:$F$25,0),0)*$F50)","v":0},{"$f":"IF($F50=\"\",0,VLOOKUP($E50,Drivers!$A$26:$F$48,MATCH(J$1,Drivers!$A$25:$F$25,0),0)*$F50)","v":0},{"$f":"IF($F50=\"\",0,VLOOKUP($E50,Drivers!$A$26:$F$48,MATCH(K$1,Drivers!$A$25:$F$25,0),0)*$F50)","v":0}]
["CUSTO_ODORIZAÇAO",2130,"ASSESSORIA DE RELAÇÕES INSTITUCIONAIS E NOVOS NEGÓCIOS",{"$f":"VLOOKUP(B51,Centro_Custo!$A$2:$C$36,3)","v":"Encargos de Gestão"},"Fixo",{"$f":"SUMIFS('Classificação OPEX'!$O$4:$O$1666,'Classificação OPEX'!$Q$4:$Q$1666,\"N\",'Classificação OPEX'!$S$4:$S$1666,\"NÃO\",'Classificação OPEX'!$V$4:$V$1666,DRIVER_OPEX!A51,'Classificação OPEX'!$W$4:$W$1666,DRIVER_OPEX!B51)","v":0},{"$f":"IF($F51=\"\",0,VLOOKUP($E51,Drivers!$A$26:$F$48,MATCH(G$1,Drivers!$A$25:$F$25,0),0)*$F51)","v":0},{"$f":"IF($F51=\"\",0,VLOOKUP($E51,Drivers!$A$26:$F$48,MATCH(H$1,Drivers!$A$25:$F$25,0),0)*$F51)","v":0},{"$f":"IF($F51=\"\",0,VLOOKUP($E51,Drivers!$A$26:$F$48,MATCH(I$1,Drivers!$A$25:$F$25,0),0)*$F51)","v":0},{"$f":"IF($F51=\"\",0,VLOOKUP($E51,Drivers!$A$26:$F$48,MATCH(J$1,Drivers!$A$25:$F$25,0),0)*$F51)","v":0},{"$f":"IF($F51=\"\",0,VLOOKUP($E51,Drivers!$A$26:$F$48,MATCH(K$1,Drivers!$A$25:$F$25,0),0)*$F51)","v":0}]
["CUSTO_ODORIZAÇAO",2140,"ASSESSORIA DTC",{"$f":"VLOOKUP(B52,Centro_Custo!$A$2:$C$36,3)","v":"Encargos de Comercialização"},"Fixo",{"$f":"SUMIFS('Classificação OPEX'!$O$4:$O$1666,'Classificação OPEX'!$Q$4:$Q$1666,\"N\",'Classificação OPEX'!$S$4:$S$1666,\"NÃO\",'Classificação OPEX'!$V$4:$V$1666,DRIVER_OPEX!A52,'Classificação OPEX'!$W$4:$W$1666,DRIVER_OPEX!B52)","v":0},{"$f":"IF($F52=\"\",0,VLOOKUP($E52,Drivers!$A$26:$F$48,MATCH(G$1,Drivers!$A$25:$F$25,0),0)*$F52)","v":0},{"$f":"IF($F52=\"\",0,VLOOKUP($E52,Drivers!$A$26:$F$48,MATCH(H$1,Drivers!$A$25:$F$25,0),0)*$F52)","v":0},{"$f":"IF($F52=\"\",0,VLOOKUP($E52,Drivers!$A$26:$F$48,MATCH(I$1,Drivers!$A$25:$F$25,0),0)*$F52)","v":0},{"$f":"IF($F52=\"\",0,VLOOKUP($E52,Drivers!$A$26:$F$48,MATCH(J$1,Drivers!$A$25:$F$25,0),0)*$F52)","v":0},{"$f":"IF($F52=\"\",0,VLOOKUP($E52,Drivers!$A$26:$F$48,MATCH(K$1,Drivers!$A$25:$F$25,0),0)*$F52)","v":0}]
["CUSTO_ODORIZAÇAO",2200,"DIRETORIA COLEGIADA - PRESIDÊNCIA",{"$f":"VLOOKUP(B53,Centro_Custo!$A$2:$C$36,3)","v":"Encargos de Gestão"},"Fixo",{"$f":"SUMIFS('Classificação OPEX'!$O$4:$O$1666,'Classificação OPEX'!$Q$4:$Q$1666,\"N\",'Classificação OPEX'!$S$4:$S$1666,\"NÃO\",'Classificação OPEX'!$V$4:$V$1666,DRIVER_OPEX!A53,'Classificação OPEX'!$W$4:$W$1666,DRIVER_OPEX!B53)","v":0},{"$f":"IF($F53=\"\",0,VLOOKUP($E53,Drivers!$A$26:$F$48,MATCH(G$1,Drivers!$A$25:$F$25,0),0)*$F53)","v":0},{"$f":"IF($F53=\"\",0,VLOOKUP($E53,Drivers!$A$26:$F$48,MATCH(H$1,Drivers!$A$25:$F$25,0),0)*$F53)","v":0},{"$f":"IF($F53=\"\",0,VLOOKUP($E53,Drivers!$A$26:$F$48,MATCH(I$1,Drivers!$A$25:$F$25,0),0)*$F53)","v":0},{"$f":"IF($F53=\"\",0,VLOOKUP($E53,Drivers!$A$26:$F$48,MATCH(J$1,Drivers!$A$25:$F$25,0),0)*$F53)","v":0},{"$f":"IF($F53=\"\",0,VLOOKUP($E53,Drivers!$A$26:$F$48,MATCH(K$1,Drivers!$A$25:$F$25,0),0)*$F53)","v":0}]
["CUSTO_ODORIZAÇAO",2300,"DIRETORIA COLEGIADA - DAF",{"$f":"VLOOKUP(B54,Centro_Custo!$A$2:$C$36,3)","v":"Encargos de Gestão"},"Fixo",{"$f":"SUMIFS('Classificação OPEX'!$O$4:$O$1666,'Classificação OPEX'!$Q$4:$Q$1666,\"N\",'Classificação OPEX'!$S$4:$S$1666,\"NÃO\",'Classificação OPEX'!$V$4:$V$1666,DRIVER_OPEX!A54,'Classificação OPEX'!$W$4:$W$1666,DRIVER_OPEX!B54)","v":0},{"$f":"IF($F54=\"\",0,VLOOKUP($E54,Drivers!$A$26:$F$48,MATCH(G$1,Drivers!$A$25:$F$25,0),0)*$F54)","v":0},{"$f":"IF($F54=\"\",0,VLOOKUP($E54,Drivers!$A$26:$F$48,MATCH(H$1,Drivers!$A$25:$F$25,0),0)*$F54)","v":0},{"$f":"IF($F54=\"\",0,VLOOKUP($E54,Drivers!$A$26:$F$48,MATCH(I$1,Drivers!$A$25:$F$25,0),0)*$F54)","v":0},{"$f":"IF($F54=\"\",0,VLOOKUP($E54,Drivers!$A$26:$F$48,MATCH(J$1,Drivers!$A$25:$F$25,0),0)*$F54)","v":0},{"$f":"IF($F54=\"\",0,VLOOKUP($E54,Drivers!$A$26:$F$48,MATCH(K$1,Drivers!$A$25:$F$25,0),0)*$F54)","v":0}]
["CUSTO_ODORIZAÇAO",2310,"ASSESSORIA DAF",{"$f":"VLOOKUP(B55,Centro_Custo!$A$2:$C$36,3)","v":"Encargos de Gestão"},"Fixo",{"$f":"SUMIFS('Classificação OPEX'!$O$4:$O$1666,'Classificação OPEX'!$Q$4:$Q$1666,\"N\",'Classificação OPEX'!$S$4:$S$1666,\"NÃO\",'Classificação OPEX'!$V$4:$V$1666,DRIVER_OPEX!A55,'Classificação OPEX'!$W$4:$W$1666,DRIVER_OPEX!B55)","v":0},{"$f":"IF($F55=\"\",0,VLOOKUP($E55,Drivers!$A$26:$F$48,MATCH(G$1,Drivers!$A$25:$F$25,0),0)*$F55)","v":0},{"$f":"IF($F55=\"\",0,VLOOKUP($E55,Drivers!$A$26:$F$48,MATCH(H$1,Drivers!$A$25:$F$25,0),0)*$F55)","v":0},{"$f":"IF($F55=\"\",0,VLOOKUP($E55,Drivers!$A$26:$F$48,MATCH(I$1,Drivers!$A$25:$F$25,0),0)*$F55)","v":0},{"$f":"IF($F55=\"\",0,VLOOKUP($E55,Drivers!$A$26:$F$48,MATCH(J$1,Drivers!$A$25:$F$25,0),0)*$F55)","v":0},{"$f":"IF($F55=\"\",0,VLOOKUP($E55,Drivers!$A$26:$F$48,MATCH(K$1,Drivers!$A$25:$F$25,0),0)*$F55)","v":0}]
["CUSTO_ODORIZAÇAO",2400,"DIRETORIA COLEGIADA - DTC",{"$f":"VLOOKUP(B56,Centro_Custo!$A$2:$C$36,3)","v":"Encargos de Comercialização"},"Fixo",{"$f":"SUMIFS('Classificação OPEX'!$O$4:$O$1666,'Classificação OPEX'!$Q$4:$Q$1666,\"N\",'Classificação OPEX'!$S$4:$S$1666,\"NÃO\",'Classificação OPEX'!$V$4:$V$1666,DRIVER_OPEX!A56,'Classificação OPEX'!$W$4:$W$1666,DRIVER_OPEX!B56)","v":0},{"$f":"IF($F56=\"\",0,VLOOKUP($E56,Drivers!$A$26:$F$48,MATCH(G$1,Drivers!$A$25:$F$25,0),0)*$F56)","v":0},{"$f":"IF($F56=\"\",0,VLOOKUP($E56,Drivers!$A$26:$F$48,MATCH(H$1,Drivers!$A$25:$F$25,0),0)*$F56)","v":0},{"$f":"IF($F56=\"\",0,VLOOKUP($E56,Drivers!$A$26:$F$48,MATCH(I$1,Drivers!$A$25:$F$25,0),0)*$F56)","v":0},{"$f":"IF($F56=\"\",0,VLOOKUP($E56,Drivers!$A$26:$F$48,MATCH(J$1,Drivers!$A$25:$F$25,0),0)*$F56)","v":0},{"$f":"IF($F56=\"\",0,VLOOKUP($E56,Drivers!$A$26:$F$48,MATCH(K$1,Drivers!$A$25:$F$25,0),0)*$F56)","v":0}]
["CUSTO_ODORIZAÇAO",2410,"ASSESSORIA DE SEGURANÇA DO TRABALHO",{"$f":"VLOOKUP(B57,Centro_Custo!$A$2:$C$36,3)","v":"OPEX&ODESP"},"Fixo",{"$f":"SUMIFS('Classificação OPEX'!$O$4:$O$1666,'Classificação OPEX'!$Q$4:$Q$1666,\"N\",'Classificação OPEX'!$S$4:$S$1666,\"NÃO\",'Classificação OPEX'!$V$4:$V$1666,DRIVER_OPEX!A57,'Classificação OPEX'!$W$4:$W$1666,DRIVER_OPEX!B57)","v":0},{"$f":"IF($F57=\"\",0,VLOOKUP($E57,Drivers!$A$26:$F$48,MATCH(G$1,Drivers!$A$25:$F$25,0),0)*$F57)","v":0},{"$f":"IF($F57=\"\",0,VLOOKUP($E57,Drivers!$A$26:$F$48,MATCH(H$1,Drivers!$A$25:$F$25,0),0)*$F57)","v":0},{"$f":"IF($F57=\"\",0,VLOOKUP($E57,Drivers!$A$26:$F$48,MATCH(I$1,Drivers!$A$25:$F$25,0),0)*$F57)","v":0},{"$f":"IF($F57=\"\",0,VLOOKUP($E57,Drivers!$A$26:$F$48,MATCH(J$1,Drivers!$A$25:$F$25,0),0)*$F57)","v":0},{"$f":"IF($F57=\"\",0,VLOOKUP($E57,Drivers!$A$26:$F$48,MATCH(K$1,Drivers!$A$25:$F$25,0),0)*$F57)","v":0}]
["CUSTO_ODORIZAÇAO",3100,"SMS",{"$f":"VLOOKUP(B58,Centro_Custo!$A$2:$C$36,3)","v":"OPEX&ODESP"},"Fixo",{"$f":"SUMIFS('Classificação OPEX'!$O$4:$O$1666,'Classificação OPEX'!$Q$4:$Q$1666,\"N\",'Classificação OPEX'!$S$4:$S$1666,\"NÃO\",'Classificação OPEX'!$V$4:$V$1666,DRIVER_OPEX!A58,'Classificação OPEX'!$W$4:$W$1666,DRIVER_OPEX!B58)","v":0},{"$f":"IF($F58=\"\",0,VLOOKUP($E58,Drivers!$A$26:$F$48,MATCH(G$1,Drivers!$A$25:$F$25,0),0)*$F58)","v":0},{"$f":"IF($F58=\"\",0,VLOOKUP($E58,Drivers!$A$26:$F$48,MATCH(H$1,Drivers!$A$25:$F$25,0),0)*$F58)","v":0},{"$f":"IF($F58=\"\",0,VLOOKUP($E58,Drivers!$A$26:$F$48,MATCH(I$1,Drivers!$A$25:$F$25,0),0)*$F58)","v":0},{"$f":"IF($F58=\"\",0,VLOOKUP($E58,Drivers!$A$26:$F$48,MATCH(J$1,Drivers!$A$25:$F$25,0),0)*$F58)","v":0},{"$f":"IF($F58=\"\",0,VLOOKUP($E58,Drivers!$A$26:$F$48,MATCH(K$1,Drivers!$A$25:$F$25,0),0)*$F58)","v":0}]
["CUSTO_ODORIZAÇAO",3200,"GERÊNCIA DE PLANEJAMENTO E MEIO AMBIENTE",{"$f":"VLOOKUP(B59,Centro_Custo!$A$2:$C$36,3)","v":"OPEX&ODESP"},"Fixo",{"$f":"SUMIFS('Classificação OPEX'!$O$4:$O$1666,'Classificação OPEX'!$Q$4:$Q$1666,\"N\",'Classificação OPEX'!$S$4:$S$1666,\"NÃO\",'Classificação OPEX'!$V$4:$V$1666,DRIVER_OPEX!A59,'Classificação OPEX'!$W$4:$W$1666,DRIVER_OPEX!B59)","v":0},{"$f":"IF($F59=\"\",0,VLOOKUP($E59,Drivers!$A$26:$F$48,MATCH(G$1,Drivers!$A$25:$F$25,0),0)*$F59)","v":0},{"$f":"IF($F59=\"\",0,VLOOKUP($E59,Drivers!$A$26:$F$48,MATCH(H$1,Drivers!$A$25:$F$25,0),0)*$F59)","v":0},{"$f":"IF($F59=\"\",0,VLOOKUP($E59,Drivers!$A$26:$F$48,MATCH(I$1,Drivers!$A$25:$F$25,0),0)*$F59)","v":0},{"$f":"IF($F59=\"\",0,VLOOKUP($E59,Drivers!$A$26:$F$48,MATCH(J$1,Drivers!$A$25:$F$25,0),0)*$F59)","v":0},{"$f":"IF($F59=\"\",0,VLOOKUP($E59,Drivers!$A$26:$F$48,MATCH(K$1,Drivers!$A$25:$F$25,0),0)*$F59)","v":0}]
["CUSTO_ODORIZAÇAO",3300,"GERÊNCIA JURÍDICA",{"$f":"VLOOKUP(B60,Centro_Custo!$A$2:$C$36,3)","v":"Encargos de Gestão"},"Fixo",{"$f":"SUMIFS('Classificação OPEX'!$O$4:$O$1666,'Classificação OPEX'!$Q$4:$Q$1666,\"N\",'Classificação OPEX'!$S$4:$S$1666,\"NÃO\",'Classificação OPEX'!$V$4:$V$1666,DRIVER_OPEX!A60,'Classificação OPEX'!$W$4:$W$1666,DRIVER_OPEX!B60)","v":0},{"$f":"IF($F60=\"\",0,VLOOKUP($E60,Drivers!$A$26:$F$48,MATCH(G$1,Drivers!$A$25:$F$25,0),0)*$F60)","v":0},{"$f":"IF($F60=\"\",0,VLOOKUP($E60,Drivers!$A$26:$F$48,MATCH(H$1,Drivers!$A$25:$F$25,0),0)*$F60)","v":0},{"$f":"IF($F60=\"\",0,VLOOKUP($E60,Drivers!$A$26:$F$48,MATCH(I$1,Drivers!$A$25:$F$25,0),0)*$F60)","v":0},{"$f":"IF($F60=\"\",0,VLOOKUP($E60,Drivers!$A$26:$F$48,MATCH(J$1,Drivers!$A$25:$F$25,0),0)*$F60)","v":0},{"$f":"IF($F60=\"\",0,VLOOKUP($E60,Drivers!$A$26:$F$48,MATCH(K$1,Drivers!$A$25:$F$25,0),0)*$F60)","v":0}]
["CUSTO_ODORIZAÇAO",3400,"MARKETING",{"$f":"VLOOKUP(B61,Centro_Custo!$A$2:$C$36,3)","v":"Encargos de Comercialização"},"Fixo",{"$f":"SUMIFS('Classificação OPEX'!$O$4:$O$1666,'Classificação OPEX'!$Q$4:$Q$1666,\"N\",'Classificação OPEX'!$S$4:$S$1666,\"NÃO\",'Classificação OPEX'!$V$4:$V$1666,DRIVER_OPEX!A61,'Classificação OPEX'!$W$4:$W$1666,DRIVER_OPEX!B61)","v":0},{"$f":"IF($F61=\"\",0,VLOOKUP($E61,Drivers!$A$26:$F$48,MATCH(G$1,Drivers!$A$25:$F$25,0),0)*$F61)","v":0},{"$f":"IF($F61=\"\",0,VLOOKUP($E61,Drivers!$A$26:$F$48,MATCH(H$1,Drivers!$A$25:$F$25,0),0)*$F61)","v":0},{"$f":"IF($F61=\"\",0,VLOOKUP($E61,Drivers!$A$26:$F$48,MATCH(I$1,Drivers!$A$25:$F$25,0),0)*$F61)","v":0},{"$f":"IF($F61=\"\",0,VLOOKUP($E61,Drivers!$A$26:$F$48,MATCH(J$1,Drivers!$A$25:$F$25,0),0)*$F61)","v":0},{"$f":"IF($F61=\"\",0,VLOOKUP($E61,Drivers!$A$26:$F$48,MATCH(K$1,Drivers!$A$25:$F$25,0),0)*$F61)","v":0}]
["CUSTO_ODORIZAÇAO",3500,"ASSESSORIA DE COMUNICAÇÃO INSTITUCIONAL",{"$f":"VLOOKUP(B62,Centro_Custo!$A$2:$C$36,3)","v":"Encargos de Gestão"},"Fixo",{"$f":"SUMIFS('Classificação OPEX'!$O$4:$O$1666,'Classificação OPEX'!$Q$4:$Q$1666,\"N\",'Classificação OPEX'!$S$4:$S$1666,\"NÃO\",'Classificação OPEX'!$V$4:$V$1666,DRIVER_OPEX!A62,'Classificação OPEX'!$W$4:$W$1666,DRIVER_OPEX!B62)","v":0},{"$f":"IF($F62=\"\",0,VLOOKUP($E62,Drivers!$A$26:$F$48,MATCH(G$1,Drivers!$A$25:$F$25,0),0)*$F62)","v":0},{"$f":"IF($F62=\"\",0,VLOOKUP($E62,Drivers!$A$26:$F$48,MATCH(H$1,Drivers!$A$25:$F$25,0),0)*$F62)","v":0},{"$f":"IF($F62=\"\",0,VLOOKUP($E62,Drivers!$A$26:$F$48,MATCH(I$1,Drivers!$A$25:$F$25,0),0)*$F62)","v":0},{"$f":"IF($F62=\"\",0,VLOOKUP($E62,Drivers!$A$26:$F$48,MATCH(J$1,Drivers!$A$25:$F$25,0),0)*$F62)","v":0},{"$f":"IF($F62=\"\",0,VLOOKUP($E62,Drivers!$A$26:$F$48,MATCH(K$1,Drivers!$A$25:$F$25,0),0)*$F62)","v":0}]
["CUSTO_ODORIZAÇAO",3600,"GERÊNCIA DE GOVERNANÇA, RISCO E COMPLIANCE",{"$f":"VLOOKUP(B63,Centro_Custo!$A$2:$C$36,3)","v":"Encargos de Gestão"},"Fixo",{"$f":"SUMIFS('Classificação OPEX'!$O$4:$O$1666,'Classificação OPEX'!$Q$4:$Q$1666,\"N\",'Classificação OPEX'!$S$4:$S$1666,\"NÃO\",'Classificação OPEX'!$V$4:$V$1666,DRIVER_OPEX!A63,'Classificação OPEX'!$W$4:$W$1666,DRIVER_OPEX!B63)","v":0},{"$f":"IF($F63=\"\",0,VLOOKUP($E63,Drivers!$A$26:$F$48,MATCH(G$1,Drivers!$A$25:$F$25,0),0)*$F63)","v":0},{"$f":"IF($F63=\"\",0,VLOOKUP($E63,Drivers!$A$26:$F$48,MATCH(H$1,Drivers!$A$25:$F$25,0),0)*$F63)","v":0},{"$f":"IF($F63=\"\",0,VLOOKUP($E63,Drivers!$A$26:$F$48,MATCH(I$1,Drivers!$A$25:$F$25,0),0)*$F63)","v":0},{"$f":"IF($F63=\"\",0,VLOOKUP($E63,Drivers!$A$26:$F$48,MATCH(J$1,Drivers!$A$25:$F$25,0),0)*$F63)","v":0},{"$f":"IF($F63=\"\",0,VLOOKUP($E63,Drivers!$A$26:$F$48,MATCH(K$1,Drivers!$A$25:$F$25,0),0)*$F63)","v":0}]
["CUSTO_ODORIZAÇAO",3700,"GERÊNCIA DE REGULAÇÃO",{"$f":"VLOOKUP(B64,Centro_Custo!$A$2:$C$36,3)","v":"Encargos de Gestão"},"Fixo",{"$f":"SUMIFS('Classificação OPEX'!$O$4:$O$1666,'Classificação OPEX'!$Q$4:$Q$1666,\"N\",'Classificação OPEX'!$S$4:$S$1666,\"NÃO\",'Classificação OPEX'!$V$4:$V$1666,DRIVER_OPEX!A64,'Classificação OPEX'!$W$4:$W$1666,DRIVER_OPEX!B64)","v":0},{"$f":"IF($F64=\"\",0,VLOOKUP($E64,Drivers!$A$26:$F$48,MATCH(G$1,Drivers!$A$25:$F$25,0),0)*$F64)","v":0},{"$f":"IF($F64=\"\",0,VLOOKUP($E64,Drivers!$A$26:$F$48,MATCH(H$1,Drivers!$A$25:$F$25,0),0)*$F64)","v":0},{"$f":"IF($F64=\"\",0,VLOOKUP($E64,Drivers!$A$26:$F$48,MATCH(I$1,Drivers!$A$25:$F$25,0),0)*$F64)","v":0},{"$f":"IF($F64=\"\",0,VLOOKUP($E64,Drivers!$A$26:$F$48,MATCH(J$1,Drivers!$A$25:$F$25,0),0)*$F64)","v":0},{"$f":"IF($F64=\"\",0,VLOOKUP($E64,Drivers!$A$26:$F$48,MATCH(K$1,Drivers!$A$25:$F$25,0),0)*$F64)","v":0}]
["CUSTO_ODORIZAÇAO",4100,"GERÊNCIA DE SERVIÇOS CORPORATIVOS",{"$f":"VLOOKUP(B65,Centro_Custo!$A$2:$C$36,3)","v":"Encargos de Gestão"},"Fixo",{"$f":"SUMIFS('Classificação OPEX'!$O$4:$O$1666,'Classificação OPEX'!$Q$4:$Q$1666,\"N\",'Classificação OPEX'!$S$4:$S$1666,\"NÃO\",'Classificação OPEX'!$V$4:$V$1666,DRIVER_OPEX!A65,'Classificação OPEX'!$W$4:$W$1666,DRIVER_OPEX!B65)","v":0},{"$f":"IF($F65=\"\",0,VLOOKUP($E65,Drivers!$A$26:$F$48,MATCH(G$1,Drivers!$A$25:$F$25,0),0)*$F65)","v":0},{"$f":"IF($F65=\"\",0,VLOOKUP($E65,Drivers!$A$26:$F$48,MATCH(H$1,Drivers!$A$25:$F$25,0),0)*$F65)","v":0},{"$f":"IF($F65=\"\",0,VLOOKUP($E65,Drivers!$A$26:$F$48,MATCH(I$1,Drivers!$A$25:$F$25,0),0)*$F65)","v":0},{"$f":"IF($F65=\"\",0,VLOOKUP($E65,Drivers!$A$26:$F$48,MATCH(J$1,Drivers!$A$25:$F$25,0),0)*$F65)","v":0},{"$f":"IF($F65=\"\",0,VLOOKUP($E65,Drivers!$A$26:$F$48,MATCH(K$1,Drivers!$A$25:$F$25,0),0)*$F65)","v":0}]
["CUSTO_ODORIZAÇAO",4200,"GERÊNCIA FINANCEIRA",{"$f":"VLOOKUP(B66,Centro_Custo!$A$2:$C$36,3)","v":"Encargos de Gestão"},"Fixo",{"$f":"SUMIFS('Classificação OPEX'!$O$4:$O$1666,'Classificação OPEX'!$Q$4:$Q$1666,\"N\",'Classificação OPEX'!$S$4:$S$1666,\"NÃO\",'Classificação OPEX'!$V$4:$V$1666,DRIVER_OPEX!A66,'Classificação OPEX'!$W$4:$W$1666,DRIVER_OPEX!B66)","v":0},{"$f":"IF($F66=\"\",0,VLOOKUP($E66,Drivers!$A$26:$F$48,MATCH(G$1,Drivers!$A$25:$F$25,0),0)*$F66)","v":0},{"$f":"IF($F66=\"\",0,VLOOKUP($E66,Drivers!$A$26:$F$48,MATCH(H$1,Drivers!$A$25:$F$25,0),0)*$F66)","v":0},{"$f":"IF($F66=\"\",0,VLOOKUP($E66,Drivers!$A$26:$F$48,MATCH(I$1,Drivers!$A$25:$F$25,0),0)*$F66)","v":0},{"$f":"IF($F66=\"\",0,VLOOKUP($E66,Drivers!$A$26:$F$48,MATCH(J$1,Drivers!$A$25:$F$25,0),0)*$F66)","v":0},{"$f":"IF($F66=\"\",0,VLOOKUP($E66,Drivers!$A$26:$F$48,MATCH(K$1,Drivers!$A$25:$F$25,0),0)*$F66)","v":0}]
["CUSTO_ODORIZAÇAO",4300,"GERÊNCIA DE TECNOLOGIA E SISTEMAS DE INFORMAÇÃO",{"$f":"VLOOKUP(B67,Centro_Custo!$A$2:$C$36,3)","v":"Encargos de Gestão"},"Fixo",{"$f":"SUMIFS('Classificação OPEX'!$O$4:$O$1666,'Classificação OPEX'!$Q$4:$Q$1666,\"N\",'Classificação OPEX'!$S$4:$S$1666,\"NÃO\",'Classificação OPEX'!$V$4:$V$1666,DRIVER_OPEX!A67,'Classificação OPEX'!$W$4:$W$1666,DRIVER_OPEX!B67)","v":0},{"$f":"IF($F67=\"\",0,VLOOKUP($E67,Drivers!$A$26:$F$48,MATCH(G$1,Drivers!$A$25:$F$25,0),0)*$F67)","v":0},{"$f":"IF($F67=\"\",0,VLOOKUP($E67,Drivers!$A$26:$F$48,MATCH(H$1,Drivers!$A$25:$F$25,0),0)*$F67)","v":0},{"$f":"IF($F67=\"\",0,VLOOKUP($E67,Drivers!$A$26:$F$48,MATCH(I$1,Drivers!$A$25:$F$25,0),0)*$F67)","v":0},{"$f":"IF($F67=\"\",0,VLOOKUP($E67,Drivers!$A$26:$F$48,MATCH(J$1,Drivers!$A$25:$F$25,0),0)*$F67)","v":0},{"$f":"IF($F67=\"\",0,VLOOKUP($E67,Drivers!$A$26:$F$48,MATCH(K$1,Drivers!$A$25:$F$25,0),0)*$F67)","v":0}]
["CUSTO_ODORIZAÇAO",4500,"GERÊNCIA CONTÁBIL",{"$f":"VLOOKUP(B68,Centro_Custo!$A$2:$C$36,3)","v":"Encargos de Gestão"},"Fixo",{"$f":"SUMIFS('Classificação OPEX'!$O$4:$O$1666,'Classificação OPEX'!$Q$4:$Q$1666,\"N\",'Classificação OPEX'!$S$4:$S$1666,\"NÃO\",'Classificação OPEX'!$V$4:$V$1666,DRIVER_OPEX!A68,'Classificação OPEX'!$W$4:$W$1666,DRIVER_OPEX!B68)","v":0},{"$f":"IF($F68=\"\",0,VLOOKUP($E68,Drivers!$A$26:$F$48,MATCH(G$1,Drivers!$A$25:$F$25,0),0)*$F68)","v":0},{"$f":"IF($F68=\"\",0,VLOOKUP($E68,Drivers!$A$26:$F$48,MATCH(H$1,Drivers!$A$25:$F$25,0),0)*$F68)","v":0},{"$f":"IF($F68=\"\",0,VLOOKUP($E68,Drivers!$A$26:$F$48,MATCH(I$1,Drivers!$A$25:$F$25,0),0)*$F68)","v":0},{"$f":"IF($F68=\"\",0,VLOOKUP($E68,Drivers!$A$26:$F$48,MATCH(J$1,Drivers!$A$25:$F$25,0),0)*$F68)","v":0},{"$f":"IF($F68=\"\",0,VLOOKUP($E68,Drivers!$A$26:$F$48,MATCH(K$1,Drivers!$A$25:$F$25,0),0)*$F68)","v":0}]
["CUSTO_ODORIZAÇAO",4600,"GERÊNCIA DE PESSOAS E CULTURA",{"$f":"VLOOKUP(B69,Centro_Custo!$A$2:$C$36,3)","v":"Encargos de Gestão"},"Fixo",{"$f":"SUMIFS('Classificação OPEX'!$O$4:$O$1666,'Classificação OPEX'!$Q$4:$Q$1666,\"N\",'Classificação OPEX'!$S$4:$S$1666,\"NÃO\",'Classificação OPEX'!$V$4:$V$1666,DRIVER_OPEX!A69,'Classificação OPEX'!$W$4:$W$1666,DRIVER_OPEX!B69)","v":0},{"$f":"IF($F69=\"\",0,VLOOKUP($E69,Drivers!$A$26:$F$48,MATCH(G$1,Drivers!$A$25:$F$25,0),0)*$F69)","v":0},{"$f":"IF($F69=\"\",0,VLOOKUP($E69,Drivers!$A$26:$F$48,MATCH(H$1,Drivers!$A$25:$F$25,0),0)*$F69)","v":0},{"$f":"IF($F69=\"\",0,VLOOKUP($E69,Drivers!$A$26:$F$48,MATCH(I$1,Drivers!$A$25:$F$25,0),0)*$F69)","v":0},{"$f":"IF($F69=\"\",0,VLOOKUP($E69,Drivers!$A$26:$F$48,MATCH(J$1,Drivers!$A$25:$F$25,0),0)*$F69)","v":0},{"$f":"IF($F69=\"\",0,VLOOKUP($E69,Drivers!$A$26:$F$48,MATCH(K$1,Drivers!$A$25:$F$25,0),0)*$F69)","v":0}]
["CUSTO_ODORIZAÇAO",5100,"GERÊNCIA DE ENGENHARIA",{"$f":"VLOOKUP(B70,Centro_Custo!$A$2:$C$36,3)","v":"OPEX&ODESP"},"Fixo",{"$f":"SUMIFS('Classificação OPEX'!$O$4:$O$1666,'Classificação OPEX'!$Q$4:$Q$1666,\"N\",'Classificação OPEX'!$S$4:$S$1666,\"NÃO\",'Classificação OPEX'!$V$4:$V$1666,DRIVER_OPEX!A70,'Classificação OPEX'!$W$4:$W$1666,DRIVER_OPEX!B70)","v":0},{"$f":"IF($F70=\"\",0,VLOOKUP($E70,Drivers!$A$26:$F$48,MATCH(G$1,Drivers!$A$25:$F$25,0),0)*$F70)","v":0},{"$f":"IF($F70=\"\",0,VLOOKUP($E70,Drivers!$A$26:$F$48,MATCH(H$1,Drivers!$A$25:$F$25,0),0)*$F70)","v":0},{"$f":"IF($F70=\"\",0,VLOOKUP($E70,Drivers!$A$26:$F$48,MATCH(I$1,Drivers!$A$25:$F$25,0),0)*$F70)","v":0},{"$f":"IF($F70=\"\",0,VLOOKUP($E70,Drivers!$A$26:$F$48,MATCH(J$1,Drivers!$A$25:$F$25,0),0)*$F70)","v":0},{"$f":"IF($F70=\"\",0,VLOOKUP($E70,Drivers!$A$26:$F$48,MATCH(K$1,Drivers!$A$25:$F$25,0),0)*$F70)","v":0}]
["CUSTO_ODORIZAÇAO",5300,"GERÊNCIA COMERCIAL",{"$f":"VLOOKUP(B71,Centro_Custo!$A$2:$C$36,3)","v":"Encargos de Comercialização"},"Fixo",{"$f":"SUMIFS('Classificação OPEX'!$O$4:$O$1666,'Classificação OPEX'!$Q$4:$Q$1666,\"N\",'Classificação OPEX'!$S$4:$S$1666,\"NÃO\",'Classificação OPEX'!$V$4:$V$1666,DRIVER_OPEX!A71,'Classificação OPEX'!$W$4:$W$1666,DRIVER_OPEX!B71)","v":0},{"$f":"IF($F71=\"\",0,VLOOKUP($E71,Drivers!$A$26:$F$48,MATCH(G$1,Drivers!$A$25:$F$25,0),0)*$F71)","v":0},{"$f":"IF($F71=\"\",0,VLOOKUP($E71,Drivers!$A$26:$F$48,MATCH(H$1,Drivers!$A$25:$F$25,0),0)*$F71)","v":0},{"$f":"IF($F71=\"\",0,VLOOKUP($E71,Drivers!$A$26:$F$48,MATCH(I$1,Drivers!$A$25:$F$25,0),0)*$F71)","v":0},{"$f":"IF($F71=\"\",0,VLOOKUP($E71,Drivers!$A$26:$F$48,MATCH(J$1,Drivers!$A$25:$F$25,0),0)*$F71)","v":0},{"$f":"IF($F71=\"\",0,VLOOKUP($E71,Drivers!$A$26:$F$48,MATCH(K$1,Drivers!$A$25:$F$25,0),0)*$F71)","v":0}]
["CUSTO_ODORIZAÇAO",9999,"RATEIO",{"$f":"VLOOKUP(B72,Centro_Custo!$A$2:$C$36,3)","v":"Encargos de Gestão"},"Fixo",{"$f":"SUMIFS('Classificação OPEX'!$O$4:$O$1666,'Classificação OPEX'!$Q$4:$Q$1666,\"N\",'Classificação OPEX'!$S$4:$S$1666,\"NÃO\",'Classificação OPEX'!$V$4:$V$1666,DRIVER_OPEX!A72,'Classificação OPEX'!$W$4:$W$1666,DRIVER_OPEX!B72)","v":0},{"$f":"IF($F72=\"\",0,VLOOKUP($E72,Drivers!$A$26:$F$48,MATCH(G$1,Drivers!$A$25:$F$25,0),0)*$F72)","v":0},{"$f":"IF($F72=\"\",0,VLOOKUP($E72,Drivers!$A$26:$F$48,MATCH(H$1,Drivers!$A$25:$F$25,0),0)*$F72)","v":0},{"$f":"IF($F72=\"\",0,VLOOKUP($E72,Drivers!$A$26:$F$48,MATCH(I$1,Drivers!$A$25:$F$25,0),0)*$F72)","v":0},{"$f":"IF($F72=\"\",0,VLOOKUP($E72,Drivers!$A$26:$F$48,MATCH(J$1,Drivers!$A$25:$F$25,0),0)*$F72)","v":0},{"$f":"IF($F72=\"\",0,VLOOKUP($E72,Drivers!$A$26:$F$48,MATCH(K$1,Drivers!$A$25:$F$25,0),0)*$F72)","v":0}]
["CUSTO_ODORIZAÇAO","5400","GERÊNCIA COMERCIAL",{"$f":"VLOOKUP(B73,Centro_Custo!$A$2:$C$36,3)","v":"Encargos de Gestão"},"Fixo",{"$f":"SUMIFS('Classificação OPEX'!$O$4:$O$1666,'Classificação OPEX'!$Q$4:$Q$1666,\"N\",'Classificação OPEX'!$S$4:$S$1666,\"NÃO\",'Classificação OPEX'!$V$4:$V$1666,DRIVER_OPEX!A73,'Classificação OPEX'!$W$4:$W$1666,DRIVER_OPEX!B73)","v":0},{"$f":"IF($F73=\"\",0,VLOOKUP($E73,Drivers!$A$26:$F$48,MATCH(G$1,Drivers!$A$25:$F$25,0),0)*$F73)","v":0},{"$f":"IF($F73=\"\",0,VLOOKUP($E73,Drivers!$A$26:$F$48,MATCH(H$1,Drivers!$A$25:$F$25,0),0)*$F73)","v":0},{"$f":"IF($F73=\"\",0,VLOOKUP($E73,Drivers!$A$26:$F$48,MATCH(I$1,Drivers!$A$25:$F$25,0),0)*$F73)","v":0},{"$f":"IF($F73=\"\",0,VLOOKUP($E73,Drivers!$A$26:$F$48,MATCH(J$1,Drivers!$A$25:$F$25,0),0)*$F73)","v":0},{"$f":"IF($F73=\"\",0,VLOOKUP($E73,Drivers!$A$26:$F$48,MATCH(K$1,Drivers!$A$25:$F$25,0),0)*$F73)","v":0}]
["CUSTO_ODORIZAÇAO","5500","GERÊNCIA COMERCIAL",{"$f":"VLOOKUP(B74,Centro_Custo!$A$2:$C$36,3)","v":"Encargos de Gestão"},"Fixo",{"$f":"SUMIFS('Classificação OPEX'!$O$4:$O$1666,'Classificação OPEX'!$Q$4:$Q$1666,\"N\",'Classificação OPEX'!$S$4:$S$1666,\"NÃO\",'Classificação OPEX'!$V$4:$V$1666,DRIVER_OPEX!A74,'Classificação OPEX'!$W$4:$W$1666,DRIVER_OPEX!B74)","v":0},{"$f":"IF($F74=\"\",0,VLOOKUP($E74,Drivers!$A$26:$F$48,MATCH(G$1,Drivers!$A$25:$F$25,0),0)*$F74)","v":0},{"$f":"IF($F74=\"\",0,VLOOKUP($E74,Drivers!$A$26:$F$48,MATCH(H$1,Drivers!$A$25:$F$25,0),0)*$F74)","v":0},{"$f":"IF($F74=\"\",0,VLOOKUP($E74,Drivers!$A$26:$F$48,MATCH(I$1,Drivers!$A$25:$F$25,0),0)*$F74)","v":0},{"$f":"IF($F74=\"\",0,VLOOKUP($E74,Drivers!$A$26:$F$48,MATCH(J$1,Drivers!$A$25:$F$25,0),0)*$F74)","v":0},{"$f":"IF($F74=\"\",0,VLOOKUP($E74,Drivers!$A$26:$F$48,MATCH(K$1,Drivers!$A$25:$F$25,0),0)*$F74)","v":0}]
["DESPESAS_GERAIS","TOTAL","TOTAL",null,null,{"$f":"SUM(F76:F110)","v":6233905.2399728745},{"$f":"SUM(G76:G110)","v":6449700.9749117354},6747501.2536702221,6988394.2667619642,7148458.8748897659,7337000.8337156]
["DESPESAS_GERAIS",1004,{"$f":"VLOOKUP(B76,Centro_Custo!$A$2:$B$36,2,0)","v":"COMITÊ DE AUDITORIA ESTATUTÁRIA"},{"$f":"VLOOKUP(B76,Centro_Custo!$A$2:$C$36,3)","v":"Encargos de Gestão"},"Fixo",{"$f":"SUMIFS('Classificação OPEX'!$O$4:$O$1666,'Classificação OPEX'!$Q$4:$Q$1666,\"N\",'Classificação OPEX'!$S$4:$S$1666,\"NÃO\",'Classificação OPEX'!$V$4:$V$1666,DRIVER_OPEX!A76,'Classificação OPEX'!$W$4:$W$1666,DRIVER_OPEX!B76)","v":0},{"$f":"IF($F76=\"\",0,VLOOKUP($E76,Drivers!$A$26:$F$48,MATCH(G$1,Drivers!$A$25:$F$25,0),0)*$F76)","v":0},{"$f":"IF($F76=\"\",0,VLOOKUP($E76,Drivers!$A$26:$F$48,MATCH(H$1,Drivers!$A$25:$F$25,0),0)*$F76)","v":0},{"$f":"IF($F76=\"\",0,VLOOKUP($E76,Drivers!$A$26:$F$48,MATCH(I$1,Drivers!$A$25:$F$25,0),0)*$F76)","v":0},{"$f":"IF($F76=\"\",0,VLOOKUP($E76,Drivers!$A$26:$F$48,MATCH(J$1,Drivers!$A$25:$F$25,0),0)*$F76)","v":0},{"$f":"IF($F76=\"\",0,VLOOKUP($E76,Drivers!$A$26:$F$48,MATCH(K$1,Drivers!$A$25:$F$25,0),0)*$F76)","v":0}]
["DESPESAS_GERAIS",1005,{"$f":"VLOOKUP(B77,Centro_Custo!$A$2:$B$36,2,0)","v":"AUDITORIA INTERNA"},{"$f":"VLOOKUP(B77,Centro_Custo!$A$2:$C$36,3)","v":"Encargos de Gestão"},"Fixo",{"$f":"SUMIFS('Classificação OPEX'!$O$4:$O$1666,'Classificação OPEX'!$Q$4:$Q$1666,\"N\",'Classificação OPEX'!$S$4:$S$1666,\"NÃO\",'Classificação OPEX'!$V$4:$V$1666,DRIVER_OPEX!A77,'Classificação OPEX'!$W$4:$W$1666,DRIVER_OPEX!B77)","v":4241.190591283932},{"$f":"IF($F77=\"\",0,VLOOKUP($E77,Drivers!$A$26:$F$48,MATCH(G$1,Drivers!$A$25:$F$25,0),0)*$F77)","v":4241.190591283932},{"$f":"IF($F77=\"\",0,VLOOKUP($E77,Drivers!$A$26:$F$48,MATCH(H$1,Drivers!$A$25:$F$25,0),0)*$F77)","v":4241.190591283932},{"$f":"IF($F77=\"\",0,VLOOKUP($E77,Drivers!$A$26:$F$48,MATCH(I$1,Drivers!$A$25:$F$25,0),0)*$F77)","v":4241.190591283932},{"$f":"IF($F77=\"\",0,VLOOKUP($E77,Drivers!$A$26:$F$48,MATCH(J$1,Drivers!$A$25:$F$25,0),0)*$F77)","v":4241.190591283932},{"$f":"IF($F77=\"\",0,VLOOKUP($E77,Drivers!$A$26:$F$48,MATCH(K$1,Drivers!$A$25:$F$25,0),0)*$F77)","v":4241.190591283932}]
["DESPESAS_GERAIS",1010,{"$f":"VLOOKUP(B78,Centro_Custo!$A$2:$B$36,2,0)","v":"GOVERNANÇA SOCIETÁRIA"},{"$f":"VLOOKUP(B78,Centro_Custo!$A$2:$C$36,3)","v":"Encargos de Gestão"},"Fixo",{"$f":"SUMIFS('Classificação OPEX'!$O$4:$O$1666,'Classificação OPEX'!$Q$4:$Q$1666,\"N\",'Classificação OPEX'!$S$4:$S$1666,\"NÃO\",'Classificação OPEX'!$V$4:$V$1666,DRIVER_OPEX!A78,'Classificação OPEX'!$W$4:$W$1666,DRIVER_OPEX!B78)","v":0},{"$f":"IF($F78=\"\",0,VLOOKUP($E78,Drivers!$A$26:$F$48,MATCH(G$1,Drivers!$A$25:$F$25,0),0)*$F78)","v":0},{"$f":"IF($F78=\"\",0,VLOOKUP($E78,Drivers!$A$26:$F$48,MATCH(H$1,Drivers!$A$25:$F$25,0),0)*$F78)","v":0},{"$f":"IF($F78=\"\",0,VLOOKUP($E78,Drivers!$A$26:$F$48,MATCH(I$1,Drivers!$A$25:$F$25,0),0)*$F78)","v":0},{"$f":"IF($F78=\"\",0,VLOOKUP($E78,Drivers!$A$26:$F$48,MATCH(J$1,Drivers!$A$25:$F$25,0),0)*$F78)","v":0},{"$f":"IF($F78=\"\",0,VLOOKUP($E78,Drivers!$A$26:$F$48,MATCH(K$1,Drivers!$A$25:$F$25,0),0)*$F78)","v":0}]
["DESPESAS_GERAIS",2110,{"$f":"VLOOKUP(B79,Centro_Custo!$A$2:$B$36,2,0)","v":"ASSESSORIA DA DIRETORIA EXECUTIVA"},{"$f":"VLOOKUP(B79,Centro_Custo!$A$2:$C$36,3)","v":"Encargos de Gestão"},"Fixo",{"$f":"SUMIFS('Classificação OPEX'!$O$4:$O$1666,'Classificação OPEX'!$Q$4:$Q$1666,\"N\",'Classificação OPEX'!$S$4:$S$1666,\"NÃO\",'Classificação OPEX'!$V$4:$V$1666,DRIVER_OPEX!A79,'Classificação OPEX'!$W$4:$W$1666,DRIVER_OPEX!B79)","v":8633.6564528597846},{"$f":"IF($F79=\"\",0,VLOOKUP($E79,Drivers!$A$26:$F$48,MATCH(G$1,Drivers!$A$25:$F$25,0),0)*$F79)","v":8633.6564528597846},{"$f":"IF($F79=\"\",0,VLOOKUP($E79,Drivers!$A$26:$F$48,MATCH(H$1,Drivers!$A$25:$F$25,0),0)*$F79)","v":8633.6564528597846},{"$f":"IF($F79=\"\",0,VLOOKUP($E79,Drivers!$A$26:$F$48,MATCH(I$1,Drivers!$A$25:$F$25,0),0)*$F79)","v":8633.6564528597846},{"$f":"IF($F79=\"\",0,VLOOKUP($E79,Drivers!$A$26:$F$48,MATCH(J$1,Drivers!$A$25:$F$25,0),0)*$F79)","v":8633.6564528597846},{"$f":"IF($F79=\"\",0,VLOOKUP($E79,Drivers!$A$26:$F$48,MATCH(K$1,Drivers!$A$25:$F$25,0),0)*$F79)","v":8633.6564528597846}]
["DESPESAS_GERAIS",2120,{"$f":"VLOOKUP(B80,Centro_Custo!$A$2:$B$36,2,0)","v":"ASSESSORIA DA PRESIDÊNCIA"},{"$f":"VLOOKUP(B80,Centro_Custo!$A$2:$C$36,3)","v":"Encargos de Gestão"},"Fixo",{"$f":"SUMIFS('Classificação OPEX'!$O$4:$O$1666,'Classificação OPEX'!$Q$4:$Q$1666,\"N\",'Classificação OPEX'!$S$4:$S$1666,\"NÃO\",'Classificação OPEX'!$V$4:$V$1666,DRIVER_OPEX!A80,'Classificação OPEX'!$W$4:$W$1666,DRIVER_OPEX!B80)","v":34763.719111355633},{"$f":"IF($F80=\"\",0,VLOOKUP($E80,Drivers!$A$26:$F$48,MATCH(G$1,Drivers!$A$25:$F$25,0),0)*$F80)","v":34763.719111355633},{"$f":"IF($F80=\"\",0,VLOOKUP($E80,Drivers!$A$26:$F$48,MATCH(H$1,Drivers!$A$25:$F$25,0),0)*$F80)","v":34763.719111355633},{"$f":"IF($F80=\"\",0,VLOOKUP($E80,Drivers!$A$26:$F$48,MATCH(I$1,Drivers!$A$25:$F$25,0),0)*$F80)","v":34763.719111355633},{"$f":"IF($F80=\"\",0,VLOOKUP($E80,Drivers!$A$26:$F$48,MATCH(J$1,Drivers!$A$25:$F$25,0),0)*$F80)","v":34763.719111355633},{"$f":"IF($F80=\"\",0,VLOOKUP($E80,Drivers!$A$26:$F$48,MATCH(K$1,Drivers!$A$25:$F$25,0),0)*$F80)","v":34763.719111355633}]
["DESPESAS_GERAIS",2130,{"$f":"VLOOKUP(B81,Centro_Custo!$A$2:$B$36,2,0)","v":"ASSESSORIA DE RELAÇÕES INSTITUCIONAIS E NOVOS NEGÓCIOS"},{"$f":"VLOOKUP(B81,Centro_Custo!$A$2:$C$36,3)","v":"Encargos de Gestão"},"Fixo",{"$f":"SUMIFS('Classificação OPEX'!$O$4:$O$1666,'Classificação OPEX'!$Q$4:$Q$1666,\"N\",'Classificação OPEX'!$S$4:$S$1666,\"NÃO\",'Classificação OPEX'!$V$4:$V$1666,DRIVER_OPEX!A81,'Classificação OPEX'!$W$4:$W$1666,DRIVER_OPEX!B81)","v":0},{"$f":"IF($F81=\"\",0,VLOOKUP($E81,Drivers!$A$26:$F$48,MATCH(G$1,Drivers!$A$25:$F$25,0),0)*$F81)","v":0},{"$f":"IF($F81=\"\",0,VLOOKUP($E81,Drivers!$A$26:$F$48,MATCH(H$1,Drivers!$A$25:$F$25,0),0)*$F81)","v":0},{"$f":"IF($F81=\"\",0,VLOOKUP($E81,Drivers!$A$26:$F$48,MATCH(I$1,Drivers!$A$25:$F$25,0),0)*$F81)","v":0},{"$f":"IF($F81=\"\",0,VLOOKUP($E81,Drivers!$A$26:$F$48,MATCH(J$1,Drivers!$A$25:$F$25,0),0)*$F81)","v":0},{"$f":"IF($F81=\"\",0,VLOOKUP($E81,Drivers!$A$26:$F$48,MATCH(K$1,Drivers!$A$25:$F$25,0),0)*$F81)","v":0}]
["DESPESAS_GERAIS",2140,{"$f":"VLOOKUP(B82,Centro_Custo!$A$2:$B$36,2,0)","v":"ASSESSORIA DTC"},{"$f":"VLOOKUP(B82,Centro_Custo!$A$2:$C$36,3)","v":"Encargos de Comercialização"},"Fixo",{"$f":"SUMIFS('Classificação OPEX'!$O$4:$O$1666,'Classificação OPEX'!$Q$4:$Q$1666,\"N\",'Classificação OPEX'!$S$4:$S$1666,\"NÃO\",'Classificação OPEX'!$V$4:$V$1666,DRIVER_OPEX!A82,'Classificação OPEX'!$W$4:$W$1666,DRIVER_OPEX!B82)","v":0},{"$f":"IF($F82=\"\",0,VLOOKUP($E82,Drivers!$A$26:$F$48,MATCH(G$1,Drivers!$A$25:$F$25,0),0)*$F82)","v":0},{"$f":"IF($F82=\"\",0,VLOOKUP($E82,Drivers!$A$26:$F$48,MATCH(H$1,Drivers!$A$25:$F$25,0),0)*$F82)","v":0},{"$f":"IF($F82=\"\",0,VLOOKUP($E82,Drivers!$A$26:$F$48,MATCH(I$1,Drivers!$A$25:$F$25,0),0)*$F82)","v":0},{"$f":"IF($F82=\"\",0,VLOOKUP($E82,Drivers!$A$26:$F$48,MATCH(J$1,Drivers!$A$25:$F$25,0),0)*$F82)","v":0},{"$f":"IF($F82=\"\",0,VLOOKUP($E82,Drivers!$A$26:$F$48,MATCH(K$1,Drivers!$A$25:$F$25,0),0)*$F82)","v":0}]
["DESPESAS_GERAIS",2200,{"$f":"VLOOKUP(B83,Centro_Custo!$A$2:$B$36,2,0)","v":"DIRETORIA COLEGIADA - PRESIDÊNCIA"},{"$f":"VLOOKUP(B83,Centro_Custo!$A$2:$C$36,3)","v":"Encargos de Gestão"},"Fixo",{"$f":"SUMIFS('Classificação OPEX'!$O$4:$O$1666,'Classificação OPEX'!$Q$4:$Q$1666,\"N\",'Classificação OPEX'!$S$4:$S$1666,\"NÃO\",'Classificação OPEX'!$V$4:$V$1666,DRIVER_OPEX!A83,'Classificação OPEX'!$W$4:$W$1666,DRIVER_OPEX!B83)","v":11845.632308747523},{"$f":"IF($F83=\"\",0,VLOOKUP($E83,Drivers!$A$26:$F$48,MATCH(G$1,Drivers!$A$25:$F$25,0),0)*$F83)","v":11845.632308747523},{"$f":"IF($F83=\"\",0,VLOOKUP($E83,Drivers!$A$26:$F$48,MATCH(H$1,Drivers!$A$25:$F$25,0),0)*$F83)","v":11845.632308747523},{"$f":"IF($F83=\"\",0,VLOOKUP($E83,Drivers!$A$26:$F$48,MATCH(I$1,Drivers!$A$25:$F$25,0),0)*$F83)","v":11845.632308747523},{"$f":"IF($F83=\"\",0,VLOOKUP($E83,Drivers!$A$26:$F$48,MATCH(J$1,Drivers!$A$25:$F$25,0),0)*$F83)","v":11845.632308747523},{"$f":"IF($F83=\"\",0,VLOOKUP($E83,Drivers!$A$26:$F$48,MATCH(K$1,Drivers!$A$25:$F$25,0),0)*$F83)","v":11845.632308747523}]
["DESPESAS_GERAIS",2300,{"$f":"VLOOKUP(B84,Centro_Custo!$A$2:$B$36,2,0)","v":"DIRETORIA COLEGIADA - DAF"},{"$f":"VLOOKUP(B84,Centro_Custo!$A$2:$C$36,3)","v":"Encargos de Gestão"},"Fixo",{"$f":"SUMIFS('Classificação OPEX'!$O$4:$O$1666,'Classificação OPEX'!$Q$4:$Q$1666,\"N\",'Classificação OPEX'!$S$4:$S$1666,\"NÃO\",'Classificação OPEX'!$V$4:$V$1666,DRIVER_OPEX!A84,'Classificação OPEX'!$W$4:$W$1666,DRIVER_OPEX!B84)","v":757142.47797067766},{"$f":"IF($F84=\"\",0,VLOOKUP($E84,Drivers!$A$26:$F$48,MATCH(G$1,Drivers!$A$25:$F$25,0),0)*$F84)","v":757142.47797067766},{"$f":"IF($F84=\"\",0,VLOOKUP($E84,Drivers!$A$26:$F$48,MATCH(H$1,Drivers!$A$25:$F$25,0),0)*$F84)","v":757142.47797067766},{"$f":"IF($F84=\"\",0,VLOOKUP($E84,Drivers!$A$26:$F$48,MATCH(I$1,Drivers!$A$25:$F$25,0),0)*$F84)","v":757142.47797067766},{"$f":"IF($F84=\"\",0,VLOOKUP($E84,Drivers!$A$26:$F$48,MATCH(J$1,Drivers!$A$25:$F$25,0),0)*$F84)","v":757142.47797067766},{"$f":"IF($F84=\"\",0,VLOOKUP($E84,Drivers!$A$26:$F$48,MATCH(K$1,Drivers!$A$25:$F$25,0),0)*$F84)","v":757142.47797067766}]
["DESPESAS_GERAIS",2310,{"$f":"VLOOKUP(B85,Centro_Custo!$A$2:$B$36,2,0)","v":"ASSESSORIA DAF"},{"$f":"VLOOKUP(B85,Centro_Custo!$A$2:$C$36,3)","v":"Encargos de Gestão"},"Fixo",{"$f":"SUMIFS('Classificação OPEX'!$O$4:$O$1666,'Classificação OPEX'!$Q$4:$Q$1666,\"N\",'Classificação OPEX'!$S$4:$S$1666,\"NÃO\",'Classificação OPEX'!$V$4:$V$1666,DRIVER_OPEX!A85,'Classificação OPEX'!$W$4:$W$1666,DRIVER_OPEX!B85)","v":5408.2489489185864},{"$f":"IF($F85=\"\",0,VLOOKUP($E85,Drivers!$A$26:$F$48,MATCH(G$1,Drivers!$A$25:$F$25,0),0)*$F85)","v":5408.2489489185864},{"$f":"IF($F85=\"\",0,VLOOKUP($E85,Drivers!$A$26:$F$48,MATCH(H$1,Drivers!$A$25:$F$25,0),0)*$F85)","v":5408.2489489185864},{"$f":"IF($F85=\"\",0,VLOOKUP($E85,Drivers!$A$26:$F$48,MATCH(I$1,Drivers!$A$25:$F$25,0),0)*$F85)","v":5408.2489489185864},{"$f":"IF($F85=\"\",0,VLOOKUP($E85,Drivers!$A$26:$F$48,MATCH(J$1,Drivers!$A$25:$F$25,0),0)*$F85)","v":5408.2489489185864},{"$f":"IF($F85=\"\",0,VLOOKUP($E85,Drivers!$A$26:$F$48,MATCH(K$1,Drivers!$A$25:$F$25,0),0)*$F85)","v":5408.2489489185864}]
["DESPESAS_GERAIS",2400,{"$f":"VLOOKUP(B86,Centro_Custo!$A$2:$B$36,2,0)","v":"DIRETORIA COLEGIADA - DTC"},{"$f":"VLOOKUP(B86,Centro_Custo!$A$2:$C$36,3)","v":"Encargos de Comercialização"},"Fixo",{"$f":"SUMIFS('Classificação OPEX'!$O$4:$O$1666,'Classificação OPEX'!$Q$4:$Q$1666,\"N\",'Classificação OPEX'!$S$4:$S$1666,\"NÃO\",'Classificação OPEX'!$V$4:$V$1666,DRIVER_OPEX!A86,'Classificação OPEX'!$W$4:$W$1666,DRIVER_OPEX!B86)","v":675289.72945078264},{"$f":"IF($F86=\"\",0,VLOOKUP($E86,Drivers!$A$26:$F$48,MATCH(G$1,Drivers!$A$25:$F$25,0),0)*$F86)","v":675289.72945078264},{"$f":"IF($F86=\"\",0,VLOOKUP($E86,Drivers!$A$26:$F$48,MATCH(H$1,Drivers!$A$25:$F$25,0),0)*$F86)","v":675289.72945078264},{"$f":"IF($F86=\"\",0,VLOOKUP($E86,Drivers!$A$26:$F$48,MATCH(I$1,Drivers!$A$25:$F$25,0),0)*$F86)","v":675289.72945078264},{"$f":"IF($F86=\"\",0,VLOOKUP($E86,Drivers!$A$26:$F$48,MATCH(J$1,Drivers!$A$25:$F$25,0),0)*$F86)","v":675289.72945078264},{"$f":"IF($F86=\"\",0,VLOOKUP($E86,Drivers!$A$26:$F$48,MATCH(K$1,Drivers!$A$25:$F$25,0),0)*$F86)","v":675289.72945078264}]
["DESPESAS_GERAIS",2410,{"$f":"VLOOKUP(B87,Centro_Custo!$A$2:$B$36,2,0)","v":"ASSESSORIA DE SEGURANÇA DO TRABALHO"},{"$f":"VLOOKUP(B87,Centro_Custo!$A$2:$C$36,3)","v":"OPEX&ODESP"},"Fixo",{"$f":"SUMIFS('Classificação OPEX'!$O$4:$O$1666,'Classificação OPEX'!$Q$4:$Q$1666,\"N\",'Classificação OPEX'!$S$4:$S$1666,\"NÃO\",'Classificação OPEX'!$V$4:$V$1666,DRIVER_OPEX!A87,'Classificação OPEX'!$W$4:$W$1666,DRIVER_OPEX!B87)","v":1509.4332868977526},{"$f":"IF($F87=\"\",0,VLOOKUP($E87,Drivers!$A$26:$F$48,MATCH(G$1,Drivers!$A$25:$F$25,0),0)*$F87)","v":1509.4332868977526},{"$f":"IF($F87=\"\",0,VLOOKUP($E87,Drivers!$A$26:$F$48,MATCH(H$1,Drivers!$A$25:$F$25,0),0)*$F87)","v":1509.4332868977526},{"$f":"IF($F87=\"\",0,VLOOKUP($E87,Drivers!$A$26:$F$48,MATCH(I$1,Drivers!$A$25:$F$25,0),0)*$F87)","v":1509.4332868977526},{"$f":"IF($F87=\"\",0,VLOOKUP($E87,Drivers!$A$26:$F$48,MATCH(J$1,Drivers!$A$25:$F$25,0),0)*$F87)","v":1509.4332868977526},{"$f":"IF($F87=\"\",0,VLOOKUP($E87,Drivers!$A$26:$F$48,MATCH(K$1,Drivers!$A$25:$F$25,0),0)*$F87)","v":1509.4332868977526}]
["DESPESAS_GERAIS",3100,{"$f":"VLOOKUP(B88,Centro_Custo!$A$2:$B$36,2,0)","v":"SMS"},{"$f":"VLOOKUP(B88,Centro_Custo!$A$2:$C$36,3)","v":"OPEX&ODESP"},"Fixo",{"$f":"SUMIFS('Classificação OPEX'!$O$4:$O$1666,'Classificação OPEX'!$Q$4:$Q$1666,\"N\",'Classificação OPEX'!$S$4:$S$1666,\"NÃO\",'Classificação OPEX'!$V$4:$V$1666,DRIVER_OPEX!A88,'Classificação OPEX'!$W$4:$W$1666,DRIVER_OPEX!B88)","v":17771.40927571994},{"$f":"IF($F88=\"\",0,VLOOKUP($E88,Drivers!$A$26:$F$48,MATCH(G$1,Drivers!$A$25:$F$25,0),0)*$F88)","v":17771.40927571994},{"$f":"IF($F88=\"\",0,VLOOKUP($E88,Drivers!$A$26:$F$48,MATCH(H$1,Drivers!$A$25:$F$25,0),0)*$F88)","v":17771.40927571994},{"$f":"IF($F88=\"\",0,VLOOKUP($E88,Drivers!$A$26:$F$48,MATCH(I$1,Drivers!$A$25:$F$25,0),0)*$F88)","v":17771.40927571994},{"$f":"IF($F88=\"\",0,VLOOKUP($E88,Drivers!$A$26:$F$48,MATCH(J$1,Drivers!$A$25:$F$25,0),0)*$F88)","v":17771.40927571994},{"$f":"IF($F88=\"\",0,VLOOKUP($E88,Drivers!$A$26:$F$48,MATCH(K$1,Drivers!$A$25:$F$25,0),0)*$F88)","v":17771.40927571994}]
["DESPESAS_GERAIS",3200,{"$f":"VLOOKUP(B89,Centro_Custo!$A$2:$B$36,2,0)","v":"GERÊNCIA DE PLANEJAMENTO E MEIO AMBIENTE"},{"$f":"VLOOKUP(B89,Centro_Custo!$A$2:$C$36,3)","v":"OPEX&ODESP"},"Fixo",{"$f":"SUMIFS('Classificação OPEX'!$O$4:$O$1666,'Classificação OPEX'!$Q$4:$Q$1666,\"N\",'Classificação OPEX'!$S$4:$S$1666,\"NÃO\",'Classificação OPEX'!$V$4:$V$1666,DRIVER_OPEX!A89,'Classificação OPEX'!$W$4:$W$1666,DRIVER_OPEX!B89)","v":67845.320363406965},{"$f":"IF($F89=\"\",0,VLOOKUP($E89,Drivers!$A$26:$F$48,MATCH(G$1,Drivers!$A$25:$F$25,0),0)*$F89)","v":67845.320363406965},{"$f":"IF($F89=\"\",0,VLOOKUP($E89,Drivers!$A$26:$F$48,MATCH(H$1,Drivers!$A$25:$F$25,0),0)*$F89)","v":67845.320363406965},{"$f":"IF($F89=\"\",0,VLOOKUP($E89,Drivers!$A$26:$F$48,MATCH(I$1,Drivers!$A$25:$F$25,0),0)*$F89)","v":67845.320363406965},{"$f":"IF($F89=\"\",0,VLOOKUP($E89,Drivers!$A$26:$F$48,MATCH(J$1,Drivers!$A$25:$F$25,0),0)*$F89)","v":67845.320363406965},{"$f":"IF($F89=\"\",0,VLOOKUP($E89,Drivers!$A$26:$F$48,MATCH(K$1,Drivers!$A$25:$F$25,0),0)*$F89)","v":67845.320363406965}]
["DESPESAS_GERAIS",3300,{"$f":"VLOOKUP(B90,Centro_Custo!$A$2:$B$36,2,0)","v":"GERÊNCIA JURÍDICA"},{"$f":"VLOOKUP(B90,Centro_Custo!$A$2:$C$36,3)","v":"Encargos de Gestão"},"Fixo",{"$f":"SUMIFS('Classificação OPEX'!$O$4:$O$1666,'Classificação OPEX'!$Q$4:$Q$1666,\"N\",'Classificação OPEX'!$S$4:$S$1666,\"NÃO\",'Classificação OPEX'!$V$4:$V$1666,DRIVER_OPEX!A90,'Classificação OPEX'!$W$4:$W$1666,DRIVER_OPEX!B90)","v":22244.180744569654},{"$f":"IF($F90=\"\",0,VLOOKUP($E90,Drivers!$A$26:$F$48,MATCH(G$1,Drivers!$A$25:$F$25,0),0)*$F90)","v":22244.180744569654},{"$f":"IF($F90=\"\",0,VLOOKUP($E90,Drivers!$A$26:$F$48,MATCH(H$1,Drivers!$A$25:$F$25,0),0)*$F90)","v":22244.180744569654},{"$f":"IF($F90=\"\",0,VLOOKUP($E90,Drivers!$A$26:$F$48,MATCH(I$1,Drivers!$A$25:$F$25,0),0)*$F90)","v":22244.180744569654},{"$f":"IF($F90=\"\",0,VLOOKUP($E90,Drivers!$A$26:$F$48,MATCH(J$1,Drivers!$A$25:$F$25,0),0)*$F90)","v":22244.180744569654},{"$f":"IF($F90=\"\",0,VLOOKUP($E90,Drivers!$A$26:$F$48,MATCH(K$1,Drivers!$A$25:$F$25,0),0)*$F90)","v":22244.180744569654}]
["DESPESAS_GERAIS",3500,{"$f":"VLOOKUP(B91,Centro_Custo!$A$2:$B$36,2,0)","v":"ASSESSORIA DE COMUNICAÇÃO INSTITUCIONAL"},{"$f":"VLOOKUP(B91,Centro_Custo!$A$2:$C$36,3)","v":"Encargos de Gestão"},"Fixo",{"$f":"SUMIFS('Classificação OPEX'!$O$4:$O$1666,'Classificação OPEX'!$Q$4:$Q$1666,\"N\",'Classificação OPEX'!$S$4:$S$1666,\"NÃO\",'Classificação OPEX'!$V$4:$V$1666,DRIVER_OPEX!A91,'Classificação OPEX'!$W$4:$W$1666,DRIVER_OPEX!B91)","v":45207.961941319183},{"$f":"IF($F91=\"\",0,VLOOKUP($E91,Drivers!$A$26:$F$48,MATCH(G$1,Drivers!$A$25:$F$25,0),0)*$F91)","v":45207.961941319183},{"$f":"IF($F91=\"\",0,VLOOKUP($E91,Drivers!$A$26:$F$48,MATCH(H$1,Drivers!$A$25:$F$25,0),0)*$F91)","v":45207.961941319183},{"$f":"IF($F91=\"\",0,VLOOKUP($E91,Drivers!$A$26:$F$48,MATCH(I$1,Drivers!$A$25:$F$25,0),0)*$F91)","v":45207.961941319183},{"$f":"IF($F91=\"\",0,VLOOKUP($E91,Drivers!$A$26:$F$48,MATCH(J$1,Drivers!$A$25:$F$25,0),0)*$F91)","v":45207.961941319183},{"$f":"IF($F91=\"\",0,VLOOKUP($E91,Drivers!$A$26:$F$48,MATCH(K$1,Drivers!$A$25:$F$25,0),0)*$F91)","v":45207.961941319183}]
["DESPESAS_GERAIS",3600,{"$f":"VLOOKUP(B92,Centro_Custo!$A$2:$B$36,2,0)","v":"GERÊNCIA DE GOVERNANÇA, RISCO E COMPLIANCE"},{"$f":"VLOOKUP(B92,Centro_Custo!$A$2:$C$36,3)","v":"Encargos de Gestão"},"Fixo",{"$f":"SUMIFS('Classificação OPEX'!$O$4:$O$1666,'Classificação OPEX'!$Q$4:$Q$1666,\"N\",'Classificação OPEX'!$S$4:$S$1666,\"NÃO\",'Classificação OPEX'!$V$4:$V$1666,DRIVER_OPEX!A92,'Classificação OPEX'!$W$4:$W$1666,DRIVER_OPEX!B92)","v":33755.910984762289},{"$f":"IF($F92=\"\",0,VLOOKUP($E92,Drivers!$A$26:$F$48,MATCH(G$1,Drivers!$A$25:$F$25,0),0)*$F92)","v":33755.910984762289},{"$f":"IF($F92=\"\",0,VLOOKUP($E92,Drivers!$A$26:$F$48,MATCH(H$1,Drivers!$A$25:$F$25,0),0)*$F92)","v":33755.910984762289},{"$f":"IF($F92=\"\",0,VLOOKUP($E92,Drivers!$A$26:$F$48,MATCH(I$1,Drivers!$A$25:$F$25,0),0)*$F92)","v":33755.910984762289},{"$f":"IF($F92=\"\",0,VLOOKUP($E92,Drivers!$A$26:$F$48,MATCH(J$1,Drivers!$A$25:$F$25,0),0)*$F92)","v":33755.910984762289},{"$f":"IF($F92=\"\",0,VLOOKUP($E92,Drivers!$A$26:$F$48,MATCH(K$1,Drivers!$A$25:$F$25,0),0)*$F92)","v":33755.910984762289}]
["DESPESAS_GERAIS",3700,{"$f":"VLOOKUP(B93,Centro_Custo!$A$2:$B$36,2,0)","v":"GERÊNCIA DE REGULAÇÃO"},{"$f":"VLOOKUP(B93,Centro_Custo!$A$2:$C$36,3)","v":"Encargos de Gestão"},"Fixo",{"$f":"SUMIFS('Classificação OPEX'!$O$4:$O$1666,'Classificação OPEX'!$Q$4:$Q$1666,\"N\",'Classificação OPEX'!$S$4:$S$1666,\"NÃO\",'Classificação OPEX'!$V$4:$V$1666,DRIVER_OPEX!A93,'Classificação OPEX'!$W$4:$W$1666,DRIVER_OPEX!B93)","v":303.10952369811963},{"$f":"IF($F93=\"\",0,VLOOKUP($E93,Drivers!$A$26:$F$48,MATCH(G$1,Drivers!$A$25:$F$25,0),0)*$F93)","v":303.10952369811963},{"$f":"IF($F93=\"\",0,VLOOKUP($E93,Drivers!$A$26:$F$48,MATCH(H$1,Drivers!$A$25:$F$25,0),0)*$F93)","v":303.10952369811963},{"$f":"IF($F93=\"\",0,VLOOKUP($E93,Drivers!$A$26:$F$48,MATCH(I$1,Drivers!$A$25:$F$25,0),0)*$F93)","v":303.10952369811963},{"$f":"IF($F93=\"\",0,VLOOKUP($E93,Drivers!$A$26:$F$48,MATCH(J$1,Drivers!$A$25:$F$25,0),0)*$F93)","v":303.10952369811963},{"$f":"IF($F93=\"\",0,VLOOKUP($E93,Drivers!$A$26:$F$48,MATCH(K$1,Drivers!$A$25:$F$25,0),0)*$F93)","v":303.10952369811963}]
["DESPESAS_GERAIS",4100,{"$f":"VLOOKUP(B94,Centro_Custo!$A$2:$B$36,2,0)","v":"GERÊNCIA DE SERVIÇOS CORPORATIVOS"},{"$f":"VLOOKUP(B94,Centro_Custo!$A$2:$C$36,3)","v":"Encargos de Gestão"},"Município",{"$f":"SUMIFS('Classificação OPEX'!$O$4:$O$1666,'Classificação OPEX'!$Q$4:$Q$1666,\"N\",'Classificação OPEX'!$S$4:$S$1666,\"NÃO\",'Classificação OPEX'!$V$4:$V$1666,DRIVER_OPEX!A94,'Classificação OPEX'!$W$4:$W$1666,DRIVER_OPEX!B94)","v":639100.13661300554},{"$f":"IF($F94=\"\",0,VLOOKUP($E94,Drivers!$A$26:$F$48,MATCH(G$1,Drivers!$A$25:$F$25,0),0)*$F94)","v":681706.81238720589},{"$f":"IF($F94=\"\",0,VLOOKUP($E94,Drivers!$A$26:$F$48,MATCH(H$1,Drivers!$A$25:$F$25,0),0)*$F94)","v":809526.83970980695},{"$f":"IF($F94=\"\",0,VLOOKUP($E94,Drivers!$A$26:$F$48,MATCH(I$1,Drivers!$A$25:$F$25,0),0)*$F94)","v":852133.51548400731},{"$f":"IF($F94=\"\",0,VLOOKUP($E94,Drivers!$A$26:$F$48,MATCH(J$1,Drivers!$A$25:$F$25,0),0)*$F94)","v":852133.51548400731},{"$f":"IF($F94=\"\",0,VLOOKUP($E94,Drivers!$A$26:$F$48,MATCH(K$1,Drivers!$A$25:$F$25,0),0)*$F94)","v":852133.51548400731}]
["DESPESAS_GERAIS",4200,{"$f":"VLOOKUP(B95,Centro_Custo!$A$2:$B$36,2,0)","v":"GERÊNCIA FINANCEIRA"},{"$f":"VLOOKUP(B95,Centro_Custo!$A$2:$C$36,3)","v":"Encargos de Gestão"},"Fixo",{"$f":"SUMIFS('Classificação OPEX'!$O$4:$O$1666,'Classificação OPEX'!$Q$4:$Q$1666,\"N\",'Classificação OPEX'!$S$4:$S$1666,\"NÃO\",'Classificação OPEX'!$V$4:$V$1666,DRIVER_OPEX!A95,'Classificação OPEX'!$W$4:$W$1666,DRIVER_OPEX!B95)","v":980399.41291614936},{"$f":"IF($F95=\"\",0,VLOOKUP($E95,Drivers!$A$26:$F$48,MATCH(G$1,Drivers!$A$25:$F$25,0),0)*$F95)","v":980399.41291614936},{"$f":"IF($F95=\"\",0,VLOOKUP($E95,Drivers!$A$26:$F$48,MATCH(H$1,Drivers!$A$25:$F$25,0),0)*$F95)","v":980399.41291614936},{"$f":"IF($F95=\"\",0,VLOOKUP($E95,Drivers!$A$26:$F$48,MATCH(I$1,Drivers!$A$25:$F$25,0),0)*$F95)","v":980399.41291614936},{"$f":"IF($F95=\"\",0,VLOOKUP($E95,Drivers!$A$26:$F$48,MATCH(J$1,Drivers!$A$25:$F$25,0),0)*$F95)","v":980399.41291614936},{"$f":"IF($F95=\"\",0,VLOOKUP($E95,Drivers!$A$26:$F$48,MATCH(K$1,Drivers!$A$25:$F$25,0),0)*$F95)","v":980399.41291614936}]
["DESPESAS_GERAIS",4300,{"$f":"VLOOKUP(B96,Centro_Custo!$A$2:$B$36,2,0)","v":"GERÊNCIA DE TECNOLOGIA E SISTEMAS DE INFORMAÇÃO"},{"$f":"VLOOKUP(B96,Centro_Custo!$A$2:$C$36,3)","v":"Encargos de Gestão"},"Funcionário",{"$f":"SUMIFS('Classificação OPEX'!$O$4:$O$1666,'Classificação OPEX'!$Q$4:$Q$1666,\"N\",'Classificação OPEX'!$S$4:$S$1666,\"NÃO\",'Classificação OPEX'!$V$4:$V$1666,DRIVER_OPEX!A96,'Classificação OPEX'!$W$4:$W$1666,DRIVER_OPEX!B96)","v":152589.185219376},{"$f":"IF($F96=\"\",0,VLOOKUP($E96,Drivers!$A$26:$F$48,MATCH(G$1,Drivers!$A$25:$F$25,0),0)*$F96)","v":162627.94740486128},{"$f":"IF($F96=\"\",0,VLOOKUP($E96,Drivers!$A$26:$F$48,MATCH(H$1,Drivers!$A$25:$F$25,0),0)*$F96)","v":166643.45227905535},{"$f":"IF($F96=\"\",0,VLOOKUP($E96,Drivers!$A$26:$F$48,MATCH(I$1,Drivers!$A$25:$F$25,0),0)*$F96)","v":167647.32849760388},{"$f":"IF($F96=\"\",0,VLOOKUP($E96,Drivers!$A$26:$F$48,MATCH(J$1,Drivers!$A$25:$F$25,0),0)*$F96)","v":167647.32849760388},{"$f":"IF($F96=\"\",0,VLOOKUP($E96,Drivers!$A$26:$F$48,MATCH(K$1,Drivers!$A$25:$F$25,0),0)*$F96)","v":167647.32849760388}]
["DESPESAS_GERAIS",4500,{"$f":"VLOOKUP(B97,Centro_Custo!$A$2:$B$36,2,0)","v":"GERÊNCIA CONTÁBIL"},{"$f":"VLOOKUP(B97,Centro_Custo!$A$2:$C$36,3)","v":"Encargos de Gestão"},"Fixo",{"$f":"SUMIFS('Classificação OPEX'!$O$4:$O$1666,'Classificação OPEX'!$Q$4:$Q$1666,\"N\",'Classificação OPEX'!$S$4:$S$1666,\"NÃO\",'Classificação OPEX'!$V$4:$V$1666,DRIVER_OPEX!A97,'Classificação OPEX'!$W$4:$W$1666,DRIVER_OPEX!B97)","v":40805.193550715885},{"$f":"IF($F97=\"\",0,VLOOKUP($E97,Drivers!$A$26:$F$48,MATCH(G$1,Drivers!$A$25:$F$25,0),0)*$F97)","v":40805.193550715885},{"$f":"IF($F97=\"\",0,VLOOKUP($E97,Drivers!$A$26:$F$48,MATCH(H$1,Drivers!$A$25:$F$25,0),0)*$F97)","v":40805.193550715885},{"$f":"IF($F97=\"\",0,VLOOKUP($E97,Drivers!$A$26:$F$48,MATCH(I$1,Drivers!$A$25:$F$25,0),0)*$F97)","v":40805.193550715885},{"$f":"IF($F97=\"\",0,VLOOKUP($E97,Drivers!$A$26:$F$48,MATCH(J$1,Drivers!$A$25:$F$25,0),0)*$F97)","v":40805.193550715885},{"$f":"IF($F97=\"\",0,VLOOKUP($E97,Drivers!$A$26:$F$48,MATCH(K$1,Drivers!$A$25:$F$25,0),0)*$F97)","v":40805.193550715885}]
["DESPESAS_GERAIS",5100,{"$f":"VLOOKUP(B98,Centro_Custo!$A$2:$B$36,2,0)","v":"GERÊNCIA DE ENGENHARIA"},{"$f":"VLOOKUP(B98,Centro_Custo!$A$2:$C$36,3)","v":"OPEX&ODESP"},"Extensão de Rede",{"$f":"SUMIFS('Classificação OPEX'!$O$4:$O$1666,'Classificação OPEX'!$Q$4:$Q$1666,\"N\",'Classificação OPEX'!$S$4:$S$1666,\"NÃO\",'Classificação OPEX'!$V$4:$V$1666,DRIVER_OPEX!A98,'Classificação OPEX'!$W$4:$W$1666,DRIVER_OPEX!B98)","v":138423.19275298473},{"$f":"IF($F98=\"\",0,VLOOKUP($E98,Drivers!$A$26:$F$48,MATCH(G$1,Drivers!$A$25:$F$25,0),0)*$F98)","v":148165.66953712198},{"$f":"IF($F98=\"\",0,VLOOKUP($E98,Drivers!$A$26:$F$48,MATCH(H$1,Drivers!$A$25:$F$25,0),0)*$F98)","v":161598.2290761786},{"$f":"IF($F98=\"\",0,VLOOKUP($E98,Drivers!$A$26:$F$48,MATCH(I$1,Drivers!$A$25:$F$25,0),0)*$F98)","v":166379.06956876852},{"$f":"IF($F98=\"\",0,VLOOKUP($E98,Drivers!$A$26:$F$48,MATCH(J$1,Drivers!$A$25:$F$25,0),0)*$F98)","v":173260.49657320927},{"$f":"IF($F98=\"\",0,VLOOKUP($E98,Drivers!$A$26:$F$48,MATCH(K$1,Drivers!$A$25:$F$25,0),0)*$F98)","v":178678.59364804605}]
["DESPESAS_GERAIS",5200,{"$f":"VLOOKUP(B99,Centro_Custo!$A$2:$B$36,2,0)","v":"GERÊNCIA DE OPERAÇÕES"},{"$f":"VLOOKUP(B99,Centro_Custo!$A$2:$C$36,3)","v":"OPEX&ODESP"},"Extensão de Rede",{"$f":"SUMIFS('Classificação OPEX'!$O$4:$O$1666,'Classificação OPEX'!$Q$4:$Q$1666,\"N\",'Classificação OPEX'!$S$4:$S$1666,\"NÃO\",'Classificação OPEX'!$V$4:$V$1666,DRIVER_OPEX!A99,'Classificação OPEX'!$W$4:$W$1666,DRIVER_OPEX!B99)","v":167233.10116295583},{"$f":"IF($F99=\"\",0,VLOOKUP($E99,Drivers!$A$26:$F$48,MATCH(G$1,Drivers!$A$25:$F$25,0),0)*$F99)","v":179003.27184906899},{"$f":"IF($F99=\"\",0,VLOOKUP($E99,Drivers!$A$26:$F$48,MATCH(H$1,Drivers!$A$25:$F$25,0),0)*$F99)","v":195231.5392629056},{"$f":"IF($F99=\"\",0,VLOOKUP($E99,Drivers!$A$26:$F$48,MATCH(I$1,Drivers!$A$25:$F$25,0),0)*$F99)","v":201007.41226395662},{"$f":"IF($F99=\"\",0,VLOOKUP($E99,Drivers!$A$26:$F$48,MATCH(J$1,Drivers!$A$25:$F$25,0),0)*$F99)","v":209321.0651677206},{"$f":"IF($F99=\"\",0,VLOOKUP($E99,Drivers!$A$26:$F$48,MATCH(K$1,Drivers!$A$25:$F$25,0),0)*$F99)","v":215866.82645386431}]
["DESPESAS_GERAIS",5300,{"$f":"VLOOKUP(B100,Centro_Custo!$A$2:$B$36,2,0)","v":"GERÊNCIA COMERCIAL"},{"$f":"VLOOKUP(B100,Centro_Custo!$A$2:$C$36,3)","v":"Encargos de Comercialização"},"Usuários total",{"$f":"SUMIFS('Classificação OPEX'!$O$4:$O$1666,'Classificação OPEX'!$Q$4:$Q$1666,\"N\",'Classificação OPEX'!$S$4:$S$1666,\"NÃO\",'Classificação OPEX'!$V$4:$V$1666,DRIVER_OPEX!A100,'Classificação OPEX'!$W$4:$W$1666,DRIVER_OPEX!B100)","v":1238329.358846826},{"$f":"IF($F100=\"\",0,VLOOKUP($E100,Drivers!$A$26:$F$48,MATCH(G$1,Drivers!$A$25:$F$25,0),0)*$F100)","v":1379967.0083557516},{"$f":"IF($F100=\"\",0,VLOOKUP($E100,Drivers!$A$26:$F$48,MATCH(H$1,Drivers!$A$25:$F$25,0),0)*$F100)","v":1516270.9279645488},{"$f":"IF($F100=\"\",0,VLOOKUP($E100,Drivers!$A$26:$F$48,MATCH(I$1,Drivers!$A$25:$F$25,0),0)*$F100)","v":1702996.6755699012},{"$f":"IF($F100=\"\",0,VLOOKUP($E100,Drivers!$A$26:$F$48,MATCH(J$1,Drivers!$A$25:$F$25,0),0)*$F100)","v":1847866.2037894984},{"$f":"IF($F100=\"\",0,VLOOKUP($E100,Drivers!$A$26:$F$48,MATCH(K$1,Drivers!$A$25:$F$25,0),0)*$F100)","v":2024444.3042543516}]
["DESPESAS_GERAIS",9999,{"$f":"VLOOKUP(B101,Centro_Custo!$A$2:$B$36,2,0)","v":"RATEIO"},{"$f":"VLOOKUP(B101,Centro_Custo!$A$2:$C$36,3)","v":"Encargos de Gestão"},"Fixo",{"$f":"SUMIFS('Classificação OPEX'!$O$4:$O$1666,'Classificação OPEX'!$Q$4:$Q$1666,\"N\",'Classificação OPEX'!$S$4:$S$1666,\"NÃO\",'Classificação OPEX'!$V$4:$V$1666,DRIVER_OPEX!A101,'Classificação OPEX'!$W$4:$W$1666,DRIVER_OPEX!B101)","v":202.87922671887677},{"$f":"IF($F101=\"\",0,VLOOKUP($E101,Drivers!$A$26:$F$48,MATCH(G$1,Drivers!$A$25:$F$25,0),0)*$F101)","v":202.87922671887677},{"$f":"IF($F101=\"\",0,VLOOKUP($E101,Drivers!$A$26:$F$48,MATCH(H$1,Drivers!$A$25:$F$25,0),0)*$F101)","v":202.87922671887677},{"$f":"IF($F101=\"\",0,VLOOKUP($E101,Drivers!$A$26:$F$48,MATCH(I$1,Drivers!$A$25:$F$25,0),0)*$F101)","v":202.87922671887677},{"$f":"IF($F101=\"\",0,VLOOKUP($E101,Drivers!$A$26:$F$48,MATCH(J$1,Drivers!$A$25:$F$25,0),0)*$F101)","v":202.87922671887677},{"$f":"IF($F101=\"\",0,VLOOKUP($E101,Drivers!$A$26:$F$48,MATCH(K$1,Drivers!$A$25:$F$25,0),0)*$F101)","v":202.87922671887677}]
["DESPESAS_GERAIS",1001,"CONSELHO DE ADMINISTRAÇÃO",{"$f":"VLOOKUP(B102,Centro_Custo!$A$2:$C$36,3)","v":"Encargos de Gestão"},"Fixo",{"$f":"SUMIFS('Classificação OPEX'!$O$4:$O$1666,'Classificação OPEX'!$Q$4:$Q$1666,\"N\",'Classificação OPEX'!$S$4:$S$1666,\"NÃO\",'Classificação OPEX'!$V$4:$V$1666,DRIVER_OPEX!A102,'Classificação OPEX'!$W$4:$W$1666,DRIVER_OPEX!B102)","v":15.115328126425332},{"$f":"IF($F102=\"\",0,VLOOKUP($E102,Drivers!$A$26:$F$48,MATCH(G$1,Drivers!$A$25:$F$25,0),0)*$F102)","v":15.115328126425332},{"$f":"IF($F102=\"\",0,VLOOKUP($E102,Drivers!$A$26:$F$48,MATCH(H$1,Drivers!$A$25:$F$25,0),0)*$F102)","v":15.115328126425332},{"$f":"IF($F102=\"\",0,VLOOKUP($E102,Drivers!$A$26:$F$48,MATCH(I$1,Drivers!$A$25:$F$25,0),0)*$F102)","v":15.115328126425332},{"$f":"IF($F102=\"\",0,VLOOKUP($E102,Drivers!$A$26:$F$48,MATCH(J$1,Drivers!$A$25:$F$25,0),0)*$F102)","v":15.115328126425332},{"$f":"IF($F102=\"\",0,VLOOKUP($E102,Drivers!$A$26:$F$48,MATCH(K$1,Drivers!$A$25:$F$25,0),0)*$F102)","v":15.115328126425332}]
["DESPESAS_GERAIS",1002,"CONSELHO FISCAL",{"$f":"VLOOKUP(B103,Centro_Custo!$A$2:$C$36,3)","v":"Encargos de Gestão"},"Fixo",{"$f":"SUMIFS('Classificação OPEX'!$O$4:$O$1666,'Classificação OPEX'!$Q$4:$Q$1666,\"N\",'Classificação OPEX'!$S$4:$S$1666,\"NÃO\",'Classificação OPEX'!$V$4:$V$1666,DRIVER_OPEX!A103,'Classificação OPEX'!$W$4:$W$1666,DRIVER_OPEX!B103)","v":114.67245849977125},{"$f":"IF($F103=\"\",0,VLOOKUP($E103,Drivers!$A$26:$F$48,MATCH(G$1,Drivers!$A$25:$F$25,0),0)*$F103)","v":114.67245849977125},{"$f":"IF($F103=\"\",0,VLOOKUP($E103,Drivers!$A$26:$F$48,MATCH(H$1,Drivers!$A$25:$F$25,0),0)*$F103)","v":114.67245849977125},{"$f":"IF($F103=\"\",0,VLOOKUP($E103,Drivers!$A$26:$F$48,MATCH(I$1,Drivers!$A$25:$F$25,0),0)*$F103)","v":114.67245849977125},{"$f":"IF($F103=\"\",0,VLOOKUP($E103,Drivers!$A$26:$F$48,MATCH(J$1,Drivers!$A$25:$F$25,0),0)*$F103)","v":114.67245849977125},{"$f":"IF($F103=\"\",0,VLOOKUP($E103,Drivers!$A$26:$F$48,MATCH(K$1,Drivers!$A$25:$F$25,0),0)*$F103)","v":114.67245849977125}]
["DESPESAS_GERAIS",1003,"COMITÊ DE INDICAÇÃO E AVALIAÇÃO",{"$f":"VLOOKUP(B104,Centro_Custo!$A$2:$C$36,3)","v":"Encargos de Gestão"},"Fixo",{"$f":"SUMIFS('Classificação OPEX'!$O$4:$O$1666,'Classificação OPEX'!$Q$4:$Q$1666,\"N\",'Classificação OPEX'!$S$4:$S$1666,\"NÃO\",'Classificação OPEX'!$V$4:$V$1666,DRIVER_OPEX!A104,'Classificação OPEX'!$W$4:$W$1666,DRIVER_OPEX!B104)","v":0},{"$f":"IF($F104=\"\",0,VLOOKUP($E104,Drivers!$A$26:$F$48,MATCH(G$1,Drivers!$A$25:$F$25,0),0)*$F104)","v":0},{"$f":"IF($F104=\"\",0,VLOOKUP($E104,Drivers!$A$26:$F$48,MATCH(H$1,Drivers!$A$25:$F$25,0),0)*$F104)","v":0},{"$f":"IF($F104=\"\",0,VLOOKUP($E104,Drivers!$A$26:$F$48,MATCH(I$1,Drivers!$A$25:$F$25,0),0)*$F104)","v":0},{"$f":"IF($F104=\"\",0,VLOOKUP($E104,Drivers!$A$26:$F$48,MATCH(J$1,Drivers!$A$25:$F$25,0),0)*$F104)","v":0},{"$f":"IF($F104=\"\",0,VLOOKUP($E104,Drivers!$A$26:$F$48,MATCH(K$1,Drivers!$A$25:$F$25,0),0)*$F104)","v":0}]
["DESPESAS_GERAIS",2100,"SECRETARIA",{"$f":"VLOOKUP(B105,Centro_Custo!$A$2:$C$36,3)","v":"Encargos de Gestão"},"Fixo",{"$f":"SUMIFS('Classificação OPEX'!$O$4:$O$1666,'Classificação OPEX'!$Q$4:$Q$1666,\"N\",'Classificação OPEX'!$S$4:$S$1666,\"NÃO\",'Classificação OPEX'!$V$4:$V$1666,DRIVER_OPEX!A105,'Classificação OPEX'!$W$4:$W$1666,DRIVER_OPEX!B105)","v":43302.263328417517},{"$f":"IF($F105=\"\",0,VLOOKUP($E105,Drivers!$A$26:$F$48,MATCH(G$1,Drivers!$A$25:$F$25,0),0)*$F105)","v":43302.263328417517},{"$f":"IF($F105=\"\",0,VLOOKUP($E105,Drivers!$A$26:$F$48,MATCH(H$1,Drivers!$A$25:$F$25,0),0)*$F105)","v":43302.263328417517},{"$f":"IF($F105=\"\",0,VLOOKUP($E105,Drivers!$A$26:$F$48,MATCH(I$1,Drivers!$A$25:$F$25,0),0)*$F105)","v":43302.263328417517},{"$f":"IF($F105=\"\",0,VLOOKUP($E105,Drivers!$A$26:$F$48,MATCH(J$1,Drivers!$A$25:$F$25,0),0)*$F105)","v":43302.263328417517},{"$f":"IF($F105=\"\",0,VLOOKUP($E105,Drivers!$A$26:$F$48,MATCH(K$1,Drivers!$A$25:$F$25,0),0)*$F105)","v":43302.263328417517}]
["DESPESAS_GERAIS",3400,"MARKETING",{"$f":"VLOOKUP(B106,Centro_Custo!$A$2:$C$36,3)","v":"Encargos de Comercialização"},"Fixo",{"$f":"SUMIFS('Classificação OPEX'!$O$4:$O$1666,'Classificação OPEX'!$Q$4:$Q$1666,\"N\",'Classificação OPEX'!$S$4:$S$1666,\"NÃO\",'Classificação OPEX'!$V$4:$V$1666,DRIVER_OPEX!A106,'Classificação OPEX'!$W$4:$W$1666,DRIVER_OPEX!B106)","v":57132.982264397404},{"$f":"IF($F106=\"\",0,VLOOKUP($E106,Drivers!$A$26:$F$48,MATCH(G$1,Drivers!$A$25:$F$25,0),0)*$F106)","v":57132.982264397404},{"$f":"IF($F106=\"\",0,VLOOKUP($E106,Drivers!$A$26:$F$48,MATCH(H$1,Drivers!$A$25:$F$25,0),0)*$F106)","v":57132.982264397404},{"$f":"IF($F106=\"\",0,VLOOKUP($E106,Drivers!$A$26:$F$48,MATCH(I$1,Drivers!$A$25:$F$25,0),0)*$F106)","v":57132.982264397404},{"$f":"IF($F106=\"\",0,VLOOKUP($E106,Drivers!$A$26:$F$48,MATCH(J$1,Drivers!$A$25:$F$25,0),0)*$F106)","v":57132.982264397404},{"$f":"IF($F106=\"\",0,VLOOKUP($E106,Drivers!$A$26:$F$48,MATCH(K$1,Drivers!$A$25:$F$25,0),0)*$F106)","v":57132.982264397404}]
["DESPESAS_GERAIS",4600,"GERÊNCIA DE PESSOAS E CULTURA",{"$f":"VLOOKUP(B107,Centro_Custo!$A$2:$C$36,3)","v":"Encargos de Gestão"},"Fixo",{"$f":"SUMIFS('Classificação OPEX'!$O$4:$O$1666,'Classificação OPEX'!$Q$4:$Q$1666,\"N\",'Classificação OPEX'!$S$4:$S$1666,\"NÃO\",'Classificação OPEX'!$V$4:$V$1666,DRIVER_OPEX!A107,'Classificação OPEX'!$W$4:$W$1666,DRIVER_OPEX!B107)","v":44343.138146928519},{"$f":"IF($F107=\"\",0,VLOOKUP($E107,Drivers!$A$26:$F$48,MATCH(G$1,Drivers!$A$25:$F$25,0),0)*$F107)","v":44343.138146928519},{"$f":"IF($F107=\"\",0,VLOOKUP($E107,Drivers!$A$26:$F$48,MATCH(H$1,Drivers!$A$25:$F$25,0),0)*$F107)","v":44343.138146928519},{"$f":"IF($F107=\"\",0,VLOOKUP($E107,Drivers!$A$26:$F$48,MATCH(I$1,Drivers!$A$25:$F$25,0),0)*$F107)","v":44343.138146928519},{"$f":"IF($F107=\"\",0,VLOOKUP($E107,Drivers!$A$26:$F$48,MATCH(J$1,Drivers!$A$25:$F$25,0),0)*$F107)","v":44343.138146928519},{"$f":"IF($F107=\"\",0,VLOOKUP($E107,Drivers!$A$26:$F$48,MATCH(K$1,Drivers!$A$25:$F$25,0),0)*$F107)","v":44343.138146928519}]
["DESPESAS_GERAIS","0000","RATEIO",{"$f":"VLOOKUP(B108,Centro_Custo!$A$2:$C$36,3)","v":"Encargos de Gestão"},"Fixo",{"$f":"SUMIFS('Classificação OPEX'!$O$4:$O$1666,'Classificação OPEX'!$Q$4:$Q$1666,\"N\",'Classificação OPEX'!$S$4:$S$1666,\"NÃO\",'Classificação OPEX'!$V$4:$V$1666,DRIVER_OPEX!A108,'Classificação OPEX'!$W$4:$W$1666,DRIVER_OPEX!B108)","v":0},{"$f":"IF($F108=\"\",0,VLOOKUP($E108,Drivers!$A$26:$F$48,MATCH(G$1,Drivers!$A$25:$F$25,0),0)*$F108)","v":0},{"$f":"IF($F108=\"\",0,VLOOKUP($E108,Drivers!$A$26:$F$48,MATCH(H$1,Drivers!$A$25:$F$25,0),0)*$F108)","v":0},{"$f":"IF($F108=\"\",0,VLOOKUP($E108,Drivers!$A$26:$F$48,MATCH(I$1,Drivers!$A$25:$F$25,0),0)*$F108)","v":0},{"$f":"IF($F108=\"\",0,VLOOKUP($E108,Drivers!$A$26:$F$48,MATCH(J$1,Drivers!$A$25:$F$25,0),0)*$F108)","v":0},{"$f":"IF($F108=\"\",0,VLOOKUP($E108,Drivers!$A$26:$F$48,MATCH(K$1,Drivers!$A$25:$F$25,0),0)*$F108)","v":0}]
["DESPESAS_GERAIS","5400","GERÊNCIA COMERCIAL",{"$f":"VLOOKUP(B109,Centro_Custo!$A$2:$C$36,3)","v":"Encargos de Gestão"},"Fixo",{"$f":"SUMIFS('Classificação OPEX'!$O$4:$O$1666,'Classificação OPEX'!$Q$4:$Q$1666,\"N\",'Classificação OPEX'!$S$4:$S$1666,\"NÃO\",'Classificação OPEX'!$V$4:$V$1666,DRIVER_OPEX!A109,'Classificação OPEX'!$W$4:$W$1666,DRIVER_OPEX!B109)","v":1029108.249244908},{"$f":"IF($F109=\"\",0,VLOOKUP($E109,Drivers!$A$26:$F$48,MATCH(G$1,Drivers!$A$25:$F$25,0),0)*$F109)","v":1029108.249244908},{"$f":"IF($F109=\"\",0,VLOOKUP($E109,Drivers!$A$26:$F$48,MATCH(H$1,Drivers!$A$25:$F$25,0),0)*$F109)","v":1029108.249244908},{"$f":"IF($F109=\"\",0,VLOOKUP($E109,Drivers!$A$26:$F$48,MATCH(I$1,Drivers!$A$25:$F$25,0),0)*$F109)","v":1029108.249244908},{"$f":"IF($F109=\"\",0,VLOOKUP($E109,Drivers!$A$26:$F$48,MATCH(J$1,Drivers!$A$25:$F$25,0),0)*$F109)","v":1029108.249244908},{"$f":"IF($F109=\"\",0,VLOOKUP($E109,Drivers!$A$26:$F$48,MATCH(K$1,Drivers!$A$25:$F$25,0),0)*$F109)","v":1029108.249244908}]
["DESPESAS_GERAIS","5500","GERÊNCIA COMERCIAL",{"$f":"VLOOKUP(B110,Centro_Custo!$A$2:$C$36,3)","v":"Encargos de Gestão"},"Fixo",{"$f":"SUMIFS('Classificação OPEX'!$O$4:$O$1666,'Classificação OPEX'!$Q$4:$Q$1666,\"N\",'Classificação OPEX'!$S$4:$S$1666,\"NÃO\",'Classificação OPEX'!$V$4:$V$1666,DRIVER_OPEX!A110,'Classificação OPEX'!$W$4:$W$1666,DRIVER_OPEX!B110)","v":16844.377957864635},{"$f":"IF($F110=\"\",0,VLOOKUP($E110,Drivers!$A$26:$F$48,MATCH(G$1,Drivers!$A$25:$F$25,0),0)*$F110)","v":16844.377957864635},{"$f":"IF($F110=\"\",0,VLOOKUP($E110,Drivers!$A$26:$F$48,MATCH(H$1,Drivers!$A$25:$F$25,0),0)*$F110)","v":16844.377957864635},{"$f":"IF($F110=\"\",0,VLOOKUP($E110,Drivers!$A$26:$F$48,MATCH(I$1,Drivers!$A$25:$F$25,0),0)*$F110)","v":16844.377957864635},{"$f":"IF($F110=\"\",0,VLOOKUP($E110,Drivers!$A$26:$F$48,MATCH(J$1,Drivers!$A$25:$F$25,0),0)*$F110)","v":16844.377957864635},{"$f":"IF($F110=\"\",0,VLOOKUP($E110,Drivers!$A$26:$F$48,MATCH(K$1,Drivers!$A$25:$F$25,0),0)*$F110)","v":16844.377957864635}]
["DESPESAS_INSTITUCIONAIS","TOTAL","TOTAL",null,null,{"$f":"SUM(F112:F146)","v":3124943.2994630821},{"$f":"SUM(G112:G146)","v":3243062.1498055556},3356732.9311068887,3512453.0430471338,3633267.1216645353,3780524.5937765096]
["DESPESAS_INSTITUCIONAIS",3500,{"$f":"VLOOKUP(B112,Centro_Custo!$A$2:$B$36,2,0)","v":"ASSESSORIA DE COMUNICAÇÃO INSTITUCIONAL"},{"$f":"VLOOKUP(B112,Centro_Custo!$A$2:$C$36,3)","v":"Encargos de Gestão"},"Usuários total",{"$f":"SUMIFS('Classificação OPEX'!$O$4:$O$1666,'Classificação OPEX'!$Q$4:$Q$1666,\"N\",'Classificação OPEX'!$S$4:$S$1666,\"NÃO\",'Classificação OPEX'!$V$4:$V$1666,DRIVER_OPEX!A112,'Classificação OPEX'!$W$4:$W$1666,DRIVER_OPEX!B112)","v":817513.42198613891},{"$f":"IF($F112=\"\",0,VLOOKUP($E112,Drivers!$A$26:$F$48,MATCH(G$1,Drivers!$A$25:$F$25,0),0)*$F112)","v":911018.98147634056},{"$f":"IF($F112=\"\",0,VLOOKUP($E112,Drivers!$A$26:$F$48,MATCH(H$1,Drivers!$A$25:$F$25,0),0)*$F112)","v":1001003.348683203},{"$f":"IF($F112=\"\",0,VLOOKUP($E112,Drivers!$A$26:$F$48,MATCH(I$1,Drivers!$A$25:$F$25,0),0)*$F112)","v":1124274.9192126503},{"$f":"IF($F112=\"\",0,VLOOKUP($E112,Drivers!$A$26:$F$48,MATCH(J$1,Drivers!$A$25:$F$25,0),0)*$F112)","v":1219914.0825016552},{"$f":"IF($F112=\"\",0,VLOOKUP($E112,Drivers!$A$26:$F$48,MATCH(K$1,Drivers!$A$25:$F$25,0),0)*$F112)","v":1336486.4355089865}]
["DESPESAS_INSTITUCIONAIS",4100,{"$f":"VLOOKUP(B113,Centro_Custo!$A$2:$B$36,2,0)","v":"GERÊNCIA DE SERVIÇOS CORPORATIVOS"},{"$f":"VLOOKUP(B113,Centro_Custo!$A$2:$C$36,3)","v":"Encargos de Gestão"},"Fixo",{"$f":"SUMIFS('Classificação OPEX'!$O$4:$O$1666,'Classificação OPEX'!$Q$4:$Q$1666,\"N\",'Classificação OPEX'!$S$4:$S$1666,\"NÃO\",'Classificação OPEX'!$V$4:$V$1666,DRIVER_OPEX!A113,'Classificação OPEX'!$W$4:$W$1666,DRIVER_OPEX!B113)","v":156990.17659128984},{"$f":"IF($F113=\"\",0,VLOOKUP($E113,Drivers!$A$26:$F$48,MATCH(G$1,Drivers!$A$25:$F$25,0),0)*$F113)","v":156990.17659128984},{"$f":"IF($F113=\"\",0,VLOOKUP($E113,Drivers!$A$26:$F$48,MATCH(H$1,Drivers!$A$25:$F$25,0),0)*$F113)","v":156990.17659128984},{"$f":"IF($F113=\"\",0,VLOOKUP($E113,Drivers!$A$26:$F$48,MATCH(I$1,Drivers!$A$25:$F$25,0),0)*$F113)","v":156990.17659128984},{"$f":"IF($F113=\"\",0,VLOOKUP($E113,Drivers!$A$26:$F$48,MATCH(J$1,Drivers!$A$25:$F$25,0),0)*$F113)","v":156990.17659128984},{"$f":"IF($F113=\"\",0,VLOOKUP($E113,Drivers!$A$26:$F$48,MATCH(K$1,Drivers!$A$25:$F$25,0),0)*$F113)","v":156990.17659128984}]
["DESPESAS_INSTITUCIONAIS",5300,{"$f":"VLOOKUP(B114,Centro_Custo!$A$2:$B$36,2,0)","v":"GERÊNCIA COMERCIAL"},{"$f":"VLOOKUP(B114,Centro_Custo!$A$2:$C$36,3)","v":"Encargos de Comercialização"},"Usuários total",{"$f":"SUMIFS('Classificação OPEX'!$O$4:$O$1666,'Classificação OPEX'!$Q$4:$Q$1666,\"N\",'Classificação OPEX'!$S$4:$S$1666,\"NÃO\",'Classificação OPEX'!$V$4:$V$1666,DRIVER_OPEX!A114,'Classificação OPEX'!$W$4:$W$1666,DRIVER_OPEX!B114)","v":215192.50556528897},{"$f":"IF($F114=\"\",0,VLOOKUP($E114,Drivers!$A$26:$F$48,MATCH(G$1,Drivers!$A$25:$F$25,0),0)*$F114)","v":239805.79641756054},{"$f":"IF($F114=\"\",0,VLOOKUP($E114,Drivers!$A$26:$F$48,MATCH(H$1,Drivers!$A$25:$F$25,0),0)*$F114)","v":263492.21051203163},{"$f":"IF($F114=\"\",0,VLOOKUP($E114,Drivers!$A$26:$F$48,MATCH(I$1,Drivers!$A$25:$F$25,0),0)*$F114)","v":295940.75192282913},{"$f":"IF($F114=\"\",0,VLOOKUP($E114,Drivers!$A$26:$F$48,MATCH(J$1,Drivers!$A$25:$F$25,0),0)*$F114)","v":321115.66725122568},{"$f":"IF($F114=\"\",0,VLOOKUP($E114,Drivers!$A$26:$F$48,MATCH(K$1,Drivers!$A$25:$F$25,0),0)*$F114)","v":351800.78635586874}]
["DESPESAS_INSTITUCIONAIS","0000","RATEIO",{"$f":"VLOOKUP(B115,Centro_Custo!$A$2:$C$36,3)","v":"Encargos de Gestão"},"Fixo",{"$f":"SUMIFS('Classificação OPEX'!$O$4:$O$1666,'Classificação OPEX'!$Q$4:$Q$1666,\"N\",'Classificação OPEX'!$S$4:$S$1666,\"NÃO\",'Classificação OPEX'!$V$4:$V$1666,DRIVER_OPEX!A115,'Classificação OPEX'!$W$4:$W$1666,DRIVER_OPEX!B115)","v":0},{"$f":"IF($F115=\"\",0,VLOOKUP($E115,Drivers!$A$26:$F$48,MATCH(G$1,Drivers!$A$25:$F$25,0),0)*$F115)","v":0},{"$f":"IF($F115=\"\",0,VLOOKUP($E115,Drivers!$A$26:$F$48,MATCH(H$1,Drivers!$A$25:$F$25,0),0)*$F115)","v":0},{"$f":"IF($F115=\"\",0,VLOOKUP($E115,Drivers!$A$26:$F$48,MATCH(I$1,Drivers!$A$25:$F$25,0),0)*$F115)","v":0},{"$f":"IF($F115=\"\",0,VLOOKUP($E115,Drivers!$A$26:$F$48,MATCH(J$1,Drivers!$A$25:$F$25,0),0)*$F115)","v":0},{"$f":"IF($F115=\"\",0,VLOOKUP($E115,Drivers!$A$26:$F$48,MATCH(K$1,Drivers!$A$25:$F$25,0),0)*$F115)","v":0}]
["DESPESAS_INSTITUCIONAIS",1001,"CONSELHO DE ADMINISTRAÇÃO",{"$f":"VLOOKUP(B116,Centro_Custo!$A$2:$C$36,3)","v":"Encargos de Gestão"},"Fixo",{"$f":"SUMIFS('Classificação OPEX'!$O$4:$O$1666,'Classificação OPEX'!$Q$4:$Q$1666,\"N\",'Classificação OPEX'!$S$4:$S$1666,\"NÃO\",'Classificação OPEX'!$V$4:$V$1666,DRIVER_OPEX!A116,'Classificação OPEX'!$W$4:$W$1666,DRIVER_OPEX!B116)","v":835092.32499609923},{"$f":"IF($F116=\"\",0,VLOOKUP($E116,Drivers!$A$26:$F$48,MATCH(G$1,Drivers!$A$25:$F$25,0),0)*$F116)","v":835092.32499609923},{"$f":"IF($F116=\"\",0,VLOOKUP($E116,Drivers!$A$26:$F$48,MATCH(H$1,Drivers!$A$25:$F$25,0),0)*$F116)","v":835092.32499609923},{"$f":"IF($F116=\"\",0,VLOOKUP($E116,Drivers!$A$26:$F$48,MATCH(I$1,Drivers!$A$25:$F$25,0),0)*$F116)","v":835092.32499609923},{"$f":"IF($F116=\"\",0,VLOOKUP($E116,Drivers!$A$26:$F$48,MATCH(J$1,Drivers!$A$25:$F$25,0),0)*$F116)","v":835092.32499609923},{"$f":"IF($F116=\"\",0,VLOOKUP($E116,Drivers!$A$26:$F$48,MATCH(K$1,Drivers!$A$25:$F$25,0),0)*$F116)","v":835092.32499609923}]
["DESPESAS_INSTITUCIONAIS",1002,"CONSELHO FISCAL",{"$f":"VLOOKUP(B117,Centro_Custo!$A$2:$C$36,3)","v":"Encargos de Gestão"},"Fixo",{"$f":"SUMIFS('Classificação OPEX'!$O$4:$O$1666,'Classificação OPEX'!$Q$4:$Q$1666,\"N\",'Classificação OPEX'!$S$4:$S$1666,\"NÃO\",'Classificação OPEX'!$V$4:$V$1666,DRIVER_OPEX!A117,'Classificação OPEX'!$W$4:$W$1666,DRIVER_OPEX!B117)","v":199494.31507747856},{"$f":"IF($F117=\"\",0,VLOOKUP($E117,Drivers!$A$26:$F$48,MATCH(G$1,Drivers!$A$25:$F$25,0),0)*$F117)","v":199494.31507747856},{"$f":"IF($F117=\"\",0,VLOOKUP($E117,Drivers!$A$26:$F$48,MATCH(H$1,Drivers!$A$25:$F$25,0),0)*$F117)","v":199494.31507747856},{"$f":"IF($F117=\"\",0,VLOOKUP($E117,Drivers!$A$26:$F$48,MATCH(I$1,Drivers!$A$25:$F$25,0),0)*$F117)","v":199494.31507747856},{"$f":"IF($F117=\"\",0,VLOOKUP($E117,Drivers!$A$26:$F$48,MATCH(J$1,Drivers!$A$25:$F$25,0),0)*$F117)","v":199494.31507747856},{"$f":"IF($F117=\"\",0,VLOOKUP($E117,Drivers!$A$26:$F$48,MATCH(K$1,Drivers!$A$25:$F$25,0),0)*$F117)","v":199494.31507747856}]
["DESPESAS_INSTITUCIONAIS",1003,"COMITÊ DE INDICAÇÃO E AVALIAÇÃO",{"$f":"VLOOKUP(B118,Centro_Custo!$A$2:$C$36,3)","v":"Encargos de Gestão"},"Fixo",{"$f":"SUMIFS('Classificação OPEX'!$O$4:$O$1666,'Classificação OPEX'!$Q$4:$Q$1666,\"N\",'Classificação OPEX'!$S$4:$S$1666,\"NÃO\",'Classificação OPEX'!$V$4:$V$1666,DRIVER_OPEX!A118,'Classificação OPEX'!$W$4:$W$1666,DRIVER_OPEX!B118)","v":0},{"$f":"IF($F118=\"\",0,VLOOKUP($E118,Drivers!$A$26:$F$48,MATCH(G$1,Drivers!$A$25:$F$25,0),0)*$F118)","v":0},{"$f":"IF($F118=\"\",0,VLOOKUP($E118,Drivers!$A$26:$F$48,MATCH(H$1,Drivers!$A$25:$F$25,0),0)*$F118)","v":0},{"$f":"IF($F118=\"\",0,VLOOKUP($E118,Drivers!$A$26:$F$48,MATCH(I$1,Drivers!$A$25:$F$25,0),0)*$F118)","v":0},{"$f":"IF($F118=\"\",0,VLOOKUP($E118,Drivers!$A$26:$F$48,MATCH(J$1,Drivers!$A$25:$F$25,0),0)*$F118)","v":0},{"$f":"IF($F118=\"\",0,VLOOKUP($E118,Drivers!$A$26:$F$48,MATCH(K$1,Drivers!$A$25:$F$25,0),0)*$F118)","v":0}]
["DESPESAS_INSTITUCIONAIS",1004,"COMITÊ DE AUDITORIA ESTATUTÁRIA",{"$f":"VLOOKUP(B119,Centro_Custo!$A$2:$C$36,3)","v":"Encargos de Gestão"},"Fixo",{"$f":"SUMIFS('Classificação OPEX'!$O$4:$O$1666,'Classificação OPEX'!$Q$4:$Q$1666,\"N\",'Classificação OPEX'!$S$4:$S$1666,\"NÃO\",'Classificação OPEX'!$V$4:$V$1666,DRIVER_OPEX!A119,'Classificação OPEX'!$W$4:$W$1666,DRIVER_OPEX!B119)","v":0},{"$f":"IF($F119=\"\",0,VLOOKUP($E119,Drivers!$A$26:$F$48,MATCH(G$1,Drivers!$A$25:$F$25,0),0)*$F119)","v":0},{"$f":"IF($F119=\"\",0,VLOOKUP($E119,Drivers!$A$26:$F$48,MATCH(H$1,Drivers!$A$25:$F$25,0),0)*$F119)","v":0},{"$f":"IF($F119=\"\",0,VLOOKUP($E119,Drivers!$A$26:$F$48,MATCH(I$1,Drivers!$A$25:$F$25,0),0)*$F119)","v":0},{"$f":"IF($F119=\"\",0,VLOOKUP($E119,Drivers!$A$26:$F$48,MATCH(J$1,Drivers!$A$25:$F$25,0),0)*$F119)","v":0},{"$f":"IF($F119=\"\",0,VLOOKUP($E119,Drivers!$A$26:$F$48,MATCH(K$1,Drivers!$A$25:$F$25,0),0)*$F119)","v":0}]
["DESPESAS_INSTITUCIONAIS",1005,"AUDITORIA INTERNA",{"$f":"VLOOKUP(B120,Centro_Custo!$A$2:$C$36,3)","v":"Encargos de Gestão"},"Fixo",{"$f":"SUMIFS('Classificação OPEX'!$O$4:$O$1666,'Classificação OPEX'!$Q$4:$Q$1666,\"N\",'Classificação OPEX'!$S$4:$S$1666,\"NÃO\",'Classificação OPEX'!$V$4:$V$1666,DRIVER_OPEX!A120,'Classificação OPEX'!$W$4:$W$1666,DRIVER_OPEX!B120)","v":0},{"$f":"IF($F120=\"\",0,VLOOKUP($E120,Drivers!$A$26:$F$48,MATCH(G$1,Drivers!$A$25:$F$25,0),0)*$F120)","v":0},{"$f":"IF($F120=\"\",0,VLOOKUP($E120,Drivers!$A$26:$F$48,MATCH(H$1,Drivers!$A$25:$F$25,0),0)*$F120)","v":0},{"$f":"IF($F120=\"\",0,VLOOKUP($E120,Drivers!$A$26:$F$48,MATCH(I$1,Drivers!$A$25:$F$25,0),0)*$F120)","v":0},{"$f":"IF($F120=\"\",0,VLOOKUP($E120,Drivers!$A$26:$F$48,MATCH(J$1,Drivers!$A$25:$F$25,0),0)*$F120)","v":0},{"$f":"IF($F120=\"\",0,VLOOKUP($E120,Drivers!$A$26:$F$48,MATCH(K$1,Drivers!$A$25:$F$25,0),0)*$F120)","v":0}]
["DESPESAS_INSTITUCIONAIS",1010,"GOVERNANÇA SOCIETÁRIA",{"$f":"VLOOKUP(B121,Centro_Custo!$A$2:$C$36,3)","v":"Encargos de Gestão"},"Fixo",{"$f":"SUMIFS('Classificação OPEX'!$O$4:$O$1666,'Classificação OPEX'!$Q$4:$Q$1666,\"N\",'Classificação OPEX'!$S$4:$S$1666,\"NÃO\",'Classificação OPEX'!$V$4:$V$1666,DRIVER_OPEX!A121,'Classificação OPEX'!$W$4:$W$1666,DRIVER_OPEX!B121)","v":1092.2839567449105},{"$f":"IF($F121=\"\",0,VLOOKUP($E121,Drivers!$A$26:$F$48,MATCH(G$1,Drivers!$A$25:$F$25,0),0)*$F121)","v":1092.2839567449105},{"$f":"IF($F121=\"\",0,VLOOKUP($E121,Drivers!$A$26:$F$48,MATCH(H$1,Drivers!$A$25:$F$25,0),0)*$F121)","v":1092.2839567449105},{"$f":"IF($F121=\"\",0,VLOOKUP($E121,Drivers!$A$26:$F$48,MATCH(I$1,Drivers!$A$25:$F$25,0),0)*$F121)","v":1092.2839567449105},{"$f":"IF($F121=\"\",0,VLOOKUP($E121,Drivers!$A$26:$F$48,MATCH(J$1,Drivers!$A$25:$F$25,0),0)*$F121)","v":1092.2839567449105},{"$f":"IF($F121=\"\",0,VLOOKUP($E121,Drivers!$A$26:$F$48,MATCH(K$1,Drivers!$A$25:$F$25,0),0)*$F121)","v":1092.2839567449105}]
["DESPESAS_INSTITUCIONAIS",2100,"SECRETARIA",{"$f":"VLOOKUP(B122,Centro_Custo!$A$2:$C$36,3)","v":"Encargos de Gestão"},"Fixo",{"$f":"SUMIFS('Classificação OPEX'!$O$4:$O$1666,'Classificação OPEX'!$Q$4:$Q$1666,\"N\",'Classificação OPEX'!$S$4:$S$1666,\"NÃO\",'Classificação OPEX'!$V$4:$V$1666,DRIVER_OPEX!A122,'Classificação OPEX'!$W$4:$W$1666,DRIVER_OPEX!B122)","v":10178.938474799206},{"$f":"IF($F122=\"\",0,VLOOKUP($E122,Drivers!$A$26:$F$48,MATCH(G$1,Drivers!$A$25:$F$25,0),0)*$F122)","v":10178.938474799206},{"$f":"IF($F122=\"\",0,VLOOKUP($E122,Drivers!$A$26:$F$48,MATCH(H$1,Drivers!$A$25:$F$25,0),0)*$F122)","v":10178.938474799206},{"$f":"IF($F122=\"\",0,VLOOKUP($E122,Drivers!$A$26:$F$48,MATCH(I$1,Drivers!$A$25:$F$25,0),0)*$F122)","v":10178.938474799206},{"$f":"IF($F122=\"\",0,VLOOKUP($E122,Drivers!$A$26:$F$48,MATCH(J$1,Drivers!$A$25:$F$25,0),0)*$F122)","v":10178.938474799206},{"$f":"IF($F122=\"\",0,VLOOKUP($E122,Drivers!$A$26:$F$48,MATCH(K$1,Drivers!$A$25:$F$25,0),0)*$F122)","v":10178.938474799206}]
["DESPESAS_INSTITUCIONAIS",2110,"ASSESSORIA DA DIRETORIA EXECUTIVA",{"$f":"VLOOKUP(B123,Centro_Custo!$A$2:$C$36,3)","v":"Encargos de Gestão"},"Fixo",{"$f":"SUMIFS('Classificação OPEX'!$O$4:$O$1666,'Classificação OPEX'!$Q$4:$Q$1666,\"N\",'Classificação OPEX'!$S$4:$S$1666,\"NÃO\",'Classificação OPEX'!$V$4:$V$1666,DRIVER_OPEX!A123,'Classificação OPEX'!$W$4:$W$1666,DRIVER_OPEX!B123)","v":6000.0041188296764},{"$f":"IF($F123=\"\",0,VLOOKUP($E123,Drivers!$A$26:$F$48,MATCH(G$1,Drivers!$A$25:$F$25,0),0)*$F123)","v":6000.0041188296764},{"$f":"IF($F123=\"\",0,VLOOKUP($E123,Drivers!$A$26:$F$48,MATCH(H$1,Drivers!$A$25:$F$25,0),0)*$F123)","v":6000.0041188296764},{"$f":"IF($F123=\"\",0,VLOOKUP($E123,Drivers!$A$26:$F$48,MATCH(I$1,Drivers!$A$25:$F$25,0),0)*$F123)","v":6000.0041188296764},{"$f":"IF($F123=\"\",0,VLOOKUP($E123,Drivers!$A$26:$F$48,MATCH(J$1,Drivers!$A$25:$F$25,0),0)*$F123)","v":6000.0041188296764},{"$f":"IF($F123=\"\",0,VLOOKUP($E123,Drivers!$A$26:$F$48,MATCH(K$1,Drivers!$A$25:$F$25,0),0)*$F123)","v":6000.0041188296764}]
["DESPESAS_INSTITUCIONAIS",2120,"ASSESSORIA DA PRESIDÊNCIA",{"$f":"VLOOKUP(B124,Centro_Custo!$A$2:$C$36,3)","v":"Encargos de Gestão"},"Fixo",{"$f":"SUMIFS('Classificação OPEX'!$O$4:$O$1666,'Classificação OPEX'!$Q$4:$Q$1666,\"N\",'Classificação OPEX'!$S$4:$S$1666,\"NÃO\",'Classificação OPEX'!$V$4:$V$1666,DRIVER_OPEX!A124,'Classificação OPEX'!$W$4:$W$1666,DRIVER_OPEX!B124)","v":24.927769968762501},{"$f":"IF($F124=\"\",0,VLOOKUP($E124,Drivers!$A$26:$F$48,MATCH(G$1,Drivers!$A$25:$F$25,0),0)*$F124)","v":24.927769968762501},{"$f":"IF($F124=\"\",0,VLOOKUP($E124,Drivers!$A$26:$F$48,MATCH(H$1,Drivers!$A$25:$F$25,0),0)*$F124)","v":24.927769968762501},{"$f":"IF($F124=\"\",0,VLOOKUP($E124,Drivers!$A$26:$F$48,MATCH(I$1,Drivers!$A$25:$F$25,0),0)*$F124)","v":24.927769968762501},{"$f":"IF($F124=\"\",0,VLOOKUP($E124,Drivers!$A$26:$F$48,MATCH(J$1,Drivers!$A$25:$F$25,0),0)*$F124)","v":24.927769968762501},{"$f":"IF($F124=\"\",0,VLOOKUP($E124,Drivers!$A$26:$F$48,MATCH(K$1,Drivers!$A$25:$F$25,0),0)*$F124)","v":24.927769968762501}]
["DESPESAS_INSTITUCIONAIS",2130,"ASSESSORIA DE RELAÇÕES INSTITUCIONAIS E NOVOS NEGÓCIOS",{"$f":"VLOOKUP(B125,Centro_Custo!$A$2:$C$36,3)","v":"Encargos de Gestão"},"Fixo",{"$f":"SUMIFS('Classificação OPEX'!$O$4:$O$1666,'Classificação OPEX'!$Q$4:$Q$1666,\"N\",'Classificação OPEX'!$S$4:$S$1666,\"NÃO\",'Classificação OPEX'!$V$4:$V$1666,DRIVER_OPEX!A125,'Classificação OPEX'!$W$4:$W$1666,DRIVER_OPEX!B125)","v":0},{"$f":"IF($F125=\"\",0,VLOOKUP($E125,Drivers!$A$26:$F$48,MATCH(G$1,Drivers!$A$25:$F$25,0),0)*$F125)","v":0},{"$f":"IF($F125=\"\",0,VLOOKUP($E125,Drivers!$A$26:$F$48,MATCH(H$1,Drivers!$A$25:$F$25,0),0)*$F125)","v":0},{"$f":"IF($F125=\"\",0,VLOOKUP($E125,Drivers!$A$26:$F$48,MATCH(I$1,Drivers!$A$25:$F$25,0),0)*$F125)","v":0},{"$f":"IF($F125=\"\",0,VLOOKUP($E125,Drivers!$A$26:$F$48,MATCH(J$1,Drivers!$A$25:$F$25,0),0)*$F125)","v":0},{"$f":"IF($F125=\"\",0,VLOOKUP($E125,Drivers!$A$26:$F$48,MATCH(K$1,Drivers!$A$25:$F$25,0),0)*$F125)","v":0}]
["DESPESAS_INSTITUCIONAIS",2140,"ASSESSORIA DTC",{"$f":"VLOOKUP(B126,Centro_Custo!$A$2:$C$36,3)","v":"Encargos de Comercialização"},"Fixo",{"$f":"SUMIFS('Classificação OPEX'!$O$4:$O$1666,'Classificação OPEX'!$Q$4:$Q$1666,\"N\",'Classificação OPEX'!$S$4:$S$1666,\"NÃO\",'Classificação OPEX'!$V$4:$V$1666,DRIVER_OPEX!A126,'Classificação OPEX'!$W$4:$W$1666,DRIVER_OPEX!B126)","v":0},{"$f":"IF($F126=\"\",0,VLOOKUP($E126,Drivers!$A$26:$F$48,MATCH(G$1,Drivers!$A$25:$F$25,0),0)*$F126)","v":0},{"$f":"IF($F126=\"\",0,VLOOKUP($E126,Drivers!$A$26:$F$48,MATCH(H$1,Drivers!$A$25:$F$25,0),0)*$F126)","v":0},{"$f":"IF($F126=\"\",0,VLOOKUP($E126,Drivers!$A$26:$F$48,MATCH(I$1,Drivers!$A$25:$F$25,0),0)*$F126)","v":0},{"$f":"IF($F126=\"\",0,VLOOKUP($E126,Drivers!$A$26:$F$48,MATCH(J$1,Drivers!$A$25:$F$25,0),0)*$F126)","v":0},{"$f":"IF($F126=\"\",0,VLOOKUP($E126,Drivers!$A$26:$F$48,MATCH(K$1,Drivers!$A$25:$F$25,0),0)*$F126)","v":0}]
["DESPESAS_INSTITUCIONAIS",2200,"DIRETORIA COLEGIADA - PRESIDÊNCIA",{"$f":"VLOOKUP(B127,Centro_Custo!$A$2:$C$36,3)","v":"Encargos de Gestão"},"Fixo",{"$f":"SUMIFS('Classificação OPEX'!$O$4:$O$1666,'Classificação OPEX'!$Q$4:$Q$1666,\"N\",'Classificação OPEX'!$S$4:$S$1666,\"NÃO\",'Classificação OPEX'!$V$4:$V$1666,DRIVER_OPEX!A127,'Classificação OPEX'!$W$4:$W$1666,DRIVER_OPEX!B127)","v":18375.084110996984},{"$f":"IF($F127=\"\",0,VLOOKUP($E127,Drivers!$A$26:$F$48,MATCH(G$1,Drivers!$A$25:$F$25,0),0)*$F127)","v":18375.084110996984},{"$f":"IF($F127=\"\",0,VLOOKUP($E127,Drivers!$A$26:$F$48,MATCH(H$1,Drivers!$A$25:$F$25,0),0)*$F127)","v":18375.084110996984},{"$f":"IF($F127=\"\",0,VLOOKUP($E127,Drivers!$A$26:$F$48,MATCH(I$1,Drivers!$A$25:$F$25,0),0)*$F127)","v":18375.084110996984},{"$f":"IF($F127=\"\",0,VLOOKUP($E127,Drivers!$A$26:$F$48,MATCH(J$1,Drivers!$A$25:$F$25,0),0)*$F127)","v":18375.084110996984},{"$f":"IF($F127=\"\",0,VLOOKUP($E127,Drivers!$A$26:$F$48,MATCH(K$1,Drivers!$A$25:$F$25,0),0)*$F127)","v":18375.084110996984}]
["DESPESAS_INSTITUCIONAIS",2300,"DIRETORIA COLEGIADA - DAF",{"$f":"VLOOKUP(B128,Centro_Custo!$A$2:$C$36,3)","v":"Encargos de Gestão"},"Fixo",{"$f":"SUMIFS('Classificação OPEX'!$O$4:$O$1666,'Classificação OPEX'!$Q$4:$Q$1666,\"N\",'Classificação OPEX'!$S$4:$S$1666,\"NÃO\",'Classificação OPEX'!$V$4:$V$1666,DRIVER_OPEX!A128,'Classificação OPEX'!$W$4:$W$1666,DRIVER_OPEX!B128)","v":264850.29760439211},{"$f":"IF($F128=\"\",0,VLOOKUP($E128,Drivers!$A$26:$F$48,MATCH(G$1,Drivers!$A$25:$F$25,0),0)*$F128)","v":264850.29760439211},{"$f":"IF($F128=\"\",0,VLOOKUP($E128,Drivers!$A$26:$F$48,MATCH(H$1,Drivers!$A$25:$F$25,0),0)*$F128)","v":264850.29760439211},{"$f":"IF($F128=\"\",0,VLOOKUP($E128,Drivers!$A$26:$F$48,MATCH(I$1,Drivers!$A$25:$F$25,0),0)*$F128)","v":264850.29760439211},{"$f":"IF($F128=\"\",0,VLOOKUP($E128,Drivers!$A$26:$F$48,MATCH(J$1,Drivers!$A$25:$F$25,0),0)*$F128)","v":264850.29760439211},{"$f":"IF($F128=\"\",0,VLOOKUP($E128,Drivers!$A$26:$F$48,MATCH(K$1,Drivers!$A$25:$F$25,0),0)*$F128)","v":264850.29760439211}]
["DESPESAS_INSTITUCIONAIS",2310,"ASSESSORIA DAF",{"$f":"VLOOKUP(B129,Centro_Custo!$A$2:$C$36,3)","v":"Encargos de Gestão"},"Fixo",{"$f":"SUMIFS('Classificação OPEX'!$O$4:$O$1666,'Classificação OPEX'!$Q$4:$Q$1666,\"N\",'Classificação OPEX'!$S$4:$S$1666,\"NÃO\",'Classificação OPEX'!$V$4:$V$1666,DRIVER_OPEX!A129,'Classificação OPEX'!$W$4:$W$1666,DRIVER_OPEX!B129)","v":18.998317724668464},{"$f":"IF($F129=\"\",0,VLOOKUP($E129,Drivers!$A$26:$F$48,MATCH(G$1,Drivers!$A$25:$F$25,0),0)*$F129)","v":18.998317724668464},{"$f":"IF($F129=\"\",0,VLOOKUP($E129,Drivers!$A$26:$F$48,MATCH(H$1,Drivers!$A$25:$F$25,0),0)*$F129)","v":18.998317724668464},{"$f":"IF($F129=\"\",0,VLOOKUP($E129,Drivers!$A$26:$F$48,MATCH(I$1,Drivers!$A$25:$F$25,0),0)*$F129)","v":18.998317724668464},{"$f":"IF($F129=\"\",0,VLOOKUP($E129,Drivers!$A$26:$F$48,MATCH(J$1,Drivers!$A$25:$F$25,0),0)*$F129)","v":18.998317724668464},{"$f":"IF($F129=\"\",0,VLOOKUP($E129,Drivers!$A$26:$F$48,MATCH(K$1,Drivers!$A$25:$F$25,0),0)*$F129)","v":18.998317724668464}]
["DESPESAS_INSTITUCIONAIS",2400,"DIRETORIA COLEGIADA - DTC",{"$f":"VLOOKUP(B130,Centro_Custo!$A$2:$C$36,3)","v":"Encargos de Comercialização"},"Fixo",{"$f":"SUMIFS('Classificação OPEX'!$O$4:$O$1666,'Classificação OPEX'!$Q$4:$Q$1666,\"N\",'Classificação OPEX'!$S$4:$S$1666,\"NÃO\",'Classificação OPEX'!$V$4:$V$1666,DRIVER_OPEX!A130,'Classificação OPEX'!$W$4:$W$1666,DRIVER_OPEX!B130)","v":2661.9740035317118},{"$f":"IF($F130=\"\",0,VLOOKUP($E130,Drivers!$A$26:$F$48,MATCH(G$1,Drivers!$A$25:$F$25,0),0)*$F130)","v":2661.9740035317118},{"$f":"IF($F130=\"\",0,VLOOKUP($E130,Drivers!$A$26:$F$48,MATCH(H$1,Drivers!$A$25:$F$25,0),0)*$F130)","v":2661.9740035317118},{"$f":"IF($F130=\"\",0,VLOOKUP($E130,Drivers!$A$26:$F$48,MATCH(I$1,Drivers!$A$25:$F$25,0),0)*$F130)","v":2661.9740035317118},{"$f":"IF($F130=\"\",0,VLOOKUP($E130,Drivers!$A$26:$F$48,MATCH(J$1,Drivers!$A$25:$F$25,0),0)*$F130)","v":2661.9740035317118},{"$f":"IF($F130=\"\",0,VLOOKUP($E130,Drivers!$A$26:$F$48,MATCH(K$1,Drivers!$A$25:$F$25,0),0)*$F130)","v":2661.9740035317118}]
["DESPESAS_INSTITUCIONAIS",2410,"ASSESSORIA DE SEGURANÇA DO TRABALHO",{"$f":"VLOOKUP(B131,Centro_Custo!$A$2:$C$36,3)","v":"OPEX&ODESP"},"Fixo",{"$f":"SUMIFS('Classificação OPEX'!$O$4:$O$1666,'Classificação OPEX'!$Q$4:$Q$1666,\"N\",'Classificação OPEX'!$S$4:$S$1666,\"NÃO\",'Classificação OPEX'!$V$4:$V$1666,DRIVER_OPEX!A131,'Classificação OPEX'!$W$4:$W$1666,DRIVER_OPEX!B131)","v":1522.8338279733346},{"$f":"IF($F131=\"\",0,VLOOKUP($E131,Drivers!$A$26:$F$48,MATCH(G$1,Drivers!$A$25:$F$25,0),0)*$F131)","v":1522.8338279733346},{"$f":"IF($F131=\"\",0,VLOOKUP($E131,Drivers!$A$26:$F$48,MATCH(H$1,Drivers!$A$25:$F$25,0),0)*$F131)","v":1522.8338279733346},{"$f":"IF($F131=\"\",0,VLOOKUP($E131,Drivers!$A$26:$F$48,MATCH(I$1,Drivers!$A$25:$F$25,0),0)*$F131)","v":1522.8338279733346},{"$f":"IF($F131=\"\",0,VLOOKUP($E131,Drivers!$A$26:$F$48,MATCH(J$1,Drivers!$A$25:$F$25,0),0)*$F131)","v":1522.8338279733346},{"$f":"IF($F131=\"\",0,VLOOKUP($E131,Drivers!$A$26:$F$48,MATCH(K$1,Drivers!$A$25:$F$25,0),0)*$F131)","v":1522.8338279733346}]
["DESPESAS_INSTITUCIONAIS",3100,"SMS",{"$f":"VLOOKUP(B132,Centro_Custo!$A$2:$C$36,3)","v":"OPEX&ODESP"},"Fixo",{"$f":"SUMIFS('Classificação OPEX'!$O$4:$O$1666,'Classificação OPEX'!$Q$4:$Q$1666,\"N\",'Classificação OPEX'!$S$4:$S$1666,\"NÃO\",'Classificação OPEX'!$V$4:$V$1666,DRIVER_OPEX!A132,'Classificação OPEX'!$W$4:$W$1666,DRIVER_OPEX!B132)","v":7499.6325145362434},{"$f":"IF($F132=\"\",0,VLOOKUP($E132,Drivers!$A$26:$F$48,MATCH(G$1,Drivers!$A$25:$F$25,0),0)*$F132)","v":7499.6325145362434},{"$f":"IF($F132=\"\",0,VLOOKUP($E132,Drivers!$A$26:$F$48,MATCH(H$1,Drivers!$A$25:$F$25,0),0)*$F132)","v":7499.6325145362434},{"$f":"IF($F132=\"\",0,VLOOKUP($E132,Drivers!$A$26:$F$48,MATCH(I$1,Drivers!$A$25:$F$25,0),0)*$F132)","v":7499.6325145362434},{"$f":"IF($F132=\"\",0,VLOOKUP($E132,Drivers!$A$26:$F$48,MATCH(J$1,Drivers!$A$25:$F$25,0),0)*$F132)","v":7499.6325145362434},{"$f":"IF($F132=\"\",0,VLOOKUP($E132,Drivers!$A$26:$F$48,MATCH(K$1,Drivers!$A$25:$F$25,0),0)*$F132)","v":7499.6325145362434}]
["DESPESAS_INSTITUCIONAIS",3200,"GERÊNCIA DE PLANEJAMENTO E MEIO AMBIENTE",{"$f":"VLOOKUP(B133,Centro_Custo!$A$2:$C$36,3)","v":"OPEX&ODESP"},"Fixo",{"$f":"SUMIFS('Classificação OPEX'!$O$4:$O$1666,'Classificação OPEX'!$Q$4:$Q$1666,\"N\",'Classificação OPEX'!$S$4:$S$1666,\"NÃO\",'Classificação OPEX'!$V$4:$V$1666,DRIVER_OPEX!A133,'Classificação OPEX'!$W$4:$W$1666,DRIVER_OPEX!B133)","v":6432.045220518562},{"$f":"IF($F133=\"\",0,VLOOKUP($E133,Drivers!$A$26:$F$48,MATCH(G$1,Drivers!$A$25:$F$25,0),0)*$F133)","v":6432.045220518562},{"$f":"IF($F133=\"\",0,VLOOKUP($E133,Drivers!$A$26:$F$48,MATCH(H$1,Drivers!$A$25:$F$25,0),0)*$F133)","v":6432.045220518562},{"$f":"IF($F133=\"\",0,VLOOKUP($E133,Drivers!$A$26:$F$48,MATCH(I$1,Drivers!$A$25:$F$25,0),0)*$F133)","v":6432.045220518562},{"$f":"IF($F133=\"\",0,VLOOKUP($E133,Drivers!$A$26:$F$48,MATCH(J$1,Drivers!$A$25:$F$25,0),0)*$F133)","v":6432.045220518562},{"$f":"IF($F133=\"\",0,VLOOKUP($E133,Drivers!$A$26:$F$48,MATCH(K$1,Drivers!$A$25:$F$25,0),0)*$F133)","v":6432.045220518562}]
["DESPESAS_INSTITUCIONAIS",3300,"GERÊNCIA JURÍDICA",{"$f":"VLOOKUP(B134,Centro_Custo!$A$2:$C$36,3)","v":"Encargos de Gestão"},"Fixo",{"$f":"SUMIFS('Classificação OPEX'!$O$4:$O$1666,'Classificação OPEX'!$Q$4:$Q$1666,\"N\",'Classificação OPEX'!$S$4:$S$1666,\"NÃO\",'Classificação OPEX'!$V$4:$V$1666,DRIVER_OPEX!A134,'Classificação OPEX'!$W$4:$W$1666,DRIVER_OPEX!B134)","v":112692.60584653163},{"$f":"IF($F134=\"\",0,VLOOKUP($E134,Drivers!$A$26:$F$48,MATCH(G$1,Drivers!$A$25:$F$25,0),0)*$F134)","v":112692.60584653163},{"$f":"IF($F134=\"\",0,VLOOKUP($E134,Drivers!$A$26:$F$48,MATCH(H$1,Drivers!$A$25:$F$25,0),0)*$F134)","v":112692.60584653163},{"$f":"IF($F134=\"\",0,VLOOKUP($E134,Drivers!$A$26:$F$48,MATCH(I$1,Drivers!$A$25:$F$25,0),0)*$F134)","v":112692.60584653163},{"$f":"IF($F134=\"\",0,VLOOKUP($E134,Drivers!$A$26:$F$48,MATCH(J$1,Drivers!$A$25:$F$25,0),0)*$F134)","v":112692.60584653163},{"$f":"IF($F134=\"\",0,VLOOKUP($E134,Drivers!$A$26:$F$48,MATCH(K$1,Drivers!$A$25:$F$25,0),0)*$F134)","v":112692.60584653163}]
["DESPESAS_INSTITUCIONAIS",3400,"MARKETING",{"$f":"VLOOKUP(B135,Centro_Custo!$A$2:$C$36,3)","v":"Encargos de Comercialização"},"Fixo",{"$f":"SUMIFS('Classificação OPEX'!$O$4:$O$1666,'Classificação OPEX'!$Q$4:$Q$1666,\"N\",'Classificação OPEX'!$S$4:$S$1666,\"NÃO\",'Classificação OPEX'!$V$4:$V$1666,DRIVER_OPEX!A135,'Classificação OPEX'!$W$4:$W$1666,DRIVER_OPEX!B135)","v":43337.559434414936},{"$f":"IF($F135=\"\",0,VLOOKUP($E135,Drivers!$A$26:$F$48,MATCH(G$1,Drivers!$A$25:$F$25,0),0)*$F135)","v":43337.559434414936},{"$f":"IF($F135=\"\",0,VLOOKUP($E135,Drivers!$A$26:$F$48,MATCH(H$1,Drivers!$A$25:$F$25,0),0)*$F135)","v":43337.559434414936},{"$f":"IF($F135=\"\",0,VLOOKUP($E135,Drivers!$A$26:$F$48,MATCH(I$1,Drivers!$A$25:$F$25,0),0)*$F135)","v":43337.559434414936},{"$f":"IF($F135=\"\",0,VLOOKUP($E135,Drivers!$A$26:$F$48,MATCH(J$1,Drivers!$A$25:$F$25,0),0)*$F135)","v":43337.559434414936},{"$f":"IF($F135=\"\",0,VLOOKUP($E135,Drivers!$A$26:$F$48,MATCH(K$1,Drivers!$A$25:$F$25,0),0)*$F135)","v":43337.559434414936}]
["DESPESAS_INSTITUCIONAIS",3600,"GERÊNCIA DE GOVERNANÇA, RISCO E COMPLIANCE",{"$f":"VLOOKUP(B136,Centro_Custo!$A$2:$C$36,3)","v":"Encargos de Gestão"},"Fixo",{"$f":"SUMIFS('Classificação OPEX'!$O$4:$O$1666,'Classificação OPEX'!$Q$4:$Q$1666,\"N\",'Classificação OPEX'!$S$4:$S$1666,\"NÃO\",'Classificação OPEX'!$V$4:$V$1666,DRIVER_OPEX!A136,'Classificação OPEX'!$W$4:$W$1666,DRIVER_OPEX!B136)","v":3029.0700248378025},{"$f":"IF($F136=\"\",0,VLOOKUP($E136,Drivers!$A$26:$F$48,MATCH(G$1,Drivers!$A$25:$F$25,0),0)*$F136)","v":3029.0700248378025},{"$f":"IF($F136=\"\",0,VLOOKUP($E136,Drivers!$A$26:$F$48,MATCH(H$1,Drivers!$A$25:$F$25,0),0)*$F136)","v":3029.0700248378025},{"$f":"IF($F136=\"\",0,VLOOKUP($E136,Drivers!$A$26:$F$48,MATCH(I$1,Drivers!$A$25:$F$25,0),0)*$F136)","v":3029.0700248378025},{"$f":"IF($F136=\"\",0,VLOOKUP($E136,Drivers!$A$26:$F$48,MATCH(J$1,Drivers!$A$25:$F$25,0),0)*$F136)","v":3029.0700248378025},{"$f":"IF($F136=\"\",0,VLOOKUP($E136,Drivers!$A$26:$F$48,MATCH(K$1,Drivers!$A$25:$F$25,0),0)*$F136)","v":3029.0700248378025}]
["DESPESAS_INSTITUCIONAIS",3700,"GERÊNCIA DE REGULAÇÃO",{"$f":"VLOOKUP(B137,Centro_Custo!$A$2:$C$36,3)","v":"Encargos de Gestão"},"Fixo",{"$f":"SUMIFS('Classificação OPEX'!$O$4:$O$1666,'Classificação OPEX'!$Q$4:$Q$1666,\"N\",'Classificação OPEX'!$S$4:$S$1666,\"NÃO\",'Classificação OPEX'!$V$4:$V$1666,DRIVER_OPEX!A137,'Classificação OPEX'!$W$4:$W$1666,DRIVER_OPEX!B137)","v":1323.0822303035752},{"$f":"IF($F137=\"\",0,VLOOKUP($E137,Drivers!$A$26:$F$48,MATCH(G$1,Drivers!$A$25:$F$25,0),0)*$F137)","v":1323.0822303035752},{"$f":"IF($F137=\"\",0,VLOOKUP($E137,Drivers!$A$26:$F$48,MATCH(H$1,Drivers!$A$25:$F$25,0),0)*$F137)","v":1323.0822303035752},{"$f":"IF($F137=\"\",0,VLOOKUP($E137,Drivers!$A$26:$F$48,MATCH(I$1,Drivers!$A$25:$F$25,0),0)*$F137)","v":1323.0822303035752},{"$f":"IF($F137=\"\",0,VLOOKUP($E137,Drivers!$A$26:$F$48,MATCH(J$1,Drivers!$A$25:$F$25,0),0)*$F137)","v":1323.0822303035752},{"$f":"IF($F137=\"\",0,VLOOKUP($E137,Drivers!$A$26:$F$48,MATCH(K$1,Drivers!$A$25:$F$25,0),0)*$F137)","v":1323.0822303035752}]
["DESPESAS_INSTITUCIONAIS",4200,"GERÊNCIA FINANCEIRA",{"$f":"VLOOKUP(B138,Centro_Custo!$A$2:$C$36,3)","v":"Encargos de Gestão"},"Fixo",{"$f":"SUMIFS('Classificação OPEX'!$O$4:$O$1666,'Classificação OPEX'!$Q$4:$Q$1666,\"N\",'Classificação OPEX'!$S$4:$S$1666,\"NÃO\",'Classificação OPEX'!$V$4:$V$1666,DRIVER_OPEX!A138,'Classificação OPEX'!$W$4:$W$1666,DRIVER_OPEX!B138)","v":126964.39129519371},{"$f":"IF($F138=\"\",0,VLOOKUP($E138,Drivers!$A$26:$F$48,MATCH(G$1,Drivers!$A$25:$F$25,0),0)*$F138)","v":126964.39129519371},{"$f":"IF($F138=\"\",0,VLOOKUP($E138,Drivers!$A$26:$F$48,MATCH(H$1,Drivers!$A$25:$F$25,0),0)*$F138)","v":126964.39129519371},{"$f":"IF($F138=\"\",0,VLOOKUP($E138,Drivers!$A$26:$F$48,MATCH(I$1,Drivers!$A$25:$F$25,0),0)*$F138)","v":126964.39129519371},{"$f":"IF($F138=\"\",0,VLOOKUP($E138,Drivers!$A$26:$F$48,MATCH(J$1,Drivers!$A$25:$F$25,0),0)*$F138)","v":126964.39129519371},{"$f":"IF($F138=\"\",0,VLOOKUP($E138,Drivers!$A$26:$F$48,MATCH(K$1,Drivers!$A$25:$F$25,0),0)*$F138)","v":126964.39129519371}]
["DESPESAS_INSTITUCIONAIS",4300,"GERÊNCIA DE TECNOLOGIA E SISTEMAS DE INFORMAÇÃO",{"$f":"VLOOKUP(B139,Centro_Custo!$A$2:$C$36,3)","v":"Encargos de Gestão"},"Fixo",{"$f":"SUMIFS('Classificação OPEX'!$O$4:$O$1666,'Classificação OPEX'!$Q$4:$Q$1666,\"N\",'Classificação OPEX'!$S$4:$S$1666,\"NÃO\",'Classificação OPEX'!$V$4:$V$1666,DRIVER_OPEX!A139,'Classificação OPEX'!$W$4:$W$1666,DRIVER_OPEX!B139)","v":14796.217563625829},{"$f":"IF($F139=\"\",0,VLOOKUP($E139,Drivers!$A$26:$F$48,MATCH(G$1,Drivers!$A$25:$F$25,0),0)*$F139)","v":14796.217563625829},{"$f":"IF($F139=\"\",0,VLOOKUP($E139,Drivers!$A$26:$F$48,MATCH(H$1,Drivers!$A$25:$F$25,0),0)*$F139)","v":14796.217563625829},{"$f":"IF($F139=\"\",0,VLOOKUP($E139,Drivers!$A$26:$F$48,MATCH(I$1,Drivers!$A$25:$F$25,0),0)*$F139)","v":14796.217563625829},{"$f":"IF($F139=\"\",0,VLOOKUP($E139,Drivers!$A$26:$F$48,MATCH(J$1,Drivers!$A$25:$F$25,0),0)*$F139)","v":14796.217563625829},{"$f":"IF($F139=\"\",0,VLOOKUP($E139,Drivers!$A$26:$F$48,MATCH(K$1,Drivers!$A$25:$F$25,0),0)*$F139)","v":14796.217563625829}]
["DESPESAS_INSTITUCIONAIS",4500,"GERÊNCIA CONTÁBIL",{"$f":"VLOOKUP(B140,Centro_Custo!$A$2:$C$36,3)","v":"Encargos de Gestão"},"Fixo",{"$f":"SUMIFS('Classificação OPEX'!$O$4:$O$1666,'Classificação OPEX'!$Q$4:$Q$1666,\"N\",'Classificação OPEX'!$S$4:$S$1666,\"NÃO\",'Classificação OPEX'!$V$4:$V$1666,DRIVER_OPEX!A140,'Classificação OPEX'!$W$4:$W$1666,DRIVER_OPEX!B140)","v":9419.1243403652788},{"$f":"IF($F140=\"\",0,VLOOKUP($E140,Drivers!$A$26:$F$48,MATCH(G$1,Drivers!$A$25:$F$25,0),0)*$F140)","v":9419.1243403652788},{"$f":"IF($F140=\"\",0,VLOOKUP($E140,Drivers!$A$26:$F$48,MATCH(H$1,Drivers!$A$25:$F$25,0),0)*$F140)","v":9419.1243403652788},{"$f":"IF($F140=\"\",0,VLOOKUP($E140,Drivers!$A$26:$F$48,MATCH(I$1,Drivers!$A$25:$F$25,0),0)*$F140)","v":9419.1243403652788},{"$f":"IF($F140=\"\",0,VLOOKUP($E140,Drivers!$A$26:$F$48,MATCH(J$1,Drivers!$A$25:$F$25,0),0)*$F140)","v":9419.1243403652788},{"$f":"IF($F140=\"\",0,VLOOKUP($E140,Drivers!$A$26:$F$48,MATCH(K$1,Drivers!$A$25:$F$25,0),0)*$F140)","v":9419.1243403652788}]
["DESPESAS_INSTITUCIONAIS",4600,"GERÊNCIA DE PESSOAS E CULTURA",{"$f":"VLOOKUP(B141,Centro_Custo!$A$2:$C$36,3)","v":"Encargos de Gestão"},"Fixo",{"$f":"SUMIFS('Classificação OPEX'!$O$4:$O$1666,'Classificação OPEX'!$Q$4:$Q$1666,\"N\",'Classificação OPEX'!$S$4:$S$1666,\"NÃO\",'Classificação OPEX'!$V$4:$V$1666,DRIVER_OPEX!A141,'Classificação OPEX'!$W$4:$W$1666,DRIVER_OPEX!B141)","v":6167.1149331662982},{"$f":"IF($F141=\"\",0,VLOOKUP($E141,Drivers!$A$26:$F$48,MATCH(G$1,Drivers!$A$25:$F$25,0),0)*$F141)","v":6167.1149331662982},{"$f":"IF($F141=\"\",0,VLOOKUP($E141,Drivers!$A$26:$F$48,MATCH(H$1,Drivers!$A$25:$F$25,0),0)*$F141)","v":6167.1149331662982},{"$f":"IF($F141=\"\",0,VLOOKUP($E141,Drivers!$A$26:$F$48,MATCH(I$1,Drivers!$A$25:$F$25,0),0)*$F141)","v":6167.1149331662982},{"$f":"IF($F141=\"\",0,VLOOKUP($E141,Drivers!$A$26:$F$48,MATCH(J$1,Drivers!$A$25:$F$25,0),0)*$F141)","v":6167.1149331662982},{"$f":"IF($F141=\"\",0,VLOOKUP($E141,Drivers!$A$26:$F$48,MATCH(K$1,Drivers!$A$25:$F$25,0),0)*$F141)","v":6167.1149331662982}]
["DESPESAS_INSTITUCIONAIS",5100,"GERÊNCIA DE ENGENHARIA",{"$f":"VLOOKUP(B142,Centro_Custo!$A$2:$C$36,3)","v":"OPEX&ODESP"},"Fixo",{"$f":"SUMIFS('Classificação OPEX'!$O$4:$O$1666,'Classificação OPEX'!$Q$4:$Q$1666,\"N\",'Classificação OPEX'!$S$4:$S$1666,\"NÃO\",'Classificação OPEX'!$V$4:$V$1666,DRIVER_OPEX!A142,'Classificação OPEX'!$W$4:$W$1666,DRIVER_OPEX!B142)","v":3915.5966663394256},{"$f":"IF($F142=\"\",0,VLOOKUP($E142,Drivers!$A$26:$F$48,MATCH(G$1,Drivers!$A$25:$F$25,0),0)*$F142)","v":3915.5966663394256},{"$f":"IF($F142=\"\",0,VLOOKUP($E142,Drivers!$A$26:$F$48,MATCH(H$1,Drivers!$A$25:$F$25,0),0)*$F142)","v":3915.5966663394256},{"$f":"IF($F142=\"\",0,VLOOKUP($E142,Drivers!$A$26:$F$48,MATCH(I$1,Drivers!$A$25:$F$25,0),0)*$F142)","v":3915.5966663394256},{"$f":"IF($F142=\"\",0,VLOOKUP($E142,Drivers!$A$26:$F$48,MATCH(J$1,Drivers!$A$25:$F$25,0),0)*$F142)","v":3915.5966663394256},{"$f":"IF($F142=\"\",0,VLOOKUP($E142,Drivers!$A$26:$F$48,MATCH(K$1,Drivers!$A$25:$F$25,0),0)*$F142)","v":3915.5966663394256}]
["DESPESAS_INSTITUCIONAIS",5200,"GERÊNCIA DE OPERAÇÕES",{"$f":"VLOOKUP(B143,Centro_Custo!$A$2:$C$36,3)","v":"OPEX&ODESP"},"Fixo",{"$f":"SUMIFS('Classificação OPEX'!$O$4:$O$1666,'Classificação OPEX'!$Q$4:$Q$1666,\"N\",'Classificação OPEX'!$S$4:$S$1666,\"NÃO\",'Classificação OPEX'!$V$4:$V$1666,DRIVER_OPEX!A143,'Classificação OPEX'!$W$4:$W$1666,DRIVER_OPEX!B143)","v":9340.4708901176655},{"$f":"IF($F143=\"\",0,VLOOKUP($E143,Drivers!$A$26:$F$48,MATCH(G$1,Drivers!$A$25:$F$25,0),0)*$F143)","v":9340.4708901176655},{"$f":"IF($F143=\"\",0,VLOOKUP($E143,Drivers!$A$26:$F$48,MATCH(H$1,Drivers!$A$25:$F$25,0),0)*$F143)","v":9340.4708901176655},{"$f":"IF($F143=\"\",0,VLOOKUP($E143,Drivers!$A$26:$F$48,MATCH(I$1,Drivers!$A$25:$F$25,0),0)*$F143)","v":9340.4708901176655},{"$f":"IF($F143=\"\",0,VLOOKUP($E143,Drivers!$A$26:$F$48,MATCH(J$1,Drivers!$A$25:$F$25,0),0)*$F143)","v":9340.4708901176655},{"$f":"IF($F143=\"\",0,VLOOKUP($E143,Drivers!$A$26:$F$48,MATCH(K$1,Drivers!$A$25:$F$25,0),0)*$F143)","v":9340.4708901176655}]
["DESPESAS_INSTITUCIONAIS",9999,"RATEIO",{"$f":"VLOOKUP(B144,Centro_Custo!$A$2:$C$36,3)","v":"Encargos de Gestão"},"Fixo",{"$f":"SUMIFS('Classificação OPEX'!$O$4:$O$1666,'Classificação OPEX'!$Q$4:$Q$1666,\"N\",'Classificação OPEX'!$S$4:$S$1666,\"NÃO\",'Classificação OPEX'!$V$4:$V$1666,DRIVER_OPEX!A144,'Classificação OPEX'!$W$4:$W$1666,DRIVER_OPEX!B144)","v":0},{"$f":"IF($F144=\"\",0,VLOOKUP($E144,Drivers!$A$26:$F$48,MATCH(G$1,Drivers!$A$25:$F$25,0),0)*$F144)","v":0},{"$f":"IF($F144=\"\",0,VLOOKUP($E144,Drivers!$A$26:$F$48,MATCH(H$1,Drivers!$A$25:$F$25,0),0)*$F144)","v":0},{"$f":"IF($F144=\"\",0,VLOOKUP($E144,Drivers!$A$26:$F$48,MATCH(I$1,Drivers!$A$25:$F$25,0),0)*$F144)","v":0},{"$f":"IF($F144=\"\",0,VLOOKUP($E144,Drivers!$A$26:$F$48,MATCH(J$1,Drivers!$A$25:$F$25,0),0)*$F144)","v":0},{"$f":"IF($F144=\"\",0,VLOOKUP($E144,Drivers!$A$26:$F$48,MATCH(K$1,Drivers!$A$25:$F$25,0),0)*$F144)","v":0}]
["DESPESAS_INSTITUCIONAIS","5400","GERÊNCIA COMERCIAL",{"$f":"VLOOKUP(B145,Centro_Custo!$A$2:$C$36,3)","v":"Encargos de Gestão"},"Fixo",{"$f":"SUMIFS('Classificação OPEX'!$O$4:$O$1666,'Classificação OPEX'!$Q$4:$Q$1666,\"N\",'Classificação OPEX'!$S$4:$S$1666,\"NÃO\",'Classificação OPEX'!$V$4:$V$1666,DRIVER_OPEX!A145,'Classificação OPEX'!$W$4:$W$1666,DRIVER_OPEX!B145)","v":241204.31404529902},{"$f":"IF($F145=\"\",0,VLOOKUP($E145,Drivers!$A$26:$F$48,MATCH(G$1,Drivers!$A$25:$F$25,0),0)*$F145)","v":241204.31404529902},{"$f":"IF($F145=\"\",0,VLOOKUP($E145,Drivers!$A$26:$F$48,MATCH(H$1,Drivers!$A$25:$F$25,0),0)*$F145)","v":241204.31404529902},{"$f":"IF($F145=\"\",0,VLOOKUP($E145,Drivers!$A$26:$F$48,MATCH(I$1,Drivers!$A$25:$F$25,0),0)*$F145)","v":241204.31404529902},{"$f":"IF($F145=\"\",0,VLOOKUP($E145,Drivers!$A$26:$F$48,MATCH(J$1,Drivers!$A$25:$F$25,0),0)*$F145)","v":241204.31404529902},{"$f":"IF($F145=\"\",0,VLOOKUP($E145,Drivers!$A$26:$F$48,MATCH(K$1,Drivers!$A$25:$F$25,0),0)*$F145)","v":241204.31404529902}]
["DESPESAS_INSTITUCIONAIS","5500","GERÊNCIA COMERCIAL",{"$f":"VLOOKUP(B146,Centro_Custo!$A$2:$C$36,3)","v":"Encargos de Gestão"},"Fixo",{"$f":"SUMIFS('Classificação OPEX'!$O$4:$O$1666,'Classificação OPEX'!$Q$4:$Q$1666,\"N\",'Classificação OPEX'!$S$4:$S$1666,\"NÃO\",'Classificação OPEX'!$V$4:$V$1666,DRIVER_OPEX!A146,'Classificação OPEX'!$W$4:$W$1666,DRIVER_OPEX!B146)","v":9813.9880565763269},{"$f":"IF($F146=\"\",0,VLOOKUP($E146,Drivers!$A$26:$F$48,MATCH(G$1,Drivers!$A$25:$F$25,0),0)*$F146)","v":9813.9880565763269},{"$f":"IF($F146=\"\",0,VLOOKUP($E146,Drivers!$A$26:$F$48,MATCH(H$1,Drivers!$A$25:$F$25,0),0)*$F146)","v":9813.9880565763269},{"$f":"IF($F146=\"\",0,VLOOKUP($E146,Drivers!$A$26:$F$48,MATCH(I$1,Drivers!$A$25:$F$25,0),0)*$F146)","v":9813.9880565763269},{"$f":"IF($F146=\"\",0,VLOOKUP($E146,Drivers!$A$26:$F$48,MATCH(J$1,Drivers!$A$25:$F$25,0),0)*$F146)","v":9813.9880565763269},{"$f":"IF($F146=\"\",0,VLOOKUP($E146,Drivers!$A$26:$F$48,MATCH(K$1,Drivers!$A$25:$F$25,0),0)*$F146)","v":9813.9880565763269}]
["DESPESAS_SEGUROS","TOTAL","TOTAL",null,null,{"$f":"SUM(F148:F182)","v":586222.94989555003},{"$f":"SUM(G148:G182)","v":608292.54117575358},650081.00284414506,664479.45147580304,675118.76582186867,683495.63851113617]
["DESPESAS_SEGUROS",1005,{"$f":"VLOOKUP(B148,Centro_Custo!$A$2:$B$36,2,0)","v":"AUDITORIA INTERNA"},{"$f":"VLOOKUP(B148,Centro_Custo!$A$2:$C$36,3)","v":"Encargos de Gestão"},"Fixo",{"$f":"SUMIFS('Classificação OPEX'!$O$4:$O$1666,'Classificação OPEX'!$Q$4:$Q$1666,\"N\",'Classificação OPEX'!$S$4:$S$1666,\"NÃO\",'Classificação OPEX'!$V$4:$V$1666,DRIVER_OPEX!A148,'Classificação OPEX'!$W$4:$W$1666,DRIVER_OPEX!B148)","v":2988.0563462986779},{"$f":"IF($F148=\"\",0,VLOOKUP($E148,Drivers!$A$26:$F$48,MATCH(G$1,Drivers!$A$25:$F$25,0),0)*$F148)","v":2988.0563462986779},{"$f":"IF($F148=\"\",0,VLOOKUP($E148,Drivers!$A$26:$F$48,MATCH(H$1,Drivers!$A$25:$F$25,0),0)*$F148)","v":2988.0563462986779},{"$f":"IF($F148=\"\",0,VLOOKUP($E148,Drivers!$A$26:$F$48,MATCH(I$1,Drivers!$A$25:$F$25,0),0)*$F148)","v":2988.0563462986779},{"$f":"IF($F148=\"\",0,VLOOKUP($E148,Drivers!$A$26:$F$48,MATCH(J$1,Drivers!$A$25:$F$25,0),0)*$F148)","v":2988.0563462986779},{"$f":"IF($F148=\"\",0,VLOOKUP($E148,Drivers!$A$26:$F$48,MATCH(K$1,Drivers!$A$25:$F$25,0),0)*$F148)","v":2988.0563462986779}]
["DESPESAS_SEGUROS",1010,{"$f":"VLOOKUP(B149,Centro_Custo!$A$2:$B$36,2,0)","v":"GOVERNANÇA SOCIETÁRIA"},{"$f":"VLOOKUP(B149,Centro_Custo!$A$2:$C$36,3)","v":"Encargos de Gestão"},"Fixo",{"$f":"SUMIFS('Classificação OPEX'!$O$4:$O$1666,'Classificação OPEX'!$Q$4:$Q$1666,\"N\",'Classificação OPEX'!$S$4:$S$1666,\"NÃO\",'Classificação OPEX'!$V$4:$V$1666,DRIVER_OPEX!A149,'Classificação OPEX'!$W$4:$W$1666,DRIVER_OPEX!B149)","v":0},{"$f":"IF($F149=\"\",0,VLOOKUP($E149,Drivers!$A$26:$F$48,MATCH(G$1,Drivers!$A$25:$F$25,0),0)*$F149)","v":0},{"$f":"IF($F149=\"\",0,VLOOKUP($E149,Drivers!$A$26:$F$48,MATCH(H$1,Drivers!$A$25:$F$25,0),0)*$F149)","v":0},{"$f":"IF($F149=\"\",0,VLOOKUP($E149,Drivers!$A$26:$F$48,MATCH(I$1,Drivers!$A$25:$F$25,0),0)*$F149)","v":0},{"$f":"IF($F149=\"\",0,VLOOKUP($E149,Drivers!$A$26:$F$48,MATCH(J$1,Drivers!$A$25:$F$25,0),0)*$F149)","v":0},{"$f":"IF($F149=\"\",0,VLOOKUP($E149,Drivers!$A$26:$F$48,MATCH(K$1,Drivers!$A$25:$F$25,0),0)*$F149)","v":0}]
["DESPESAS_SEGUROS",2110,{"$f":"VLOOKUP(B150,Centro_Custo!$A$2:$B$36,2,0)","v":"ASSESSORIA DA DIRETORIA EXECUTIVA"},{"$f":"VLOOKUP(B150,Centro_Custo!$A$2:$C$36,3)","v":"Encargos de Gestão"},"Fixo",{"$f":"SUMIFS('Classificação OPEX'!$O$4:$O$1666,'Classificação OPEX'!$Q$4:$Q$1666,\"N\",'Classificação OPEX'!$S$4:$S$1666,\"NÃO\",'Classificação OPEX'!$V$4:$V$1666,DRIVER_OPEX!A150,'Classificação OPEX'!$W$4:$W$1666,DRIVER_OPEX!B150)","v":6950.9016532537717},{"$f":"IF($F150=\"\",0,VLOOKUP($E150,Drivers!$A$26:$F$48,MATCH(G$1,Drivers!$A$25:$F$25,0),0)*$F150)","v":6950.9016532537717},{"$f":"IF($F150=\"\",0,VLOOKUP($E150,Drivers!$A$26:$F$48,MATCH(H$1,Drivers!$A$25:$F$25,0),0)*$F150)","v":6950.9016532537717},{"$f":"IF($F150=\"\",0,VLOOKUP($E150,Drivers!$A$26:$F$48,MATCH(I$1,Drivers!$A$25:$F$25,0),0)*$F150)","v":6950.9016532537717},{"$f":"IF($F150=\"\",0,VLOOKUP($E150,Drivers!$A$26:$F$48,MATCH(J$1,Drivers!$A$25:$F$25,0),0)*$F150)","v":6950.9016532537717},{"$f":"IF($F150=\"\",0,VLOOKUP($E150,Drivers!$A$26:$F$48,MATCH(K$1,Drivers!$A$25:$F$25,0),0)*$F150)","v":6950.9016532537717}]
["DESPESAS_SEGUROS",2120,{"$f":"VLOOKUP(B151,Centro_Custo!$A$2:$B$36,2,0)","v":"ASSESSORIA DA PRESIDÊNCIA"},{"$f":"VLOOKUP(B151,Centro_Custo!$A$2:$C$36,3)","v":"Encargos de Gestão"},"Fixo",{"$f":"SUMIFS('Classificação OPEX'!$O$4:$O$1666,'Classificação OPEX'!$Q$4:$Q$1666,\"N\",'Classificação OPEX'!$S$4:$S$1666,\"NÃO\",'Classificação OPEX'!$V$4:$V$1666,DRIVER_OPEX!A151,'Classificação OPEX'!$W$4:$W$1666,DRIVER_OPEX!B151)","v":9010.1818262528977},{"$f":"IF($F151=\"\",0,VLOOKUP($E151,Drivers!$A$26:$F$48,MATCH(G$1,Drivers!$A$25:$F$25,0),0)*$F151)","v":9010.1818262528977},{"$f":"IF($F151=\"\",0,VLOOKUP($E151,Drivers!$A$26:$F$48,MATCH(H$1,Drivers!$A$25:$F$25,0),0)*$F151)","v":9010.1818262528977},{"$f":"IF($F151=\"\",0,VLOOKUP($E151,Drivers!$A$26:$F$48,MATCH(I$1,Drivers!$A$25:$F$25,0),0)*$F151)","v":9010.1818262528977},{"$f":"IF($F151=\"\",0,VLOOKUP($E151,Drivers!$A$26:$F$48,MATCH(J$1,Drivers!$A$25:$F$25,0),0)*$F151)","v":9010.1818262528977},{"$f":"IF($F151=\"\",0,VLOOKUP($E151,Drivers!$A$26:$F$48,MATCH(K$1,Drivers!$A$25:$F$25,0),0)*$F151)","v":9010.1818262528977}]
["DESPESAS_SEGUROS",2130,{"$f":"VLOOKUP(B152,Centro_Custo!$A$2:$B$36,2,0)","v":"ASSESSORIA DE RELAÇÕES INSTITUCIONAIS E NOVOS NEGÓCIOS"},{"$f":"VLOOKUP(B152,Centro_Custo!$A$2:$C$36,3)","v":"Encargos de Gestão"},"Fixo",{"$f":"SUMIFS('Classificação OPEX'!$O$4:$O$1666,'Classificação OPEX'!$Q$4:$Q$1666,\"N\",'Classificação OPEX'!$S$4:$S$1666,\"NÃO\",'Classificação OPEX'!$V$4:$V$1666,DRIVER_OPEX!A152,'Classificação OPEX'!$W$4:$W$1666,DRIVER_OPEX!B152)","v":0},{"$f":"IF($F152=\"\",0,VLOOKUP($E152,Drivers!$A$26:$F$48,MATCH(G$1,Drivers!$A$25:$F$25,0),0)*$F152)","v":0},{"$f":"IF($F152=\"\",0,VLOOKUP($E152,Drivers!$A$26:$F$48,MATCH(H$1,Drivers!$A$25:$F$25,0),0)*$F152)","v":0},{"$f":"IF($F152=\"\",0,VLOOKUP($E152,Drivers!$A$26:$F$48,MATCH(I$1,Drivers!$A$25:$F$25,0),0)*$F152)","v":0},{"$f":"IF($F152=\"\",0,VLOOKUP($E152,Drivers!$A$26:$F$48,MATCH(J$1,Drivers!$A$25:$F$25,0),0)*$F152)","v":0},{"$f":"IF($F152=\"\",0,VLOOKUP($E152,Drivers!$A$26:$F$48,MATCH(K$1,Drivers!$A$25:$F$25,0),0)*$F152)","v":0}]
["DESPESAS_SEGUROS",2140,{"$f":"VLOOKUP(B153,Centro_Custo!$A$2:$B$36,2,0)","v":"ASSESSORIA DTC"},{"$f":"VLOOKUP(B153,Centro_Custo!$A$2:$C$36,3)","v":"Encargos de Comercialização"},"Fixo",{"$f":"SUMIFS('Classificação OPEX'!$O$4:$O$1666,'Classificação OPEX'!$Q$4:$Q$1666,\"N\",'Classificação OPEX'!$S$4:$S$1666,\"NÃO\",'Classificação OPEX'!$V$4:$V$1666,DRIVER_OPEX!A153,'Classificação OPEX'!$W$4:$W$1666,DRIVER_OPEX!B153)","v":0},{"$f":"IF($F153=\"\",0,VLOOKUP($E153,Drivers!$A$26:$F$48,MATCH(G$1,Drivers!$A$25:$F$25,0),0)*$F153)","v":0},{"$f":"IF($F153=\"\",0,VLOOKUP($E153,Drivers!$A$26:$F$48,MATCH(H$1,Drivers!$A$25:$F$25,0),0)*$F153)","v":0},{"$f":"IF($F153=\"\",0,VLOOKUP($E153,Drivers!$A$26:$F$48,MATCH(I$1,Drivers!$A$25:$F$25,0),0)*$F153)","v":0},{"$f":"IF($F153=\"\",0,VLOOKUP($E153,Drivers!$A$26:$F$48,MATCH(J$1,Drivers!$A$25:$F$25,0),0)*$F153)","v":0},{"$f":"IF($F153=\"\",0,VLOOKUP($E153,Drivers!$A$26:$F$48,MATCH(K$1,Drivers!$A$25:$F$25,0),0)*$F153)","v":0}]
["DESPESAS_SEGUROS",2310,{"$f":"VLOOKUP(B154,Centro_Custo!$A$2:$B$36,2,0)","v":"ASSESSORIA DAF"},{"$f":"VLOOKUP(B154,Centro_Custo!$A$2:$C$36,3)","v":"Encargos de Gestão"},"Fixo",{"$f":"SUMIFS('Classificação OPEX'!$O$4:$O$1666,'Classificação OPEX'!$Q$4:$Q$1666,\"N\",'Classificação OPEX'!$S$4:$S$1666,\"NÃO\",'Classificação OPEX'!$V$4:$V$1666,DRIVER_OPEX!A154,'Classificação OPEX'!$W$4:$W$1666,DRIVER_OPEX!B154)","v":2988.0686234827076},{"$f":"IF($F154=\"\",0,VLOOKUP($E154,Drivers!$A$26:$F$48,MATCH(G$1,Drivers!$A$25:$F$25,0),0)*$F154)","v":2988.0686234827076},{"$f":"IF($F154=\"\",0,VLOOKUP($E154,Drivers!$A$26:$F$48,MATCH(H$1,Drivers!$A$25:$F$25,0),0)*$F154)","v":2988.0686234827076},{"$f":"IF($F154=\"\",0,VLOOKUP($E154,Drivers!$A$26:$F$48,MATCH(I$1,Drivers!$A$25:$F$25,0),0)*$F154)","v":2988.0686234827076},{"$f":"IF($F154=\"\",0,VLOOKUP($E154,Drivers!$A$26:$F$48,MATCH(J$1,Drivers!$A$25:$F$25,0),0)*$F154)","v":2988.0686234827076},{"$f":"IF($F154=\"\",0,VLOOKUP($E154,Drivers!$A$26:$F$48,MATCH(K$1,Drivers!$A$25:$F$25,0),0)*$F154)","v":2988.0686234827076}]
["DESPESAS_SEGUROS",2410,{"$f":"VLOOKUP(B155,Centro_Custo!$A$2:$B$36,2,0)","v":"ASSESSORIA DE SEGURANÇA DO TRABALHO"},{"$f":"VLOOKUP(B155,Centro_Custo!$A$2:$C$36,3)","v":"OPEX&ODESP"},"Fixo",{"$f":"SUMIFS('Classificação OPEX'!$O$4:$O$1666,'Classificação OPEX'!$Q$4:$Q$1666,\"N\",'Classificação OPEX'!$S$4:$S$1666,\"NÃO\",'Classificação OPEX'!$V$4:$V$1666,DRIVER_OPEX!A155,'Classificação OPEX'!$W$4:$W$1666,DRIVER_OPEX!B155)","v":0},{"$f":"IF($F155=\"\",0,VLOOKUP($E155,Drivers!$A$26:$F$48,MATCH(G$1,Drivers!$A$25:$F$25,0),0)*$F155)","v":0},{"$f":"IF($F155=\"\",0,VLOOKUP($E155,Drivers!$A$26:$F$48,MATCH(H$1,Drivers!$A$25:$F$25,0),0)*$F155)","v":0},{"$f":"IF($F155=\"\",0,VLOOKUP($E155,Drivers!$A$26:$F$48,MATCH(I$1,Drivers!$A$25:$F$25,0),0)*$F155)","v":0},{"$f":"IF($F155=\"\",0,VLOOKUP($E155,Drivers!$A$26:$F$48,MATCH(J$1,Drivers!$A$25:$F$25,0),0)*$F155)","v":0},{"$f":"IF($F155=\"\",0,VLOOKUP($E155,Drivers!$A$26:$F$48,MATCH(K$1,Drivers!$A$25:$F$25,0),0)*$F155)","v":0}]
["DESPESAS_SEGUROS",3200,{"$f":"VLOOKUP(B156,Centro_Custo!$A$2:$B$36,2,0)","v":"GERÊNCIA DE PLANEJAMENTO E MEIO AMBIENTE"},{"$f":"VLOOKUP(B156,Centro_Custo!$A$2:$C$36,3)","v":"OPEX&ODESP"},"Fixo",{"$f":"SUMIFS('Classificação OPEX'!$O$4:$O$1666,'Classificação OPEX'!$Q$4:$Q$1666,\"N\",'Classificação OPEX'!$S$4:$S$1666,\"NÃO\",'Classificação OPEX'!$V$4:$V$1666,DRIVER_OPEX!A156,'Classificação OPEX'!$W$4:$W$1666,DRIVER_OPEX!B156)","v":41817.891739133032},{"$f":"IF($F156=\"\",0,VLOOKUP($E156,Drivers!$A$26:$F$48,MATCH(G$1,Drivers!$A$25:$F$25,0),0)*$F156)","v":41817.891739133032},{"$f":"IF($F156=\"\",0,VLOOKUP($E156,Drivers!$A$26:$F$48,MATCH(H$1,Drivers!$A$25:$F$25,0),0)*$F156)","v":41817.891739133032},{"$f":"IF($F156=\"\",0,VLOOKUP($E156,Drivers!$A$26:$F$48,MATCH(I$1,Drivers!$A$25:$F$25,0),0)*$F156)","v":41817.891739133032},{"$f":"IF($F156=\"\",0,VLOOKUP($E156,Drivers!$A$26:$F$48,MATCH(J$1,Drivers!$A$25:$F$25,0),0)*$F156)","v":41817.891739133032},{"$f":"IF($F156=\"\",0,VLOOKUP($E156,Drivers!$A$26:$F$48,MATCH(K$1,Drivers!$A$25:$F$25,0),0)*$F156)","v":41817.891739133032}]
["DESPESAS_SEGUROS",3300,{"$f":"VLOOKUP(B157,Centro_Custo!$A$2:$B$36,2,0)","v":"GERÊNCIA JURÍDICA"},{"$f":"VLOOKUP(B157,Centro_Custo!$A$2:$C$36,3)","v":"Encargos de Gestão"},"Fixo",{"$f":"SUMIFS('Classificação OPEX'!$O$4:$O$1666,'Classificação OPEX'!$Q$4:$Q$1666,\"N\",'Classificação OPEX'!$S$4:$S$1666,\"NÃO\",'Classificação OPEX'!$V$4:$V$1666,DRIVER_OPEX!A157,'Classificação OPEX'!$W$4:$W$1666,DRIVER_OPEX!B157)","v":16230.099140391423},{"$f":"IF($F157=\"\",0,VLOOKUP($E157,Drivers!$A$26:$F$48,MATCH(G$1,Drivers!$A$25:$F$25,0),0)*$F157)","v":16230.099140391423},{"$f":"IF($F157=\"\",0,VLOOKUP($E157,Drivers!$A$26:$F$48,MATCH(H$1,Drivers!$A$25:$F$25,0),0)*$F157)","v":16230.099140391423},{"$f":"IF($F157=\"\",0,VLOOKUP($E157,Drivers!$A$26:$F$48,MATCH(I$1,Drivers!$A$25:$F$25,0),0)*$F157)","v":16230.099140391423},{"$f":"IF($F157=\"\",0,VLOOKUP($E157,Drivers!$A$26:$F$48,MATCH(J$1,Drivers!$A$25:$F$25,0),0)*$F157)","v":16230.099140391423},{"$f":"IF($F157=\"\",0,VLOOKUP($E157,Drivers!$A$26:$F$48,MATCH(K$1,Drivers!$A$25:$F$25,0),0)*$F157)","v":16230.099140391423}]
["DESPESAS_SEGUROS",3500,{"$f":"VLOOKUP(B158,Centro_Custo!$A$2:$B$36,2,0)","v":"ASSESSORIA DE COMUNICAÇÃO INSTITUCIONAL"},{"$f":"VLOOKUP(B158,Centro_Custo!$A$2:$C$36,3)","v":"Encargos de Gestão"},"Fixo",{"$f":"SUMIFS('Classificação OPEX'!$O$4:$O$1666,'Classificação OPEX'!$Q$4:$Q$1666,\"N\",'Classificação OPEX'!$S$4:$S$1666,\"NÃO\",'Classificação OPEX'!$V$4:$V$1666,DRIVER_OPEX!A158,'Classificação OPEX'!$W$4:$W$1666,DRIVER_OPEX!B158)","v":13850.767962650201},{"$f":"IF($F158=\"\",0,VLOOKUP($E158,Drivers!$A$26:$F$48,MATCH(G$1,Drivers!$A$25:$F$25,0),0)*$F158)","v":13850.767962650201},{"$f":"IF($F158=\"\",0,VLOOKUP($E158,Drivers!$A$26:$F$48,MATCH(H$1,Drivers!$A$25:$F$25,0),0)*$F158)","v":13850.767962650201},{"$f":"IF($F158=\"\",0,VLOOKUP($E158,Drivers!$A$26:$F$48,MATCH(I$1,Drivers!$A$25:$F$25,0),0)*$F158)","v":13850.767962650201},{"$f":"IF($F158=\"\",0,VLOOKUP($E158,Drivers!$A$26:$F$48,MATCH(J$1,Drivers!$A$25:$F$25,0),0)*$F158)","v":13850.767962650201},{"$f":"IF($F158=\"\",0,VLOOKUP($E158,Drivers!$A$26:$F$48,MATCH(K$1,Drivers!$A$25:$F$25,0),0)*$F158)","v":13850.767962650201}]
["DESPESAS_SEGUROS",3600,{"$f":"VLOOKUP(B159,Centro_Custo!$A$2:$B$36,2,0)","v":"GERÊNCIA DE GOVERNANÇA, RISCO E COMPLIANCE"},{"$f":"VLOOKUP(B159,Centro_Custo!$A$2:$C$36,3)","v":"Encargos de Gestão"},"Fixo",{"$f":"SUMIFS('Classificação OPEX'!$O$4:$O$1666,'Classificação OPEX'!$Q$4:$Q$1666,\"N\",'Classificação OPEX'!$S$4:$S$1666,\"NÃO\",'Classificação OPEX'!$V$4:$V$1666,DRIVER_OPEX!A159,'Classificação OPEX'!$W$4:$W$1666,DRIVER_OPEX!B159)","v":23177.099513859324},{"$f":"IF($F159=\"\",0,VLOOKUP($E159,Drivers!$A$26:$F$48,MATCH(G$1,Drivers!$A$25:$F$25,0),0)*$F159)","v":23177.099513859324},{"$f":"IF($F159=\"\",0,VLOOKUP($E159,Drivers!$A$26:$F$48,MATCH(H$1,Drivers!$A$25:$F$25,0),0)*$F159)","v":23177.099513859324},{"$f":"IF($F159=\"\",0,VLOOKUP($E159,Drivers!$A$26:$F$48,MATCH(I$1,Drivers!$A$25:$F$25,0),0)*$F159)","v":23177.099513859324},{"$f":"IF($F159=\"\",0,VLOOKUP($E159,Drivers!$A$26:$F$48,MATCH(J$1,Drivers!$A$25:$F$25,0),0)*$F159)","v":23177.099513859324},{"$f":"IF($F159=\"\",0,VLOOKUP($E159,Drivers!$A$26:$F$48,MATCH(K$1,Drivers!$A$25:$F$25,0),0)*$F159)","v":23177.099513859324}]
["DESPESAS_SEGUROS",3700,{"$f":"VLOOKUP(B160,Centro_Custo!$A$2:$B$36,2,0)","v":"GERÊNCIA DE REGULAÇÃO"},{"$f":"VLOOKUP(B160,Centro_Custo!$A$2:$C$36,3)","v":"Encargos de Gestão"},"Fixo",{"$f":"SUMIFS('Classificação OPEX'!$O$4:$O$1666,'Classificação OPEX'!$Q$4:$Q$1666,\"N\",'Classificação OPEX'!$S$4:$S$1666,\"NÃO\",'Classificação OPEX'!$V$4:$V$1666,DRIVER_OPEX!A160,'Classificação OPEX'!$W$4:$W$1666,DRIVER_OPEX!B160)","v":0},{"$f":"IF($F160=\"\",0,VLOOKUP($E160,Drivers!$A$26:$F$48,MATCH(G$1,Drivers!$A$25:$F$25,0),0)*$F160)","v":0},{"$f":"IF($F160=\"\",0,VLOOKUP($E160,Drivers!$A$26:$F$48,MATCH(H$1,Drivers!$A$25:$F$25,0),0)*$F160)","v":0},{"$f":"IF($F160=\"\",0,VLOOKUP($E160,Drivers!$A$26:$F$48,MATCH(I$1,Drivers!$A$25:$F$25,0),0)*$F160)","v":0},{"$f":"IF($F160=\"\",0,VLOOKUP($E160,Drivers!$A$26:$F$48,MATCH(J$1,Drivers!$A$25:$F$25,0),0)*$F160)","v":0},{"$f":"IF($F160=\"\",0,VLOOKUP($E160,Drivers!$A$26:$F$48,MATCH(K$1,Drivers!$A$25:$F$25,0),0)*$F160)","v":0}]
["DESPESAS_SEGUROS",4100,{"$f":"VLOOKUP(B161,Centro_Custo!$A$2:$B$36,2,0)","v":"GERÊNCIA DE SERVIÇOS CORPORATIVOS"},{"$f":"VLOOKUP(B161,Centro_Custo!$A$2:$C$36,3)","v":"Encargos de Gestão"},"Município",{"$f":"SUMIFS('Classificação OPEX'!$O$4:$O$1666,'Classificação OPEX'!$Q$4:$Q$1666,\"N\",'Classificação OPEX'!$S$4:$S$1666,\"NÃO\",'Classificação OPEX'!$V$4:$V$1666,DRIVER_OPEX!A161,'Classificação OPEX'!$W$4:$W$1666,DRIVER_OPEX!B161)","v":72298.91413413694},{"$f":"IF($F161=\"\",0,VLOOKUP($E161,Drivers!$A$26:$F$48,MATCH(G$1,Drivers!$A$25:$F$25,0),0)*$F161)","v":77118.841743079407},{"$f":"IF($F161=\"\",0,VLOOKUP($E161,Drivers!$A$26:$F$48,MATCH(H$1,Drivers!$A$25:$F$25,0),0)*$F161)","v":91578.62456990678},{"$f":"IF($F161=\"\",0,VLOOKUP($E161,Drivers!$A$26:$F$48,MATCH(I$1,Drivers!$A$25:$F$25,0),0)*$F161)","v":96398.552178849248},{"$f":"IF($F161=\"\",0,VLOOKUP($E161,Drivers!$A$26:$F$48,MATCH(J$1,Drivers!$A$25:$F$25,0),0)*$F161)","v":96398.552178849248},{"$f":"IF($F161=\"\",0,VLOOKUP($E161,Drivers!$A$26:$F$48,MATCH(K$1,Drivers!$A$25:$F$25,0),0)*$F161)","v":96398.552178849248}]
["DESPESAS_SEGUROS",4200,{"$f":"VLOOKUP(B162,Centro_Custo!$A$2:$B$36,2,0)","v":"GERÊNCIA FINANCEIRA"},{"$f":"VLOOKUP(B162,Centro_Custo!$A$2:$C$36,3)","v":"Encargos de Gestão"},"Fixo",{"$f":"SUMIFS('Classificação OPEX'!$O$4:$O$1666,'Classificação OPEX'!$Q$4:$Q$1666,\"N\",'Classificação OPEX'!$S$4:$S$1666,\"NÃO\",'Classificação OPEX'!$V$4:$V$1666,DRIVER_OPEX!A162,'Classificação OPEX'!$W$4:$W$1666,DRIVER_OPEX!B162)","v":34791.156872539083},{"$f":"IF($F162=\"\",0,VLOOKUP($E162,Drivers!$A$26:$F$48,MATCH(G$1,Drivers!$A$25:$F$25,0),0)*$F162)","v":34791.156872539083},{"$f":"IF($F162=\"\",0,VLOOKUP($E162,Drivers!$A$26:$F$48,MATCH(H$1,Drivers!$A$25:$F$25,0),0)*$F162)","v":34791.156872539083},{"$f":"IF($F162=\"\",0,VLOOKUP($E162,Drivers!$A$26:$F$48,MATCH(I$1,Drivers!$A$25:$F$25,0),0)*$F162)","v":34791.156872539083},{"$f":"IF($F162=\"\",0,VLOOKUP($E162,Drivers!$A$26:$F$48,MATCH(J$1,Drivers!$A$25:$F$25,0),0)*$F162)","v":34791.156872539083},{"$f":"IF($F162=\"\",0,VLOOKUP($E162,Drivers!$A$26:$F$48,MATCH(K$1,Drivers!$A$25:$F$25,0),0)*$F162)","v":34791.156872539083}]
["DESPESAS_SEGUROS",4300,{"$f":"VLOOKUP(B163,Centro_Custo!$A$2:$B$36,2,0)","v":"GERÊNCIA DE TECNOLOGIA E SISTEMAS DE INFORMAÇÃO"},{"$f":"VLOOKUP(B163,Centro_Custo!$A$2:$C$36,3)","v":"Encargos de Gestão"},"Município",{"$f":"SUMIFS('Classificação OPEX'!$O$4:$O$1666,'Classificação OPEX'!$Q$4:$Q$1666,\"N\",'Classificação OPEX'!$S$4:$S$1666,\"NÃO\",'Classificação OPEX'!$V$4:$V$1666,DRIVER_OPEX!A163,'Classificação OPEX'!$W$4:$W$1666,DRIVER_OPEX!B163)","v":32803.577759836284},{"$f":"IF($F163=\"\",0,VLOOKUP($E163,Drivers!$A$26:$F$48,MATCH(G$1,Drivers!$A$25:$F$25,0),0)*$F163)","v":34990.482943825366},{"$f":"IF($F163=\"\",0,VLOOKUP($E163,Drivers!$A$26:$F$48,MATCH(H$1,Drivers!$A$25:$F$25,0),0)*$F163)","v":41551.198495792625},{"$f":"IF($F163=\"\",0,VLOOKUP($E163,Drivers!$A$26:$F$48,MATCH(I$1,Drivers!$A$25:$F$25,0),0)*$F163)","v":43738.103679781707},{"$f":"IF($F163=\"\",0,VLOOKUP($E163,Drivers!$A$26:$F$48,MATCH(J$1,Drivers!$A$25:$F$25,0),0)*$F163)","v":43738.103679781707},{"$f":"IF($F163=\"\",0,VLOOKUP($E163,Drivers!$A$26:$F$48,MATCH(K$1,Drivers!$A$25:$F$25,0),0)*$F163)","v":43738.103679781707}]
["DESPESAS_SEGUROS",4500,{"$f":"VLOOKUP(B164,Centro_Custo!$A$2:$B$36,2,0)","v":"GERÊNCIA CONTÁBIL"},{"$f":"VLOOKUP(B164,Centro_Custo!$A$2:$C$36,3)","v":"Encargos de Gestão"},"Fixo",{"$f":"SUMIFS('Classificação OPEX'!$O$4:$O$1666,'Classificação OPEX'!$Q$4:$Q$1666,\"N\",'Classificação OPEX'!$S$4:$S$1666,\"NÃO\",'Classificação OPEX'!$V$4:$V$1666,DRIVER_OPEX!A164,'Classificação OPEX'!$W$4:$W$1666,DRIVER_OPEX!B164)","v":23658.299693132114},{"$f":"IF($F164=\"\",0,VLOOKUP($E164,Drivers!$A$26:$F$48,MATCH(G$1,Drivers!$A$25:$F$25,0),0)*$F164)","v":23658.299693132114},{"$f":"IF($F164=\"\",0,VLOOKUP($E164,Drivers!$A$26:$F$48,MATCH(H$1,Drivers!$A$25:$F$25,0),0)*$F164)","v":23658.299693132114},{"$f":"IF($F164=\"\",0,VLOOKUP($E164,Drivers!$A$26:$F$48,MATCH(I$1,Drivers!$A$25:$F$25,0),0)*$F164)","v":23658.299693132114},{"$f":"IF($F164=\"\",0,VLOOKUP($E164,Drivers!$A$26:$F$48,MATCH(J$1,Drivers!$A$25:$F$25,0),0)*$F164)","v":23658.299693132114},{"$f":"IF($F164=\"\",0,VLOOKUP($E164,Drivers!$A$26:$F$48,MATCH(K$1,Drivers!$A$25:$F$25,0),0)*$F164)","v":23658.299693132114}]
["DESPESAS_SEGUROS",5100,{"$f":"VLOOKUP(B165,Centro_Custo!$A$2:$B$36,2,0)","v":"GERÊNCIA DE ENGENHARIA"},{"$f":"VLOOKUP(B165,Centro_Custo!$A$2:$C$36,3)","v":"OPEX&ODESP"},"Extensão de Rede",{"$f":"SUMIFS('Classificação OPEX'!$O$4:$O$1666,'Classificação OPEX'!$Q$4:$Q$1666,\"N\",'Classificação OPEX'!$S$4:$S$1666,\"NÃO\",'Classificação OPEX'!$V$4:$V$1666,DRIVER_OPEX!A165,'Classificação OPEX'!$W$4:$W$1666,DRIVER_OPEX!B165)","v":77570.491772474968},{"$f":"IF($F165=\"\",0,VLOOKUP($E165,Drivers!$A$26:$F$48,MATCH(G$1,Drivers!$A$25:$F$25,0),0)*$F165)","v":83030.044468792548},{"$f":"IF($F165=\"\",0,VLOOKUP($E165,Drivers!$A$26:$F$48,MATCH(H$1,Drivers!$A$25:$F$25,0),0)*$F165)","v":90557.469811936171},{"$f":"IF($F165=\"\",0,VLOOKUP($E165,Drivers!$A$26:$F$48,MATCH(I$1,Drivers!$A$25:$F$25,0),0)*$F165)","v":93236.588395465355},{"$f":"IF($F165=\"\",0,VLOOKUP($E165,Drivers!$A$26:$F$48,MATCH(J$1,Drivers!$A$25:$F$25,0),0)*$F165)","v":97092.847351891905},{"$f":"IF($F165=\"\",0,VLOOKUP($E165,Drivers!$A$26:$F$48,MATCH(K$1,Drivers!$A$25:$F$25,0),0)*$F165)","v":100129.0759361877}]
["DESPESAS_SEGUROS",5200,{"$f":"VLOOKUP(B166,Centro_Custo!$A$2:$B$36,2,0)","v":"GERÊNCIA DE OPERAÇÕES"},{"$f":"VLOOKUP(B166,Centro_Custo!$A$2:$C$36,3)","v":"OPEX&ODESP"},"Extensão de Rede",{"$f":"SUMIFS('Classificação OPEX'!$O$4:$O$1666,'Classificação OPEX'!$Q$4:$Q$1666,\"N\",'Classificação OPEX'!$S$4:$S$1666,\"NÃO\",'Classificação OPEX'!$V$4:$V$1666,DRIVER_OPEX!A166,'Classificação OPEX'!$W$4:$W$1666,DRIVER_OPEX!B166)","v":136444.40071053084},{"$f":"IF($F166=\"\",0,VLOOKUP($E166,Drivers!$A$26:$F$48,MATCH(G$1,Drivers!$A$25:$F$25,0),0)*$F166)","v":146047.60650148528},{"$f":"IF($F166=\"\",0,VLOOKUP($E166,Drivers!$A$26:$F$48,MATCH(H$1,Drivers!$A$25:$F$25,0),0)*$F166)","v":159288.14444793851},{"$f":"IF($F166=\"\",0,VLOOKUP($E166,Drivers!$A$26:$F$48,MATCH(I$1,Drivers!$A$25:$F$25,0),0)*$F166)","v":164000.64170313571},{"$f":"IF($F166=\"\",0,VLOOKUP($E166,Drivers!$A$26:$F$48,MATCH(J$1,Drivers!$A$25:$F$25,0),0)*$F166)","v":170783.69709277476},{"$f":"IF($F166=\"\",0,VLOOKUP($E166,Drivers!$A$26:$F$48,MATCH(K$1,Drivers!$A$25:$F$25,0),0)*$F166)","v":176124.34119774646}]
["DESPESAS_SEGUROS",5300,{"$f":"VLOOKUP(B167,Centro_Custo!$A$2:$B$36,2,0)","v":"GERÊNCIA COMERCIAL"},{"$f":"VLOOKUP(B167,Centro_Custo!$A$2:$C$36,3)","v":"Encargos de Comercialização"},"Fixo",{"$f":"SUMIFS('Classificação OPEX'!$O$4:$O$1666,'Classificação OPEX'!$Q$4:$Q$1666,\"N\",'Classificação OPEX'!$S$4:$S$1666,\"NÃO\",'Classificação OPEX'!$V$4:$V$1666,DRIVER_OPEX!A167,'Classificação OPEX'!$W$4:$W$1666,DRIVER_OPEX!B167)","v":58525.467165289774},{"$f":"IF($F167=\"\",0,VLOOKUP($E167,Drivers!$A$26:$F$48,MATCH(G$1,Drivers!$A$25:$F$25,0),0)*$F167)","v":58525.467165289774},{"$f":"IF($F167=\"\",0,VLOOKUP($E167,Drivers!$A$26:$F$48,MATCH(H$1,Drivers!$A$25:$F$25,0),0)*$F167)","v":58525.467165289774},{"$f":"IF($F167=\"\",0,VLOOKUP($E167,Drivers!$A$26:$F$48,MATCH(I$1,Drivers!$A$25:$F$25,0),0)*$F167)","v":58525.467165289774},{"$f":"IF($F167=\"\",0,VLOOKUP($E167,Drivers!$A$26:$F$48,MATCH(J$1,Drivers!$A$25:$F$25,0),0)*$F167)","v":58525.467165289774},{"$f":"IF($F167=\"\",0,VLOOKUP($E167,Drivers!$A$26:$F$48,MATCH(K$1,Drivers!$A$25:$F$25,0),0)*$F167)","v":58525.467165289774}]
["DESPESAS_SEGUROS",9999,{"$f":"VLOOKUP(B168,Centro_Custo!$A$2:$B$36,2,0)","v":"RATEIO"},{"$f":"VLOOKUP(B168,Centro_Custo!$A$2:$C$36,3)","v":"Encargos de Gestão"},"Fixo",{"$f":"SUMIFS('Classificação OPEX'!$O$4:$O$1666,'Classificação OPEX'!$Q$4:$Q$1666,\"N\",'Classificação OPEX'!$S$4:$S$1666,\"NÃO\",'Classificação OPEX'!$V$4:$V$1666,DRIVER_OPEX!A168,'Classificação OPEX'!$W$4:$W$1666,DRIVER_OPEX!B168)","v":0},{"$f":"IF($F168=\"\",0,VLOOKUP($E168,Drivers!$A$26:$F$48,MATCH(G$1,Drivers!$A$25:$F$25,0),0)*$F168)","v":0},{"$f":"IF($F168=\"\",0,VLOOKUP($E168,Drivers!$A$26:$F$48,MATCH(H$1,Drivers!$A$25:$F$25,0),0)*$F168)","v":0},{"$f":"IF($F168=\"\",0,VLOOKUP($E168,Drivers!$A$26:$F$48,MATCH(I$1,Drivers!$A$25:$F$25,0),0)*$F168)","v":0},{"$f":"IF($F168=\"\",0,VLOOKUP($E168,Drivers!$A$26:$F$48,MATCH(J$1,Drivers!$A$25:$F$25,0),0)*$F168)","v":0},{"$f":"IF($F168=\"\",0,VLOOKUP($E168,Drivers!$A$26:$F$48,MATCH(K$1,Drivers!$A$25:$F$25,0),0)*$F168)","v":0}]
["DESPESAS_SEGUROS","0000","RATEIO",{"$f":"VLOOKUP(B169,Centro_Custo!$A$2:$C$36,3)","v":"Encargos de Gestão"},"Fixo",{"$f":"SUMIFS('Classificação OPEX'!$O$4:$O$1666,'Classificação OPEX'!$Q$4:$Q$1666,\"N\",'Classificação OPEX'!$S$4:$S$1666,\"NÃO\",'Classificação OPEX'!$V$4:$V$1666,DRIVER_OPEX!A169,'Classificação OPEX'!$W$4:$W$1666,DRIVER_OPEX!B169)","v":0},{"$f":"IF($F169=\"\",0,VLOOKUP($E169,Drivers!$A$26:$F$48,MATCH(G$1,Drivers!$A$25:$F$25,0),0)*$F169)","v":0},{"$f":"IF($F169=\"\",0,VLOOKUP($E169,Drivers!$A$26:$F$48,MATCH(H$1,Drivers!$A$25:$F$25,0),0)*$F169)","v":0},{"$f":"IF($F169=\"\",0,VLOOKUP($E169,Drivers!$A$26:$F$48,MATCH(I$1,Drivers!$A$25:$F$25,0),0)*$F169)","v":0},{"$f":"IF($F169=\"\",0,VLOOKUP($E169,Drivers!$A$26:$F$48,MATCH(J$1,Drivers!$A$25:$F$25,0),0)*$F169)","v":0},{"$f":"IF($F169=\"\",0,VLOOKUP($E169,Drivers!$A$26:$F$48,MATCH(K$1,Drivers!$A$25:$F$25,0),0)*$F169)","v":0}]
["DESPESAS_SEGUROS",1001,"CONSELHO DE ADMINISTRAÇÃO",{"$f":"VLOOKUP(B170,Centro_Custo!$A$2:$C$36,3)","v":"Encargos de Gestão"},"Fixo",{"$f":"SUMIFS('Classificação OPEX'!$O$4:$O$1666,'Classificação OPEX'!$Q$4:$Q$1666,\"N\",'Classificação OPEX'!$S$4:$S$1666,\"NÃO\",'Classificação OPEX'!$V$4:$V$1666,DRIVER_OPEX!A170,'Classificação OPEX'!$W$4:$W$1666,DRIVER_OPEX!B170)","v":0},{"$f":"IF($F170=\"\",0,VLOOKUP($E170,Drivers!$A$26:$F$48,MATCH(G$1,Drivers!$A$25:$F$25,0),0)*$F170)","v":0},{"$f":"IF($F170=\"\",0,VLOOKUP($E170,Drivers!$A$26:$F$48,MATCH(H$1,Drivers!$A$25:$F$25,0),0)*$F170)","v":0},{"$f":"IF($F170=\"\",0,VLOOKUP($E170,Drivers!$A$26:$F$48,MATCH(I$1,Drivers!$A$25:$F$25,0),0)*$F170)","v":0},{"$f":"IF($F170=\"\",0,VLOOKUP($E170,Drivers!$A$26:$F$48,MATCH(J$1,Drivers!$A$25:$F$25,0),0)*$F170)","v":0},{"$f":"IF($F170=\"\",0,VLOOKUP($E170,Drivers!$A$26:$F$48,MATCH(K$1,Drivers!$A$25:$F$25,0),0)*$F170)","v":0}]
["DESPESAS_SEGUROS",1002,"CONSELHO FISCAL",{"$f":"VLOOKUP(B171,Centro_Custo!$A$2:$C$36,3)","v":"Encargos de Gestão"},"Fixo",{"$f":"SUMIFS('Classificação OPEX'!$O$4:$O$1666,'Classificação OPEX'!$Q$4:$Q$1666,\"N\",'Classificação OPEX'!$S$4:$S$1666,\"NÃO\",'Classificação OPEX'!$V$4:$V$1666,DRIVER_OPEX!A171,'Classificação OPEX'!$W$4:$W$1666,DRIVER_OPEX!B171)","v":0},{"$f":"IF($F171=\"\",0,VLOOKUP($E171,Drivers!$A$26:$F$48,MATCH(G$1,Drivers!$A$25:$F$25,0),0)*$F171)","v":0},{"$f":"IF($F171=\"\",0,VLOOKUP($E171,Drivers!$A$26:$F$48,MATCH(H$1,Drivers!$A$25:$F$25,0),0)*$F171)","v":0},{"$f":"IF($F171=\"\",0,VLOOKUP($E171,Drivers!$A$26:$F$48,MATCH(I$1,Drivers!$A$25:$F$25,0),0)*$F171)","v":0},{"$f":"IF($F171=\"\",0,VLOOKUP($E171,Drivers!$A$26:$F$48,MATCH(J$1,Drivers!$A$25:$F$25,0),0)*$F171)","v":0},{"$f":"IF($F171=\"\",0,VLOOKUP($E171,Drivers!$A$26:$F$48,MATCH(K$1,Drivers!$A$25:$F$25,0),0)*$F171)","v":0}]
["DESPESAS_SEGUROS",1003,"COMITÊ DE INDICAÇÃO E AVALIAÇÃO",{"$f":"VLOOKUP(B172,Centro_Custo!$A$2:$C$36,3)","v":"Encargos de Gestão"},"Fixo",{"$f":"SUMIFS('Classificação OPEX'!$O$4:$O$1666,'Classificação OPEX'!$Q$4:$Q$1666,\"N\",'Classificação OPEX'!$S$4:$S$1666,\"NÃO\",'Classificação OPEX'!$V$4:$V$1666,DRIVER_OPEX!A172,'Classificação OPEX'!$W$4:$W$1666,DRIVER_OPEX!B172)","v":0},{"$f":"IF($F172=\"\",0,VLOOKUP($E172,Drivers!$A$26:$F$48,MATCH(G$1,Drivers!$A$25:$F$25,0),0)*$F172)","v":0},{"$f":"IF($F172=\"\",0,VLOOKUP($E172,Drivers!$A$26:$F$48,MATCH(H$1,Drivers!$A$25:$F$25,0),0)*$F172)","v":0},{"$f":"IF($F172=\"\",0,VLOOKUP($E172,Drivers!$A$26:$F$48,MATCH(I$1,Drivers!$A$25:$F$25,0),0)*$F172)","v":0},{"$f":"IF($F172=\"\",0,VLOOKUP($E172,Drivers!$A$26:$F$48,MATCH(J$1,Drivers!$A$25:$F$25,0),0)*$F172)","v":0},{"$f":"IF($F172=\"\",0,VLOOKUP($E172,Drivers!$A$26:$F$48,MATCH(K$1,Drivers!$A$25:$F$25,0),0)*$F172)","v":0}]
["DESPESAS_SEGUROS",1004,"COMITÊ DE AUDITORIA ESTATUTÁRIA",{"$f":"VLOOKUP(B173,Centro_Custo!$A$2:$C$36,3)","v":"Encargos de Gestão"},"Fixo",{"$f":"SUMIFS('Classificação OPEX'!$O$4:$O$1666,'Classificação OPEX'!$Q$4:$Q$1666,\"N\",'Classificação OPEX'!$S$4:$S$1666,\"NÃO\",'Classificação OPEX'!$V$4:$V$1666,DRIVER_OPEX!A173,'Classificação OPEX'!$W$4:$W$1666,DRIVER_OPEX!B173)","v":0},{"$f":"IF($F173=\"\",0,VLOOKUP($E173,Drivers!$A$26:$F$48,MATCH(G$1,Drivers!$A$25:$F$25,0),0)*$F173)","v":0},{"$f":"IF($F173=\"\",0,VLOOKUP($E173,Drivers!$A$26:$F$48,MATCH(H$1,Drivers!$A$25:$F$25,0),0)*$F173)","v":0},{"$f":"IF($F173=\"\",0,VLOOKUP($E173,Drivers!$A$26:$F$48,MATCH(I$1,Drivers!$A$25:$F$25,0),0)*$F173)","v":0},{"$f":"IF($F173=\"\",0,VLOOKUP($E173,Drivers!$A$26:$F$48,MATCH(J$1,Drivers!$A$25:$F$25,0),0)*$F173)","v":0},{"$f":"IF($F173=\"\",0,VLOOKUP($E173,Drivers!$A$26:$F$48,MATCH(K$1,Drivers!$A$25:$F$25,0),0)*$F173)","v":0}]
["DESPESAS_SEGUROS",2100,"SECRETARIA",{"$f":"VLOOKUP(B174,Centro_Custo!$A$2:$C$36,3)","v":"Encargos de Gestão"},"Fixo",{"$f":"SUMIFS('Classificação OPEX'!$O$4:$O$1666,'Classificação OPEX'!$Q$4:$Q$1666,\"N\",'Classificação OPEX'!$S$4:$S$1666,\"NÃO\",'Classificação OPEX'!$V$4:$V$1666,DRIVER_OPEX!A174,'Classificação OPEX'!$W$4:$W$1666,DRIVER_OPEX!B174)","v":1545.4091389985358},{"$f":"IF($F174=\"\",0,VLOOKUP($E174,Drivers!$A$26:$F$48,MATCH(G$1,Drivers!$A$25:$F$25,0),0)*$F174)","v":1545.4091389985358},{"$f":"IF($F174=\"\",0,VLOOKUP($E174,Drivers!$A$26:$F$48,MATCH(H$1,Drivers!$A$25:$F$25,0),0)*$F174)","v":1545.4091389985358},{"$f":"IF($F174=\"\",0,VLOOKUP($E174,Drivers!$A$26:$F$48,MATCH(I$1,Drivers!$A$25:$F$25,0),0)*$F174)","v":1545.4091389985358},{"$f":"IF($F174=\"\",0,VLOOKUP($E174,Drivers!$A$26:$F$48,MATCH(J$1,Drivers!$A$25:$F$25,0),0)*$F174)","v":1545.4091389985358},{"$f":"IF($F174=\"\",0,VLOOKUP($E174,Drivers!$A$26:$F$48,MATCH(K$1,Drivers!$A$25:$F$25,0),0)*$F174)","v":1545.4091389985358}]
["DESPESAS_SEGUROS",2200,"DIRETORIA COLEGIADA - PRESIDÊNCIA",{"$f":"VLOOKUP(B175,Centro_Custo!$A$2:$C$36,3)","v":"Encargos de Gestão"},"Fixo",{"$f":"SUMIFS('Classificação OPEX'!$O$4:$O$1666,'Classificação OPEX'!$Q$4:$Q$1666,\"N\",'Classificação OPEX'!$S$4:$S$1666,\"NÃO\",'Classificação OPEX'!$V$4:$V$1666,DRIVER_OPEX!A175,'Classificação OPEX'!$W$4:$W$1666,DRIVER_OPEX!B175)","v":5637.9058828285833},{"$f":"IF($F175=\"\",0,VLOOKUP($E175,Drivers!$A$26:$F$48,MATCH(G$1,Drivers!$A$25:$F$25,0),0)*$F175)","v":5637.9058828285833},{"$f":"IF($F175=\"\",0,VLOOKUP($E175,Drivers!$A$26:$F$48,MATCH(H$1,Drivers!$A$25:$F$25,0),0)*$F175)","v":5637.9058828285833},{"$f":"IF($F175=\"\",0,VLOOKUP($E175,Drivers!$A$26:$F$48,MATCH(I$1,Drivers!$A$25:$F$25,0),0)*$F175)","v":5637.9058828285833},{"$f":"IF($F175=\"\",0,VLOOKUP($E175,Drivers!$A$26:$F$48,MATCH(J$1,Drivers!$A$25:$F$25,0),0)*$F175)","v":5637.9058828285833},{"$f":"IF($F175=\"\",0,VLOOKUP($E175,Drivers!$A$26:$F$48,MATCH(K$1,Drivers!$A$25:$F$25,0),0)*$F175)","v":5637.9058828285833}]
["DESPESAS_SEGUROS",2300,"DIRETORIA COLEGIADA - DAF",{"$f":"VLOOKUP(B176,Centro_Custo!$A$2:$C$36,3)","v":"Encargos de Gestão"},"Fixo",{"$f":"SUMIFS('Classificação OPEX'!$O$4:$O$1666,'Classificação OPEX'!$Q$4:$Q$1666,\"N\",'Classificação OPEX'!$S$4:$S$1666,\"NÃO\",'Classificação OPEX'!$V$4:$V$1666,DRIVER_OPEX!A176,'Classificação OPEX'!$W$4:$W$1666,DRIVER_OPEX!B176)","v":1406.1000654899831},{"$f":"IF($F176=\"\",0,VLOOKUP($E176,Drivers!$A$26:$F$48,MATCH(G$1,Drivers!$A$25:$F$25,0),0)*$F176)","v":1406.1000654899831},{"$f":"IF($F176=\"\",0,VLOOKUP($E176,Drivers!$A$26:$F$48,MATCH(H$1,Drivers!$A$25:$F$25,0),0)*$F176)","v":1406.1000654899831},{"$f":"IF($F176=\"\",0,VLOOKUP($E176,Drivers!$A$26:$F$48,MATCH(I$1,Drivers!$A$25:$F$25,0),0)*$F176)","v":1406.1000654899831},{"$f":"IF($F176=\"\",0,VLOOKUP($E176,Drivers!$A$26:$F$48,MATCH(J$1,Drivers!$A$25:$F$25,0),0)*$F176)","v":1406.1000654899831},{"$f":"IF($F176=\"\",0,VLOOKUP($E176,Drivers!$A$26:$F$48,MATCH(K$1,Drivers!$A$25:$F$25,0),0)*$F176)","v":1406.1000654899831}]
["DESPESAS_SEGUROS",2400,"DIRETORIA COLEGIADA - DTC",{"$f":"VLOOKUP(B177,Centro_Custo!$A$2:$C$36,3)","v":"Encargos de Comercialização"},"Fixo",{"$f":"SUMIFS('Classificação OPEX'!$O$4:$O$1666,'Classificação OPEX'!$Q$4:$Q$1666,\"N\",'Classificação OPEX'!$S$4:$S$1666,\"NÃO\",'Classificação OPEX'!$V$4:$V$1666,DRIVER_OPEX!A177,'Classificação OPEX'!$W$4:$W$1666,DRIVER_OPEX!B177)","v":1406.1000654899831},{"$f":"IF($F177=\"\",0,VLOOKUP($E177,Drivers!$A$26:$F$48,MATCH(G$1,Drivers!$A$25:$F$25,0),0)*$F177)","v":1406.1000654899831},{"$f":"IF($F177=\"\",0,VLOOKUP($E177,Drivers!$A$26:$F$48,MATCH(H$1,Drivers!$A$25:$F$25,0),0)*$F177)","v":1406.1000654899831},{"$f":"IF($F177=\"\",0,VLOOKUP($E177,Drivers!$A$26:$F$48,MATCH(I$1,Drivers!$A$25:$F$25,0),0)*$F177)","v":1406.1000654899831},{"$f":"IF($F177=\"\",0,VLOOKUP($E177,Drivers!$A$26:$F$48,MATCH(J$1,Drivers!$A$25:$F$25,0),0)*$F177)","v":1406.1000654899831},{"$f":"IF($F177=\"\",0,VLOOKUP($E177,Drivers!$A$26:$F$48,MATCH(K$1,Drivers!$A$25:$F$25,0),0)*$F177)","v":1406.1000654899831}]
["DESPESAS_SEGUROS",3100,"SMS",{"$f":"VLOOKUP(B178,Centro_Custo!$A$2:$C$36,3)","v":"OPEX&ODESP"},"Fixo",{"$f":"SUMIFS('Classificação OPEX'!$O$4:$O$1666,'Classificação OPEX'!$Q$4:$Q$1666,\"N\",'Classificação OPEX'!$S$4:$S$1666,\"NÃO\",'Classificação OPEX'!$V$4:$V$1666,DRIVER_OPEX!A178,'Classificação OPEX'!$W$4:$W$1666,DRIVER_OPEX!B178)","v":3741.0785105686327},{"$f":"IF($F178=\"\",0,VLOOKUP($E178,Drivers!$A$26:$F$48,MATCH(G$1,Drivers!$A$25:$F$25,0),0)*$F178)","v":3741.0785105686327},{"$f":"IF($F178=\"\",0,VLOOKUP($E178,Drivers!$A$26:$F$48,MATCH(H$1,Drivers!$A$25:$F$25,0),0)*$F178)","v":3741.0785105686327},{"$f":"IF($F178=\"\",0,VLOOKUP($E178,Drivers!$A$26:$F$48,MATCH(I$1,Drivers!$A$25:$F$25,0),0)*$F178)","v":3741.0785105686327},{"$f":"IF($F178=\"\",0,VLOOKUP($E178,Drivers!$A$26:$F$48,MATCH(J$1,Drivers!$A$25:$F$25,0),0)*$F178)","v":3741.0785105686327},{"$f":"IF($F178=\"\",0,VLOOKUP($E178,Drivers!$A$26:$F$48,MATCH(K$1,Drivers!$A$25:$F$25,0),0)*$F178)","v":3741.0785105686327}]
["DESPESAS_SEGUROS",3400,"MARKETING",{"$f":"VLOOKUP(B179,Centro_Custo!$A$2:$C$36,3)","v":"Encargos de Comercialização"},"Fixo",{"$f":"SUMIFS('Classificação OPEX'!$O$4:$O$1666,'Classificação OPEX'!$Q$4:$Q$1666,\"N\",'Classificação OPEX'!$S$4:$S$1666,\"NÃO\",'Classificação OPEX'!$V$4:$V$1666,DRIVER_OPEX!A179,'Classificação OPEX'!$W$4:$W$1666,DRIVER_OPEX!B179)","v":3082.379790420423},{"$f":"IF($F179=\"\",0,VLOOKUP($E179,Drivers!$A$26:$F$48,MATCH(G$1,Drivers!$A$25:$F$25,0),0)*$F179)","v":3082.379790420423},{"$f":"IF($F179=\"\",0,VLOOKUP($E179,Drivers!$A$26:$F$48,MATCH(H$1,Drivers!$A$25:$F$25,0),0)*$F179)","v":3082.379790420423},{"$f":"IF($F179=\"\",0,VLOOKUP($E179,Drivers!$A$26:$F$48,MATCH(I$1,Drivers!$A$25:$F$25,0),0)*$F179)","v":3082.379790420423},{"$f":"IF($F179=\"\",0,VLOOKUP($E179,Drivers!$A$26:$F$48,MATCH(J$1,Drivers!$A$25:$F$25,0),0)*$F179)","v":3082.379790420423},{"$f":"IF($F179=\"\",0,VLOOKUP($E179,Drivers!$A$26:$F$48,MATCH(K$1,Drivers!$A$25:$F$25,0),0)*$F179)","v":3082.379790420423}]
["DESPESAS_SEGUROS",4600,"GERÊNCIA DE PESSOAS E CULTURA",{"$f":"VLOOKUP(B180,Centro_Custo!$A$2:$C$36,3)","v":"Encargos de Gestão"},"Fixo",{"$f":"SUMIFS('Classificação OPEX'!$O$4:$O$1666,'Classificação OPEX'!$Q$4:$Q$1666,\"N\",'Classificação OPEX'!$S$4:$S$1666,\"NÃO\",'Classificação OPEX'!$V$4:$V$1666,DRIVER_OPEX!A180,'Classificação OPEX'!$W$4:$W$1666,DRIVER_OPEX!B180)","v":3082.379790420423},{"$f":"IF($F180=\"\",0,VLOOKUP($E180,Drivers!$A$26:$F$48,MATCH(G$1,Drivers!$A$25:$F$25,0),0)*$F180)","v":3082.379790420423},{"$f":"IF($F180=\"\",0,VLOOKUP($E180,Drivers!$A$26:$F$48,MATCH(H$1,Drivers!$A$25:$F$25,0),0)*$F180)","v":3082.379790420423},{"$f":"IF($F180=\"\",0,VLOOKUP($E180,Drivers!$A$26:$F$48,MATCH(I$1,Drivers!$A$25:$F$25,0),0)*$F180)","v":3082.379790420423},{"$f":"IF($F180=\"\",0,VLOOKUP($E180,Drivers!$A$26:$F$48,MATCH(J$1,Drivers!$A$25:$F$25,0),0)*$F180)","v":3082.379790420423},{"$f":"IF($F180=\"\",0,VLOOKUP($E180,Drivers!$A$26:$F$48,MATCH(K$1,Drivers!$A$25:$F$25,0),0)*$F180)","v":3082.379790420423}]
["DESPESAS_SEGUROS","5400","GERÊNCIA COMERCIAL",{"$f":"VLOOKUP(B181,Centro_Custo!$A$2:$C$36,3)","v":"Encargos de Gestão"},"Fixo",{"$f":"SUMIFS('Classificação OPEX'!$O$4:$O$1666,'Classificação OPEX'!$Q$4:$Q$1666,\"N\",'Classificação OPEX'!$S$4:$S$1666,\"NÃO\",'Classificação OPEX'!$V$4:$V$1666,DRIVER_OPEX!A181,'Classificação OPEX'!$W$4:$W$1666,DRIVER_OPEX!B181)","v":8808.0007914709058},{"$f":"IF($F181=\"\",0,VLOOKUP($E181,Drivers!$A$26:$F$48,MATCH(G$1,Drivers!$A$25:$F$25,0),0)*$F181)","v":8808.0007914709058},{"$f":"IF($F181=\"\",0,VLOOKUP($E181,Drivers!$A$26:$F$48,MATCH(H$1,Drivers!$A$25:$F$25,0),0)*$F181)","v":8808.0007914709058},{"$f":"IF($F181=\"\",0,VLOOKUP($E181,Drivers!$A$26:$F$48,MATCH(I$1,Drivers!$A$25:$F$25,0),0)*$F181)","v":8808.0007914709058},{"$f":"IF($F181=\"\",0,VLOOKUP($E181,Drivers!$A$26:$F$48,MATCH(J$1,Drivers!$A$25:$F$25,0),0)*$F181)","v":8808.0007914709058},{"$f":"IF($F181=\"\",0,VLOOKUP($E181,Drivers!$A$26:$F$48,MATCH(K$1,Drivers!$A$25:$F$25,0),0)*$F181)","v":8808.0007914709058}]
["DESPESAS_SEGUROS","5500","GERÊNCIA COMERCIAL",{"$f":"VLOOKUP(B182,Centro_Custo!$A$2:$C$36,3)","v":"Encargos de Gestão"},"Fixo",{"$f":"SUMIFS('Classificação OPEX'!$O$4:$O$1666,'Classificação OPEX'!$Q$4:$Q$1666,\"N\",'Classificação OPEX'!$S$4:$S$1666,\"NÃO\",'Classificação OPEX'!$V$4:$V$1666,DRIVER_OPEX!A182,'Classificação OPEX'!$W$4:$W$1666,DRIVER_OPEX!B182)","v":4408.2209466005397},{"$f":"IF($F182=\"\",0,VLOOKUP($E182,Drivers!$A$26:$F$48,MATCH(G$1,Drivers!$A$25:$F$25,0),0)*$F182)","v":4408.2209466005397},{"$f":"IF($F182=\"\",0,VLOOKUP($E182,Drivers!$A$26:$F$48,MATCH(H$1,Drivers!$A$25:$F$25,0),0)*$F182)","v":4408.2209466005397},{"$f":"IF($F182=\"\",0,VLOOKUP($E182,Drivers!$A$26:$F$48,MATCH(I$1,Drivers!$A$25:$F$25,0),0)*$F182)","v":4408.2209466005397},{"$f":"IF($F182=\"\",0,VLOOKUP($E182,Drivers!$A$26:$F$48,MATCH(J$1,Drivers!$A$25:$F$25,0),0)*$F182)","v":4408.2209466005397},{"$f":"IF($F182=\"\",0,VLOOKUP($E182,Drivers!$A$26:$F$48,MATCH(K$1,Drivers!$A$25:$F$25,0),0)*$F182)","v":4408.2209466005397}]
["DIREITO_PASSAGEM","TOTAL","TOTAL",null,null,{"$f":"SUM(F184:F218)","v":203296.26896168158},{"$f":"SUM(G184:G218)","v":217604.63117519653},237332.46133563021,244353.87888361912,254460.33869943491,262417.66794665222]
["DIREITO_PASSAGEM",5200,{"$f":"VLOOKUP(B184,Centro_Custo!$A$2:$B$36,2,0)","v":"GERÊNCIA DE OPERAÇÕES"},{"$f":"VLOOKUP(B184,Centro_Custo!$A$2:$C$36,3)","v":"OPEX&ODESP"},"Extensão de Rede",{"$f":"SUMIFS('Classificação OPEX'!$O$4:$O$1666,'Classificação OPEX'!$Q$4:$Q$1666,\"N\",'Classificação OPEX'!$S$4:$S$1666,\"NÃO\",'Classificação OPEX'!$V$4:$V$1666,DRIVER_OPEX!A184,'Classificação OPEX'!$W$4:$W$1666,DRIVER_OPEX!B184)","v":203296.26896168158},{"$f":"IF($F184=\"\",0,VLOOKUP($E184,Drivers!$A$26:$F$48,MATCH(G$1,Drivers!$A$25:$F$25,0),0)*$F184)","v":217604.63117519653},{"$f":"IF($F184=\"\",0,VLOOKUP($E184,Drivers!$A$26:$F$48,MATCH(H$1,Drivers!$A$25:$F$25,0),0)*$F184)","v":237332.46133563021},{"$f":"IF($F184=\"\",0,VLOOKUP($E184,Drivers!$A$26:$F$48,MATCH(I$1,Drivers!$A$25:$F$25,0),0)*$F184)","v":244353.87888361912},{"$f":"IF($F184=\"\",0,VLOOKUP($E184,Drivers!$A$26:$F$48,MATCH(J$1,Drivers!$A$25:$F$25,0),0)*$F184)","v":254460.33869943491},{"$f":"IF($F184=\"\",0,VLOOKUP($E184,Drivers!$A$26:$F$48,MATCH(K$1,Drivers!$A$25:$F$25,0),0)*$F184)","v":262417.66794665222}]
["DIREITO_PASSAGEM","0000","RATEIO",{"$f":"VLOOKUP(B185,Centro_Custo!$A$2:$C$36,3)","v":"Encargos de Gestão"},"Fixo",{"$f":"SUMIFS('Classificação OPEX'!$O$4:$O$1666,'Classificação OPEX'!$Q$4:$Q$1666,\"N\",'Classificação OPEX'!$S$4:$S$1666,\"NÃO\",'Classificação OPEX'!$V$4:$V$1666,DRIVER_OPEX!A185,'Classificação OPEX'!$W$4:$W$1666,DRIVER_OPEX!B185)","v":0},{"$f":"IF($F185=\"\",0,VLOOKUP($E185,Drivers!$A$26:$F$48,MATCH(G$1,Drivers!$A$25:$F$25,0),0)*$F185)","v":0},{"$f":"IF($F185=\"\",0,VLOOKUP($E185,Drivers!$A$26:$F$48,MATCH(H$1,Drivers!$A$25:$F$25,0),0)*$F185)","v":0},{"$f":"IF($F185=\"\",0,VLOOKUP($E185,Drivers!$A$26:$F$48,MATCH(I$1,Drivers!$A$25:$F$25,0),0)*$F185)","v":0},{"$f":"IF($F185=\"\",0,VLOOKUP($E185,Drivers!$A$26:$F$48,MATCH(J$1,Drivers!$A$25:$F$25,0),0)*$F185)","v":0},{"$f":"IF($F185=\"\",0,VLOOKUP($E185,Drivers!$A$26:$F$48,MATCH(K$1,Drivers!$A$25:$F$25,0),0)*$F185)","v":0}]
["DIREITO_PASSAGEM",1001,"CONSELHO DE ADMINISTRAÇÃO",{"$f":"VLOOKUP(B186,Centro_Custo!$A$2:$C$36,3)","v":"Encargos de Gestão"},"Fixo",{"$f":"SUMIFS('Classificação OPEX'!$O$4:$O$1666,'Classificação OPEX'!$Q$4:$Q$1666,\"N\",'Classificação OPEX'!$S$4:$S$1666,\"NÃO\",'Classificação OPEX'!$V$4:$V$1666,DRIVER_OPEX!A186,'Classificação OPEX'!$W$4:$W$1666,DRIVER_OPEX!B186)","v":0},{"$f":"IF($F186=\"\",0,VLOOKUP($E186,Drivers!$A$26:$F$48,MATCH(G$1,Drivers!$A$25:$F$25,0),0)*$F186)","v":0},{"$f":"IF($F186=\"\",0,VLOOKUP($E186,Drivers!$A$26:$F$48,MATCH(H$1,Drivers!$A$25:$F$25,0),0)*$F186)","v":0},{"$f":"IF($F186=\"\",0,VLOOKUP($E186,Drivers!$A$26:$F$48,MATCH(I$1,Drivers!$A$25:$F$25,0),0)*$F186)","v":0},{"$f":"IF($F186=\"\",0,VLOOKUP($E186,Drivers!$A$26:$F$48,MATCH(J$1,Drivers!$A$25:$F$25,0),0)*$F186)","v":0},{"$f":"IF($F186=\"\",0,VLOOKUP($E186,Drivers!$A$26:$F$48,MATCH(K$1,Drivers!$A$25:$F$25,0),0)*$F186)","v":0}]
["DIREITO_PASSAGEM",1002,"CONSELHO FISCAL",{"$f":"VLOOKUP(B187,Centro_Custo!$A$2:$C$36,3)","v":"Encargos de Gestão"},"Fixo",{"$f":"SUMIFS('Classificação OPEX'!$O$4:$O$1666,'Classificação OPEX'!$Q$4:$Q$1666,\"N\",'Classificação OPEX'!$S$4:$S$1666,\"NÃO\",'Classificação OPEX'!$V$4:$V$1666,DRIVER_OPEX!A187,'Classificação OPEX'!$W$4:$W$1666,DRIVER_OPEX!B187)","v":0},{"$f":"IF($F187=\"\",0,VLOOKUP($E187,Drivers!$A$26:$F$48,MATCH(G$1,Drivers!$A$25:$F$25,0),0)*$F187)","v":0},{"$f":"IF($F187=\"\",0,VLOOKUP($E187,Drivers!$A$26:$F$48,MATCH(H$1,Drivers!$A$25:$F$25,0),0)*$F187)","v":0},{"$f":"IF($F187=\"\",0,VLOOKUP($E187,Drivers!$A$26:$F$48,MATCH(I$1,Drivers!$A$25:$F$25,0),0)*$F187)","v":0},{"$f":"IF($F187=\"\",0,VLOOKUP($E187,Drivers!$A$26:$F$48,MATCH(J$1,Drivers!$A$25:$F$25,0),0)*$F187)","v":0},{"$f":"IF($F187=\"\",0,VLOOKUP($E187,Drivers!$A$26:$F$48,MATCH(K$1,Drivers!$A$25:$F$25,0),0)*$F187)","v":0}]
["DIREITO_PASSAGEM",1003,"COMITÊ DE INDICAÇÃO E AVALIAÇÃO",{"$f":"VLOOKUP(B188,Centro_Custo!$A$2:$C$36,3)","v":"Encargos de Gestão"},"Fixo",{"$f":"SUMIFS('Classificação OPEX'!$O$4:$O$1666,'Classificação OPEX'!$Q$4:$Q$1666,\"N\",'Classificação OPEX'!$S$4:$S$1666,\"NÃO\",'Classificação OPEX'!$V$4:$V$1666,DRIVER_OPEX!A188,'Classificação OPEX'!$W$4:$W$1666,DRIVER_OPEX!B188)","v":0},{"$f":"IF($F188=\"\",0,VLOOKUP($E188,Drivers!$A$26:$F$48,MATCH(G$1,Drivers!$A$25:$F$25,0),0)*$F188)","v":0},{"$f":"IF($F188=\"\",0,VLOOKUP($E188,Drivers!$A$26:$F$48,MATCH(H$1,Drivers!$A$25:$F$25,0),0)*$F188)","v":0},{"$f":"IF($F188=\"\",0,VLOOKUP($E188,Drivers!$A$26:$F$48,MATCH(I$1,Drivers!$A$25:$F$25,0),0)*$F188)","v":0},{"$f":"IF($F188=\"\",0,VLOOKUP($E188,Drivers!$A$26:$F$48,MATCH(J$1,Drivers!$A$25:$F$25,0),0)*$F188)","v":0},{"$f":"IF($F188=\"\",0,VLOOKUP($E188,Drivers!$A$26:$F$48,MATCH(K$1,Drivers!$A$25:$F$25,0),0)*$F188)","v":0}]
["DIREITO_PASSAGEM",1004,"COMITÊ DE AUDITORIA ESTATUTÁRIA",{"$f":"VLOOKUP(B189,Centro_Custo!$A$2:$C$36,3)","v":"Encargos de Gestão"},"Fixo",{"$f":"SUMIFS('Classificação OPEX'!$O$4:$O$1666,'Classificação OPEX'!$Q$4:$Q$1666,\"N\",'Classificação OPEX'!$S$4:$S$1666,\"NÃO\",'Classificação OPEX'!$V$4:$V$1666,DRIVER_OPEX!A189,'Classificação OPEX'!$W$4:$W$1666,DRIVER_OPEX!B189)","v":0},{"$f":"IF($F189=\"\",0,VLOOKUP($E189,Drivers!$A$26:$F$48,MATCH(G$1,Drivers!$A$25:$F$25,0),0)*$F189)","v":0},{"$f":"IF($F189=\"\",0,VLOOKUP($E189,Drivers!$A$26:$F$48,MATCH(H$1,Drivers!$A$25:$F$25,0),0)*$F189)","v":0},{"$f":"IF($F189=\"\",0,VLOOKUP($E189,Drivers!$A$26:$F$48,MATCH(I$1,Drivers!$A$25:$F$25,0),0)*$F189)","v":0},{"$f":"IF($F189=\"\",0,VLOOKUP($E189,Drivers!$A$26:$F$48,MATCH(J$1,Drivers!$A$25:$F$25,0),0)*$F189)","v":0},{"$f":"IF($F189=\"\",0,VLOOKUP($E189,Drivers!$A$26:$F$48,MATCH(K$1,Drivers!$A$25:$F$25,0),0)*$F189)","v":0}]
["DIREITO_PASSAGEM",1005,"AUDITORIA INTERNA",{"$f":"VLOOKUP(B190,Centro_Custo!$A$2:$C$36,3)","v":"Encargos de Gestão"},"Fixo",{"$f":"SUMIFS('Classificação OPEX'!$O$4:$O$1666,'Classificação OPEX'!$Q$4:$Q$1666,\"N\",'Classificação OPEX'!$S$4:$S$1666,\"NÃO\",'Classificação OPEX'!$V$4:$V$1666,DRIVER_OPEX!A190,'Classificação OPEX'!$W$4:$W$1666,DRIVER_OPEX!B190)","v":0},{"$f":"IF($F190=\"\",0,VLOOKUP($E190,Drivers!$A$26:$F$48,MATCH(G$1,Drivers!$A$25:$F$25,0),0)*$F190)","v":0},{"$f":"IF($F190=\"\",0,VLOOKUP($E190,Drivers!$A$26:$F$48,MATCH(H$1,Drivers!$A$25:$F$25,0),0)*$F190)","v":0},{"$f":"IF($F190=\"\",0,VLOOKUP($E190,Drivers!$A$26:$F$48,MATCH(I$1,Drivers!$A$25:$F$25,0),0)*$F190)","v":0},{"$f":"IF($F190=\"\",0,VLOOKUP($E190,Drivers!$A$26:$F$48,MATCH(J$1,Drivers!$A$25:$F$25,0),0)*$F190)","v":0},{"$f":"IF($F190=\"\",0,VLOOKUP($E190,Drivers!$A$26:$F$48,MATCH(K$1,Drivers!$A$25:$F$25,0),0)*$F190)","v":0}]
["DIREITO_PASSAGEM",1010,"GOVERNANÇA SOCIETÁRIA",{"$f":"VLOOKUP(B191,Centro_Custo!$A$2:$C$36,3)","v":"Encargos de Gestão"},"Fixo",{"$f":"SUMIFS('Classificação OPEX'!$O$4:$O$1666,'Classificação OPEX'!$Q$4:$Q$1666,\"N\",'Classificação OPEX'!$S$4:$S$1666,\"NÃO\",'Classificação OPEX'!$V$4:$V$1666,DRIVER_OPEX!A191,'Classificação OPEX'!$W$4:$W$1666,DRIVER_OPEX!B191)","v":0},{"$f":"IF($F191=\"\",0,VLOOKUP($E191,Drivers!$A$26:$F$48,MATCH(G$1,Drivers!$A$25:$F$25,0),0)*$F191)","v":0},{"$f":"IF($F191=\"\",0,VLOOKUP($E191,Drivers!$A$26:$F$48,MATCH(H$1,Drivers!$A$25:$F$25,0),0)*$F191)","v":0},{"$f":"IF($F191=\"\",0,VLOOKUP($E191,Drivers!$A$26:$F$48,MATCH(I$1,Drivers!$A$25:$F$25,0),0)*$F191)","v":0},{"$f":"IF($F191=\"\",0,VLOOKUP($E191,Drivers!$A$26:$F$48,MATCH(J$1,Drivers!$A$25:$F$25,0),0)*$F191)","v":0},{"$f":"IF($F191=\"\",0,VLOOKUP($E191,Drivers!$A$26:$F$48,MATCH(K$1,Drivers!$A$25:$F$25,0),0)*$F191)","v":0}]
["DIREITO_PASSAGEM",2100,"SECRETARIA",{"$f":"VLOOKUP(B192,Centro_Custo!$A$2:$C$36,3)","v":"Encargos de Gestão"},"Fixo",{"$f":"SUMIFS('Classificação OPEX'!$O$4:$O$1666,'Classificação OPEX'!$Q$4:$Q$1666,\"N\",'Classificação OPEX'!$S$4:$S$1666,\"NÃO\",'Classificação OPEX'!$V$4:$V$1666,DRIVER_OPEX!A192,'Classificação OPEX'!$W$4:$W$1666,DRIVER_OPEX!B192)","v":0},{"$f":"IF($F192=\"\",0,VLOOKUP($E192,Drivers!$A$26:$F$48,MATCH(G$1,Drivers!$A$25:$F$25,0),0)*$F192)","v":0},{"$f":"IF($F192=\"\",0,VLOOKUP($E192,Drivers!$A$26:$F$48,MATCH(H$1,Drivers!$A$25:$F$25,0),0)*$F192)","v":0},{"$f":"IF($F192=\"\",0,VLOOKUP($E192,Drivers!$A$26:$F$48,MATCH(I$1,Drivers!$A$25:$F$25,0),0)*$F192)","v":0},{"$f":"IF($F192=\"\",0,VLOOKUP($E192,Drivers!$A$26:$F$48,MATCH(J$1,Drivers!$A$25:$F$25,0),0)*$F192)","v":0},{"$f":"IF($F192=\"\",0,VLOOKUP($E192,Drivers!$A$26:$F$48,MATCH(K$1,Drivers!$A$25:$F$25,0),0)*$F192)","v":0}]
["DIREITO_PASSAGEM",2110,"ASSESSORIA DA DIRETORIA EXECUTIVA",{"$f":"VLOOKUP(B193,Centro_Custo!$A$2:$C$36,3)","v":"Encargos de Gestão"},"Fixo",{"$f":"SUMIFS('Classificação OPEX'!$O$4:$O$1666,'Classificação OPEX'!$Q$4:$Q$1666,\"N\",'Classificação OPEX'!$S$4:$S$1666,\"NÃO\",'Classificação OPEX'!$V$4:$V$1666,DRIVER_OPEX!A193,'Classificação OPEX'!$W$4:$W$1666,DRIVER_OPEX!B193)","v":0},{"$f":"IF($F193=\"\",0,VLOOKUP($E193,Drivers!$A$26:$F$48,MATCH(G$1,Drivers!$A$25:$F$25,0),0)*$F193)","v":0},{"$f":"IF($F193=\"\",0,VLOOKUP($E193,Drivers!$A$26:$F$48,MATCH(H$1,Drivers!$A$25:$F$25,0),0)*$F193)","v":0},{"$f":"IF($F193=\"\",0,VLOOKUP($E193,Drivers!$A$26:$F$48,MATCH(I$1,Drivers!$A$25:$F$25,0),0)*$F193)","v":0},{"$f":"IF($F193=\"\",0,VLOOKUP($E193,Drivers!$A$26:$F$48,MATCH(J$1,Drivers!$A$25:$F$25,0),0)*$F193)","v":0},{"$f":"IF($F193=\"\",0,VLOOKUP($E193,Drivers!$A$26:$F$48,MATCH(K$1,Drivers!$A$25:$F$25,0),0)*$F193)","v":0}]
["DIREITO_PASSAGEM",2120,"ASSESSORIA DA PRESIDÊNCIA",{"$f":"VLOOKUP(B194,Centro_Custo!$A$2:$C$36,3)","v":"Encargos de Gestão"},"Fixo",{"$f":"SUMIFS('Classificação OPEX'!$O$4:$O$1666,'Classificação OPEX'!$Q$4:$Q$1666,\"N\",'Classificação OPEX'!$S$4:$S$1666,\"NÃO\",'Classificação OPEX'!$V$4:$V$1666,DRIVER_OPEX!A194,'Classificação OPEX'!$W$4:$W$1666,DRIVER_OPEX!B194)","v":0},{"$f":"IF($F194=\"\",0,VLOOKUP($E194,Drivers!$A$26:$F$48,MATCH(G$1,Drivers!$A$25:$F$25,0),0)*$F194)","v":0},{"$f":"IF($F194=\"\",0,VLOOKUP($E194,Drivers!$A$26:$F$48,MATCH(H$1,Drivers!$A$25:$F$25,0),0)*$F194)","v":0},{"$f":"IF($F194=\"\",0,VLOOKUP($E194,Drivers!$A$26:$F$48,MATCH(I$1,Drivers!$A$25:$F$25,0),0)*$F194)","v":0},{"$f":"IF($F194=\"\",0,VLOOKUP($E194,Drivers!$A$26:$F$48,MATCH(J$1,Drivers!$A$25:$F$25,0),0)*$F194)","v":0},{"$f":"IF($F194=\"\",0,VLOOKUP($E194,Drivers!$A$26:$F$48,MATCH(K$1,Drivers!$A$25:$F$25,0),0)*$F194)","v":0}]
["DIREITO_PASSAGEM",2130,"ASSESSORIA DE RELAÇÕES INSTITUCIONAIS E NOVOS NEGÓCIOS",{"$f":"VLOOKUP(B195,Centro_Custo!$A$2:$C$36,3)","v":"Encargos de Gestão"},"Fixo",{"$f":"SUMIFS('Classificação OPEX'!$O$4:$O$1666,'Classificação OPEX'!$Q$4:$Q$1666,\"N\",'Classificação OPEX'!$S$4:$S$1666,\"NÃO\",'Classificação OPEX'!$V$4:$V$1666,DRIVER_OPEX!A195,'Classificação OPEX'!$W$4:$W$1666,DRIVER_OPEX!B195)","v":0},{"$f":"IF($F195=\"\",0,VLOOKUP($E195,Drivers!$A$26:$F$48,MATCH(G$1,Drivers!$A$25:$F$25,0),0)*$F195)","v":0},{"$f":"IF($F195=\"\",0,VLOOKUP($E195,Drivers!$A$26:$F$48,MATCH(H$1,Drivers!$A$25:$F$25,0),0)*$F195)","v":0},{"$f":"IF($F195=\"\",0,VLOOKUP($E195,Drivers!$A$26:$F$48,MATCH(I$1,Drivers!$A$25:$F$25,0),0)*$F195)","v":0},{"$f":"IF($F195=\"\",0,VLOOKUP($E195,Drivers!$A$26:$F$48,MATCH(J$1,Drivers!$A$25:$F$25,0),0)*$F195)","v":0},{"$f":"IF($F195=\"\",0,VLOOKUP($E195,Drivers!$A$26:$F$48,MATCH(K$1,Drivers!$A$25:$F$25,0),0)*$F195)","v":0}]
["DIREITO_PASSAGEM",2140,"ASSESSORIA DTC",{"$f":"VLOOKUP(B196,Centro_Custo!$A$2:$C$36,3)","v":"Encargos de Comercialização"},"Fixo",{"$f":"SUMIFS('Classificação OPEX'!$O$4:$O$1666,'Classificação OPEX'!$Q$4:$Q$1666,\"N\",'Classificação OPEX'!$S$4:$S$1666,\"NÃO\",'Classificação OPEX'!$V$4:$V$1666,DRIVER_OPEX!A196,'Classificação OPEX'!$W$4:$W$1666,DRIVER_OPEX!B196)","v":0},{"$f":"IF($F196=\"\",0,VLOOKUP($E196,Drivers!$A$26:$F$48,MATCH(G$1,Drivers!$A$25:$F$25,0),0)*$F196)","v":0},{"$f":"IF($F196=\"\",0,VLOOKUP($E196,Drivers!$A$26:$F$48,MATCH(H$1,Drivers!$A$25:$F$25,0),0)*$F196)","v":0},{"$f":"IF($F196=\"\",0,VLOOKUP($E196,Drivers!$A$26:$F$48,MATCH(I$1,Drivers!$A$25:$F$25,0),0)*$F196)","v":0},{"$f":"IF($F196=\"\",0,VLOOKUP($E196,Drivers!$A$26:$F$48,MATCH(J$1,Drivers!$A$25:$F$25,0),0)*$F196)","v":0},{"$f":"IF($F196=\"\",0,VLOOKUP($E196,Drivers!$A$26:$F$48,MATCH(K$1,Drivers!$A$25:$F$25,0),0)*$F196)","v":0}]
["DIREITO_PASSAGEM",2200,"DIRETORIA COLEGIADA - PRESIDÊNCIA",{"$f":"VLOOKUP(B197,Centro_Custo!$A$2:$C$36,3)","v":"Encargos de Gestão"},"Fixo",{"$f":"SUMIFS('Classificação OPEX'!$O$4:$O$1666,'Classificação OPEX'!$Q$4:$Q$1666,\"N\",'Classificação OPEX'!$S$4:$S$1666,\"NÃO\",'Classificação OPEX'!$V$4:$V$1666,DRIVER_OPEX!A197,'Classificação OPEX'!$W$4:$W$1666,DRIVER_OPEX!B197)","v":0},{"$f":"IF($F197=\"\",0,VLOOKUP($E197,Drivers!$A$26:$F$48,MATCH(G$1,Drivers!$A$25:$F$25,0),0)*$F197)","v":0},{"$f":"IF($F197=\"\",0,VLOOKUP($E197,Drivers!$A$26:$F$48,MATCH(H$1,Drivers!$A$25:$F$25,0),0)*$F197)","v":0},{"$f":"IF($F197=\"\",0,VLOOKUP($E197,Drivers!$A$26:$F$48,MATCH(I$1,Drivers!$A$25:$F$25,0),0)*$F197)","v":0},{"$f":"IF($F197=\"\",0,VLOOKUP($E197,Drivers!$A$26:$F$48,MATCH(J$1,Drivers!$A$25:$F$25,0),0)*$F197)","v":0},{"$f":"IF($F197=\"\",0,VLOOKUP($E197,Drivers!$A$26:$F$48,MATCH(K$1,Drivers!$A$25:$F$25,0),0)*$F197)","v":0}]
["DIREITO_PASSAGEM",2300,"DIRETORIA COLEGIADA - DAF",{"$f":"VLOOKUP(B198,Centro_Custo!$A$2:$C$36,3)","v":"Encargos de Gestão"},"Fixo",{"$f":"SUMIFS('Classificação OPEX'!$O$4:$O$1666,'Classificação OPEX'!$Q$4:$Q$1666,\"N\",'Classificação OPEX'!$S$4:$S$1666,\"NÃO\",'Classificação OPEX'!$V$4:$V$1666,DRIVER_OPEX!A198,'Classificação OPEX'!$W$4:$W$1666,DRIVER_OPEX!B198)","v":0},{"$f":"IF($F198=\"\",0,VLOOKUP($E198,Drivers!$A$26:$F$48,MATCH(G$1,Drivers!$A$25:$F$25,0),0)*$F198)","v":0},{"$f":"IF($F198=\"\",0,VLOOKUP($E198,Drivers!$A$26:$F$48,MATCH(H$1,Drivers!$A$25:$F$25,0),0)*$F198)","v":0},{"$f":"IF($F198=\"\",0,VLOOKUP($E198,Drivers!$A$26:$F$48,MATCH(I$1,Drivers!$A$25:$F$25,0),0)*$F198)","v":0},{"$f":"IF($F198=\"\",0,VLOOKUP($E198,Drivers!$A$26:$F$48,MATCH(J$1,Drivers!$A$25:$F$25,0),0)*$F198)","v":0},{"$f":"IF($F198=\"\",0,VLOOKUP($E198,Drivers!$A$26:$F$48,MATCH(K$1,Drivers!$A$25:$F$25,0),0)*$F198)","v":0}]
["DIREITO_PASSAGEM",2310,"ASSESSORIA DAF",{"$f":"VLOOKUP(B199,Centro_Custo!$A$2:$C$36,3)","v":"Encargos de Gestão"},"Fixo",{"$f":"SUMIFS('Classificação OPEX'!$O$4:$O$1666,'Classificação OPEX'!$Q$4:$Q$1666,\"N\",'Classificação OPEX'!$S$4:$S$1666,\"NÃO\",'Classificação OPEX'!$V$4:$V$1666,DRIVER_OPEX!A199,'Classificação OPEX'!$W$4:$W$1666,DRIVER_OPEX!B199)","v":0},{"$f":"IF($F199=\"\",0,VLOOKUP($E199,Drivers!$A$26:$F$48,MATCH(G$1,Drivers!$A$25:$F$25,0),0)*$F199)","v":0},{"$f":"IF($F199=\"\",0,VLOOKUP($E199,Drivers!$A$26:$F$48,MATCH(H$1,Drivers!$A$25:$F$25,0),0)*$F199)","v":0},{"$f":"IF($F199=\"\",0,VLOOKUP($E199,Drivers!$A$26:$F$48,MATCH(I$1,Drivers!$A$25:$F$25,0),0)*$F199)","v":0},{"$f":"IF($F199=\"\",0,VLOOKUP($E199,Drivers!$A$26:$F$48,MATCH(J$1,Drivers!$A$25:$F$25,0),0)*$F199)","v":0},{"$f":"IF($F199=\"\",0,VLOOKUP($E199,Drivers!$A$26:$F$48,MATCH(K$1,Drivers!$A$25:$F$25,0),0)*$F199)","v":0}]
["DIREITO_PASSAGEM",2400,"DIRETORIA COLEGIADA - DTC",{"$f":"VLOOKUP(B200,Centro_Custo!$A$2:$C$36,3)","v":"Encargos de Comercialização"},"Fixo",{"$f":"SUMIFS('Classificação OPEX'!$O$4:$O$1666,'Classificação OPEX'!$Q$4:$Q$1666,\"N\",'Classificação OPEX'!$S$4:$S$1666,\"NÃO\",'Classificação OPEX'!$V$4:$V$1666,DRIVER_OPEX!A200,'Classificação OPEX'!$W$4:$W$1666,DRIVER_OPEX!B200)","v":0},{"$f":"IF($F200=\"\",0,VLOOKUP($E200,Drivers!$A$26:$F$48,MATCH(G$1,Drivers!$A$25:$F$25,0),0)*$F200)","v":0},{"$f":"IF($F200=\"\",0,VLOOKUP($E200,Drivers!$A$26:$F$48,MATCH(H$1,Drivers!$A$25:$F$25,0),0)*$F200)","v":0},{"$f":"IF($F200=\"\",0,VLOOKUP($E200,Drivers!$A$26:$F$48,MATCH(I$1,Drivers!$A$25:$F$25,0),0)*$F200)","v":0},{"$f":"IF($F200=\"\",0,VLOOKUP($E200,Drivers!$A$26:$F$48,MATCH(J$1,Drivers!$A$25:$F$25,0),0)*$F200)","v":0},{"$f":"IF($F200=\"\",0,VLOOKUP($E200,Drivers!$A$26:$F$48,MATCH(K$1,Drivers!$A$25:$F$25,0),0)*$F200)","v":0}]
["DIREITO_PASSAGEM",2410,"ASSESSORIA DE SEGURANÇA DO TRABALHO",{"$f":"VLOOKUP(B201,Centro_Custo!$A$2:$C$36,3)","v":"OPEX&ODESP"},"Fixo",{"$f":"SUMIFS('Classificação OPEX'!$O$4:$O$1666,'Classificação OPEX'!$Q$4:$Q$1666,\"N\",'Classificação OPEX'!$S$4:$S$1666,\"NÃO\",'Classificação OPEX'!$V$4:$V$1666,DRIVER_OPEX!A201,'Classificação OPEX'!$W$4:$W$1666,DRIVER_OPEX!B201)","v":0},{"$f":"IF($F201=\"\",0,VLOOKUP($E201,Drivers!$A$26:$F$48,MATCH(G$1,Drivers!$A$25:$F$25,0),0)*$F201)","v":0},{"$f":"IF($F201=\"\",0,VLOOKUP($E201,Drivers!$A$26:$F$48,MATCH(H$1,Drivers!$A$25:$F$25,0),0)*$F201)","v":0},{"$f":"IF($F201=\"\",0,VLOOKUP($E201,Drivers!$A$26:$F$48,MATCH(I$1,Drivers!$A$25:$F$25,0),0)*$F201)","v":0},{"$f":"IF($F201=\"\",0,VLOOKUP($E201,Drivers!$A$26:$F$48,MATCH(J$1,Drivers!$A$25:$F$25,0),0)*$F201)","v":0},{"$f":"IF($F201=\"\",0,VLOOKUP($E201,Drivers!$A$26:$F$48,MATCH(K$1,Drivers!$A$25:$F$25,0),0)*$F201)","v":0}]
["DIREITO_PASSAGEM",3100,"SMS",{"$f":"VLOOKUP(B202,Centro_Custo!$A$2:$C$36,3)","v":"OPEX&ODESP"},"Fixo",{"$f":"SUMIFS('Classificação OPEX'!$O$4:$O$1666,'Classificação OPEX'!$Q$4:$Q$1666,\"N\",'Classificação OPEX'!$S$4:$S$1666,\"NÃO\",'Classificação OPEX'!$V$4:$V$1666,DRIVER_OPEX!A202,'Classificação OPEX'!$W$4:$W$1666,DRIVER_OPEX!B202)","v":0},{"$f":"IF($F202=\"\",0,VLOOKUP($E202,Drivers!$A$26:$F$48,MATCH(G$1,Drivers!$A$25:$F$25,0),0)*$F202)","v":0},{"$f":"IF($F202=\"\",0,VLOOKUP($E202,Drivers!$A$26:$F$48,MATCH(H$1,Drivers!$A$25:$F$25,0),0)*$F202)","v":0},{"$f":"IF($F202=\"\",0,VLOOKUP($E202,Drivers!$A$26:$F$48,MATCH(I$1,Drivers!$A$25:$F$25,0),0)*$F202)","v":0},{"$f":"IF($F202=\"\",0,VLOOKUP($E202,Drivers!$A$26:$F$48,MATCH(J$1,Drivers!$A$25:$F$25,0),0)*$F202)","v":0},{"$f":"IF($F202=\"\",0,VLOOKUP($E202,Drivers!$A$26:$F$48,MATCH(K$1,Drivers!$A$25:$F$25,0),0)*$F202)","v":0}]
["DIREITO_PASSAGEM",3200,"GERÊNCIA DE PLANEJAMENTO E MEIO AMBIENTE",{"$f":"VLOOKUP(B203,Centro_Custo!$A$2:$C$36,3)","v":"OPEX&ODESP"},"Fixo",{"$f":"SUMIFS('Classificação OPEX'!$O$4:$O$1666,'Classificação OPEX'!$Q$4:$Q$1666,\"N\",'Classificação OPEX'!$S$4:$S$1666,\"NÃO\",'Classificação OPEX'!$V$4:$V$1666,DRIVER_OPEX!A203,'Classificação OPEX'!$W$4:$W$1666,DRIVER_OPEX!B203)","v":0},{"$f":"IF($F203=\"\",0,VLOOKUP($E203,Drivers!$A$26:$F$48,MATCH(G$1,Drivers!$A$25:$F$25,0),0)*$F203)","v":0},{"$f":"IF($F203=\"\",0,VLOOKUP($E203,Drivers!$A$26:$F$48,MATCH(H$1,Drivers!$A$25:$F$25,0),0)*$F203)","v":0},{"$f":"IF($F203=\"\",0,VLOOKUP($E203,Drivers!$A$26:$F$48,MATCH(I$1,Drivers!$A$25:$F$25,0),0)*$F203)","v":0},{"$f":"IF($F203=\"\",0,VLOOKUP($E203,Drivers!$A$26:$F$48,MATCH(J$1,Drivers!$A$25:$F$25,0),0)*$F203)","v":0},{"$f":"IF($F203=\"\",0,VLOOKUP($E203,Drivers!$A$26:$F$48,MATCH(K$1,Drivers!$A$25:$F$25,0),0)*$F203)","v":0}]
["DIREITO_PASSAGEM",3300,"GERÊNCIA JURÍDICA",{"$f":"VLOOKUP(B204,Centro_Custo!$A$2:$C$36,3)","v":"Encargos de Gestão"},"Fixo",{"$f":"SUMIFS('Classificação OPEX'!$O$4:$O$1666,'Classificação OPEX'!$Q$4:$Q$1666,\"N\",'Classificação OPEX'!$S$4:$S$1666,\"NÃO\",'Classificação OPEX'!$V$4:$V$1666,DRIVER_OPEX!A204,'Classificação OPEX'!$W$4:$W$1666,DRIVER_OPEX!B204)","v":0},{"$f":"IF($F204=\"\",0,VLOOKUP($E204,Drivers!$A$26:$F$48,MATCH(G$1,Drivers!$A$25:$F$25,0),0)*$F204)","v":0},{"$f":"IF($F204=\"\",0,VLOOKUP($E204,Drivers!$A$26:$F$48,MATCH(H$1,Drivers!$A$25:$F$25,0),0)*$F204)","v":0},{"$f":"IF($F204=\"\",0,VLOOKUP($E204,Drivers!$A$26:$F$48,MATCH(I$1,Drivers!$A$25:$F$25,0),0)*$F204)","v":0},{"$f":"IF($F204=\"\",0,VLOOKUP($E204,Drivers!$A$26:$F$48,MATCH(J$1,Drivers!$A$25:$F$25,0),0)*$F204)","v":0},{"$f":"IF($F204=\"\",0,VLOOKUP($E204,Drivers!$A$26:$F$48,MATCH(K$1,Drivers!$A$25:$F$25,0),0)*$F204)","v":0}]
["DIREITO_PASSAGEM",3400,"MARKETING",{"$f":"VLOOKUP(B205,Centro_Custo!$A$2:$C$36,3)","v":"Encargos de Comercialização"},"Fixo",{"$f":"SUMIFS('Classificação OPEX'!$O$4:$O$1666,'Classificação OPEX'!$Q$4:$Q$1666,\"N\",'Classificação OPEX'!$S$4:$S$1666,\"NÃO\",'Classificação OPEX'!$V$4:$V$1666,DRIVER_OPEX!A205,'Classificação OPEX'!$W$4:$W$1666,DRIVER_OPEX!B205)","v":0},{"$f":"IF($F205=\"\",0,VLOOKUP($E205,Drivers!$A$26:$F$48,MATCH(G$1,Drivers!$A$25:$F$25,0),0)*$F205)","v":0},{"$f":"IF($F205=\"\",0,VLOOKUP($E205,Drivers!$A$26:$F$48,MATCH(H$1,Drivers!$A$25:$F$25,0),0)*$F205)","v":0},{"$f":"IF($F205=\"\",0,VLOOKUP($E205,Drivers!$A$26:$F$48,MATCH(I$1,Drivers!$A$25:$F$25,0),0)*$F205)","v":0},{"$f":"IF($F205=\"\",0,VLOOKUP($E205,Drivers!$A$26:$F$48,MATCH(J$1,Drivers!$A$25:$F$25,0),0)*$F205)","v":0},{"$f":"IF($F205=\"\",0,VLOOKUP($E205,Drivers!$A$26:$F$48,MATCH(K$1,Drivers!$A$25:$F$25,0),0)*$F205)","v":0}]
["DIREITO_PASSAGEM",3500,"ASSESSORIA DE COMUNICAÇÃO INSTITUCIONAL",{"$f":"VLOOKUP(B206,Centro_Custo!$A$2:$C$36,3)","v":"Encargos de Gestão"},"Fixo",{"$f":"SUMIFS('Classificação OPEX'!$O$4:$O$1666,'Classificação OPEX'!$Q$4:$Q$1666,\"N\",'Classificação OPEX'!$S$4:$S$1666,\"NÃO\",'Classificação OPEX'!$V$4:$V$1666,DRIVER_OPEX!A206,'Classificação OPEX'!$W$4:$W$1666,DRIVER_OPEX!B206)","v":0},{"$f":"IF($F206=\"\",0,VLOOKUP($E206,Drivers!$A$26:$F$48,MATCH(G$1,Drivers!$A$25:$F$25,0),0)*$F206)","v":0},{"$f":"IF($F206=\"\",0,VLOOKUP($E206,Drivers!$A$26:$F$48,MATCH(H$1,Drivers!$A$25:$F$25,0),0)*$F206)","v":0},{"$f":"IF($F206=\"\",0,VLOOKUP($E206,Drivers!$A$26:$F$48,MATCH(I$1,Drivers!$A$25:$F$25,0),0)*$F206)","v":0},{"$f":"IF($F206=\"\",0,VLOOKUP($E206,Drivers!$A$26:$F$48,MATCH(J$1,Drivers!$A$25:$F$25,0),0)*$F206)","v":0},{"$f":"IF($F206=\"\",0,VLOOKUP($E206,Drivers!$A$26:$F$48,MATCH(K$1,Drivers!$A$25:$F$25,0),0)*$F206)","v":0}]
["DIREITO_PASSAGEM",3600,"GERÊNCIA DE GOVERNANÇA, RISCO E COMPLIANCE",{"$f":"VLOOKUP(B207,Centro_Custo!$A$2:$C$36,3)","v":"Encargos de Gestão"},"Fixo",{"$f":"SUMIFS('Classificação OPEX'!$O$4:$O$1666,'Classificação OPEX'!$Q$4:$Q$1666,\"N\",'Classificação OPEX'!$S$4:$S$1666,\"NÃO\",'Classificação OPEX'!$V$4:$V$1666,DRIVER_OPEX!A207,'Classificação OPEX'!$W$4:$W$1666,DRIVER_OPEX!B207)","v":0},{"$f":"IF($F207=\"\",0,VLOOKUP($E207,Drivers!$A$26:$F$48,MATCH(G$1,Drivers!$A$25:$F$25,0),0)*$F207)","v":0},{"$f":"IF($F207=\"\",0,VLOOKUP($E207,Drivers!$A$26:$F$48,MATCH(H$1,Drivers!$A$25:$F$25,0),0)*$F207)","v":0},{"$f":"IF($F207=\"\",0,VLOOKUP($E207,Drivers!$A$26:$F$48,MATCH(I$1,Drivers!$A$25:$F$25,0),0)*$F207)","v":0},{"$f":"IF($F207=\"\",0,VLOOKUP($E207,Drivers!$A$26:$F$48,MATCH(J$1,Drivers!$A$25:$F$25,0),0)*$F207)","v":0},{"$f":"IF($F207=\"\",0,VLOOKUP($E207,Drivers!$A$26:$F$48,MATCH(K$1,Drivers!$A$25:$F$25,0),0)*$F207)","v":0}]
["DIREITO_PASSAGEM",3700,"GERÊNCIA DE REGULAÇÃO",{"$f":"VLOOKUP(B208,Centro_Custo!$A$2:$C$36,3)","v":"Encargos de Gestão"},"Fixo",{"$f":"SUMIFS('Classificação OPEX'!$O$4:$O$1666,'Classificação OPEX'!$Q$4:$Q$1666,\"N\",'Classificação OPEX'!$S$4:$S$1666,\"NÃO\",'Classificação OPEX'!$V$4:$V$1666,DRIVER_OPEX!A208,'Classificação OPEX'!$W$4:$W$1666,DRIVER_OPEX!B208)","v":0},{"$f":"IF($F208=\"\",0,VLOOKUP($E208,Drivers!$A$26:$F$48,MATCH(G$1,Drivers!$A$25:$F$25,0),0)*$F208)","v":0},{"$f":"IF($F208=\"\",0,VLOOKUP($E208,Drivers!$A$26:$F$48,MATCH(H$1,Drivers!$A$25:$F$25,0),0)*$F208)","v":0},{"$f":"IF($F208=\"\",0,VLOOKUP($E208,Drivers!$A$26:$F$48,MATCH(I$1,Drivers!$A$25:$F$25,0),0)*$F208)","v":0},{"$f":"IF($F208=\"\",0,VLOOKUP($E208,Drivers!$A$26:$F$48,MATCH(J$1,Drivers!$A$25:$F$25,0),0)*$F208)","v":0},{"$f":"IF($F208=\"\",0,VLOOKUP($E208,Drivers!$A$26:$F$48,MATCH(K$1,Drivers!$A$25:$F$25,0),0)*$F208)","v":0}]
["DIREITO_PASSAGEM",4100,"GERÊNCIA DE SERVIÇOS CORPORATIVOS",{"$f":"VLOOKUP(B209,Centro_Custo!$A$2:$C$36,3)","v":"Encargos de Gestão"},"Fixo",{"$f":"SUMIFS('Classificação OPEX'!$O$4:$O$1666,'Classificação OPEX'!$Q$4:$Q$1666,\"N\",'Classificação OPEX'!$S$4:$S$1666,\"NÃO\",'Classificação OPEX'!$V$4:$V$1666,DRIVER_OPEX!A209,'Classificação OPEX'!$W$4:$W$1666,DRIVER_OPEX!B209)","v":0},{"$f":"IF($F209=\"\",0,VLOOKUP($E209,Drivers!$A$26:$F$48,MATCH(G$1,Drivers!$A$25:$F$25,0),0)*$F209)","v":0},{"$f":"IF($F209=\"\",0,VLOOKUP($E209,Drivers!$A$26:$F$48,MATCH(H$1,Drivers!$A$25:$F$25,0),0)*$F209)","v":0},{"$f":"IF($F209=\"\",0,VLOOKUP($E209,Drivers!$A$26:$F$48,MATCH(I$1,Drivers!$A$25:$F$25,0),0)*$F209)","v":0},{"$f":"IF($F209=\"\",0,VLOOKUP($E209,Drivers!$A$26:$F$48,MATCH(J$1,Drivers!$A$25:$F$25,0),0)*$F209)","v":0},{"$f":"IF($F209=\"\",0,VLOOKUP($E209,Drivers!$A$26:$F$48,MATCH(K$1,Drivers!$A$25:$F$25,0),0)*$F209)","v":0}]
["DIREITO_PASSAGEM",4200,"GERÊNCIA FINANCEIRA",{"$f":"VLOOKUP(B210,Centro_Custo!$A$2:$C$36,3)","v":"Encargos de Gestão"},"Fixo",{"$f":"SUMIFS('Classificação OPEX'!$O$4:$O$1666,'Classificação OPEX'!$Q$4:$Q$1666,\"N\",'Classificação OPEX'!$S$4:$S$1666,\"NÃO\",'Classificação OPEX'!$V$4:$V$1666,DRIVER_OPEX!A210,'Classificação OPEX'!$W$4:$W$1666,DRIVER_OPEX!B210)","v":0},{"$f":"IF($F210=\"\",0,VLOOKUP($E210,Drivers!$A$26:$F$48,MATCH(G$1,Drivers!$A$25:$F$25,0),0)*$F210)","v":0},{"$f":"IF($F210=\"\",0,VLOOKUP($E210,Drivers!$A$26:$F$48,MATCH(H$1,Drivers!$A$25:$F$25,0),0)*$F210)","v":0},{"$f":"IF($F210=\"\",0,VLOOKUP($E210,Drivers!$A$26:$F$48,MATCH(I$1,Drivers!$A$25:$F$25,0),0)*$F210)","v":0},{"$f":"IF($F210=\"\",0,VLOOKUP($E210,Drivers!$A$26:$F$48,MATCH(J$1,Drivers!$A$25:$F$25,0),0)*$F210)","v":0},{"$f":"IF($F210=\"\",0,VLOOKUP($E210,Drivers!$A$26:$F$48,MATCH(K$1,Drivers!$A$25:$F$25,0),0)*$F210)","v":0}]
["DIREITO_PASSAGEM",4300,"GERÊNCIA DE TECNOLOGIA E SISTEMAS DE INFORMAÇÃO",{"$f":"VLOOKUP(B211,Centro_Custo!$A$2:$C$36,3)","v":"Encargos de Gestão"},"Fixo",{"$f":"SUMIFS('Classificação OPEX'!$O$4:$O$1666,'Classificação OPEX'!$Q$4:$Q$1666,\"N\",'Classificação OPEX'!$S$4:$S$1666,\"NÃO\",'Classificação OPEX'!$V$4:$V$1666,DRIVER_OPEX!A211,'Classificação OPEX'!$W$4:$W$1666,DRIVER_OPEX!B211)","v":0},{"$f":"IF($F211=\"\",0,VLOOKUP($E211,Drivers!$A$26:$F$48,MATCH(G$1,Drivers!$A$25:$F$25,0),0)*$F211)","v":0},{"$f":"IF($F211=\"\",0,VLOOKUP($E211,Drivers!$A$26:$F$48,MATCH(H$1,Drivers!$A$25:$F$25,0),0)*$F211)","v":0},{"$f":"IF($F211=\"\",0,VLOOKUP($E211,Drivers!$A$26:$F$48,MATCH(I$1,Drivers!$A$25:$F$25,0),0)*$F211)","v":0},{"$f":"IF($F211=\"\",0,VLOOKUP($E211,Drivers!$A$26:$F$48,MATCH(J$1,Drivers!$A$25:$F$25,0),0)*$F211)","v":0},{"$f":"IF($F211=\"\",0,VLOOKUP($E211,Drivers!$A$26:$F$48,MATCH(K$1,Drivers!$A$25:$F$25,0),0)*$F211)","v":0}]
["DIREITO_PASSAGEM",4500,"GERÊNCIA CONTÁBIL",{"$f":"VLOOKUP(B212,Centro_Custo!$A$2:$C$36,3)","v":"Encargos de Gestão"},"Fixo",{"$f":"SUMIFS('Classificação OPEX'!$O$4:$O$1666,'Classificação OPEX'!$Q$4:$Q$1666,\"N\",'Classificação OPEX'!$S$4:$S$1666,\"NÃO\",'Classificação OPEX'!$V$4:$V$1666,DRIVER_OPEX!A212,'Classificação OPEX'!$W$4:$W$1666,DRIVER_OPEX!B212)","v":0},{"$f":"IF($F212=\"\",0,VLOOKUP($E212,Drivers!$A$26:$F$48,MATCH(G$1,Drivers!$A$25:$F$25,0),0)*$F212)","v":0},{"$f":"IF($F212=\"\",0,VLOOKUP($E212,Drivers!$A$26:$F$48,MATCH(H$1,Drivers!$A$25:$F$25,0),0)*$F212)","v":0},{"$f":"IF($F212=\"\",0,VLOOKUP($E212,Drivers!$A$26:$F$48,MATCH(I$1,Drivers!$A$25:$F$25,0),0)*$F212)","v":0},{"$f":"IF($F212=\"\",0,VLOOKUP($E212,Drivers!$A$26:$F$48,MATCH(J$1,Drivers!$A$25:$F$25,0),0)*$F212)","v":0},{"$f":"IF($F212=\"\",0,VLOOKUP($E212,Drivers!$A$26:$F$48,MATCH(K$1,Drivers!$A$25:$F$25,0),0)*$F212)","v":0}]
["DIREITO_PASSAGEM",4600,"GERÊNCIA DE PESSOAS E CULTURA",{"$f":"VLOOKUP(B213,Centro_Custo!$A$2:$C$36,3)","v":"Encargos de Gestão"},"Fixo",{"$f":"SUMIFS('Classificação OPEX'!$O$4:$O$1666,'Classificação OPEX'!$Q$4:$Q$1666,\"N\",'Classificação OPEX'!$S$4:$S$1666,\"NÃO\",'Classificação OPEX'!$V$4:$V$1666,DRIVER_OPEX!A213,'Classificação OPEX'!$W$4:$W$1666,DRIVER_OPEX!B213)","v":0},{"$f":"IF($F213=\"\",0,VLOOKUP($E213,Drivers!$A$26:$F$48,MATCH(G$1,Drivers!$A$25:$F$25,0),0)*$F213)","v":0},{"$f":"IF($F213=\"\",0,VLOOKUP($E213,Drivers!$A$26:$F$48,MATCH(H$1,Drivers!$A$25:$F$25,0),0)*$F213)","v":0},{"$f":"IF($F213=\"\",0,VLOOKUP($E213,Drivers!$A$26:$F$48,MATCH(I$1,Drivers!$A$25:$F$25,0),0)*$F213)","v":0},{"$f":"IF($F213=\"\",0,VLOOKUP($E213,Drivers!$A$26:$F$48,MATCH(J$1,Drivers!$A$25:$F$25,0),0)*$F213)","v":0},{"$f":"IF($F213=\"\",0,VLOOKUP($E213,Drivers!$A$26:$F$48,MATCH(K$1,Drivers!$A$25:$F$25,0),0)*$F213)","v":0}]
["DIREITO_PASSAGEM",5100,"GERÊNCIA DE ENGENHARIA",{"$f":"VLOOKUP(B214,Centro_Custo!$A$2:$C$36,3)","v":"OPEX&ODESP"},"Fixo",{"$f":"SUMIFS('Classificação OPEX'!$O$4:$O$1666,'Classificação OPEX'!$Q$4:$Q$1666,\"N\",'Classificação OPEX'!$S$4:$S$1666,\"NÃO\",'Classificação OPEX'!$V$4:$V$1666,DRIVER_OPEX!A214,'Classificação OPEX'!$W$4:$W$1666,DRIVER_OPEX!B214)","v":0},{"$f":"IF($F214=\"\",0,VLOOKUP($E214,Drivers!$A$26:$F$48,MATCH(G$1,Drivers!$A$25:$F$25,0),0)*$F214)","v":0},{"$f":"IF($F214=\"\",0,VLOOKUP($E214,Drivers!$A$26:$F$48,MATCH(H$1,Drivers!$A$25:$F$25,0),0)*$F214)","v":0},{"$f":"IF($F214=\"\",0,VLOOKUP($E214,Drivers!$A$26:$F$48,MATCH(I$1,Drivers!$A$25:$F$25,0),0)*$F214)","v":0},{"$f":"IF($F214=\"\",0,VLOOKUP($E214,Drivers!$A$26:$F$48,MATCH(J$1,Drivers!$A$25:$F$25,0),0)*$F214)","v":0},{"$f":"IF($F214=\"\",0,VLOOKUP($E214,Drivers!$A$26:$F$48,MATCH(K$1,Drivers!$A$25:$F$25,0),0)*$F214)","v":0}]
["DIREITO_PASSAGEM",5300,"GERÊNCIA COMERCIAL",{"$f":"VLOOKUP(B215,Centro_Custo!$A$2:$C$36,3)","v":"Encargos de Comercialização"},"Fixo",{"$f":"SUMIFS('Classificação OPEX'!$O$4:$O$1666,'Classificação OPEX'!$Q$4:$Q$1666,\"N\",'Classificação OPEX'!$S$4:$S$1666,\"NÃO\",'Classificação OPEX'!$V$4:$V$1666,DRIVER_OPEX!A215,'Classificação OPEX'!$W$4:$W$1666,DRIVER_OPEX!B215)","v":0},{"$f":"IF($F215=\"\",0,VLOOKUP($E215,Drivers!$A$26:$F$48,MATCH(G$1,Drivers!$A$25:$F$25,0),0)*$F215)","v":0},{"$f":"IF($F215=\"\",0,VLOOKUP($E215,Drivers!$A$26:$F$48,MATCH(H$1,Drivers!$A$25:$F$25,0),0)*$F215)","v":0},{"$f":"IF($F215=\"\",0,VLOOKUP($E215,Drivers!$A$26:$F$48,MATCH(I$1,Drivers!$A$25:$F$25,0),0)*$F215)","v":0},{"$f":"IF($F215=\"\",0,VLOOKUP($E215,Drivers!$A$26:$F$48,MATCH(J$1,Drivers!$A$25:$F$25,0),0)*$F215)","v":0},{"$f":"IF($F215=\"\",0,VLOOKUP($E215,Drivers!$A$26:$F$48,MATCH(K$1,Drivers!$A$25:$F$25,0),0)*$F215)","v":0}]
["DIREITO_PASSAGEM",9999,"RATEIO",{"$f":"VLOOKUP(B216,Centro_Custo!$A$2:$C$36,3)","v":"Encargos de Gestão"},"Fixo",{"$f":"SUMIFS('Classificação OPEX'!$O$4:$O$1666,'Classificação OPEX'!$Q$4:$Q$1666,\"N\",'Classificação OPEX'!$S$4:$S$1666,\"NÃO\",'Classificação OPEX'!$V$4:$V$1666,DRIVER_OPEX!A216,'Classificação OPEX'!$W$4:$W$1666,DRIVER_OPEX!B216)","v":0},{"$f":"IF($F216=\"\",0,VLOOKUP($E216,Drivers!$A$26:$F$48,MATCH(G$1,Drivers!$A$25:$F$25,0),0)*$F216)","v":0},{"$f":"IF($F216=\"\",0,VLOOKUP($E216,Drivers!$A$26:$F$48,MATCH(H$1,Drivers!$A$25:$F$25,0),0)*$F216)","v":0},{"$f":"IF($F216=\"\",0,VLOOKUP($E216,Drivers!$A$26:$F$48,MATCH(I$1,Drivers!$A$25:$F$25,0),0)*$F216)","v":0},{"$f":"IF($F216=\"\",0,VLOOKUP($E216,Drivers!$A$26:$F$48,MATCH(J$1,Drivers!$A$25:$F$25,0),0)*$F216)","v":0},{"$f":"IF($F216=\"\",0,VLOOKUP($E216,Drivers!$A$26:$F$48,MATCH(K$1,Drivers!$A$25:$F$25,0),0)*$F216)","v":0}]
["DIREITO_PASSAGEM","5400","GERÊNCIA COMERCIAL",{"$f":"VLOOKUP(B217,Centro_Custo!$A$2:$C$36,3)","v":"Encargos de Gestão"},"Fixo",{"$f":"SUMIFS('Classificação OPEX'!$O$4:$O$1666,'Classificação OPEX'!$Q$4:$Q$1666,\"N\",'Classificação OPEX'!$S$4:$S$1666,\"NÃO\",'Classificação OPEX'!$V$4:$V$1666,DRIVER_OPEX!A217,'Classificação OPEX'!$W$4:$W$1666,DRIVER_OPEX!B217)","v":0},{"$f":"IF($F217=\"\",0,VLOOKUP($E217,Drivers!$A$26:$F$48,MATCH(G$1,Drivers!$A$25:$F$25,0),0)*$F217)","v":0},{"$f":"IF($F217=\"\",0,VLOOKUP($E217,Drivers!$A$26:$F$48,MATCH(H$1,Drivers!$A$25:$F$25,0),0)*$F217)","v":0},{"$f":"IF($F217=\"\",0,VLOOKUP($E217,Drivers!$A$26:$F$48,MATCH(I$1,Drivers!$A$25:$F$25,0),0)*$F217)","v":0},{"$f":"IF($F217=\"\",0,VLOOKUP($E217,Drivers!$A$26:$F$48,MATCH(J$1,Drivers!$A$25:$F$25,0),0)*$F217)","v":0},{"$f":"IF($F217=\"\",0,VLOOKUP($E217,Drivers!$A$26:$F$48,MATCH(K$1,Drivers!$A$25:$F$25,0),0)*$F217)","v":0}]
["DIREITO_PASSAGEM","5500","GERÊNCIA COMERCIAL",{"$f":"VLOOKUP(B218,Centro_Custo!$A$2:$C$36,3)","v":"Encargos de Gestão"},"Fixo",{"$f":"SUMIFS('Classificação OPEX'!$O$4:$O$1666,'Classificação OPEX'!$Q$4:$Q$1666,\"N\",'Classificação OPEX'!$S$4:$S$1666,\"NÃO\",'Classificação OPEX'!$V$4:$V$1666,DRIVER_OPEX!A218,'Classificação OPEX'!$W$4:$W$1666,DRIVER_OPEX!B218)","v":0},{"$f":"IF($F218=\"\",0,VLOOKUP($E218,Drivers!$A$26:$F$48,MATCH(G$1,Drivers!$A$25:$F$25,0),0)*$F218)","v":0},{"$f":"IF($F218=\"\",0,VLOOKUP($E218,Drivers!$A$26:$F$48,MATCH(H$1,Drivers!$A$25:$F$25,0),0)*$F218)","v":0},{"$f":"IF($F218=\"\",0,VLOOKUP($E218,Drivers!$A$26:$F$48,MATCH(I$1,Drivers!$A$25:$F$25,0),0)*$F218)","v":0},{"$f":"IF($F218=\"\",0,VLOOKUP($E218,Drivers!$A$26:$F$48,MATCH(J$1,Drivers!$A$25:$F$25,0),0)*$F218)","v":0},{"$f":"IF($F218=\"\",0,VLOOKUP($E218,Drivers!$A$26:$F$48,MATCH(K$1,Drivers!$A$25:$F$25,0),0)*$F218)","v":0}]
["MATERIAIS_MANUTENÇÃO","TOTAL","TOTAL",null,null,{"$f":"SUM(F220:F254)","v":7445927.934600465},{"$f":"SUM(G220:G254)","v":7840390.3865091568},8569058.8633163385,8814594.4995388873,9006615.4831744246,9163515.5348093063]
["MATERIAIS_MANUTENÇÃO",2110,{"$f":"VLOOKUP(B220,Centro_Custo!$A$2:$B$36,2,0)","v":"ASSESSORIA DA DIRETORIA EXECUTIVA"},{"$f":"VLOOKUP(B220,Centro_Custo!$A$2:$C$36,3)","v":"Encargos de Gestão"},"Fixo",{"$f":"SUMIFS('Classificação OPEX'!$O$4:$O$1666,'Classificação OPEX'!$Q$4:$Q$1666,\"N\",'Classificação OPEX'!$S$4:$S$1666,\"NÃO\",'Classificação OPEX'!$V$4:$V$1666,DRIVER_OPEX!A220,'Classificação OPEX'!$W$4:$W$1666,DRIVER_OPEX!B220)","v":3162.5078757683646},{"$f":"IF($F220=\"\",0,VLOOKUP($E220,Drivers!$A$26:$F$48,MATCH(G$1,Drivers!$A$25:$F$25,0),0)*$F220)","v":3162.5078757683646},{"$f":"IF($F220=\"\",0,VLOOKUP($E220,Drivers!$A$26:$F$48,MATCH(H$1,Drivers!$A$25:$F$25,0),0)*$F220)","v":3162.5078757683646},{"$f":"IF($F220=\"\",0,VLOOKUP($E220,Drivers!$A$26:$F$48,MATCH(I$1,Drivers!$A$25:$F$25,0),0)*$F220)","v":3162.5078757683646},{"$f":"IF($F220=\"\",0,VLOOKUP($E220,Drivers!$A$26:$F$48,MATCH(J$1,Drivers!$A$25:$F$25,0),0)*$F220)","v":3162.5078757683646},{"$f":"IF($F220=\"\",0,VLOOKUP($E220,Drivers!$A$26:$F$48,MATCH(K$1,Drivers!$A$25:$F$25,0),0)*$F220)","v":3162.5078757683646}]
["MATERIAIS_MANUTENÇÃO",2120,{"$f":"VLOOKUP(B221,Centro_Custo!$A$2:$B$36,2,0)","v":"ASSESSORIA DA PRESIDÊNCIA"},{"$f":"VLOOKUP(B221,Centro_Custo!$A$2:$C$36,3)","v":"Encargos de Gestão"},"Fixo",{"$f":"SUMIFS('Classificação OPEX'!$O$4:$O$1666,'Classificação OPEX'!$Q$4:$Q$1666,\"N\",'Classificação OPEX'!$S$4:$S$1666,\"NÃO\",'Classificação OPEX'!$V$4:$V$1666,DRIVER_OPEX!A221,'Classificação OPEX'!$W$4:$W$1666,DRIVER_OPEX!B221)","v":1103.6756164974074},{"$f":"IF($F221=\"\",0,VLOOKUP($E221,Drivers!$A$26:$F$48,MATCH(G$1,Drivers!$A$25:$F$25,0),0)*$F221)","v":1103.6756164974074},{"$f":"IF($F221=\"\",0,VLOOKUP($E221,Drivers!$A$26:$F$48,MATCH(H$1,Drivers!$A$25:$F$25,0),0)*$F221)","v":1103.6756164974074},{"$f":"IF($F221=\"\",0,VLOOKUP($E221,Drivers!$A$26:$F$48,MATCH(I$1,Drivers!$A$25:$F$25,0),0)*$F221)","v":1103.6756164974074},{"$f":"IF($F221=\"\",0,VLOOKUP($E221,Drivers!$A$26:$F$48,MATCH(J$1,Drivers!$A$25:$F$25,0),0)*$F221)","v":1103.6756164974074},{"$f":"IF($F221=\"\",0,VLOOKUP($E221,Drivers!$A$26:$F$48,MATCH(K$1,Drivers!$A$25:$F$25,0),0)*$F221)","v":1103.6756164974074}]
["MATERIAIS_MANUTENÇÃO",2200,{"$f":"VLOOKUP(B222,Centro_Custo!$A$2:$B$36,2,0)","v":"DIRETORIA COLEGIADA - PRESIDÊNCIA"},{"$f":"VLOOKUP(B222,Centro_Custo!$A$2:$C$36,3)","v":"Encargos de Gestão"},"Fixo",{"$f":"SUMIFS('Classificação OPEX'!$O$4:$O$1666,'Classificação OPEX'!$Q$4:$Q$1666,\"N\",'Classificação OPEX'!$S$4:$S$1666,\"NÃO\",'Classificação OPEX'!$V$4:$V$1666,DRIVER_OPEX!A222,'Classificação OPEX'!$W$4:$W$1666,DRIVER_OPEX!B222)","v":6113.1902781316385},{"$f":"IF($F222=\"\",0,VLOOKUP($E222,Drivers!$A$26:$F$48,MATCH(G$1,Drivers!$A$25:$F$25,0),0)*$F222)","v":6113.1902781316385},{"$f":"IF($F222=\"\",0,VLOOKUP($E222,Drivers!$A$26:$F$48,MATCH(H$1,Drivers!$A$25:$F$25,0),0)*$F222)","v":6113.1902781316385},{"$f":"IF($F222=\"\",0,VLOOKUP($E222,Drivers!$A$26:$F$48,MATCH(I$1,Drivers!$A$25:$F$25,0),0)*$F222)","v":6113.1902781316385},{"$f":"IF($F222=\"\",0,VLOOKUP($E222,Drivers!$A$26:$F$48,MATCH(J$1,Drivers!$A$25:$F$25,0),0)*$F222)","v":6113.1902781316385},{"$f":"IF($F222=\"\",0,VLOOKUP($E222,Drivers!$A$26:$F$48,MATCH(K$1,Drivers!$A$25:$F$25,0),0)*$F222)","v":6113.1902781316385}]
["MATERIAIS_MANUTENÇÃO",2300,{"$f":"VLOOKUP(B223,Centro_Custo!$A$2:$B$36,2,0)","v":"DIRETORIA COLEGIADA - DAF"},{"$f":"VLOOKUP(B223,Centro_Custo!$A$2:$C$36,3)","v":"Encargos de Gestão"},"Fixo",{"$f":"SUMIFS('Classificação OPEX'!$O$4:$O$1666,'Classificação OPEX'!$Q$4:$Q$1666,\"N\",'Classificação OPEX'!$S$4:$S$1666,\"NÃO\",'Classificação OPEX'!$V$4:$V$1666,DRIVER_OPEX!A223,'Classificação OPEX'!$W$4:$W$1666,DRIVER_OPEX!B223)","v":959.77588198726312},{"$f":"IF($F223=\"\",0,VLOOKUP($E223,Drivers!$A$26:$F$48,MATCH(G$1,Drivers!$A$25:$F$25,0),0)*$F223)","v":959.77588198726312},{"$f":"IF($F223=\"\",0,VLOOKUP($E223,Drivers!$A$26:$F$48,MATCH(H$1,Drivers!$A$25:$F$25,0),0)*$F223)","v":959.77588198726312},{"$f":"IF($F223=\"\",0,VLOOKUP($E223,Drivers!$A$26:$F$48,MATCH(I$1,Drivers!$A$25:$F$25,0),0)*$F223)","v":959.77588198726312},{"$f":"IF($F223=\"\",0,VLOOKUP($E223,Drivers!$A$26:$F$48,MATCH(J$1,Drivers!$A$25:$F$25,0),0)*$F223)","v":959.77588198726312},{"$f":"IF($F223=\"\",0,VLOOKUP($E223,Drivers!$A$26:$F$48,MATCH(K$1,Drivers!$A$25:$F$25,0),0)*$F223)","v":959.77588198726312}]
["MATERIAIS_MANUTENÇÃO",2400,{"$f":"VLOOKUP(B224,Centro_Custo!$A$2:$B$36,2,0)","v":"DIRETORIA COLEGIADA - DTC"},{"$f":"VLOOKUP(B224,Centro_Custo!$A$2:$C$36,3)","v":"Encargos de Comercialização"},"Fixo",{"$f":"SUMIFS('Classificação OPEX'!$O$4:$O$1666,'Classificação OPEX'!$Q$4:$Q$1666,\"N\",'Classificação OPEX'!$S$4:$S$1666,\"NÃO\",'Classificação OPEX'!$V$4:$V$1666,DRIVER_OPEX!A224,'Classificação OPEX'!$W$4:$W$1666,DRIVER_OPEX!B224)","v":1621.660855120303},{"$f":"IF($F224=\"\",0,VLOOKUP($E224,Drivers!$A$26:$F$48,MATCH(G$1,Drivers!$A$25:$F$25,0),0)*$F224)","v":1621.660855120303},{"$f":"IF($F224=\"\",0,VLOOKUP($E224,Drivers!$A$26:$F$48,MATCH(H$1,Drivers!$A$25:$F$25,0),0)*$F224)","v":1621.660855120303},{"$f":"IF($F224=\"\",0,VLOOKUP($E224,Drivers!$A$26:$F$48,MATCH(I$1,Drivers!$A$25:$F$25,0),0)*$F224)","v":1621.660855120303},{"$f":"IF($F224=\"\",0,VLOOKUP($E224,Drivers!$A$26:$F$48,MATCH(J$1,Drivers!$A$25:$F$25,0),0)*$F224)","v":1621.660855120303},{"$f":"IF($F224=\"\",0,VLOOKUP($E224,Drivers!$A$26:$F$48,MATCH(K$1,Drivers!$A$25:$F$25,0),0)*$F224)","v":1621.660855120303}]
["MATERIAIS_MANUTENÇÃO",2410,{"$f":"VLOOKUP(B225,Centro_Custo!$A$2:$B$36,2,0)","v":"ASSESSORIA DE SEGURANÇA DO TRABALHO"},{"$f":"VLOOKUP(B225,Centro_Custo!$A$2:$C$36,3)","v":"OPEX&ODESP"},"Extensão de Rede/Município",{"$f":"SUMIFS('Classificação OPEX'!$O$4:$O$1666,'Classificação OPEX'!$Q$4:$Q$1666,\"N\",'Classificação OPEX'!$S$4:$S$1666,\"NÃO\",'Classificação OPEX'!$V$4:$V$1666,DRIVER_OPEX!A225,'Classificação OPEX'!$W$4:$W$1666,DRIVER_OPEX!B225)","v":139685.93191069947},{"$f":"IF($F225=\"\",0,VLOOKUP($E225,Drivers!$A$26:$F$48,MATCH(G$1,Drivers!$A$25:$F$25,0),0)*$F225)","v":148093.11082540479},{"$f":"IF($F225=\"\",0,VLOOKUP($E225,Drivers!$A$26:$F$48,MATCH(H$1,Drivers!$A$25:$F$25,0),0)*$F225)","v":162770.33274341497},{"$f":"IF($F225=\"\",0,VLOOKUP($E225,Drivers!$A$26:$F$48,MATCH(I$1,Drivers!$A$25:$F$25,0),0)*$F225)","v":163273.15444883992},{"$f":"IF($F225=\"\",0,VLOOKUP($E225,Drivers!$A$26:$F$48,MATCH(J$1,Drivers!$A$25:$F$25,0),0)*$F225)","v":163273.15444883992},{"$f":"IF($F225=\"\",0,VLOOKUP($E225,Drivers!$A$26:$F$48,MATCH(K$1,Drivers!$A$25:$F$25,0),0)*$F225)","v":167583.05478105388}]
["MATERIAIS_MANUTENÇÃO",3100,{"$f":"VLOOKUP(B226,Centro_Custo!$A$2:$B$36,2,0)","v":"SMS"},{"$f":"VLOOKUP(B226,Centro_Custo!$A$2:$C$36,3)","v":"OPEX&ODESP"},"Extensão de Rede/Município",{"$f":"SUMIFS('Classificação OPEX'!$O$4:$O$1666,'Classificação OPEX'!$Q$4:$Q$1666,\"N\",'Classificação OPEX'!$S$4:$S$1666,\"NÃO\",'Classificação OPEX'!$V$4:$V$1666,DRIVER_OPEX!A226,'Classificação OPEX'!$W$4:$W$1666,DRIVER_OPEX!B226)","v":45448.427194945929},{"$f":"IF($F226=\"\",0,VLOOKUP($E226,Drivers!$A$26:$F$48,MATCH(G$1,Drivers!$A$25:$F$25,0),0)*$F226)","v":48183.799709510531},{"$f":"IF($F226=\"\",0,VLOOKUP($E226,Drivers!$A$26:$F$48,MATCH(H$1,Drivers!$A$25:$F$25,0),0)*$F226)","v":52959.202949052189},{"$f":"IF($F226=\"\",0,VLOOKUP($E226,Drivers!$A$26:$F$48,MATCH(I$1,Drivers!$A$25:$F$25,0),0)*$F226)","v":53122.801783655334},{"$f":"IF($F226=\"\",0,VLOOKUP($E226,Drivers!$A$26:$F$48,MATCH(J$1,Drivers!$A$25:$F$25,0),0)*$F226)","v":53122.801783655334},{"$f":"IF($F226=\"\",0,VLOOKUP($E226,Drivers!$A$26:$F$48,MATCH(K$1,Drivers!$A$25:$F$25,0),0)*$F226)","v":54525.077508825168}]
["MATERIAIS_MANUTENÇÃO",3200,{"$f":"VLOOKUP(B227,Centro_Custo!$A$2:$B$36,2,0)","v":"GERÊNCIA DE PLANEJAMENTO E MEIO AMBIENTE"},{"$f":"VLOOKUP(B227,Centro_Custo!$A$2:$C$36,3)","v":"OPEX&ODESP"},"Fixo",{"$f":"SUMIFS('Classificação OPEX'!$O$4:$O$1666,'Classificação OPEX'!$Q$4:$Q$1666,\"N\",'Classificação OPEX'!$S$4:$S$1666,\"NÃO\",'Classificação OPEX'!$V$4:$V$1666,DRIVER_OPEX!A227,'Classificação OPEX'!$W$4:$W$1666,DRIVER_OPEX!B227)","v":19801.00898294193},{"$f":"IF($F227=\"\",0,VLOOKUP($E227,Drivers!$A$26:$F$48,MATCH(G$1,Drivers!$A$25:$F$25,0),0)*$F227)","v":19801.00898294193},{"$f":"IF($F227=\"\",0,VLOOKUP($E227,Drivers!$A$26:$F$48,MATCH(H$1,Drivers!$A$25:$F$25,0),0)*$F227)","v":19801.00898294193},{"$f":"IF($F227=\"\",0,VLOOKUP($E227,Drivers!$A$26:$F$48,MATCH(I$1,Drivers!$A$25:$F$25,0),0)*$F227)","v":19801.00898294193},{"$f":"IF($F227=\"\",0,VLOOKUP($E227,Drivers!$A$26:$F$48,MATCH(J$1,Drivers!$A$25:$F$25,0),0)*$F227)","v":19801.00898294193},{"$f":"IF($F227=\"\",0,VLOOKUP($E227,Drivers!$A$26:$F$48,MATCH(K$1,Drivers!$A$25:$F$25,0),0)*$F227)","v":19801.00898294193}]
["MATERIAIS_MANUTENÇÃO",3300,{"$f":"VLOOKUP(B228,Centro_Custo!$A$2:$B$36,2,0)","v":"GERÊNCIA JURÍDICA"},{"$f":"VLOOKUP(B228,Centro_Custo!$A$2:$C$36,3)","v":"Encargos de Gestão"},"Fixo",{"$f":"SUMIFS('Classificação OPEX'!$O$4:$O$1666,'Classificação OPEX'!$Q$4:$Q$1666,\"N\",'Classificação OPEX'!$S$4:$S$1666,\"NÃO\",'Classificação OPEX'!$V$4:$V$1666,DRIVER_OPEX!A228,'Classificação OPEX'!$W$4:$W$1666,DRIVER_OPEX!B228)","v":8540.8920556939956},{"$f":"IF($F228=\"\",0,VLOOKUP($E228,Drivers!$A$26:$F$48,MATCH(G$1,Drivers!$A$25:$F$25,0),0)*$F228)","v":8540.8920556939956},{"$f":"IF($F228=\"\",0,VLOOKUP($E228,Drivers!$A$26:$F$48,MATCH(H$1,Drivers!$A$25:$F$25,0),0)*$F228)","v":8540.8920556939956},{"$f":"IF($F228=\"\",0,VLOOKUP($E228,Drivers!$A$26:$F$48,MATCH(I$1,Drivers!$A$25:$F$25,0),0)*$F228)","v":8540.8920556939956},{"$f":"IF($F228=\"\",0,VLOOKUP($E228,Drivers!$A$26:$F$48,MATCH(J$1,Drivers!$A$25:$F$25,0),0)*$F228)","v":8540.8920556939956},{"$f":"IF($F228=\"\",0,VLOOKUP($E228,Drivers!$A$26:$F$48,MATCH(K$1,Drivers!$A$25:$F$25,0),0)*$F228)","v":8540.8920556939956}]
["MATERIAIS_MANUTENÇÃO",3500,{"$f":"VLOOKUP(B229,Centro_Custo!$A$2:$B$36,2,0)","v":"ASSESSORIA DE COMUNICAÇÃO INSTITUCIONAL"},{"$f":"VLOOKUP(B229,Centro_Custo!$A$2:$C$36,3)","v":"Encargos de Gestão"},"Fixo",{"$f":"SUMIFS('Classificação OPEX'!$O$4:$O$1666,'Classificação OPEX'!$Q$4:$Q$1666,\"N\",'Classificação OPEX'!$S$4:$S$1666,\"NÃO\",'Classificação OPEX'!$V$4:$V$1666,DRIVER_OPEX!A229,'Classificação OPEX'!$W$4:$W$1666,DRIVER_OPEX!B229)","v":7916.1821741535232},{"$f":"IF($F229=\"\",0,VLOOKUP($E229,Drivers!$A$26:$F$48,MATCH(G$1,Drivers!$A$25:$F$25,0),0)*$F229)","v":7916.1821741535232},{"$f":"IF($F229=\"\",0,VLOOKUP($E229,Drivers!$A$26:$F$48,MATCH(H$1,Drivers!$A$25:$F$25,0),0)*$F229)","v":7916.1821741535232},{"$f":"IF($F229=\"\",0,VLOOKUP($E229,Drivers!$A$26:$F$48,MATCH(I$1,Drivers!$A$25:$F$25,0),0)*$F229)","v":7916.1821741535232},{"$f":"IF($F229=\"\",0,VLOOKUP($E229,Drivers!$A$26:$F$48,MATCH(J$1,Drivers!$A$25:$F$25,0),0)*$F229)","v":7916.1821741535232},{"$f":"IF($F229=\"\",0,VLOOKUP($E229,Drivers!$A$26:$F$48,MATCH(K$1,Drivers!$A$25:$F$25,0),0)*$F229)","v":7916.1821741535232}]
["MATERIAIS_MANUTENÇÃO",3600,{"$f":"VLOOKUP(B230,Centro_Custo!$A$2:$B$36,2,0)","v":"GERÊNCIA DE GOVERNANÇA, RISCO E COMPLIANCE"},{"$f":"VLOOKUP(B230,Centro_Custo!$A$2:$C$36,3)","v":"Encargos de Gestão"},"Fixo",{"$f":"SUMIFS('Classificação OPEX'!$O$4:$O$1666,'Classificação OPEX'!$Q$4:$Q$1666,\"N\",'Classificação OPEX'!$S$4:$S$1666,\"NÃO\",'Classificação OPEX'!$V$4:$V$1666,DRIVER_OPEX!A230,'Classificação OPEX'!$W$4:$W$1666,DRIVER_OPEX!B230)","v":1244.2302634232663},{"$f":"IF($F230=\"\",0,VLOOKUP($E230,Drivers!$A$26:$F$48,MATCH(G$1,Drivers!$A$25:$F$25,0),0)*$F230)","v":1244.2302634232663},{"$f":"IF($F230=\"\",0,VLOOKUP($E230,Drivers!$A$26:$F$48,MATCH(H$1,Drivers!$A$25:$F$25,0),0)*$F230)","v":1244.2302634232663},{"$f":"IF($F230=\"\",0,VLOOKUP($E230,Drivers!$A$26:$F$48,MATCH(I$1,Drivers!$A$25:$F$25,0),0)*$F230)","v":1244.2302634232663},{"$f":"IF($F230=\"\",0,VLOOKUP($E230,Drivers!$A$26:$F$48,MATCH(J$1,Drivers!$A$25:$F$25,0),0)*$F230)","v":1244.2302634232663},{"$f":"IF($F230=\"\",0,VLOOKUP($E230,Drivers!$A$26:$F$48,MATCH(K$1,Drivers!$A$25:$F$25,0),0)*$F230)","v":1244.2302634232663}]
["MATERIAIS_MANUTENÇÃO",3700,{"$f":"VLOOKUP(B231,Centro_Custo!$A$2:$B$36,2,0)","v":"GERÊNCIA DE REGULAÇÃO"},{"$f":"VLOOKUP(B231,Centro_Custo!$A$2:$C$36,3)","v":"Encargos de Gestão"},"Fixo",{"$f":"SUMIFS('Classificação OPEX'!$O$4:$O$1666,'Classificação OPEX'!$Q$4:$Q$1666,\"N\",'Classificação OPEX'!$S$4:$S$1666,\"NÃO\",'Classificação OPEX'!$V$4:$V$1666,DRIVER_OPEX!A231,'Classificação OPEX'!$W$4:$W$1666,DRIVER_OPEX!B231)","v":966.60953297451726},{"$f":"IF($F231=\"\",0,VLOOKUP($E231,Drivers!$A$26:$F$48,MATCH(G$1,Drivers!$A$25:$F$25,0),0)*$F231)","v":966.60953297451726},{"$f":"IF($F231=\"\",0,VLOOKUP($E231,Drivers!$A$26:$F$48,MATCH(H$1,Drivers!$A$25:$F$25,0),0)*$F231)","v":966.60953297451726},{"$f":"IF($F231=\"\",0,VLOOKUP($E231,Drivers!$A$26:$F$48,MATCH(I$1,Drivers!$A$25:$F$25,0),0)*$F231)","v":966.60953297451726},{"$f":"IF($F231=\"\",0,VLOOKUP($E231,Drivers!$A$26:$F$48,MATCH(J$1,Drivers!$A$25:$F$25,0),0)*$F231)","v":966.60953297451726},{"$f":"IF($F231=\"\",0,VLOOKUP($E231,Drivers!$A$26:$F$48,MATCH(K$1,Drivers!$A$25:$F$25,0),0)*$F231)","v":966.60953297451726}]
["MATERIAIS_MANUTENÇÃO",4100,{"$f":"VLOOKUP(B232,Centro_Custo!$A$2:$B$36,2,0)","v":"GERÊNCIA DE SERVIÇOS CORPORATIVOS"},{"$f":"VLOOKUP(B232,Centro_Custo!$A$2:$C$36,3)","v":"Encargos de Gestão"},"Município",{"$f":"SUMIFS('Classificação OPEX'!$O$4:$O$1666,'Classificação OPEX'!$Q$4:$Q$1666,\"N\",'Classificação OPEX'!$S$4:$S$1666,\"NÃO\",'Classificação OPEX'!$V$4:$V$1666,DRIVER_OPEX!A232,'Classificação OPEX'!$W$4:$W$1666,DRIVER_OPEX!B232)","v":226955.98731399083},{"$f":"IF($F232=\"\",0,VLOOKUP($E232,Drivers!$A$26:$F$48,MATCH(G$1,Drivers!$A$25:$F$25,0),0)*$F232)","v":242086.38646825688},{"$f":"IF($F232=\"\",0,VLOOKUP($E232,Drivers!$A$26:$F$48,MATCH(H$1,Drivers!$A$25:$F$25,0),0)*$F232)","v":287477.58393105504},{"$f":"IF($F232=\"\",0,VLOOKUP($E232,Drivers!$A$26:$F$48,MATCH(I$1,Drivers!$A$25:$F$25,0),0)*$F232)","v":302607.98308532109},{"$f":"IF($F232=\"\",0,VLOOKUP($E232,Drivers!$A$26:$F$48,MATCH(J$1,Drivers!$A$25:$F$25,0),0)*$F232)","v":302607.98308532109},{"$f":"IF($F232=\"\",0,VLOOKUP($E232,Drivers!$A$26:$F$48,MATCH(K$1,Drivers!$A$25:$F$25,0),0)*$F232)","v":302607.98308532109}]
["MATERIAIS_MANUTENÇÃO",4200,{"$f":"VLOOKUP(B233,Centro_Custo!$A$2:$B$36,2,0)","v":"GERÊNCIA FINANCEIRA"},{"$f":"VLOOKUP(B233,Centro_Custo!$A$2:$C$36,3)","v":"Encargos de Gestão"},"Fixo",{"$f":"SUMIFS('Classificação OPEX'!$O$4:$O$1666,'Classificação OPEX'!$Q$4:$Q$1666,\"N\",'Classificação OPEX'!$S$4:$S$1666,\"NÃO\",'Classificação OPEX'!$V$4:$V$1666,DRIVER_OPEX!A233,'Classificação OPEX'!$W$4:$W$1666,DRIVER_OPEX!B233)","v":9408.374204730917},{"$f":"IF($F233=\"\",0,VLOOKUP($E233,Drivers!$A$26:$F$48,MATCH(G$1,Drivers!$A$25:$F$25,0),0)*$F233)","v":9408.374204730917},{"$f":"IF($F233=\"\",0,VLOOKUP($E233,Drivers!$A$26:$F$48,MATCH(H$1,Drivers!$A$25:$F$25,0),0)*$F233)","v":9408.374204730917},{"$f":"IF($F233=\"\",0,VLOOKUP($E233,Drivers!$A$26:$F$48,MATCH(I$1,Drivers!$A$25:$F$25,0),0)*$F233)","v":9408.374204730917},{"$f":"IF($F233=\"\",0,VLOOKUP($E233,Drivers!$A$26:$F$48,MATCH(J$1,Drivers!$A$25:$F$25,0),0)*$F233)","v":9408.374204730917},{"$f":"IF($F233=\"\",0,VLOOKUP($E233,Drivers!$A$26:$F$48,MATCH(K$1,Drivers!$A$25:$F$25,0),0)*$F233)","v":9408.374204730917}]
["MATERIAIS_MANUTENÇÃO",4300,{"$f":"VLOOKUP(B234,Centro_Custo!$A$2:$B$36,2,0)","v":"GERÊNCIA DE TECNOLOGIA E SISTEMAS DE INFORMAÇÃO"},{"$f":"VLOOKUP(B234,Centro_Custo!$A$2:$C$36,3)","v":"Encargos de Gestão"},"Município",{"$f":"SUMIFS('Classificação OPEX'!$O$4:$O$1666,'Classificação OPEX'!$Q$4:$Q$1666,\"N\",'Classificação OPEX'!$S$4:$S$1666,\"NÃO\",'Classificação OPEX'!$V$4:$V$1666,DRIVER_OPEX!A234,'Classificação OPEX'!$W$4:$W$1666,DRIVER_OPEX!B234)","v":1444996.5136728561},{"$f":"IF($F234=\"\",0,VLOOKUP($E234,Drivers!$A$26:$F$48,MATCH(G$1,Drivers!$A$25:$F$25,0),0)*$F234)","v":1541329.6145843798},{"$f":"IF($F234=\"\",0,VLOOKUP($E234,Drivers!$A$26:$F$48,MATCH(H$1,Drivers!$A$25:$F$25,0),0)*$F234)","v":1830328.9173189511},{"$f":"IF($F234=\"\",0,VLOOKUP($E234,Drivers!$A$26:$F$48,MATCH(I$1,Drivers!$A$25:$F$25,0),0)*$F234)","v":1926662.0182304748},{"$f":"IF($F234=\"\",0,VLOOKUP($E234,Drivers!$A$26:$F$48,MATCH(J$1,Drivers!$A$25:$F$25,0),0)*$F234)","v":1926662.0182304748},{"$f":"IF($F234=\"\",0,VLOOKUP($E234,Drivers!$A$26:$F$48,MATCH(K$1,Drivers!$A$25:$F$25,0),0)*$F234)","v":1926662.0182304748}]
["MATERIAIS_MANUTENÇÃO",4500,{"$f":"VLOOKUP(B235,Centro_Custo!$A$2:$B$36,2,0)","v":"GERÊNCIA CONTÁBIL"},{"$f":"VLOOKUP(B235,Centro_Custo!$A$2:$C$36,3)","v":"Encargos de Gestão"},"Fixo",{"$f":"SUMIFS('Classificação OPEX'!$O$4:$O$1666,'Classificação OPEX'!$Q$4:$Q$1666,\"N\",'Classificação OPEX'!$S$4:$S$1666,\"NÃO\",'Classificação OPEX'!$V$4:$V$1666,DRIVER_OPEX!A235,'Classificação OPEX'!$W$4:$W$1666,DRIVER_OPEX!B235)","v":7538.3244466615479},{"$f":"IF($F235=\"\",0,VLOOKUP($E235,Drivers!$A$26:$F$48,MATCH(G$1,Drivers!$A$25:$F$25,0),0)*$F235)","v":7538.3244466615479},{"$f":"IF($F235=\"\",0,VLOOKUP($E235,Drivers!$A$26:$F$48,MATCH(H$1,Drivers!$A$25:$F$25,0),0)*$F235)","v":7538.3244466615479},{"$f":"IF($F235=\"\",0,VLOOKUP($E235,Drivers!$A$26:$F$48,MATCH(I$1,Drivers!$A$25:$F$25,0),0)*$F235)","v":7538.3244466615479},{"$f":"IF($F235=\"\",0,VLOOKUP($E235,Drivers!$A$26:$F$48,MATCH(J$1,Drivers!$A$25:$F$25,0),0)*$F235)","v":7538.3244466615479},{"$f":"IF($F235=\"\",0,VLOOKUP($E235,Drivers!$A$26:$F$48,MATCH(K$1,Drivers!$A$25:$F$25,0),0)*$F235)","v":7538.3244466615479}]
["MATERIAIS_MANUTENÇÃO",4600,{"$f":"VLOOKUP(B236,Centro_Custo!$A$2:$B$36,2,0)","v":"GERÊNCIA DE PESSOAS E CULTURA"},{"$f":"VLOOKUP(B236,Centro_Custo!$A$2:$C$36,3)","v":"Encargos de Gestão"},"Fixo",{"$f":"SUMIFS('Classificação OPEX'!$O$4:$O$1666,'Classificação OPEX'!$Q$4:$Q$1666,\"N\",'Classificação OPEX'!$S$4:$S$1666,\"NÃO\",'Classificação OPEX'!$V$4:$V$1666,DRIVER_OPEX!A236,'Classificação OPEX'!$W$4:$W$1666,DRIVER_OPEX!B236)","v":961.95856590665153},{"$f":"IF($F236=\"\",0,VLOOKUP($E236,Drivers!$A$26:$F$48,MATCH(G$1,Drivers!$A$25:$F$25,0),0)*$F236)","v":961.95856590665153},{"$f":"IF($F236=\"\",0,VLOOKUP($E236,Drivers!$A$26:$F$48,MATCH(H$1,Drivers!$A$25:$F$25,0),0)*$F236)","v":961.95856590665153},{"$f":"IF($F236=\"\",0,VLOOKUP($E236,Drivers!$A$26:$F$48,MATCH(I$1,Drivers!$A$25:$F$25,0),0)*$F236)","v":961.95856590665153},{"$f":"IF($F236=\"\",0,VLOOKUP($E236,Drivers!$A$26:$F$48,MATCH(J$1,Drivers!$A$25:$F$25,0),0)*$F236)","v":961.95856590665153},{"$f":"IF($F236=\"\",0,VLOOKUP($E236,Drivers!$A$26:$F$48,MATCH(K$1,Drivers!$A$25:$F$25,0),0)*$F236)","v":961.95856590665153}]
["MATERIAIS_MANUTENÇÃO",5100,{"$f":"VLOOKUP(B237,Centro_Custo!$A$2:$B$36,2,0)","v":"GERÊNCIA DE ENGENHARIA"},{"$f":"VLOOKUP(B237,Centro_Custo!$A$2:$C$36,3)","v":"OPEX&ODESP"},"Fixo",{"$f":"SUMIFS('Classificação OPEX'!$O$4:$O$1666,'Classificação OPEX'!$Q$4:$Q$1666,\"N\",'Classificação OPEX'!$S$4:$S$1666,\"NÃO\",'Classificação OPEX'!$V$4:$V$1666,DRIVER_OPEX!A237,'Classificação OPEX'!$W$4:$W$1666,DRIVER_OPEX!B237)","v":1025530.6144138098},{"$f":"IF($F237=\"\",0,VLOOKUP($E237,Drivers!$A$26:$F$48,MATCH(G$1,Drivers!$A$25:$F$25,0),0)*$F237)","v":1025530.6144138098},{"$f":"IF($F237=\"\",0,VLOOKUP($E237,Drivers!$A$26:$F$48,MATCH(H$1,Drivers!$A$25:$F$25,0),0)*$F237)","v":1025530.6144138098},{"$f":"IF($F237=\"\",0,VLOOKUP($E237,Drivers!$A$26:$F$48,MATCH(I$1,Drivers!$A$25:$F$25,0),0)*$F237)","v":1025530.6144138098},{"$f":"IF($F237=\"\",0,VLOOKUP($E237,Drivers!$A$26:$F$48,MATCH(J$1,Drivers!$A$25:$F$25,0),0)*$F237)","v":1025530.6144138098},{"$f":"IF($F237=\"\",0,VLOOKUP($E237,Drivers!$A$26:$F$48,MATCH(K$1,Drivers!$A$25:$F$25,0),0)*$F237)","v":1025530.6144138098}]
["MATERIAIS_MANUTENÇÃO",5200,{"$f":"VLOOKUP(B238,Centro_Custo!$A$2:$B$36,2,0)","v":"GERÊNCIA DE OPERAÇÕES"},{"$f":"VLOOKUP(B238,Centro_Custo!$A$2:$C$36,3)","v":"OPEX&ODESP"},"Extensão de Rede",{"$f":"SUMIFS('Classificação OPEX'!$O$4:$O$1666,'Classificação OPEX'!$Q$4:$Q$1666,\"N\",'Classificação OPEX'!$S$4:$S$1666,\"NÃO\",'Classificação OPEX'!$V$4:$V$1666,DRIVER_OPEX!A238,'Classificação OPEX'!$W$4:$W$1666,DRIVER_OPEX!B238)","v":3862593.850555554},{"$f":"IF($F238=\"\",0,VLOOKUP($E238,Drivers!$A$26:$F$48,MATCH(G$1,Drivers!$A$25:$F$25,0),0)*$F238)","v":4134450.250969186},{"$f":"IF($F238=\"\",0,VLOOKUP($E238,Drivers!$A$26:$F$48,MATCH(H$1,Drivers!$A$25:$F$25,0),0)*$F238)","v":4509275.6024214458},{"$f":"IF($F238=\"\",0,VLOOKUP($E238,Drivers!$A$26:$F$48,MATCH(I$1,Drivers!$A$25:$F$25,0),0)*$F238)","v":4642681.3180381786},{"$f":"IF($F238=\"\",0,VLOOKUP($E238,Drivers!$A$26:$F$48,MATCH(J$1,Drivers!$A$25:$F$25,0),0)*$F238)","v":4834702.3016737159},{"$f":"IF($F238=\"\",0,VLOOKUP($E238,Drivers!$A$26:$F$48,MATCH(K$1,Drivers!$A$25:$F$25,0),0)*$F238)","v":4985890.1772512095}]
["MATERIAIS_MANUTENÇÃO","0000","RATEIO",{"$f":"VLOOKUP(B239,Centro_Custo!$A$2:$C$36,3)","v":"Encargos de Gestão"},"Fixo",{"$f":"SUMIFS('Classificação OPEX'!$O$4:$O$1666,'Classificação OPEX'!$Q$4:$Q$1666,\"N\",'Classificação OPEX'!$S$4:$S$1666,\"NÃO\",'Classificação OPEX'!$V$4:$V$1666,DRIVER_OPEX!A239,'Classificação OPEX'!$W$4:$W$1666,DRIVER_OPEX!B239)","v":0},{"$f":"IF($F239=\"\",0,VLOOKUP($E239,Drivers!$A$26:$F$48,MATCH(G$1,Drivers!$A$25:$F$25,0),0)*$F239)","v":0},{"$f":"IF($F239=\"\",0,VLOOKUP($E239,Drivers!$A$26:$F$48,MATCH(H$1,Drivers!$A$25:$F$25,0),0)*$F239)","v":0},{"$f":"IF($F239=\"\",0,VLOOKUP($E239,Drivers!$A$26:$F$48,MATCH(I$1,Drivers!$A$25:$F$25,0),0)*$F239)","v":0},{"$f":"IF($F239=\"\",0,VLOOKUP($E239,Drivers!$A$26:$F$48,MATCH(J$1,Drivers!$A$25:$F$25,0),0)*$F239)","v":0},{"$f":"IF($F239=\"\",0,VLOOKUP($E239,Drivers!$A$26:$F$48,MATCH(K$1,Drivers!$A$25:$F$25,0),0)*$F239)","v":0}]
["MATERIAIS_MANUTENÇÃO",1001,"CONSELHO DE ADMINISTRAÇÃO",{"$f":"VLOOKUP(B240,Centro_Custo!$A$2:$C$36,3)","v":"Encargos de Gestão"},"Fixo",{"$f":"SUMIFS('Classificação OPEX'!$O$4:$O$1666,'Classificação OPEX'!$Q$4:$Q$1666,\"N\",'Classificação OPEX'!$S$4:$S$1666,\"NÃO\",'Classificação OPEX'!$V$4:$V$1666,DRIVER_OPEX!A240,'Classificação OPEX'!$W$4:$W$1666,DRIVER_OPEX!B240)","v":184.54682196245099},{"$f":"IF($F240=\"\",0,VLOOKUP($E240,Drivers!$A$26:$F$48,MATCH(G$1,Drivers!$A$25:$F$25,0),0)*$F240)","v":184.54682196245099},{"$f":"IF($F240=\"\",0,VLOOKUP($E240,Drivers!$A$26:$F$48,MATCH(H$1,Drivers!$A$25:$F$25,0),0)*$F240)","v":184.54682196245099},{"$f":"IF($F240=\"\",0,VLOOKUP($E240,Drivers!$A$26:$F$48,MATCH(I$1,Drivers!$A$25:$F$25,0),0)*$F240)","v":184.54682196245099},{"$f":"IF($F240=\"\",0,VLOOKUP($E240,Drivers!$A$26:$F$48,MATCH(J$1,Drivers!$A$25:$F$25,0),0)*$F240)","v":184.54682196245099},{"$f":"IF($F240=\"\",0,VLOOKUP($E240,Drivers!$A$26:$F$48,MATCH(K$1,Drivers!$A$25:$F$25,0),0)*$F240)","v":184.54682196245099}]
["MATERIAIS_MANUTENÇÃO",1002,"CONSELHO FISCAL",{"$f":"VLOOKUP(B241,Centro_Custo!$A$2:$C$36,3)","v":"Encargos de Gestão"},"Fixo",{"$f":"SUMIFS('Classificação OPEX'!$O$4:$O$1666,'Classificação OPEX'!$Q$4:$Q$1666,\"N\",'Classificação OPEX'!$S$4:$S$1666,\"NÃO\",'Classificação OPEX'!$V$4:$V$1666,DRIVER_OPEX!A241,'Classificação OPEX'!$W$4:$W$1666,DRIVER_OPEX!B241)","v":562.3462035128764},{"$f":"IF($F241=\"\",0,VLOOKUP($E241,Drivers!$A$26:$F$48,MATCH(G$1,Drivers!$A$25:$F$25,0),0)*$F241)","v":562.3462035128764},{"$f":"IF($F241=\"\",0,VLOOKUP($E241,Drivers!$A$26:$F$48,MATCH(H$1,Drivers!$A$25:$F$25,0),0)*$F241)","v":562.3462035128764},{"$f":"IF($F241=\"\",0,VLOOKUP($E241,Drivers!$A$26:$F$48,MATCH(I$1,Drivers!$A$25:$F$25,0),0)*$F241)","v":562.3462035128764},{"$f":"IF($F241=\"\",0,VLOOKUP($E241,Drivers!$A$26:$F$48,MATCH(J$1,Drivers!$A$25:$F$25,0),0)*$F241)","v":562.3462035128764},{"$f":"IF($F241=\"\",0,VLOOKUP($E241,Drivers!$A$26:$F$48,MATCH(K$1,Drivers!$A$25:$F$25,0),0)*$F241)","v":562.3462035128764}]
["MATERIAIS_MANUTENÇÃO",1003,"COMITÊ DE INDICAÇÃO E AVALIAÇÃO",{"$f":"VLOOKUP(B242,Centro_Custo!$A$2:$C$36,3)","v":"Encargos de Gestão"},"Fixo",{"$f":"SUMIFS('Classificação OPEX'!$O$4:$O$1666,'Classificação OPEX'!$Q$4:$Q$1666,\"N\",'Classificação OPEX'!$S$4:$S$1666,\"NÃO\",'Classificação OPEX'!$V$4:$V$1666,DRIVER_OPEX!A242,'Classificação OPEX'!$W$4:$W$1666,DRIVER_OPEX!B242)","v":0},{"$f":"IF($F242=\"\",0,VLOOKUP($E242,Drivers!$A$26:$F$48,MATCH(G$1,Drivers!$A$25:$F$25,0),0)*$F242)","v":0},{"$f":"IF($F242=\"\",0,VLOOKUP($E242,Drivers!$A$26:$F$48,MATCH(H$1,Drivers!$A$25:$F$25,0),0)*$F242)","v":0},{"$f":"IF($F242=\"\",0,VLOOKUP($E242,Drivers!$A$26:$F$48,MATCH(I$1,Drivers!$A$25:$F$25,0),0)*$F242)","v":0},{"$f":"IF($F242=\"\",0,VLOOKUP($E242,Drivers!$A$26:$F$48,MATCH(J$1,Drivers!$A$25:$F$25,0),0)*$F242)","v":0},{"$f":"IF($F242=\"\",0,VLOOKUP($E242,Drivers!$A$26:$F$48,MATCH(K$1,Drivers!$A$25:$F$25,0),0)*$F242)","v":0}]
["MATERIAIS_MANUTENÇÃO",1004,"COMITÊ DE AUDITORIA ESTATUTÁRIA",{"$f":"VLOOKUP(B243,Centro_Custo!$A$2:$C$36,3)","v":"Encargos de Gestão"},"Fixo",{"$f":"SUMIFS('Classificação OPEX'!$O$4:$O$1666,'Classificação OPEX'!$Q$4:$Q$1666,\"N\",'Classificação OPEX'!$S$4:$S$1666,\"NÃO\",'Classificação OPEX'!$V$4:$V$1666,DRIVER_OPEX!A243,'Classificação OPEX'!$W$4:$W$1666,DRIVER_OPEX!B243)","v":0},{"$f":"IF($F243=\"\",0,VLOOKUP($E243,Drivers!$A$26:$F$48,MATCH(G$1,Drivers!$A$25:$F$25,0),0)*$F243)","v":0},{"$f":"IF($F243=\"\",0,VLOOKUP($E243,Drivers!$A$26:$F$48,MATCH(H$1,Drivers!$A$25:$F$25,0),0)*$F243)","v":0},{"$f":"IF($F243=\"\",0,VLOOKUP($E243,Drivers!$A$26:$F$48,MATCH(I$1,Drivers!$A$25:$F$25,0),0)*$F243)","v":0},{"$f":"IF($F243=\"\",0,VLOOKUP($E243,Drivers!$A$26:$F$48,MATCH(J$1,Drivers!$A$25:$F$25,0),0)*$F243)","v":0},{"$f":"IF($F243=\"\",0,VLOOKUP($E243,Drivers!$A$26:$F$48,MATCH(K$1,Drivers!$A$25:$F$25,0),0)*$F243)","v":0}]
["MATERIAIS_MANUTENÇÃO",1005,"AUDITORIA INTERNA",{"$f":"VLOOKUP(B244,Centro_Custo!$A$2:$C$36,3)","v":"Encargos de Gestão"},"Fixo",{"$f":"SUMIFS('Classificação OPEX'!$O$4:$O$1666,'Classificação OPEX'!$Q$4:$Q$1666,\"N\",'Classificação OPEX'!$S$4:$S$1666,\"NÃO\",'Classificação OPEX'!$V$4:$V$1666,DRIVER_OPEX!A244,'Classificação OPEX'!$W$4:$W$1666,DRIVER_OPEX!B244)","v":30.669207770523137},{"$f":"IF($F244=\"\",0,VLOOKUP($E244,Drivers!$A$26:$F$48,MATCH(G$1,Drivers!$A$25:$F$25,0),0)*$F244)","v":30.669207770523137},{"$f":"IF($F244=\"\",0,VLOOKUP($E244,Drivers!$A$26:$F$48,MATCH(H$1,Drivers!$A$25:$F$25,0),0)*$F244)","v":30.669207770523137},{"$f":"IF($F244=\"\",0,VLOOKUP($E244,Drivers!$A$26:$F$48,MATCH(I$1,Drivers!$A$25:$F$25,0),0)*$F244)","v":30.669207770523137},{"$f":"IF($F244=\"\",0,VLOOKUP($E244,Drivers!$A$26:$F$48,MATCH(J$1,Drivers!$A$25:$F$25,0),0)*$F244)","v":30.669207770523137},{"$f":"IF($F244=\"\",0,VLOOKUP($E244,Drivers!$A$26:$F$48,MATCH(K$1,Drivers!$A$25:$F$25,0),0)*$F244)","v":30.669207770523137}]
["MATERIAIS_MANUTENÇÃO",1010,"GOVERNANÇA SOCIETÁRIA",{"$f":"VLOOKUP(B245,Centro_Custo!$A$2:$C$36,3)","v":"Encargos de Gestão"},"Fixo",{"$f":"SUMIFS('Classificação OPEX'!$O$4:$O$1666,'Classificação OPEX'!$Q$4:$Q$1666,\"N\",'Classificação OPEX'!$S$4:$S$1666,\"NÃO\",'Classificação OPEX'!$V$4:$V$1666,DRIVER_OPEX!A245,'Classificação OPEX'!$W$4:$W$1666,DRIVER_OPEX!B245)","v":584.26188753681981},{"$f":"IF($F245=\"\",0,VLOOKUP($E245,Drivers!$A$26:$F$48,MATCH(G$1,Drivers!$A$25:$F$25,0),0)*$F245)","v":584.26188753681981},{"$f":"IF($F245=\"\",0,VLOOKUP($E245,Drivers!$A$26:$F$48,MATCH(H$1,Drivers!$A$25:$F$25,0),0)*$F245)","v":584.26188753681981},{"$f":"IF($F245=\"\",0,VLOOKUP($E245,Drivers!$A$26:$F$48,MATCH(I$1,Drivers!$A$25:$F$25,0),0)*$F245)","v":584.26188753681981},{"$f":"IF($F245=\"\",0,VLOOKUP($E245,Drivers!$A$26:$F$48,MATCH(J$1,Drivers!$A$25:$F$25,0),0)*$F245)","v":584.26188753681981},{"$f":"IF($F245=\"\",0,VLOOKUP($E245,Drivers!$A$26:$F$48,MATCH(K$1,Drivers!$A$25:$F$25,0),0)*$F245)","v":584.26188753681981}]
["MATERIAIS_MANUTENÇÃO",2100,"SECRETARIA",{"$f":"VLOOKUP(B246,Centro_Custo!$A$2:$C$36,3)","v":"Encargos de Gestão"},"Fixo",{"$f":"SUMIFS('Classificação OPEX'!$O$4:$O$1666,'Classificação OPEX'!$Q$4:$Q$1666,\"N\",'Classificação OPEX'!$S$4:$S$1666,\"NÃO\",'Classificação OPEX'!$V$4:$V$1666,DRIVER_OPEX!A246,'Classificação OPEX'!$W$4:$W$1666,DRIVER_OPEX!B246)","v":1904.6143001727294},{"$f":"IF($F246=\"\",0,VLOOKUP($E246,Drivers!$A$26:$F$48,MATCH(G$1,Drivers!$A$25:$F$25,0),0)*$F246)","v":1904.6143001727294},{"$f":"IF($F246=\"\",0,VLOOKUP($E246,Drivers!$A$26:$F$48,MATCH(H$1,Drivers!$A$25:$F$25,0),0)*$F246)","v":1904.6143001727294},{"$f":"IF($F246=\"\",0,VLOOKUP($E246,Drivers!$A$26:$F$48,MATCH(I$1,Drivers!$A$25:$F$25,0),0)*$F246)","v":1904.6143001727294},{"$f":"IF($F246=\"\",0,VLOOKUP($E246,Drivers!$A$26:$F$48,MATCH(J$1,Drivers!$A$25:$F$25,0),0)*$F246)","v":1904.6143001727294},{"$f":"IF($F246=\"\",0,VLOOKUP($E246,Drivers!$A$26:$F$48,MATCH(K$1,Drivers!$A$25:$F$25,0),0)*$F246)","v":1904.6143001727294}]
["MATERIAIS_MANUTENÇÃO",2130,"ASSESSORIA DE RELAÇÕES INSTITUCIONAIS E NOVOS NEGÓCIOS",{"$f":"VLOOKUP(B247,Centro_Custo!$A$2:$C$36,3)","v":"Encargos de Gestão"},"Fixo",{"$f":"SUMIFS('Classificação OPEX'!$O$4:$O$1666,'Classificação OPEX'!$Q$4:$Q$1666,\"N\",'Classificação OPEX'!$S$4:$S$1666,\"NÃO\",'Classificação OPEX'!$V$4:$V$1666,DRIVER_OPEX!A247,'Classificação OPEX'!$W$4:$W$1666,DRIVER_OPEX!B247)","v":548.78285247985173},{"$f":"IF($F247=\"\",0,VLOOKUP($E247,Drivers!$A$26:$F$48,MATCH(G$1,Drivers!$A$25:$F$25,0),0)*$F247)","v":548.78285247985173},{"$f":"IF($F247=\"\",0,VLOOKUP($E247,Drivers!$A$26:$F$48,MATCH(H$1,Drivers!$A$25:$F$25,0),0)*$F247)","v":548.78285247985173},{"$f":"IF($F247=\"\",0,VLOOKUP($E247,Drivers!$A$26:$F$48,MATCH(I$1,Drivers!$A$25:$F$25,0),0)*$F247)","v":548.78285247985173},{"$f":"IF($F247=\"\",0,VLOOKUP($E247,Drivers!$A$26:$F$48,MATCH(J$1,Drivers!$A$25:$F$25,0),0)*$F247)","v":548.78285247985173},{"$f":"IF($F247=\"\",0,VLOOKUP($E247,Drivers!$A$26:$F$48,MATCH(K$1,Drivers!$A$25:$F$25,0),0)*$F247)","v":548.78285247985173}]
["MATERIAIS_MANUTENÇÃO",2140,"ASSESSORIA DTC",{"$f":"VLOOKUP(B248,Centro_Custo!$A$2:$C$36,3)","v":"Encargos de Comercialização"},"Fixo",{"$f":"SUMIFS('Classificação OPEX'!$O$4:$O$1666,'Classificação OPEX'!$Q$4:$Q$1666,\"N\",'Classificação OPEX'!$S$4:$S$1666,\"NÃO\",'Classificação OPEX'!$V$4:$V$1666,DRIVER_OPEX!A248,'Classificação OPEX'!$W$4:$W$1666,DRIVER_OPEX!B248)","v":30.792161322204489},{"$f":"IF($F248=\"\",0,VLOOKUP($E248,Drivers!$A$26:$F$48,MATCH(G$1,Drivers!$A$25:$F$25,0),0)*$F248)","v":30.792161322204489},{"$f":"IF($F248=\"\",0,VLOOKUP($E248,Drivers!$A$26:$F$48,MATCH(H$1,Drivers!$A$25:$F$25,0),0)*$F248)","v":30.792161322204489},{"$f":"IF($F248=\"\",0,VLOOKUP($E248,Drivers!$A$26:$F$48,MATCH(I$1,Drivers!$A$25:$F$25,0),0)*$F248)","v":30.792161322204489},{"$f":"IF($F248=\"\",0,VLOOKUP($E248,Drivers!$A$26:$F$48,MATCH(J$1,Drivers!$A$25:$F$25,0),0)*$F248)","v":30.792161322204489},{"$f":"IF($F248=\"\",0,VLOOKUP($E248,Drivers!$A$26:$F$48,MATCH(K$1,Drivers!$A$25:$F$25,0),0)*$F248)","v":30.792161322204489}]
["MATERIAIS_MANUTENÇÃO",2310,"ASSESSORIA DAF",{"$f":"VLOOKUP(B249,Centro_Custo!$A$2:$C$36,3)","v":"Encargos de Gestão"},"Fixo",{"$f":"SUMIFS('Classificação OPEX'!$O$4:$O$1666,'Classificação OPEX'!$Q$4:$Q$1666,\"N\",'Classificação OPEX'!$S$4:$S$1666,\"NÃO\",'Classificação OPEX'!$V$4:$V$1666,DRIVER_OPEX!A249,'Classificação OPEX'!$W$4:$W$1666,DRIVER_OPEX!B249)","v":1895.8930074408449},{"$f":"IF($F249=\"\",0,VLOOKUP($E249,Drivers!$A$26:$F$48,MATCH(G$1,Drivers!$A$25:$F$25,0),0)*$F249)","v":1895.8930074408449},{"$f":"IF($F249=\"\",0,VLOOKUP($E249,Drivers!$A$26:$F$48,MATCH(H$1,Drivers!$A$25:$F$25,0),0)*$F249)","v":1895.8930074408449},{"$f":"IF($F249=\"\",0,VLOOKUP($E249,Drivers!$A$26:$F$48,MATCH(I$1,Drivers!$A$25:$F$25,0),0)*$F249)","v":1895.8930074408449},{"$f":"IF($F249=\"\",0,VLOOKUP($E249,Drivers!$A$26:$F$48,MATCH(J$1,Drivers!$A$25:$F$25,0),0)*$F249)","v":1895.8930074408449},{"$f":"IF($F249=\"\",0,VLOOKUP($E249,Drivers!$A$26:$F$48,MATCH(K$1,Drivers!$A$25:$F$25,0),0)*$F249)","v":1895.8930074408449}]
["MATERIAIS_MANUTENÇÃO",3400,"MARKETING",{"$f":"VLOOKUP(B250,Centro_Custo!$A$2:$C$36,3)","v":"Encargos de Comercialização"},"Fixo",{"$f":"SUMIFS('Classificação OPEX'!$O$4:$O$1666,'Classificação OPEX'!$Q$4:$Q$1666,\"N\",'Classificação OPEX'!$S$4:$S$1666,\"NÃO\",'Classificação OPEX'!$V$4:$V$1666,DRIVER_OPEX!A250,'Classificação OPEX'!$W$4:$W$1666,DRIVER_OPEX!B250)","v":1180.562188217086},{"$f":"IF($F250=\"\",0,VLOOKUP($E250,Drivers!$A$26:$F$48,MATCH(G$1,Drivers!$A$25:$F$25,0),0)*$F250)","v":1180.562188217086},{"$f":"IF($F250=\"\",0,VLOOKUP($E250,Drivers!$A$26:$F$48,MATCH(H$1,Drivers!$A$25:$F$25,0),0)*$F250)","v":1180.562188217086},{"$f":"IF($F250=\"\",0,VLOOKUP($E250,Drivers!$A$26:$F$48,MATCH(I$1,Drivers!$A$25:$F$25,0),0)*$F250)","v":1180.562188217086},{"$f":"IF($F250=\"\",0,VLOOKUP($E250,Drivers!$A$26:$F$48,MATCH(J$1,Drivers!$A$25:$F$25,0),0)*$F250)","v":1180.562188217086},{"$f":"IF($F250=\"\",0,VLOOKUP($E250,Drivers!$A$26:$F$48,MATCH(K$1,Drivers!$A$25:$F$25,0),0)*$F250)","v":1180.562188217086}]
["MATERIAIS_MANUTENÇÃO",5300,"GERÊNCIA COMERCIAL",{"$f":"VLOOKUP(B251,Centro_Custo!$A$2:$C$36,3)","v":"Encargos de Comercialização"},"Fixo",{"$f":"SUMIFS('Classificação OPEX'!$O$4:$O$1666,'Classificação OPEX'!$Q$4:$Q$1666,\"N\",'Classificação OPEX'!$S$4:$S$1666,\"NÃO\",'Classificação OPEX'!$V$4:$V$1666,DRIVER_OPEX!A251,'Classificação OPEX'!$W$4:$W$1666,DRIVER_OPEX!B251)","v":421164.37186643563},{"$f":"IF($F251=\"\",0,VLOOKUP($E251,Drivers!$A$26:$F$48,MATCH(G$1,Drivers!$A$25:$F$25,0),0)*$F251)","v":421164.37186643563},{"$f":"IF($F251=\"\",0,VLOOKUP($E251,Drivers!$A$26:$F$48,MATCH(H$1,Drivers!$A$25:$F$25,0),0)*$F251)","v":421164.37186643563},{"$f":"IF($F251=\"\",0,VLOOKUP($E251,Drivers!$A$26:$F$48,MATCH(I$1,Drivers!$A$25:$F$25,0),0)*$F251)","v":421164.37186643563},{"$f":"IF($F251=\"\",0,VLOOKUP($E251,Drivers!$A$26:$F$48,MATCH(J$1,Drivers!$A$25:$F$25,0),0)*$F251)","v":421164.37186643563},{"$f":"IF($F251=\"\",0,VLOOKUP($E251,Drivers!$A$26:$F$48,MATCH(K$1,Drivers!$A$25:$F$25,0),0)*$F251)","v":421164.37186643563}]
["MATERIAIS_MANUTENÇÃO",9999,"RATEIO",{"$f":"VLOOKUP(B252,Centro_Custo!$A$2:$C$36,3)","v":"Encargos de Gestão"},"Fixo",{"$f":"SUMIFS('Classificação OPEX'!$O$4:$O$1666,'Classificação OPEX'!$Q$4:$Q$1666,\"N\",'Classificação OPEX'!$S$4:$S$1666,\"NÃO\",'Classificação OPEX'!$V$4:$V$1666,DRIVER_OPEX!A252,'Classificação OPEX'!$W$4:$W$1666,DRIVER_OPEX!B252)","v":0},{"$f":"IF($F252=\"\",0,VLOOKUP($E252,Drivers!$A$26:$F$48,MATCH(G$1,Drivers!$A$25:$F$25,0),0)*$F252)","v":0},{"$f":"IF($F252=\"\",0,VLOOKUP($E252,Drivers!$A$26:$F$48,MATCH(H$1,Drivers!$A$25:$F$25,0),0)*$F252)","v":0},{"$f":"IF($F252=\"\",0,VLOOKUP($E252,Drivers!$A$26:$F$48,MATCH(I$1,Drivers!$A$25:$F$25,0),0)*$F252)","v":0},{"$f":"IF($F252=\"\",0,VLOOKUP($E252,Drivers!$A$26:$F$48,MATCH(J$1,Drivers!$A$25:$F$25,0),0)*$F252)","v":0},{"$f":"IF($F252=\"\",0,VLOOKUP($E252,Drivers!$A$26:$F$48,MATCH(K$1,Drivers!$A$25:$F$25,0),0)*$F252)","v":0}]
["MATERIAIS_MANUTENÇÃO","5400","GERÊNCIA COMERCIAL",{"$f":"VLOOKUP(B253,Centro_Custo!$A$2:$C$36,3)","v":"Encargos de Gestão"},"Fixo",{"$f":"SUMIFS('Classificação OPEX'!$O$4:$O$1666,'Classificação OPEX'!$Q$4:$Q$1666,\"N\",'Classificação OPEX'!$S$4:$S$1666,\"NÃO\",'Classificação OPEX'!$V$4:$V$1666,DRIVER_OPEX!A253,'Classificação OPEX'!$W$4:$W$1666,DRIVER_OPEX!B253)","v":8053.8122713847115},{"$f":"IF($F253=\"\",0,VLOOKUP($E253,Drivers!$A$26:$F$48,MATCH(G$1,Drivers!$A$25:$F$25,0),0)*$F253)","v":8053.8122713847115},{"$f":"IF($F253=\"\",0,VLOOKUP($E253,Drivers!$A$26:$F$48,MATCH(H$1,Drivers!$A$25:$F$25,0),0)*$F253)","v":8053.8122713847115},{"$f":"IF($F253=\"\",0,VLOOKUP($E253,Drivers!$A$26:$F$48,MATCH(I$1,Drivers!$A$25:$F$25,0),0)*$F253)","v":8053.8122713847115},{"$f":"IF($F253=\"\",0,VLOOKUP($E253,Drivers!$A$26:$F$48,MATCH(J$1,Drivers!$A$25:$F$25,0),0)*$F253)","v":8053.8122713847115},{"$f":"IF($F253=\"\",0,VLOOKUP($E253,Drivers!$A$26:$F$48,MATCH(K$1,Drivers!$A$25:$F$25,0),0)*$F253)","v":8053.8122713847115}]
["MATERIAIS_MANUTENÇÃO","5500","GERÊNCIA COMERCIAL",{"$f":"VLOOKUP(B254,Centro_Custo!$A$2:$C$36,3)","v":"Encargos de Gestão"},"Fixo",{"$f":"SUMIFS('Classificação OPEX'!$O$4:$O$1666,'Classificação OPEX'!$Q$4:$Q$1666,\"N\",'Classificação OPEX'!$S$4:$S$1666,\"NÃO\",'Classificação OPEX'!$V$4:$V$1666,DRIVER_OPEX!A254,'Classificação OPEX'!$W$4:$W$1666,DRIVER_OPEX!B254)","v":195237.56603638284},{"$f":"IF($F254=\"\",0,VLOOKUP($E254,Drivers!$A$26:$F$48,MATCH(G$1,Drivers!$A$25:$F$25,0),0)*$F254)","v":195237.56603638284},{"$f":"IF($F254=\"\",0,VLOOKUP($E254,Drivers!$A$26:$F$48,MATCH(H$1,Drivers!$A$25:$F$25,0),0)*$F254)","v":195237.56603638284},{"$f":"IF($F254=\"\",0,VLOOKUP($E254,Drivers!$A$26:$F$48,MATCH(I$1,Drivers!$A$25:$F$25,0),0)*$F254)","v":195237.56603638284},{"$f":"IF($F254=\"\",0,VLOOKUP($E254,Drivers!$A$26:$F$48,MATCH(J$1,Drivers!$A$25:$F$25,0),0)*$F254)","v":195237.56603638284},{"$f":"IF($F254=\"\",0,VLOOKUP($E254,Drivers!$A$26:$F$48,MATCH(K$1,Drivers!$A$25:$F$25,0),0)*$F254)","v":195237.56603638284}]
["PESSOAL","TOTAL","TOTAL",null,null,{"$f":"SUM(F256:F290)","v":43826391.249339648},{"$f":"SUM(G256:G290)","v":46741992.364563353},48892711.573740408,49577274.961092018,50287732.708254658,50847112.185681798]
["PESSOAL",1001,{"$f":"VLOOKUP(B256,Centro_Custo!$A$2:$B$36,2,0)","v":"CONSELHO DE ADMINISTRAÇÃO"},{"$f":"VLOOKUP(B256,Centro_Custo!$A$2:$C$36,3)","v":"Encargos de Gestão"},"Funcionário",{"$f":"SUMIFS('Classificação OPEX'!$O$4:$O$1666,'Classificação OPEX'!$Q$4:$Q$1666,\"N\",'Classificação OPEX'!$S$4:$S$1666,\"NÃO\",'Classificação OPEX'!$V$4:$V$1666,DRIVER_OPEX!A256,'Classificação OPEX'!$W$4:$W$1666,DRIVER_OPEX!B256)","v":168176.59138099384},{"$f":"IF($F256=\"\",0,VLOOKUP($E256,Drivers!$A$26:$F$48,MATCH(G$1,Drivers!$A$25:$F$25,0),0)*$F256)","v":179240.84081395398},{"$f":"IF($F256=\"\",0,VLOOKUP($E256,Drivers!$A$26:$F$48,MATCH(H$1,Drivers!$A$25:$F$25,0),0)*$F256)","v":183666.54058713801},{"$f":"IF($F256=\"\",0,VLOOKUP($E256,Drivers!$A$26:$F$48,MATCH(I$1,Drivers!$A$25:$F$25,0),0)*$F256)","v":184772.96553043401},{"$f":"IF($F256=\"\",0,VLOOKUP($E256,Drivers!$A$26:$F$48,MATCH(J$1,Drivers!$A$25:$F$25,0),0)*$F256)","v":184772.96553043401},{"$f":"IF($F256=\"\",0,VLOOKUP($E256,Drivers!$A$26:$F$48,MATCH(K$1,Drivers!$A$25:$F$25,0),0)*$F256)","v":184772.96553043401}]
["PESSOAL",1002,{"$f":"VLOOKUP(B257,Centro_Custo!$A$2:$B$36,2,0)","v":"CONSELHO FISCAL"},{"$f":"VLOOKUP(B257,Centro_Custo!$A$2:$C$36,3)","v":"Encargos de Gestão"},"Funcionário",{"$f":"SUMIFS('Classificação OPEX'!$O$4:$O$1666,'Classificação OPEX'!$Q$4:$Q$1666,\"N\",'Classificação OPEX'!$S$4:$S$1666,\"NÃO\",'Classificação OPEX'!$V$4:$V$1666,DRIVER_OPEX!A257,'Classificação OPEX'!$W$4:$W$1666,DRIVER_OPEX!B257)","v":40332.060152612728},{"$f":"IF($F257=\"\",0,VLOOKUP($E257,Drivers!$A$26:$F$48,MATCH(G$1,Drivers!$A$25:$F$25,0),0)*$F257)","v":42985.485162653044},{"$f":"IF($F257=\"\",0,VLOOKUP($E257,Drivers!$A$26:$F$48,MATCH(H$1,Drivers!$A$25:$F$25,0),0)*$F257)","v":44046.855166669164},{"$f":"IF($F257=\"\",0,VLOOKUP($E257,Drivers!$A$26:$F$48,MATCH(I$1,Drivers!$A$25:$F$25,0),0)*$F257)","v":44312.197667673194},{"$f":"IF($F257=\"\",0,VLOOKUP($E257,Drivers!$A$26:$F$48,MATCH(J$1,Drivers!$A$25:$F$25,0),0)*$F257)","v":44312.197667673194},{"$f":"IF($F257=\"\",0,VLOOKUP($E257,Drivers!$A$26:$F$48,MATCH(K$1,Drivers!$A$25:$F$25,0),0)*$F257)","v":44312.197667673194}]
["PESSOAL",1003,{"$f":"VLOOKUP(B258,Centro_Custo!$A$2:$B$36,2,0)","v":"COMITÊ DE INDICAÇÃO E AVALIAÇÃO"},{"$f":"VLOOKUP(B258,Centro_Custo!$A$2:$C$36,3)","v":"Encargos de Gestão"},"Funcionário",{"$f":"SUMIFS('Classificação OPEX'!$O$4:$O$1666,'Classificação OPEX'!$Q$4:$Q$1666,\"N\",'Classificação OPEX'!$S$4:$S$1666,\"NÃO\",'Classificação OPEX'!$V$4:$V$1666,DRIVER_OPEX!A258,'Classificação OPEX'!$W$4:$W$1666,DRIVER_OPEX!B258)","v":0},{"$f":"IF($F258=\"\",0,VLOOKUP($E258,Drivers!$A$26:$F$48,MATCH(G$1,Drivers!$A$25:$F$25,0),0)*$F258)","v":0},{"$f":"IF($F258=\"\",0,VLOOKUP($E258,Drivers!$A$26:$F$48,MATCH(H$1,Drivers!$A$25:$F$25,0),0)*$F258)","v":0},{"$f":"IF($F258=\"\",0,VLOOKUP($E258,Drivers!$A$26:$F$48,MATCH(I$1,Drivers!$A$25:$F$25,0),0)*$F258)","v":0},{"$f":"IF($F258=\"\",0,VLOOKUP($E258,Drivers!$A$26:$F$48,MATCH(J$1,Drivers!$A$25:$F$25,0),0)*$F258)","v":0},{"$f":"IF($F258=\"\",0,VLOOKUP($E258,Drivers!$A$26:$F$48,MATCH(K$1,Drivers!$A$25:$F$25,0),0)*$F258)","v":0}]
["PESSOAL",1004,{"$f":"VLOOKUP(B259,Centro_Custo!$A$2:$B$36,2,0)","v":"COMITÊ DE AUDITORIA ESTATUTÁRIA"},{"$f":"VLOOKUP(B259,Centro_Custo!$A$2:$C$36,3)","v":"Encargos de Gestão"},"Funcionário",{"$f":"SUMIFS('Classificação OPEX'!$O$4:$O$1666,'Classificação OPEX'!$Q$4:$Q$1666,\"N\",'Classificação OPEX'!$S$4:$S$1666,\"NÃO\",'Classificação OPEX'!$V$4:$V$1666,DRIVER_OPEX!A259,'Classificação OPEX'!$W$4:$W$1666,DRIVER_OPEX!B259)","v":0},{"$f":"IF($F259=\"\",0,VLOOKUP($E259,Drivers!$A$26:$F$48,MATCH(G$1,Drivers!$A$25:$F$25,0),0)*$F259)","v":0},{"$f":"IF($F259=\"\",0,VLOOKUP($E259,Drivers!$A$26:$F$48,MATCH(H$1,Drivers!$A$25:$F$25,0),0)*$F259)","v":0},{"$f":"IF($F259=\"\",0,VLOOKUP($E259,Drivers!$A$26:$F$48,MATCH(I$1,Drivers!$A$25:$F$25,0),0)*$F259)","v":0},{"$f":"IF($F259=\"\",0,VLOOKUP($E259,Drivers!$A$26:$F$48,MATCH(J$1,Drivers!$A$25:$F$25,0),0)*$F259)","v":0},{"$f":"IF($F259=\"\",0,VLOOKUP($E259,Drivers!$A$26:$F$48,MATCH(K$1,Drivers!$A$25:$F$25,0),0)*$F259)","v":0}]
["PESSOAL",1005,{"$f":"VLOOKUP(B260,Centro_Custo!$A$2:$B$36,2,0)","v":"AUDITORIA INTERNA"},{"$f":"VLOOKUP(B260,Centro_Custo!$A$2:$C$36,3)","v":"Encargos de Gestão"},"Funcionário",{"$f":"SUMIFS('Classificação OPEX'!$O$4:$O$1666,'Classificação OPEX'!$Q$4:$Q$1666,\"N\",'Classificação OPEX'!$S$4:$S$1666,\"NÃO\",'Classificação OPEX'!$V$4:$V$1666,DRIVER_OPEX!A260,'Classificação OPEX'!$W$4:$W$1666,DRIVER_OPEX!B260)","v":498330.57837231131},{"$f":"IF($F260=\"\",0,VLOOKUP($E260,Drivers!$A$26:$F$48,MATCH(G$1,Drivers!$A$25:$F$25,0),0)*$F260)","v":531115.484844174},{"$f":"IF($F260=\"\",0,VLOOKUP($E260,Drivers!$A$26:$F$48,MATCH(H$1,Drivers!$A$25:$F$25,0),0)*$F260)","v":544229.44743291894},{"$f":"IF($F260=\"\",0,VLOOKUP($E260,Drivers!$A$26:$F$48,MATCH(I$1,Drivers!$A$25:$F$25,0),0)*$F260)","v":547507.93808010512},{"$f":"IF($F260=\"\",0,VLOOKUP($E260,Drivers!$A$26:$F$48,MATCH(J$1,Drivers!$A$25:$F$25,0),0)*$F260)","v":547507.93808010512},{"$f":"IF($F260=\"\",0,VLOOKUP($E260,Drivers!$A$26:$F$48,MATCH(K$1,Drivers!$A$25:$F$25,0),0)*$F260)","v":547507.93808010512}]
["PESSOAL",1010,{"$f":"VLOOKUP(B261,Centro_Custo!$A$2:$B$36,2,0)","v":"GOVERNANÇA SOCIETÁRIA"},{"$f":"VLOOKUP(B261,Centro_Custo!$A$2:$C$36,3)","v":"Encargos de Gestão"},"Funcionário",{"$f":"SUMIFS('Classificação OPEX'!$O$4:$O$1666,'Classificação OPEX'!$Q$4:$Q$1666,\"N\",'Classificação OPEX'!$S$4:$S$1666,\"NÃO\",'Classificação OPEX'!$V$4:$V$1666,DRIVER_OPEX!A261,'Classificação OPEX'!$W$4:$W$1666,DRIVER_OPEX!B261)","v":434272.15760369576},{"$f":"IF($F261=\"\",0,VLOOKUP($E261,Drivers!$A$26:$F$48,MATCH(G$1,Drivers!$A$25:$F$25,0),0)*$F261)","v":462842.69428814948},{"$f":"IF($F261=\"\",0,VLOOKUP($E261,Drivers!$A$26:$F$48,MATCH(H$1,Drivers!$A$25:$F$25,0),0)*$F261)","v":474270.90896193089},{"$f":"IF($F261=\"\",0,VLOOKUP($E261,Drivers!$A$26:$F$48,MATCH(I$1,Drivers!$A$25:$F$25,0),0)*$F261)","v":477127.96263037622},{"$f":"IF($F261=\"\",0,VLOOKUP($E261,Drivers!$A$26:$F$48,MATCH(J$1,Drivers!$A$25:$F$25,0),0)*$F261)","v":477127.96263037622},{"$f":"IF($F261=\"\",0,VLOOKUP($E261,Drivers!$A$26:$F$48,MATCH(K$1,Drivers!$A$25:$F$25,0),0)*$F261)","v":477127.96263037622}]
["PESSOAL",2110,{"$f":"VLOOKUP(B262,Centro_Custo!$A$2:$B$36,2,0)","v":"ASSESSORIA DA DIRETORIA EXECUTIVA"},{"$f":"VLOOKUP(B262,Centro_Custo!$A$2:$C$36,3)","v":"Encargos de Gestão"},"Funcionário",{"$f":"SUMIFS('Classificação OPEX'!$O$4:$O$1666,'Classificação OPEX'!$Q$4:$Q$1666,\"N\",'Classificação OPEX'!$S$4:$S$1666,\"NÃO\",'Classificação OPEX'!$V$4:$V$1666,DRIVER_OPEX!A262,'Classificação OPEX'!$W$4:$W$1666,DRIVER_OPEX!B262)","v":372316.23583905731},{"$f":"IF($F262=\"\",0,VLOOKUP($E262,Drivers!$A$26:$F$48,MATCH(G$1,Drivers!$A$25:$F$25,0),0)*$F262)","v":396810.72503899533},{"$f":"IF($F262=\"\",0,VLOOKUP($E262,Drivers!$A$26:$F$48,MATCH(H$1,Drivers!$A$25:$F$25,0),0)*$F262)","v":406608.52071897045},{"$f":"IF($F262=\"\",0,VLOOKUP($E262,Drivers!$A$26:$F$48,MATCH(I$1,Drivers!$A$25:$F$25,0),0)*$F262)","v":409057.96963896422},{"$f":"IF($F262=\"\",0,VLOOKUP($E262,Drivers!$A$26:$F$48,MATCH(J$1,Drivers!$A$25:$F$25,0),0)*$F262)","v":409057.96963896422},{"$f":"IF($F262=\"\",0,VLOOKUP($E262,Drivers!$A$26:$F$48,MATCH(K$1,Drivers!$A$25:$F$25,0),0)*$F262)","v":409057.96963896422}]
["PESSOAL",2120,{"$f":"VLOOKUP(B263,Centro_Custo!$A$2:$B$36,2,0)","v":"ASSESSORIA DA PRESIDÊNCIA"},{"$f":"VLOOKUP(B263,Centro_Custo!$A$2:$C$36,3)","v":"Encargos de Gestão"},"Funcionário",{"$f":"SUMIFS('Classificação OPEX'!$O$4:$O$1666,'Classificação OPEX'!$Q$4:$Q$1666,\"N\",'Classificação OPEX'!$S$4:$S$1666,\"NÃO\",'Classificação OPEX'!$V$4:$V$1666,DRIVER_OPEX!A263,'Classificação OPEX'!$W$4:$W$1666,DRIVER_OPEX!B263)","v":900288.98857287131},{"$f":"IF($F263=\"\",0,VLOOKUP($E263,Drivers!$A$26:$F$48,MATCH(G$1,Drivers!$A$25:$F$25,0),0)*$F263)","v":959518.52729477081},{"$f":"IF($F263=\"\",0,VLOOKUP($E263,Drivers!$A$26:$F$48,MATCH(H$1,Drivers!$A$25:$F$25,0),0)*$F263)","v":983210.34278353048},{"$f":"IF($F263=\"\",0,VLOOKUP($E263,Drivers!$A$26:$F$48,MATCH(I$1,Drivers!$A$25:$F$25,0),0)*$F263)","v":989133.29665572033},{"$f":"IF($F263=\"\",0,VLOOKUP($E263,Drivers!$A$26:$F$48,MATCH(J$1,Drivers!$A$25:$F$25,0),0)*$F263)","v":989133.29665572033},{"$f":"IF($F263=\"\",0,VLOOKUP($E263,Drivers!$A$26:$F$48,MATCH(K$1,Drivers!$A$25:$F$25,0),0)*$F263)","v":989133.29665572033}]
["PESSOAL",2130,{"$f":"VLOOKUP(B264,Centro_Custo!$A$2:$B$36,2,0)","v":"ASSESSORIA DE RELAÇÕES INSTITUCIONAIS E NOVOS NEGÓCIOS"},{"$f":"VLOOKUP(B264,Centro_Custo!$A$2:$C$36,3)","v":"Encargos de Gestão"},"Funcionário",{"$f":"SUMIFS('Classificação OPEX'!$O$4:$O$1666,'Classificação OPEX'!$Q$4:$Q$1666,\"N\",'Classificação OPEX'!$S$4:$S$1666,\"NÃO\",'Classificação OPEX'!$V$4:$V$1666,DRIVER_OPEX!A264,'Classificação OPEX'!$W$4:$W$1666,DRIVER_OPEX!B264)","v":282682.5081999675},{"$f":"IF($F264=\"\",0,VLOOKUP($E264,Drivers!$A$26:$F$48,MATCH(G$1,Drivers!$A$25:$F$25,0),0)*$F264)","v":301280.04163417593},{"$f":"IF($F264=\"\",0,VLOOKUP($E264,Drivers!$A$26:$F$48,MATCH(H$1,Drivers!$A$25:$F$25,0),0)*$F264)","v":308719.05500785925},{"$f":"IF($F264=\"\",0,VLOOKUP($E264,Drivers!$A$26:$F$48,MATCH(I$1,Drivers!$A$25:$F$25,0),0)*$F264)","v":310578.80835128005},{"$f":"IF($F264=\"\",0,VLOOKUP($E264,Drivers!$A$26:$F$48,MATCH(J$1,Drivers!$A$25:$F$25,0),0)*$F264)","v":310578.80835128005},{"$f":"IF($F264=\"\",0,VLOOKUP($E264,Drivers!$A$26:$F$48,MATCH(K$1,Drivers!$A$25:$F$25,0),0)*$F264)","v":310578.80835128005}]
["PESSOAL",2140,{"$f":"VLOOKUP(B265,Centro_Custo!$A$2:$B$36,2,0)","v":"ASSESSORIA DTC"},{"$f":"VLOOKUP(B265,Centro_Custo!$A$2:$C$36,3)","v":"Encargos de Comercialização"},"Funcionário",{"$f":"SUMIFS('Classificação OPEX'!$O$4:$O$1666,'Classificação OPEX'!$Q$4:$Q$1666,\"N\",'Classificação OPEX'!$S$4:$S$1666,\"NÃO\",'Classificação OPEX'!$V$4:$V$1666,DRIVER_OPEX!A265,'Classificação OPEX'!$W$4:$W$1666,DRIVER_OPEX!B265)","v":84774.826222105476},{"$f":"IF($F265=\"\",0,VLOOKUP($E265,Drivers!$A$26:$F$48,MATCH(G$1,Drivers!$A$25:$F$25,0),0)*$F265)","v":90352.117420928218},{"$f":"IF($F265=\"\",0,VLOOKUP($E265,Drivers!$A$26:$F$48,MATCH(H$1,Drivers!$A$25:$F$25,0),0)*$F265)","v":92583.033900457289},{"$f":"IF($F265=\"\",0,VLOOKUP($E265,Drivers!$A$26:$F$48,MATCH(I$1,Drivers!$A$25:$F$25,0),0)*$F265)","v":93140.763020339567},{"$f":"IF($F265=\"\",0,VLOOKUP($E265,Drivers!$A$26:$F$48,MATCH(J$1,Drivers!$A$25:$F$25,0),0)*$F265)","v":93140.763020339567},{"$f":"IF($F265=\"\",0,VLOOKUP($E265,Drivers!$A$26:$F$48,MATCH(K$1,Drivers!$A$25:$F$25,0),0)*$F265)","v":93140.763020339567}]
["PESSOAL",2200,{"$f":"VLOOKUP(B266,Centro_Custo!$A$2:$B$36,2,0)","v":"DIRETORIA COLEGIADA - PRESIDÊNCIA"},{"$f":"VLOOKUP(B266,Centro_Custo!$A$2:$C$36,3)","v":"Encargos de Gestão"},"Funcionário",{"$f":"SUMIFS('Classificação OPEX'!$O$4:$O$1666,'Classificação OPEX'!$Q$4:$Q$1666,\"N\",'Classificação OPEX'!$S$4:$S$1666,\"NÃO\",'Classificação OPEX'!$V$4:$V$1666,DRIVER_OPEX!A266,'Classificação OPEX'!$W$4:$W$1666,DRIVER_OPEX!B266)","v":1121011.267479144},{"$f":"IF($F266=\"\",0,VLOOKUP($E266,Drivers!$A$26:$F$48,MATCH(G$1,Drivers!$A$25:$F$25,0),0)*$F266)","v":1194762.0087606667},{"$f":"IF($F266=\"\",0,VLOOKUP($E266,Drivers!$A$26:$F$48,MATCH(H$1,Drivers!$A$25:$F$25,0),0)*$F266)","v":1224262.3052732756},{"$f":"IF($F266=\"\",0,VLOOKUP($E266,Drivers!$A$26:$F$48,MATCH(I$1,Drivers!$A$25:$F$25,0),0)*$F266)","v":1231637.3794014279},{"$f":"IF($F266=\"\",0,VLOOKUP($E266,Drivers!$A$26:$F$48,MATCH(J$1,Drivers!$A$25:$F$25,0),0)*$F266)","v":1231637.3794014279},{"$f":"IF($F266=\"\",0,VLOOKUP($E266,Drivers!$A$26:$F$48,MATCH(K$1,Drivers!$A$25:$F$25,0),0)*$F266)","v":1231637.3794014279}]
["PESSOAL",2310,{"$f":"VLOOKUP(B267,Centro_Custo!$A$2:$B$36,2,0)","v":"ASSESSORIA DAF"},{"$f":"VLOOKUP(B267,Centro_Custo!$A$2:$C$36,3)","v":"Encargos de Gestão"},"Funcionário",{"$f":"SUMIFS('Classificação OPEX'!$O$4:$O$1666,'Classificação OPEX'!$Q$4:$Q$1666,\"N\",'Classificação OPEX'!$S$4:$S$1666,\"NÃO\",'Classificação OPEX'!$V$4:$V$1666,DRIVER_OPEX!A267,'Classificação OPEX'!$W$4:$W$1666,DRIVER_OPEX!B267)","v":13726.711837109615},{"$f":"IF($F267=\"\",0,VLOOKUP($E267,Drivers!$A$26:$F$48,MATCH(G$1,Drivers!$A$25:$F$25,0),0)*$F267)","v":14629.78498428788},{"$f":"IF($F267=\"\",0,VLOOKUP($E267,Drivers!$A$26:$F$48,MATCH(H$1,Drivers!$A$25:$F$25,0),0)*$F267)","v":14991.014243159185},{"$f":"IF($F267=\"\",0,VLOOKUP($E267,Drivers!$A$26:$F$48,MATCH(I$1,Drivers!$A$25:$F$25,0),0)*$F267)","v":15081.32155787701},{"$f":"IF($F267=\"\",0,VLOOKUP($E267,Drivers!$A$26:$F$48,MATCH(J$1,Drivers!$A$25:$F$25,0),0)*$F267)","v":15081.32155787701},{"$f":"IF($F267=\"\",0,VLOOKUP($E267,Drivers!$A$26:$F$48,MATCH(K$1,Drivers!$A$25:$F$25,0),0)*$F267)","v":15081.32155787701}]
["PESSOAL",2410,{"$f":"VLOOKUP(B268,Centro_Custo!$A$2:$B$36,2,0)","v":"ASSESSORIA DE SEGURANÇA DO TRABALHO"},{"$f":"VLOOKUP(B268,Centro_Custo!$A$2:$C$36,3)","v":"OPEX&ODESP"},"Funcionário",{"$f":"SUMIFS('Classificação OPEX'!$O$4:$O$1666,'Classificação OPEX'!$Q$4:$Q$1666,\"N\",'Classificação OPEX'!$S$4:$S$1666,\"NÃO\",'Classificação OPEX'!$V$4:$V$1666,DRIVER_OPEX!A268,'Classificação OPEX'!$W$4:$W$1666,DRIVER_OPEX!B268)","v":1261180.5390718593},{"$f":"IF($F268=\"\",0,VLOOKUP($E268,Drivers!$A$26:$F$48,MATCH(G$1,Drivers!$A$25:$F$25,0),0)*$F268)","v":1344152.9429581659},{"$f":"IF($F268=\"\",0,VLOOKUP($E268,Drivers!$A$26:$F$48,MATCH(H$1,Drivers!$A$25:$F$25,0),0)*$F268)","v":1377341.9045126885},{"$f":"IF($F268=\"\",0,VLOOKUP($E268,Drivers!$A$26:$F$48,MATCH(I$1,Drivers!$A$25:$F$25,0),0)*$F268)","v":1385639.1449013189},{"$f":"IF($F268=\"\",0,VLOOKUP($E268,Drivers!$A$26:$F$48,MATCH(J$1,Drivers!$A$25:$F$25,0),0)*$F268)","v":1385639.1449013189},{"$f":"IF($F268=\"\",0,VLOOKUP($E268,Drivers!$A$26:$F$48,MATCH(K$1,Drivers!$A$25:$F$25,0),0)*$F268)","v":1385639.1449013189}]
["PESSOAL",3200,{"$f":"VLOOKUP(B269,Centro_Custo!$A$2:$B$36,2,0)","v":"GERÊNCIA DE PLANEJAMENTO E MEIO AMBIENTE"},{"$f":"VLOOKUP(B269,Centro_Custo!$A$2:$C$36,3)","v":"OPEX&ODESP"},"Funcionário",{"$f":"SUMIFS('Classificação OPEX'!$O$4:$O$1666,'Classificação OPEX'!$Q$4:$Q$1666,\"N\",'Classificação OPEX'!$S$4:$S$1666,\"NÃO\",'Classificação OPEX'!$V$4:$V$1666,DRIVER_OPEX!A269,'Classificação OPEX'!$W$4:$W$1666,DRIVER_OPEX!B269)","v":1860954.674225312},{"$f":"IF($F269=\"\",0,VLOOKUP($E269,Drivers!$A$26:$F$48,MATCH(G$1,Drivers!$A$25:$F$25,0),0)*$F269)","v":1983385.9027927669},{"$f":"IF($F269=\"\",0,VLOOKUP($E269,Drivers!$A$26:$F$48,MATCH(H$1,Drivers!$A$25:$F$25,0),0)*$F269)","v":2032358.3942197484},{"$f":"IF($F269=\"\",0,VLOOKUP($E269,Drivers!$A$26:$F$48,MATCH(I$1,Drivers!$A$25:$F$25,0),0)*$F269)","v":2044601.5170764939},{"$f":"IF($F269=\"\",0,VLOOKUP($E269,Drivers!$A$26:$F$48,MATCH(J$1,Drivers!$A$25:$F$25,0),0)*$F269)","v":2044601.5170764939},{"$f":"IF($F269=\"\",0,VLOOKUP($E269,Drivers!$A$26:$F$48,MATCH(K$1,Drivers!$A$25:$F$25,0),0)*$F269)","v":2044601.5170764939}]
["PESSOAL",3300,{"$f":"VLOOKUP(B270,Centro_Custo!$A$2:$B$36,2,0)","v":"GERÊNCIA JURÍDICA"},{"$f":"VLOOKUP(B270,Centro_Custo!$A$2:$C$36,3)","v":"Encargos de Gestão"},"Funcionário",{"$f":"SUMIFS('Classificação OPEX'!$O$4:$O$1666,'Classificação OPEX'!$Q$4:$Q$1666,\"N\",'Classificação OPEX'!$S$4:$S$1666,\"NÃO\",'Classificação OPEX'!$V$4:$V$1666,DRIVER_OPEX!A270,'Classificação OPEX'!$W$4:$W$1666,DRIVER_OPEX!B270)","v":1280242.7955641034},{"$f":"IF($F270=\"\",0,VLOOKUP($E270,Drivers!$A$26:$F$48,MATCH(G$1,Drivers!$A$25:$F$25,0),0)*$F270)","v":1364469.2952722681},{"$f":"IF($F270=\"\",0,VLOOKUP($E270,Drivers!$A$26:$F$48,MATCH(H$1,Drivers!$A$25:$F$25,0),0)*$F270)","v":1398159.8951555339},{"$f":"IF($F270=\"\",0,VLOOKUP($E270,Drivers!$A$26:$F$48,MATCH(I$1,Drivers!$A$25:$F$25,0),0)*$F270)","v":1406582.5451263504},{"$f":"IF($F270=\"\",0,VLOOKUP($E270,Drivers!$A$26:$F$48,MATCH(J$1,Drivers!$A$25:$F$25,0),0)*$F270)","v":1406582.5451263504},{"$f":"IF($F270=\"\",0,VLOOKUP($E270,Drivers!$A$26:$F$48,MATCH(K$1,Drivers!$A$25:$F$25,0),0)*$F270)","v":1406582.5451263504}]
["PESSOAL",3500,{"$f":"VLOOKUP(B271,Centro_Custo!$A$2:$B$36,2,0)","v":"ASSESSORIA DE COMUNICAÇÃO INSTITUCIONAL"},{"$f":"VLOOKUP(B271,Centro_Custo!$A$2:$C$36,3)","v":"Encargos de Gestão"},"Funcionário",{"$f":"SUMIFS('Classificação OPEX'!$O$4:$O$1666,'Classificação OPEX'!$Q$4:$Q$1666,\"N\",'Classificação OPEX'!$S$4:$S$1666,\"NÃO\",'Classificação OPEX'!$V$4:$V$1666,DRIVER_OPEX!A271,'Classificação OPEX'!$W$4:$W$1666,DRIVER_OPEX!B271)","v":932871.55582724442},{"$f":"IF($F271=\"\",0,VLOOKUP($E271,Drivers!$A$26:$F$48,MATCH(G$1,Drivers!$A$25:$F$25,0),0)*$F271)","v":994244.6845000895},{"$f":"IF($F271=\"\",0,VLOOKUP($E271,Drivers!$A$26:$F$48,MATCH(H$1,Drivers!$A$25:$F$25,0),0)*$F271)","v":1018793.9359692275},{"$f":"IF($F271=\"\",0,VLOOKUP($E271,Drivers!$A$26:$F$48,MATCH(I$1,Drivers!$A$25:$F$25,0),0)*$F271)","v":1024931.2488365119},{"$f":"IF($F271=\"\",0,VLOOKUP($E271,Drivers!$A$26:$F$48,MATCH(J$1,Drivers!$A$25:$F$25,0),0)*$F271)","v":1024931.2488365119},{"$f":"IF($F271=\"\",0,VLOOKUP($E271,Drivers!$A$26:$F$48,MATCH(K$1,Drivers!$A$25:$F$25,0),0)*$F271)","v":1024931.2488365119}]
["PESSOAL",3600,{"$f":"VLOOKUP(B272,Centro_Custo!$A$2:$B$36,2,0)","v":"GERÊNCIA DE GOVERNANÇA, RISCO E COMPLIANCE"},{"$f":"VLOOKUP(B272,Centro_Custo!$A$2:$C$36,3)","v":"Encargos de Gestão"},"Funcionário",{"$f":"SUMIFS('Classificação OPEX'!$O$4:$O$1666,'Classificação OPEX'!$Q$4:$Q$1666,\"N\",'Classificação OPEX'!$S$4:$S$1666,\"NÃO\",'Classificação OPEX'!$V$4:$V$1666,DRIVER_OPEX!A272,'Classificação OPEX'!$W$4:$W$1666,DRIVER_OPEX!B272)","v":1975023.5195253012},{"$f":"IF($F272=\"\",0,VLOOKUP($E272,Drivers!$A$26:$F$48,MATCH(G$1,Drivers!$A$25:$F$25,0),0)*$F272)","v":2104959.2773888079},{"$f":"IF($F272=\"\",0,VLOOKUP($E272,Drivers!$A$26:$F$48,MATCH(H$1,Drivers!$A$25:$F$25,0),0)*$F272)","v":2156933.5805342104},{"$f":"IF($F272=\"\",0,VLOOKUP($E272,Drivers!$A$26:$F$48,MATCH(I$1,Drivers!$A$25:$F$25,0),0)*$F272)","v":2169927.1563205612},{"$f":"IF($F272=\"\",0,VLOOKUP($E272,Drivers!$A$26:$F$48,MATCH(J$1,Drivers!$A$25:$F$25,0),0)*$F272)","v":2169927.1563205612},{"$f":"IF($F272=\"\",0,VLOOKUP($E272,Drivers!$A$26:$F$48,MATCH(K$1,Drivers!$A$25:$F$25,0),0)*$F272)","v":2169927.1563205612}]
["PESSOAL",3700,{"$f":"VLOOKUP(B273,Centro_Custo!$A$2:$B$36,2,0)","v":"GERÊNCIA DE REGULAÇÃO"},{"$f":"VLOOKUP(B273,Centro_Custo!$A$2:$C$36,3)","v":"Encargos de Gestão"},"Funcionário",{"$f":"SUMIFS('Classificação OPEX'!$O$4:$O$1666,'Classificação OPEX'!$Q$4:$Q$1666,\"N\",'Classificação OPEX'!$S$4:$S$1666,\"NÃO\",'Classificação OPEX'!$V$4:$V$1666,DRIVER_OPEX!A273,'Classificação OPEX'!$W$4:$W$1666,DRIVER_OPEX!B273)","v":341934.97222964454},{"$f":"IF($F273=\"\",0,VLOOKUP($E273,Drivers!$A$26:$F$48,MATCH(G$1,Drivers!$A$25:$F$25,0),0)*$F273)","v":364430.69408685801},{"$f":"IF($F273=\"\",0,VLOOKUP($E273,Drivers!$A$26:$F$48,MATCH(H$1,Drivers!$A$25:$F$25,0),0)*$F273)","v":373428.98282974336},{"$f":"IF($F273=\"\",0,VLOOKUP($E273,Drivers!$A$26:$F$48,MATCH(I$1,Drivers!$A$25:$F$25,0),0)*$F273)","v":375678.55501546472},{"$f":"IF($F273=\"\",0,VLOOKUP($E273,Drivers!$A$26:$F$48,MATCH(J$1,Drivers!$A$25:$F$25,0),0)*$F273)","v":375678.55501546472},{"$f":"IF($F273=\"\",0,VLOOKUP($E273,Drivers!$A$26:$F$48,MATCH(K$1,Drivers!$A$25:$F$25,0),0)*$F273)","v":375678.55501546472}]
["PESSOAL",4100,{"$f":"VLOOKUP(B274,Centro_Custo!$A$2:$B$36,2,0)","v":"GERÊNCIA DE SERVIÇOS CORPORATIVOS"},{"$f":"VLOOKUP(B274,Centro_Custo!$A$2:$C$36,3)","v":"Encargos de Gestão"},"Funcionário",{"$f":"SUMIFS('Classificação OPEX'!$O$4:$O$1666,'Classificação OPEX'!$Q$4:$Q$1666,\"N\",'Classificação OPEX'!$S$4:$S$1666,\"NÃO\",'Classificação OPEX'!$V$4:$V$1666,DRIVER_OPEX!A274,'Classificação OPEX'!$W$4:$W$1666,DRIVER_OPEX!B274)","v":4144361.7689997032},{"$f":"IF($F274=\"\",0,VLOOKUP($E274,Drivers!$A$26:$F$48,MATCH(G$1,Drivers!$A$25:$F$25,0),0)*$F274)","v":4417017.1485391576},{"$f":"IF($F274=\"\",0,VLOOKUP($E274,Drivers!$A$26:$F$48,MATCH(H$1,Drivers!$A$25:$F$25,0),0)*$F274)","v":4526079.300354939},{"$f":"IF($F274=\"\",0,VLOOKUP($E274,Drivers!$A$26:$F$48,MATCH(I$1,Drivers!$A$25:$F$25,0),0)*$F274)","v":4553344.8383088838},{"$f":"IF($F274=\"\",0,VLOOKUP($E274,Drivers!$A$26:$F$48,MATCH(J$1,Drivers!$A$25:$F$25,0),0)*$F274)","v":4553344.8383088838},{"$f":"IF($F274=\"\",0,VLOOKUP($E274,Drivers!$A$26:$F$48,MATCH(K$1,Drivers!$A$25:$F$25,0),0)*$F274)","v":4553344.8383088838}]
["PESSOAL",4200,{"$f":"VLOOKUP(B275,Centro_Custo!$A$2:$B$36,2,0)","v":"GERÊNCIA FINANCEIRA"},{"$f":"VLOOKUP(B275,Centro_Custo!$A$2:$C$36,3)","v":"Encargos de Gestão"},"Funcionário",{"$f":"SUMIFS('Classificação OPEX'!$O$4:$O$1666,'Classificação OPEX'!$Q$4:$Q$1666,\"N\",'Classificação OPEX'!$S$4:$S$1666,\"NÃO\",'Classificação OPEX'!$V$4:$V$1666,DRIVER_OPEX!A275,'Classificação OPEX'!$W$4:$W$1666,DRIVER_OPEX!B275)","v":1997623.306273724},{"$f":"IF($F275=\"\",0,VLOOKUP($E275,Drivers!$A$26:$F$48,MATCH(G$1,Drivers!$A$25:$F$25,0),0)*$F275)","v":2129045.8922127848},{"$f":"IF($F275=\"\",0,VLOOKUP($E275,Drivers!$A$26:$F$48,MATCH(H$1,Drivers!$A$25:$F$25,0),0)*$F275)","v":2181614.9265884091},{"$f":"IF($F275=\"\",0,VLOOKUP($E275,Drivers!$A$26:$F$48,MATCH(I$1,Drivers!$A$25:$F$25,0),0)*$F275)","v":2194757.1851823148},{"$f":"IF($F275=\"\",0,VLOOKUP($E275,Drivers!$A$26:$F$48,MATCH(J$1,Drivers!$A$25:$F$25,0),0)*$F275)","v":2194757.1851823148},{"$f":"IF($F275=\"\",0,VLOOKUP($E275,Drivers!$A$26:$F$48,MATCH(K$1,Drivers!$A$25:$F$25,0),0)*$F275)","v":2194757.1851823148}]
["PESSOAL",4300,{"$f":"VLOOKUP(B276,Centro_Custo!$A$2:$B$36,2,0)","v":"GERÊNCIA DE TECNOLOGIA E SISTEMAS DE INFORMAÇÃO"},{"$f":"VLOOKUP(B276,Centro_Custo!$A$2:$C$36,3)","v":"Encargos de Gestão"},"Funcionário",{"$f":"SUMIFS('Classificação OPEX'!$O$4:$O$1666,'Classificação OPEX'!$Q$4:$Q$1666,\"N\",'Classificação OPEX'!$S$4:$S$1666,\"NÃO\",'Classificação OPEX'!$V$4:$V$1666,DRIVER_OPEX!A276,'Classificação OPEX'!$W$4:$W$1666,DRIVER_OPEX!B276)","v":2335969.5107826102},{"$f":"IF($F276=\"\",0,VLOOKUP($E276,Drivers!$A$26:$F$48,MATCH(G$1,Drivers!$A$25:$F$25,0),0)*$F276)","v":2489651.7154393611},{"$f":"IF($F276=\"\",0,VLOOKUP($E276,Drivers!$A$26:$F$48,MATCH(H$1,Drivers!$A$25:$F$25,0),0)*$F276)","v":2551124.597302061},{"$f":"IF($F276=\"\",0,VLOOKUP($E276,Drivers!$A$26:$F$48,MATCH(I$1,Drivers!$A$25:$F$25,0),0)*$F276)","v":2566492.817767736},{"$f":"IF($F276=\"\",0,VLOOKUP($E276,Drivers!$A$26:$F$48,MATCH(J$1,Drivers!$A$25:$F$25,0),0)*$F276)","v":2566492.817767736},{"$f":"IF($F276=\"\",0,VLOOKUP($E276,Drivers!$A$26:$F$48,MATCH(K$1,Drivers!$A$25:$F$25,0),0)*$F276)","v":2566492.817767736}]
["PESSOAL",4500,{"$f":"VLOOKUP(B277,Centro_Custo!$A$2:$B$36,2,0)","v":"GERÊNCIA CONTÁBIL"},{"$f":"VLOOKUP(B277,Centro_Custo!$A$2:$C$36,3)","v":"Encargos de Gestão"},"Funcionário",{"$f":"SUMIFS('Classificação OPEX'!$O$4:$O$1666,'Classificação OPEX'!$Q$4:$Q$1666,\"N\",'Classificação OPEX'!$S$4:$S$1666,\"NÃO\",'Classificação OPEX'!$V$4:$V$1666,DRIVER_OPEX!A277,'Classificação OPEX'!$W$4:$W$1666,DRIVER_OPEX!B277)","v":1727184.3154189119},{"$f":"IF($F277=\"\",0,VLOOKUP($E277,Drivers!$A$26:$F$48,MATCH(G$1,Drivers!$A$25:$F$25,0),0)*$F277)","v":1840814.8624859457},{"$f":"IF($F277=\"\",0,VLOOKUP($E277,Drivers!$A$26:$F$48,MATCH(H$1,Drivers!$A$25:$F$25,0),0)*$F277)","v":1886267.0813127588},{"$f":"IF($F277=\"\",0,VLOOKUP($E277,Drivers!$A$26:$F$48,MATCH(I$1,Drivers!$A$25:$F$25,0),0)*$F277)","v":1897630.1360194623},{"$f":"IF($F277=\"\",0,VLOOKUP($E277,Drivers!$A$26:$F$48,MATCH(J$1,Drivers!$A$25:$F$25,0),0)*$F277)","v":1897630.1360194623},{"$f":"IF($F277=\"\",0,VLOOKUP($E277,Drivers!$A$26:$F$48,MATCH(K$1,Drivers!$A$25:$F$25,0),0)*$F277)","v":1897630.1360194623}]
["PESSOAL",4600,{"$f":"VLOOKUP(B278,Centro_Custo!$A$2:$B$36,2,0)","v":"GERÊNCIA DE PESSOAS E CULTURA"},{"$f":"VLOOKUP(B278,Centro_Custo!$A$2:$C$36,3)","v":"Encargos de Gestão"},"Funcionário",{"$f":"SUMIFS('Classificação OPEX'!$O$4:$O$1666,'Classificação OPEX'!$Q$4:$Q$1666,\"N\",'Classificação OPEX'!$S$4:$S$1666,\"NÃO\",'Classificação OPEX'!$V$4:$V$1666,DRIVER_OPEX!A278,'Classificação OPEX'!$W$4:$W$1666,DRIVER_OPEX!B278)","v":347139.08338248392},{"$f":"IF($F278=\"\",0,VLOOKUP($E278,Drivers!$A$26:$F$48,MATCH(G$1,Drivers!$A$25:$F$25,0),0)*$F278)","v":369977.18097343686},{"$f":"IF($F278=\"\",0,VLOOKUP($E278,Drivers!$A$26:$F$48,MATCH(H$1,Drivers!$A$25:$F$25,0),0)*$F278)","v":379112.42000981793},{"$f":"IF($F278=\"\",0,VLOOKUP($E278,Drivers!$A$26:$F$48,MATCH(I$1,Drivers!$A$25:$F$25,0),0)*$F278)","v":381396.22976891324},{"$f":"IF($F278=\"\",0,VLOOKUP($E278,Drivers!$A$26:$F$48,MATCH(J$1,Drivers!$A$25:$F$25,0),0)*$F278)","v":381396.22976891324},{"$f":"IF($F278=\"\",0,VLOOKUP($E278,Drivers!$A$26:$F$48,MATCH(K$1,Drivers!$A$25:$F$25,0),0)*$F278)","v":381396.22976891324}]
["PESSOAL",5100,{"$f":"VLOOKUP(B279,Centro_Custo!$A$2:$B$36,2,0)","v":"GERÊNCIA DE ENGENHARIA"},{"$f":"VLOOKUP(B279,Centro_Custo!$A$2:$C$36,3)","v":"OPEX&ODESP"},"Extensão de Rede",{"$f":"SUMIFS('Classificação OPEX'!$O$4:$O$1666,'Classificação OPEX'!$Q$4:$Q$1666,\"N\",'Classificação OPEX'!$S$4:$S$1666,\"NÃO\",'Classificação OPEX'!$V$4:$V$1666,DRIVER_OPEX!A279,'Classificação OPEX'!$W$4:$W$1666,DRIVER_OPEX!B279)","v":4094651.6930704322},{"$f":"IF($F279=\"\",0,VLOOKUP($E279,Drivers!$A$26:$F$48,MATCH(G$1,Drivers!$A$25:$F$25,0),0)*$F279)","v":4382840.7477041744},{"$f":"IF($F279=\"\",0,VLOOKUP($E279,Drivers!$A$26:$F$48,MATCH(H$1,Drivers!$A$25:$F$25,0),0)*$F279)","v":4780184.9467866048},{"$f":"IF($F279=\"\",0,VLOOKUP($E279,Drivers!$A$26:$F$48,MATCH(I$1,Drivers!$A$25:$F$25,0),0)*$F279)","v":4921605.4430773966},{"$f":"IF($F279=\"\",0,VLOOKUP($E279,Drivers!$A$26:$F$48,MATCH(J$1,Drivers!$A$25:$F$25,0),0)*$F279)","v":5125162.7095591454},{"$f":"IF($F279=\"\",0,VLOOKUP($E279,Drivers!$A$26:$F$48,MATCH(K$1,Drivers!$A$25:$F$25,0),0)*$F279)","v":5285433.6866943855}]
["PESSOAL",5200,{"$f":"VLOOKUP(B280,Centro_Custo!$A$2:$B$36,2,0)","v":"GERÊNCIA DE OPERAÇÕES"},{"$f":"VLOOKUP(B280,Centro_Custo!$A$2:$C$36,3)","v":"OPEX&ODESP"},"Extensão de Rede",{"$f":"SUMIFS('Classificação OPEX'!$O$4:$O$1666,'Classificação OPEX'!$Q$4:$Q$1666,\"N\",'Classificação OPEX'!$S$4:$S$1666,\"NÃO\",'Classificação OPEX'!$V$4:$V$1666,DRIVER_OPEX!A280,'Classificação OPEX'!$W$4:$W$1666,DRIVER_OPEX!B280)","v":10196545.411088604},{"$f":"IF($F280=\"\",0,VLOOKUP($E280,Drivers!$A$26:$F$48,MATCH(G$1,Drivers!$A$25:$F$25,0),0)*$F280)","v":10914196.8751984},{"$f":"IF($F280=\"\",0,VLOOKUP($E280,Drivers!$A$26:$F$48,MATCH(H$1,Drivers!$A$25:$F$25,0),0)*$F280)","v":11903667.646700952},{"$f":"IF($F280=\"\",0,VLOOKUP($E280,Drivers!$A$26:$F$48,MATCH(I$1,Drivers!$A$25:$F$25,0),0)*$F280)","v":12255834.47811377},{"$f":"IF($F280=\"\",0,VLOOKUP($E280,Drivers!$A$26:$F$48,MATCH(J$1,Drivers!$A$25:$F$25,0),0)*$F280)","v":12762734.958794659},{"$f":"IF($F280=\"\",0,VLOOKUP($E280,Drivers!$A$26:$F$48,MATCH(K$1,Drivers!$A$25:$F$25,0),0)*$F280)","v":13161843.459086556}]
["PESSOAL",5300,{"$f":"VLOOKUP(B281,Centro_Custo!$A$2:$B$36,2,0)","v":"GERÊNCIA COMERCIAL"},{"$f":"VLOOKUP(B281,Centro_Custo!$A$2:$C$36,3)","v":"Encargos de Comercialização"},"Funcionário",{"$f":"SUMIFS('Classificação OPEX'!$O$4:$O$1666,'Classificação OPEX'!$Q$4:$Q$1666,\"N\",'Classificação OPEX'!$S$4:$S$1666,\"NÃO\",'Classificação OPEX'!$V$4:$V$1666,DRIVER_OPEX!A281,'Classificação OPEX'!$W$4:$W$1666,DRIVER_OPEX!B281)","v":6158911.0097296257},{"$f":"IF($F281=\"\",0,VLOOKUP($E281,Drivers!$A$26:$F$48,MATCH(G$1,Drivers!$A$25:$F$25,0),0)*$F281)","v":6564102.5235276278},{"$f":"IF($F281=\"\",0,VLOOKUP($E281,Drivers!$A$26:$F$48,MATCH(H$1,Drivers!$A$25:$F$25,0),0)*$F281)","v":6726179.1290468276},{"$f":"IF($F281=\"\",0,VLOOKUP($E281,Drivers!$A$26:$F$48,MATCH(I$1,Drivers!$A$25:$F$25,0),0)*$F281)","v":6766698.280426628},{"$f":"IF($F281=\"\",0,VLOOKUP($E281,Drivers!$A$26:$F$48,MATCH(J$1,Drivers!$A$25:$F$25,0),0)*$F281)","v":6766698.280426628},{"$f":"IF($F281=\"\",0,VLOOKUP($E281,Drivers!$A$26:$F$48,MATCH(K$1,Drivers!$A$25:$F$25,0),0)*$F281)","v":6766698.280426628}]
["PESSOAL",9999,{"$f":"VLOOKUP(B282,Centro_Custo!$A$2:$B$36,2,0)","v":"RATEIO"},{"$f":"VLOOKUP(B282,Centro_Custo!$A$2:$C$36,3)","v":"Encargos de Gestão"},"Funcionário",{"$f":"SUMIFS('Classificação OPEX'!$O$4:$O$1666,'Classificação OPEX'!$Q$4:$Q$1666,\"N\",'Classificação OPEX'!$S$4:$S$1666,\"NÃO\",'Classificação OPEX'!$V$4:$V$1666,DRIVER_OPEX!A282,'Classificação OPEX'!$W$4:$W$1666,DRIVER_OPEX!B282)","v":0},{"$f":"IF($F282=\"\",0,VLOOKUP($E282,Drivers!$A$26:$F$48,MATCH(G$1,Drivers!$A$25:$F$25,0),0)*$F282)","v":0},{"$f":"IF($F282=\"\",0,VLOOKUP($E282,Drivers!$A$26:$F$48,MATCH(H$1,Drivers!$A$25:$F$25,0),0)*$F282)","v":0},{"$f":"IF($F282=\"\",0,VLOOKUP($E282,Drivers!$A$26:$F$48,MATCH(I$1,Drivers!$A$25:$F$25,0),0)*$F282)","v":0},{"$f":"IF($F282=\"\",0,VLOOKUP($E282,Drivers!$A$26:$F$48,MATCH(J$1,Drivers!$A$25:$F$25,0),0)*$F282)","v":0},{"$f":"IF($F282=\"\",0,VLOOKUP($E282,Drivers!$A$26:$F$48,MATCH(K$1,Drivers!$A$25:$F$25,0),0)*$F282)","v":0}]
["PESSOAL","0000","RATEIO",{"$f":"VLOOKUP(B283,Centro_Custo!$A$2:$C$36,3)","v":"Encargos de Gestão"},"Funcionário",{"$f":"SUMIFS('Classificação OPEX'!$O$4:$O$1666,'Classificação OPEX'!$Q$4:$Q$1666,\"N\",'Classificação OPEX'!$S$4:$S$1666,\"NÃO\",'Classificação OPEX'!$V$4:$V$1666,DRIVER_OPEX!A283,'Classificação OPEX'!$W$4:$W$1666,DRIVER_OPEX!B283)","v":0},{"$f":"IF($F283=\"\",0,VLOOKUP($E283,Drivers!$A$26:$F$48,MATCH(G$1,Drivers!$A$25:$F$25,0),0)*$F283)","v":0},{"$f":"IF($F283=\"\",0,VLOOKUP($E283,Drivers!$A$26:$F$48,MATCH(H$1,Drivers!$A$25:$F$25,0),0)*$F283)","v":0},{"$f":"IF($F283=\"\",0,VLOOKUP($E283,Drivers!$A$26:$F$48,MATCH(I$1,Drivers!$A$25:$F$25,0),0)*$F283)","v":0},{"$f":"IF($F283=\"\",0,VLOOKUP($E283,Drivers!$A$26:$F$48,MATCH(J$1,Drivers!$A$25:$F$25,0),0)*$F283)","v":0},{"$f":"IF($F283=\"\",0,VLOOKUP($E283,Drivers!$A$26:$F$48,MATCH(K$1,Drivers!$A$25:$F$25,0),0)*$F283)","v":0}]
["PESSOAL",2100,"SECRETARIA",{"$f":"VLOOKUP(B284,Centro_Custo!$A$2:$C$36,3)","v":"Encargos de Gestão"},"Funcionário",{"$f":"SUMIFS('Classificação OPEX'!$O$4:$O$1666,'Classificação OPEX'!$Q$4:$Q$1666,\"N\",'Classificação OPEX'!$S$4:$S$1666,\"NÃO\",'Classificação OPEX'!$V$4:$V$1666,DRIVER_OPEX!A284,'Classificação OPEX'!$W$4:$W$1666,DRIVER_OPEX!B284)","v":105427.45356748094},{"$f":"IF($F284=\"\",0,VLOOKUP($E284,Drivers!$A$26:$F$48,MATCH(G$1,Drivers!$A$25:$F$25,0),0)*$F284)","v":112363.47024955208},{"$f":"IF($F284=\"\",0,VLOOKUP($E284,Drivers!$A$26:$F$48,MATCH(H$1,Drivers!$A$25:$F$25,0),0)*$F284)","v":115137.8769223805},{"$f":"IF($F284=\"\",0,VLOOKUP($E284,Drivers!$A$26:$F$48,MATCH(I$1,Drivers!$A$25:$F$25,0),0)*$F284)","v":115831.47859058761},{"$f":"IF($F284=\"\",0,VLOOKUP($E284,Drivers!$A$26:$F$48,MATCH(J$1,Drivers!$A$25:$F$25,0),0)*$F284)","v":115831.47859058761},{"$f":"IF($F284=\"\",0,VLOOKUP($E284,Drivers!$A$26:$F$48,MATCH(K$1,Drivers!$A$25:$F$25,0),0)*$F284)","v":115831.47859058761}]
["PESSOAL",2300,"DIRETORIA COLEGIADA - DAF",{"$f":"VLOOKUP(B285,Centro_Custo!$A$2:$C$36,3)","v":"Encargos de Gestão"},"Funcionário",{"$f":"SUMIFS('Classificação OPEX'!$O$4:$O$1666,'Classificação OPEX'!$Q$4:$Q$1666,\"N\",'Classificação OPEX'!$S$4:$S$1666,\"NÃO\",'Classificação OPEX'!$V$4:$V$1666,DRIVER_OPEX!A285,'Classificação OPEX'!$W$4:$W$1666,DRIVER_OPEX!B285)","v":172371.31492758862},{"$f":"IF($F285=\"\",0,VLOOKUP($E285,Drivers!$A$26:$F$48,MATCH(G$1,Drivers!$A$25:$F$25,0),0)*$F285)","v":183711.53301493},{"$f":"IF($F285=\"\",0,VLOOKUP($E285,Drivers!$A$26:$F$48,MATCH(H$1,Drivers!$A$25:$F$25,0),0)*$F285)","v":188247.62024986651},{"$f":"IF($F285=\"\",0,VLOOKUP($E285,Drivers!$A$26:$F$48,MATCH(I$1,Drivers!$A$25:$F$25,0),0)*$F285)","v":189381.64205860064},{"$f":"IF($F285=\"\",0,VLOOKUP($E285,Drivers!$A$26:$F$48,MATCH(J$1,Drivers!$A$25:$F$25,0),0)*$F285)","v":189381.64205860064},{"$f":"IF($F285=\"\",0,VLOOKUP($E285,Drivers!$A$26:$F$48,MATCH(K$1,Drivers!$A$25:$F$25,0),0)*$F285)","v":189381.64205860064}]
["PESSOAL",2400,"DIRETORIA COLEGIADA - DTC",{"$f":"VLOOKUP(B286,Centro_Custo!$A$2:$C$36,3)","v":"Encargos de Comercialização"},"Funcionário",{"$f":"SUMIFS('Classificação OPEX'!$O$4:$O$1666,'Classificação OPEX'!$Q$4:$Q$1666,\"N\",'Classificação OPEX'!$S$4:$S$1666,\"NÃO\",'Classificação OPEX'!$V$4:$V$1666,DRIVER_OPEX!A286,'Classificação OPEX'!$W$4:$W$1666,DRIVER_OPEX!B286)","v":60076.950126316617},{"$f":"IF($F286=\"\",0,VLOOKUP($E286,Drivers!$A$26:$F$48,MATCH(G$1,Drivers!$A$25:$F$25,0),0)*$F286)","v":64029.381055679558},{"$f":"IF($F286=\"\",0,VLOOKUP($E286,Drivers!$A$26:$F$48,MATCH(H$1,Drivers!$A$25:$F$25,0),0)*$F286)","v":65610.353427424721},{"$f":"IF($F286=\"\",0,VLOOKUP($E286,Drivers!$A$26:$F$48,MATCH(I$1,Drivers!$A$25:$F$25,0),0)*$F286)","v":66005.59652036101},{"$f":"IF($F286=\"\",0,VLOOKUP($E286,Drivers!$A$26:$F$48,MATCH(J$1,Drivers!$A$25:$F$25,0),0)*$F286)","v":66005.59652036101},{"$f":"IF($F286=\"\",0,VLOOKUP($E286,Drivers!$A$26:$F$48,MATCH(K$1,Drivers!$A$25:$F$25,0),0)*$F286)","v":66005.59652036101}]
["PESSOAL",3100,"SMS",{"$f":"VLOOKUP(B287,Centro_Custo!$A$2:$C$36,3)","v":"OPEX&ODESP"},"Funcionário",{"$f":"SUMIFS('Classificação OPEX'!$O$4:$O$1666,'Classificação OPEX'!$Q$4:$Q$1666,\"N\",'Classificação OPEX'!$S$4:$S$1666,\"NÃO\",'Classificação OPEX'!$V$4:$V$1666,DRIVER_OPEX!A287,'Classificação OPEX'!$W$4:$W$1666,DRIVER_OPEX!B287)","v":219207.38521046768},{"$f":"IF($F287=\"\",0,VLOOKUP($E287,Drivers!$A$26:$F$48,MATCH(G$1,Drivers!$A$25:$F$25,0),0)*$F287)","v":233628.92371115636},{"$f":"IF($F287=\"\",0,VLOOKUP($E287,Drivers!$A$26:$F$48,MATCH(H$1,Drivers!$A$25:$F$25,0),0)*$F287)","v":239397.5391114318},{"$f":"IF($F287=\"\",0,VLOOKUP($E287,Drivers!$A$26:$F$48,MATCH(I$1,Drivers!$A$25:$F$25,0),0)*$F287)","v":240839.69296150067},{"$f":"IF($F287=\"\",0,VLOOKUP($E287,Drivers!$A$26:$F$48,MATCH(J$1,Drivers!$A$25:$F$25,0),0)*$F287)","v":240839.69296150067},{"$f":"IF($F287=\"\",0,VLOOKUP($E287,Drivers!$A$26:$F$48,MATCH(K$1,Drivers!$A$25:$F$25,0),0)*$F287)","v":240839.69296150067}]
["PESSOAL",3400,"MARKETING",{"$f":"VLOOKUP(B288,Centro_Custo!$A$2:$C$36,3)","v":"Encargos de Comercialização"},"Funcionário",{"$f":"SUMIFS('Classificação OPEX'!$O$4:$O$1666,'Classificação OPEX'!$Q$4:$Q$1666,\"N\",'Classificação OPEX'!$S$4:$S$1666,\"NÃO\",'Classificação OPEX'!$V$4:$V$1666,DRIVER_OPEX!A288,'Classificação OPEX'!$W$4:$W$1666,DRIVER_OPEX!B288)","v":191968.98597624197},{"$f":"IF($F288=\"\",0,VLOOKUP($E288,Drivers!$A$26:$F$48,MATCH(G$1,Drivers!$A$25:$F$25,0),0)*$F288)","v":204598.52452731054},{"$f":"IF($F288=\"\",0,VLOOKUP($E288,Drivers!$A$26:$F$48,MATCH(H$1,Drivers!$A$25:$F$25,0),0)*$F288)","v":209650.33994773793},{"$f":"IF($F288=\"\",0,VLOOKUP($E288,Drivers!$A$26:$F$48,MATCH(I$1,Drivers!$A$25:$F$25,0),0)*$F288)","v":210913.29380284477},{"$f":"IF($F288=\"\",0,VLOOKUP($E288,Drivers!$A$26:$F$48,MATCH(J$1,Drivers!$A$25:$F$25,0),0)*$F288)","v":210913.29380284477},{"$f":"IF($F288=\"\",0,VLOOKUP($E288,Drivers!$A$26:$F$48,MATCH(K$1,Drivers!$A$25:$F$25,0),0)*$F288)","v":210913.29380284477}]
["PESSOAL","5400","GERÊNCIA COMERCIAL",{"$f":"VLOOKUP(B289,Centro_Custo!$A$2:$C$36,3)","v":"Encargos de Gestão"},"Fixo",{"$f":"SUMIFS('Classificação OPEX'!$O$4:$O$1666,'Classificação OPEX'!$Q$4:$Q$1666,\"N\",'Classificação OPEX'!$S$4:$S$1666,\"NÃO\",'Classificação OPEX'!$V$4:$V$1666,DRIVER_OPEX!A289,'Classificação OPEX'!$W$4:$W$1666,DRIVER_OPEX!B289)","v":315955.77586186578},{"$f":"IF($F289=\"\",0,VLOOKUP($E289,Drivers!$A$26:$F$48,MATCH(G$1,Drivers!$A$25:$F$25,0),0)*$F289)","v":315955.77586186578},{"$f":"IF($F289=\"\",0,VLOOKUP($E289,Drivers!$A$26:$F$48,MATCH(H$1,Drivers!$A$25:$F$25,0),0)*$F289)","v":315955.77586186578},{"$f":"IF($F289=\"\",0,VLOOKUP($E289,Drivers!$A$26:$F$48,MATCH(I$1,Drivers!$A$25:$F$25,0),0)*$F289)","v":315955.77586186578},{"$f":"IF($F289=\"\",0,VLOOKUP($E289,Drivers!$A$26:$F$48,MATCH(J$1,Drivers!$A$25:$F$25,0),0)*$F289)","v":315955.77586186578},{"$f":"IF($F289=\"\",0,VLOOKUP($E289,Drivers!$A$26:$F$48,MATCH(K$1,Drivers!$A$25:$F$25,0),0)*$F289)","v":315955.77586186578}]
["PESSOAL","5500","GERÊNCIA COMERCIAL",{"$f":"VLOOKUP(B290,Centro_Custo!$A$2:$C$36,3)","v":"Encargos de Gestão"},"Fixo",{"$f":"SUMIFS('Classificação OPEX'!$O$4:$O$1666,'Classificação OPEX'!$Q$4:$Q$1666,\"N\",'Classificação OPEX'!$S$4:$S$1666,\"NÃO\",'Classificação OPEX'!$V$4:$V$1666,DRIVER_OPEX!A290,'Classificação OPEX'!$W$4:$W$1666,DRIVER_OPEX!B290)","v":190877.30282025429},{"$f":"IF($F290=\"\",0,VLOOKUP($E290,Drivers!$A$26:$F$48,MATCH(G$1,Drivers!$A$25:$F$25,0),0)*$F290)","v":190877.30282025429},{"$f":"IF($F290=\"\",0,VLOOKUP($E290,Drivers!$A$26:$F$48,MATCH(H$1,Drivers!$A$25:$F$25,0),0)*$F290)","v":190877.30282025429},{"$f":"IF($F290=\"\",0,VLOOKUP($E290,Drivers!$A$26:$F$48,MATCH(I$1,Drivers!$A$25:$F$25,0),0)*$F290)","v":190877.30282025429},{"$f":"IF($F290=\"\",0,VLOOKUP($E290,Drivers!$A$26:$F$48,MATCH(J$1,Drivers!$A$25:$F$25,0),0)*$F290)","v":190877.30282025429},{"$f":"IF($F290=\"\",0,VLOOKUP($E290,Drivers!$A$26:$F$48,MATCH(K$1,Drivers!$A$25:$F$25,0),0)*$F290)","v":190877.30282025429}]
["SERVIÇOS","TOTAL","TOTAL",null,null,{"$f":"SUM(F292:F326)","v":4343969.7747516921},{"$f":"SUM(G292:G326)","v":4878281.8310577506},5284360.5056602918,5095005.6701311413,5359753.0437026042,5497982.8802543981]
["SERVIÇOS",1005,{"$f":"VLOOKUP(B292,Centro_Custo!$A$2:$B$36,2,0)","v":"AUDITORIA INTERNA"},{"$f":"VLOOKUP(B292,Centro_Custo!$A$2:$C$36,3)","v":"Encargos de Gestão"},"Fixo",{"$f":"SUMIFS('Classificação OPEX'!$O$4:$O$1666,'Classificação OPEX'!$Q$4:$Q$1666,\"N\",'Classificação OPEX'!$S$4:$S$1666,\"NÃO\",'Classificação OPEX'!$V$4:$V$1666,DRIVER_OPEX!A292,'Classificação OPEX'!$W$4:$W$1666,DRIVER_OPEX!B292)","v":44057.317914939595},{"$f":"IF($F292=\"\",0,VLOOKUP($E292,Drivers!$A$26:$F$48,MATCH(G$1,Drivers!$A$25:$F$25,0),0)*$F292)","v":44057.317914939595},{"$f":"IF($F292=\"\",0,VLOOKUP($E292,Drivers!$A$26:$F$48,MATCH(H$1,Drivers!$A$25:$F$25,0),0)*$F292)","v":44057.317914939595},{"$f":"IF($F292=\"\",0,VLOOKUP($E292,Drivers!$A$26:$F$48,MATCH(I$1,Drivers!$A$25:$F$25,0),0)*$F292)","v":44057.317914939595},{"$f":"IF($F292=\"\",0,VLOOKUP($E292,Drivers!$A$26:$F$48,MATCH(J$1,Drivers!$A$25:$F$25,0),0)*$F292)","v":44057.317914939595},{"$f":"IF($F292=\"\",0,VLOOKUP($E292,Drivers!$A$26:$F$48,MATCH(K$1,Drivers!$A$25:$F$25,0),0)*$F292)","v":44057.317914939595}]
["SERVIÇOS",1010,{"$f":"VLOOKUP(B293,Centro_Custo!$A$2:$B$36,2,0)","v":"GOVERNANÇA SOCIETÁRIA"},{"$f":"VLOOKUP(B293,Centro_Custo!$A$2:$C$36,3)","v":"Encargos de Gestão"},"Fixo",{"$f":"SUMIFS('Classificação OPEX'!$O$4:$O$1666,'Classificação OPEX'!$Q$4:$Q$1666,\"N\",'Classificação OPEX'!$S$4:$S$1666,\"NÃO\",'Classificação OPEX'!$V$4:$V$1666,DRIVER_OPEX!A293,'Classificação OPEX'!$W$4:$W$1666,DRIVER_OPEX!B293)","v":0},{"$f":"IF($F293=\"\",0,VLOOKUP($E293,Drivers!$A$26:$F$48,MATCH(G$1,Drivers!$A$25:$F$25,0),0)*$F293)","v":0},{"$f":"IF($F293=\"\",0,VLOOKUP($E293,Drivers!$A$26:$F$48,MATCH(H$1,Drivers!$A$25:$F$25,0),0)*$F293)","v":0},{"$f":"IF($F293=\"\",0,VLOOKUP($E293,Drivers!$A$26:$F$48,MATCH(I$1,Drivers!$A$25:$F$25,0),0)*$F293)","v":0},{"$f":"IF($F293=\"\",0,VLOOKUP($E293,Drivers!$A$26:$F$48,MATCH(J$1,Drivers!$A$25:$F$25,0),0)*$F293)","v":0},{"$f":"IF($F293=\"\",0,VLOOKUP($E293,Drivers!$A$26:$F$48,MATCH(K$1,Drivers!$A$25:$F$25,0),0)*$F293)","v":0}]
["SERVIÇOS",2110,{"$f":"VLOOKUP(B294,Centro_Custo!$A$2:$B$36,2,0)","v":"ASSESSORIA DA DIRETORIA EXECUTIVA"},{"$f":"VLOOKUP(B294,Centro_Custo!$A$2:$C$36,3)","v":"Encargos de Gestão"},"Fixo",{"$f":"SUMIFS('Classificação OPEX'!$O$4:$O$1666,'Classificação OPEX'!$Q$4:$Q$1666,\"N\",'Classificação OPEX'!$S$4:$S$1666,\"NÃO\",'Classificação OPEX'!$V$4:$V$1666,DRIVER_OPEX!A294,'Classificação OPEX'!$W$4:$W$1666,DRIVER_OPEX!B294)","v":16607.587188323345},{"$f":"IF($F294=\"\",0,VLOOKUP($E294,Drivers!$A$26:$F$48,MATCH(G$1,Drivers!$A$25:$F$25,0),0)*$F294)","v":16607.587188323345},{"$f":"IF($F294=\"\",0,VLOOKUP($E294,Drivers!$A$26:$F$48,MATCH(H$1,Drivers!$A$25:$F$25,0),0)*$F294)","v":16607.587188323345},{"$f":"IF($F294=\"\",0,VLOOKUP($E294,Drivers!$A$26:$F$48,MATCH(I$1,Drivers!$A$25:$F$25,0),0)*$F294)","v":16607.587188323345},{"$f":"IF($F294=\"\",0,VLOOKUP($E294,Drivers!$A$26:$F$48,MATCH(J$1,Drivers!$A$25:$F$25,0),0)*$F294)","v":16607.587188323345},{"$f":"IF($F294=\"\",0,VLOOKUP($E294,Drivers!$A$26:$F$48,MATCH(K$1,Drivers!$A$25:$F$25,0),0)*$F294)","v":16607.587188323345}]
["SERVIÇOS",2120,{"$f":"VLOOKUP(B295,Centro_Custo!$A$2:$B$36,2,0)","v":"ASSESSORIA DA PRESIDÊNCIA"},{"$f":"VLOOKUP(B295,Centro_Custo!$A$2:$C$36,3)","v":"Encargos de Gestão"},"Fixo",{"$f":"SUMIFS('Classificação OPEX'!$O$4:$O$1666,'Classificação OPEX'!$Q$4:$Q$1666,\"N\",'Classificação OPEX'!$S$4:$S$1666,\"NÃO\",'Classificação OPEX'!$V$4:$V$1666,DRIVER_OPEX!A295,'Classificação OPEX'!$W$4:$W$1666,DRIVER_OPEX!B295)","v":27447.880135691888},{"$f":"IF($F295=\"\",0,VLOOKUP($E295,Drivers!$A$26:$F$48,MATCH(G$1,Drivers!$A$25:$F$25,0),0)*$F295)","v":27447.880135691888},{"$f":"IF($F295=\"\",0,VLOOKUP($E295,Drivers!$A$26:$F$48,MATCH(H$1,Drivers!$A$25:$F$25,0),0)*$F295)","v":27447.880135691888},{"$f":"IF($F295=\"\",0,VLOOKUP($E295,Drivers!$A$26:$F$48,MATCH(I$1,Drivers!$A$25:$F$25,0),0)*$F295)","v":27447.880135691888},{"$f":"IF($F295=\"\",0,VLOOKUP($E295,Drivers!$A$26:$F$48,MATCH(J$1,Drivers!$A$25:$F$25,0),0)*$F295)","v":27447.880135691888},{"$f":"IF($F295=\"\",0,VLOOKUP($E295,Drivers!$A$26:$F$48,MATCH(K$1,Drivers!$A$25:$F$25,0),0)*$F295)","v":27447.880135691888}]
["SERVIÇOS",2130,{"$f":"VLOOKUP(B296,Centro_Custo!$A$2:$B$36,2,0)","v":"ASSESSORIA DE RELAÇÕES INSTITUCIONAIS E NOVOS NEGÓCIOS"},{"$f":"VLOOKUP(B296,Centro_Custo!$A$2:$C$36,3)","v":"Encargos de Gestão"},"Fixo",{"$f":"SUMIFS('Classificação OPEX'!$O$4:$O$1666,'Classificação OPEX'!$Q$4:$Q$1666,\"N\",'Classificação OPEX'!$S$4:$S$1666,\"NÃO\",'Classificação OPEX'!$V$4:$V$1666,DRIVER_OPEX!A296,'Classificação OPEX'!$W$4:$W$1666,DRIVER_OPEX!B296)","v":0},{"$f":"IF($F296=\"\",0,VLOOKUP($E296,Drivers!$A$26:$F$48,MATCH(G$1,Drivers!$A$25:$F$25,0),0)*$F296)","v":0},{"$f":"IF($F296=\"\",0,VLOOKUP($E296,Drivers!$A$26:$F$48,MATCH(H$1,Drivers!$A$25:$F$25,0),0)*$F296)","v":0},{"$f":"IF($F296=\"\",0,VLOOKUP($E296,Drivers!$A$26:$F$48,MATCH(I$1,Drivers!$A$25:$F$25,0),0)*$F296)","v":0},{"$f":"IF($F296=\"\",0,VLOOKUP($E296,Drivers!$A$26:$F$48,MATCH(J$1,Drivers!$A$25:$F$25,0),0)*$F296)","v":0},{"$f":"IF($F296=\"\",0,VLOOKUP($E296,Drivers!$A$26:$F$48,MATCH(K$1,Drivers!$A$25:$F$25,0),0)*$F296)","v":0}]
["SERVIÇOS",2140,{"$f":"VLOOKUP(B297,Centro_Custo!$A$2:$B$36,2,0)","v":"ASSESSORIA DTC"},{"$f":"VLOOKUP(B297,Centro_Custo!$A$2:$C$36,3)","v":"Encargos de Comercialização"},"Fixo",{"$f":"SUMIFS('Classificação OPEX'!$O$4:$O$1666,'Classificação OPEX'!$Q$4:$Q$1666,\"N\",'Classificação OPEX'!$S$4:$S$1666,\"NÃO\",'Classificação OPEX'!$V$4:$V$1666,DRIVER_OPEX!A297,'Classificação OPEX'!$W$4:$W$1666,DRIVER_OPEX!B297)","v":0},{"$f":"IF($F297=\"\",0,VLOOKUP($E297,Drivers!$A$26:$F$48,MATCH(G$1,Drivers!$A$25:$F$25,0),0)*$F297)","v":0},{"$f":"IF($F297=\"\",0,VLOOKUP($E297,Drivers!$A$26:$F$48,MATCH(H$1,Drivers!$A$25:$F$25,0),0)*$F297)","v":0},{"$f":"IF($F297=\"\",0,VLOOKUP($E297,Drivers!$A$26:$F$48,MATCH(I$1,Drivers!$A$25:$F$25,0),0)*$F297)","v":0},{"$f":"IF($F297=\"\",0,VLOOKUP($E297,Drivers!$A$26:$F$48,MATCH(J$1,Drivers!$A$25:$F$25,0),0)*$F297)","v":0},{"$f":"IF($F297=\"\",0,VLOOKUP($E297,Drivers!$A$26:$F$48,MATCH(K$1,Drivers!$A$25:$F$25,0),0)*$F297)","v":0}]
["SERVIÇOS",2200,{"$f":"VLOOKUP(B298,Centro_Custo!$A$2:$B$36,2,0)","v":"DIRETORIA COLEGIADA - PRESIDÊNCIA"},{"$f":"VLOOKUP(B298,Centro_Custo!$A$2:$C$36,3)","v":"Encargos de Gestão"},"Fixo",{"$f":"SUMIFS('Classificação OPEX'!$O$4:$O$1666,'Classificação OPEX'!$Q$4:$Q$1666,\"N\",'Classificação OPEX'!$S$4:$S$1666,\"NÃO\",'Classificação OPEX'!$V$4:$V$1666,DRIVER_OPEX!A298,'Classificação OPEX'!$W$4:$W$1666,DRIVER_OPEX!B298)","v":19820.972488172356},{"$f":"IF($F298=\"\",0,VLOOKUP($E298,Drivers!$A$26:$F$48,MATCH(G$1,Drivers!$A$25:$F$25,0),0)*$F298)","v":19820.972488172356},{"$f":"IF($F298=\"\",0,VLOOKUP($E298,Drivers!$A$26:$F$48,MATCH(H$1,Drivers!$A$25:$F$25,0),0)*$F298)","v":19820.972488172356},{"$f":"IF($F298=\"\",0,VLOOKUP($E298,Drivers!$A$26:$F$48,MATCH(I$1,Drivers!$A$25:$F$25,0),0)*$F298)","v":19820.972488172356},{"$f":"IF($F298=\"\",0,VLOOKUP($E298,Drivers!$A$26:$F$48,MATCH(J$1,Drivers!$A$25:$F$25,0),0)*$F298)","v":19820.972488172356},{"$f":"IF($F298=\"\",0,VLOOKUP($E298,Drivers!$A$26:$F$48,MATCH(K$1,Drivers!$A$25:$F$25,0),0)*$F298)","v":19820.972488172356}]
["SERVIÇOS",2300,{"$f":"VLOOKUP(B299,Centro_Custo!$A$2:$B$36,2,0)","v":"DIRETORIA COLEGIADA - DAF"},{"$f":"VLOOKUP(B299,Centro_Custo!$A$2:$C$36,3)","v":"Encargos de Gestão"},"Fixo",{"$f":"SUMIFS('Classificação OPEX'!$O$4:$O$1666,'Classificação OPEX'!$Q$4:$Q$1666,\"N\",'Classificação OPEX'!$S$4:$S$1666,\"NÃO\",'Classificação OPEX'!$V$4:$V$1666,DRIVER_OPEX!A299,'Classificação OPEX'!$W$4:$W$1666,DRIVER_OPEX!B299)","v":4941.2382146016071},{"$f":"IF($F299=\"\",0,VLOOKUP($E299,Drivers!$A$26:$F$48,MATCH(G$1,Drivers!$A$25:$F$25,0),0)*$F299)","v":4941.2382146016071},{"$f":"IF($F299=\"\",0,VLOOKUP($E299,Drivers!$A$26:$F$48,MATCH(H$1,Drivers!$A$25:$F$25,0),0)*$F299)","v":4941.2382146016071},{"$f":"IF($F299=\"\",0,VLOOKUP($E299,Drivers!$A$26:$F$48,MATCH(I$1,Drivers!$A$25:$F$25,0),0)*$F299)","v":4941.2382146016071},{"$f":"IF($F299=\"\",0,VLOOKUP($E299,Drivers!$A$26:$F$48,MATCH(J$1,Drivers!$A$25:$F$25,0),0)*$F299)","v":4941.2382146016071},{"$f":"IF($F299=\"\",0,VLOOKUP($E299,Drivers!$A$26:$F$48,MATCH(K$1,Drivers!$A$25:$F$25,0),0)*$F299)","v":4941.2382146016071}]
["SERVIÇOS",2310,{"$f":"VLOOKUP(B300,Centro_Custo!$A$2:$B$36,2,0)","v":"ASSESSORIA DAF"},{"$f":"VLOOKUP(B300,Centro_Custo!$A$2:$C$36,3)","v":"Encargos de Gestão"},"Fixo",{"$f":"SUMIFS('Classificação OPEX'!$O$4:$O$1666,'Classificação OPEX'!$Q$4:$Q$1666,\"N\",'Classificação OPEX'!$S$4:$S$1666,\"NÃO\",'Classificação OPEX'!$V$4:$V$1666,DRIVER_OPEX!A300,'Classificação OPEX'!$W$4:$W$1666,DRIVER_OPEX!B300)","v":6504.7579847752277},{"$f":"IF($F300=\"\",0,VLOOKUP($E300,Drivers!$A$26:$F$48,MATCH(G$1,Drivers!$A$25:$F$25,0),0)*$F300)","v":6504.7579847752277},{"$f":"IF($F300=\"\",0,VLOOKUP($E300,Drivers!$A$26:$F$48,MATCH(H$1,Drivers!$A$25:$F$25,0),0)*$F300)","v":6504.7579847752277},{"$f":"IF($F300=\"\",0,VLOOKUP($E300,Drivers!$A$26:$F$48,MATCH(I$1,Drivers!$A$25:$F$25,0),0)*$F300)","v":6504.7579847752277},{"$f":"IF($F300=\"\",0,VLOOKUP($E300,Drivers!$A$26:$F$48,MATCH(J$1,Drivers!$A$25:$F$25,0),0)*$F300)","v":6504.7579847752277},{"$f":"IF($F300=\"\",0,VLOOKUP($E300,Drivers!$A$26:$F$48,MATCH(K$1,Drivers!$A$25:$F$25,0),0)*$F300)","v":6504.7579847752277}]
["SERVIÇOS",2400,{"$f":"VLOOKUP(B301,Centro_Custo!$A$2:$B$36,2,0)","v":"DIRETORIA COLEGIADA - DTC"},{"$f":"VLOOKUP(B301,Centro_Custo!$A$2:$C$36,3)","v":"Encargos de Comercialização"},"Fixo",{"$f":"SUMIFS('Classificação OPEX'!$O$4:$O$1666,'Classificação OPEX'!$Q$4:$Q$1666,\"N\",'Classificação OPEX'!$S$4:$S$1666,\"NÃO\",'Classificação OPEX'!$V$4:$V$1666,DRIVER_OPEX!A301,'Classificação OPEX'!$W$4:$W$1666,DRIVER_OPEX!B301)","v":4941.2382146016071},{"$f":"IF($F301=\"\",0,VLOOKUP($E301,Drivers!$A$26:$F$48,MATCH(G$1,Drivers!$A$25:$F$25,0),0)*$F301)","v":4941.2382146016071},{"$f":"IF($F301=\"\",0,VLOOKUP($E301,Drivers!$A$26:$F$48,MATCH(H$1,Drivers!$A$25:$F$25,0),0)*$F301)","v":4941.2382146016071},{"$f":"IF($F301=\"\",0,VLOOKUP($E301,Drivers!$A$26:$F$48,MATCH(I$1,Drivers!$A$25:$F$25,0),0)*$F301)","v":4941.2382146016071},{"$f":"IF($F301=\"\",0,VLOOKUP($E301,Drivers!$A$26:$F$48,MATCH(J$1,Drivers!$A$25:$F$25,0),0)*$F301)","v":4941.2382146016071},{"$f":"IF($F301=\"\",0,VLOOKUP($E301,Drivers!$A$26:$F$48,MATCH(K$1,Drivers!$A$25:$F$25,0),0)*$F301)","v":4941.2382146016071}]
["SERVIÇOS",2410,{"$f":"VLOOKUP(B302,Centro_Custo!$A$2:$B$36,2,0)","v":"ASSESSORIA DE SEGURANÇA DO TRABALHO"},{"$f":"VLOOKUP(B302,Centro_Custo!$A$2:$C$36,3)","v":"OPEX&ODESP"},"Fixo",{"$f":"SUMIFS('Classificação OPEX'!$O$4:$O$1666,'Classificação OPEX'!$Q$4:$Q$1666,\"N\",'Classificação OPEX'!$S$4:$S$1666,\"NÃO\",'Classificação OPEX'!$V$4:$V$1666,DRIVER_OPEX!A302,'Classificação OPEX'!$W$4:$W$1666,DRIVER_OPEX!B302)","v":1257.0413213868846},{"$f":"IF($F302=\"\",0,VLOOKUP($E302,Drivers!$A$26:$F$48,MATCH(G$1,Drivers!$A$25:$F$25,0),0)*$F302)","v":1257.0413213868846},{"$f":"IF($F302=\"\",0,VLOOKUP($E302,Drivers!$A$26:$F$48,MATCH(H$1,Drivers!$A$25:$F$25,0),0)*$F302)","v":1257.0413213868846},{"$f":"IF($F302=\"\",0,VLOOKUP($E302,Drivers!$A$26:$F$48,MATCH(I$1,Drivers!$A$25:$F$25,0),0)*$F302)","v":1257.0413213868846},{"$f":"IF($F302=\"\",0,VLOOKUP($E302,Drivers!$A$26:$F$48,MATCH(J$1,Drivers!$A$25:$F$25,0),0)*$F302)","v":1257.0413213868846},{"$f":"IF($F302=\"\",0,VLOOKUP($E302,Drivers!$A$26:$F$48,MATCH(K$1,Drivers!$A$25:$F$25,0),0)*$F302)","v":1257.0413213868846}]
["SERVIÇOS",3200,{"$f":"VLOOKUP(B303,Centro_Custo!$A$2:$B$36,2,0)","v":"GERÊNCIA DE PLANEJAMENTO E MEIO AMBIENTE"},{"$f":"VLOOKUP(B303,Centro_Custo!$A$2:$C$36,3)","v":"OPEX&ODESP"},"Extensão adicional de rede ",{"$f":"SUMIFS('Classificação OPEX'!$O$4:$O$1666,'Classificação OPEX'!$Q$4:$Q$1666,\"N\",'Classificação OPEX'!$S$4:$S$1666,\"NÃO\",'Classificação OPEX'!$V$4:$V$1666,DRIVER_OPEX!A303,'Classificação OPEX'!$W$4:$W$1666,DRIVER_OPEX!B303)","v":110046.5474520523},{"$f":"IF($F303=\"\",0,VLOOKUP($E303,Drivers!$A$26:$F$48,MATCH(G$1,Drivers!$A$25:$F$25,0),0)*$F303)","v":437096.04198586254},{"$f":"IF($F303=\"\",0,VLOOKUP($E303,Drivers!$A$26:$F$48,MATCH(H$1,Drivers!$A$25:$F$25,0),0)*$F303)","v":602651.53701169742},{"$f":"IF($F303=\"\",0,VLOOKUP($E303,Drivers!$A$26:$F$48,MATCH(I$1,Drivers!$A$25:$F$25,0),0)*$F303)","v":214492.3208931057},{"$f":"IF($F303=\"\",0,VLOOKUP($E303,Drivers!$A$26:$F$48,MATCH(J$1,Drivers!$A$25:$F$25,0),0)*$F303)","v":308735.0961670315},{"$f":"IF($F303=\"\",0,VLOOKUP($E303,Drivers!$A$26:$F$48,MATCH(K$1,Drivers!$A$25:$F$25,0),0)*$F303)","v":243082.82575148766}]
["SERVIÇOS",3300,{"$f":"VLOOKUP(B304,Centro_Custo!$A$2:$B$36,2,0)","v":"GERÊNCIA JURÍDICA"},{"$f":"VLOOKUP(B304,Centro_Custo!$A$2:$C$36,3)","v":"Encargos de Gestão"},"Fixo",{"$f":"SUMIFS('Classificação OPEX'!$O$4:$O$1666,'Classificação OPEX'!$Q$4:$Q$1666,\"N\",'Classificação OPEX'!$S$4:$S$1666,\"NÃO\",'Classificação OPEX'!$V$4:$V$1666,DRIVER_OPEX!A304,'Classificação OPEX'!$W$4:$W$1666,DRIVER_OPEX!B304)","v":231925.61183909854},{"$f":"IF($F304=\"\",0,VLOOKUP($E304,Drivers!$A$26:$F$48,MATCH(G$1,Drivers!$A$25:$F$25,0),0)*$F304)","v":231925.61183909854},{"$f":"IF($F304=\"\",0,VLOOKUP($E304,Drivers!$A$26:$F$48,MATCH(H$1,Drivers!$A$25:$F$25,0),0)*$F304)","v":231925.61183909854},{"$f":"IF($F304=\"\",0,VLOOKUP($E304,Drivers!$A$26:$F$48,MATCH(I$1,Drivers!$A$25:$F$25,0),0)*$F304)","v":231925.61183909854},{"$f":"IF($F304=\"\",0,VLOOKUP($E304,Drivers!$A$26:$F$48,MATCH(J$1,Drivers!$A$25:$F$25,0),0)*$F304)","v":231925.61183909854},{"$f":"IF($F304=\"\",0,VLOOKUP($E304,Drivers!$A$26:$F$48,MATCH(K$1,Drivers!$A$25:$F$25,0),0)*$F304)","v":231925.61183909854}]
["SERVIÇOS",3500,{"$f":"VLOOKUP(B305,Centro_Custo!$A$2:$B$36,2,0)","v":"ASSESSORIA DE COMUNICAÇÃO INSTITUCIONAL"},{"$f":"VLOOKUP(B305,Centro_Custo!$A$2:$C$36,3)","v":"Encargos de Gestão"},"Fixo",{"$f":"SUMIFS('Classificação OPEX'!$O$4:$O$1666,'Classificação OPEX'!$Q$4:$Q$1666,\"N\",'Classificação OPEX'!$S$4:$S$1666,\"NÃO\",'Classificação OPEX'!$V$4:$V$1666,DRIVER_OPEX!A305,'Classificação OPEX'!$W$4:$W$1666,DRIVER_OPEX!B305)","v":145993.6702217485},{"$f":"IF($F305=\"\",0,VLOOKUP($E305,Drivers!$A$26:$F$48,MATCH(G$1,Drivers!$A$25:$F$25,0),0)*$F305)","v":145993.6702217485},{"$f":"IF($F305=\"\",0,VLOOKUP($E305,Drivers!$A$26:$F$48,MATCH(H$1,Drivers!$A$25:$F$25,0),0)*$F305)","v":145993.6702217485},{"$f":"IF($F305=\"\",0,VLOOKUP($E305,Drivers!$A$26:$F$48,MATCH(I$1,Drivers!$A$25:$F$25,0),0)*$F305)","v":145993.6702217485},{"$f":"IF($F305=\"\",0,VLOOKUP($E305,Drivers!$A$26:$F$48,MATCH(J$1,Drivers!$A$25:$F$25,0),0)*$F305)","v":145993.6702217485},{"$f":"IF($F305=\"\",0,VLOOKUP($E305,Drivers!$A$26:$F$48,MATCH(K$1,Drivers!$A$25:$F$25,0),0)*$F305)","v":145993.6702217485}]
["SERVIÇOS",3600,{"$f":"VLOOKUP(B306,Centro_Custo!$A$2:$B$36,2,0)","v":"GERÊNCIA DE GOVERNANÇA, RISCO E COMPLIANCE"},{"$f":"VLOOKUP(B306,Centro_Custo!$A$2:$C$36,3)","v":"Encargos de Gestão"},"Fixo",{"$f":"SUMIFS('Classificação OPEX'!$O$4:$O$1666,'Classificação OPEX'!$Q$4:$Q$1666,\"N\",'Classificação OPEX'!$S$4:$S$1666,\"NÃO\",'Classificação OPEX'!$V$4:$V$1666,DRIVER_OPEX!A306,'Classificação OPEX'!$W$4:$W$1666,DRIVER_OPEX!B306)","v":160888.54129858743},{"$f":"IF($F306=\"\",0,VLOOKUP($E306,Drivers!$A$26:$F$48,MATCH(G$1,Drivers!$A$25:$F$25,0),0)*$F306)","v":160888.54129858743},{"$f":"IF($F306=\"\",0,VLOOKUP($E306,Drivers!$A$26:$F$48,MATCH(H$1,Drivers!$A$25:$F$25,0),0)*$F306)","v":160888.54129858743},{"$f":"IF($F306=\"\",0,VLOOKUP($E306,Drivers!$A$26:$F$48,MATCH(I$1,Drivers!$A$25:$F$25,0),0)*$F306)","v":160888.54129858743},{"$f":"IF($F306=\"\",0,VLOOKUP($E306,Drivers!$A$26:$F$48,MATCH(J$1,Drivers!$A$25:$F$25,0),0)*$F306)","v":160888.54129858743},{"$f":"IF($F306=\"\",0,VLOOKUP($E306,Drivers!$A$26:$F$48,MATCH(K$1,Drivers!$A$25:$F$25,0),0)*$F306)","v":160888.54129858743}]
["SERVIÇOS",3700,{"$f":"VLOOKUP(B307,Centro_Custo!$A$2:$B$36,2,0)","v":"GERÊNCIA DE REGULAÇÃO"},{"$f":"VLOOKUP(B307,Centro_Custo!$A$2:$C$36,3)","v":"Encargos de Gestão"},"Fixo",{"$f":"SUMIFS('Classificação OPEX'!$O$4:$O$1666,'Classificação OPEX'!$Q$4:$Q$1666,\"N\",'Classificação OPEX'!$S$4:$S$1666,\"NÃO\",'Classificação OPEX'!$V$4:$V$1666,DRIVER_OPEX!A307,'Classificação OPEX'!$W$4:$W$1666,DRIVER_OPEX!B307)","v":0},{"$f":"IF($F307=\"\",0,VLOOKUP($E307,Drivers!$A$26:$F$48,MATCH(G$1,Drivers!$A$25:$F$25,0),0)*$F307)","v":0},{"$f":"IF($F307=\"\",0,VLOOKUP($E307,Drivers!$A$26:$F$48,MATCH(H$1,Drivers!$A$25:$F$25,0),0)*$F307)","v":0},{"$f":"IF($F307=\"\",0,VLOOKUP($E307,Drivers!$A$26:$F$48,MATCH(I$1,Drivers!$A$25:$F$25,0),0)*$F307)","v":0},{"$f":"IF($F307=\"\",0,VLOOKUP($E307,Drivers!$A$26:$F$48,MATCH(J$1,Drivers!$A$25:$F$25,0),0)*$F307)","v":0},{"$f":"IF($F307=\"\",0,VLOOKUP($E307,Drivers!$A$26:$F$48,MATCH(K$1,Drivers!$A$25:$F$25,0),0)*$F307)","v":0}]
["SERVIÇOS",4100,{"$f":"VLOOKUP(B308,Centro_Custo!$A$2:$B$36,2,0)","v":"GERÊNCIA DE SERVIÇOS CORPORATIVOS"},{"$f":"VLOOKUP(B308,Centro_Custo!$A$2:$C$36,3)","v":"Encargos de Gestão"},"Extensão de Rede/Município",{"$f":"SUMIFS('Classificação OPEX'!$O$4:$O$1666,'Classificação OPEX'!$Q$4:$Q$1666,\"N\",'Classificação OPEX'!$S$4:$S$1666,\"NÃO\",'Classificação OPEX'!$V$4:$V$1666,DRIVER_OPEX!A308,'Classificação OPEX'!$W$4:$W$1666,DRIVER_OPEX!B308)","v":399524.5388269489},{"$f":"IF($F308=\"\",0,VLOOKUP($E308,Drivers!$A$26:$F$48,MATCH(G$1,Drivers!$A$25:$F$25,0),0)*$F308)","v":423570.44117938197},{"$f":"IF($F308=\"\",0,VLOOKUP($E308,Drivers!$A$26:$F$48,MATCH(H$1,Drivers!$A$25:$F$25,0),0)*$F308)","v":465549.68875173287},{"$f":"IF($F308=\"\",0,VLOOKUP($E308,Drivers!$A$26:$F$48,MATCH(I$1,Drivers!$A$25:$F$25,0),0)*$F308)","v":466987.84080630424},{"$f":"IF($F308=\"\",0,VLOOKUP($E308,Drivers!$A$26:$F$48,MATCH(J$1,Drivers!$A$25:$F$25,0),0)*$F308)","v":466987.84080630424},{"$f":"IF($F308=\"\",0,VLOOKUP($E308,Drivers!$A$26:$F$48,MATCH(K$1,Drivers!$A$25:$F$25,0),0)*$F308)","v":479314.85841691593}]
["SERVIÇOS",4200,{"$f":"VLOOKUP(B309,Centro_Custo!$A$2:$B$36,2,0)","v":"GERÊNCIA FINANCEIRA"},{"$f":"VLOOKUP(B309,Centro_Custo!$A$2:$C$36,3)","v":"Encargos de Gestão"},"Usuários total",{"$f":"SUMIFS('Classificação OPEX'!$O$4:$O$1666,'Classificação OPEX'!$Q$4:$Q$1666,\"N\",'Classificação OPEX'!$S$4:$S$1666,\"NÃO\",'Classificação OPEX'!$V$4:$V$1666,DRIVER_OPEX!A309,'Classificação OPEX'!$W$4:$W$1666,DRIVER_OPEX!B309)","v":235955.96394731436},{"$f":"IF($F309=\"\",0,VLOOKUP($E309,Drivers!$A$26:$F$48,MATCH(G$1,Drivers!$A$25:$F$25,0),0)*$F309)","v":262944.13787887036},{"$f":"IF($F309=\"\",0,VLOOKUP($E309,Drivers!$A$26:$F$48,MATCH(H$1,Drivers!$A$25:$F$25,0),0)*$F309)","v":288916.00272348739},{"$f":"IF($F309=\"\",0,VLOOKUP($E309,Drivers!$A$26:$F$48,MATCH(I$1,Drivers!$A$25:$F$25,0),0)*$F309)","v":324495.43355522759},{"$f":"IF($F309=\"\",0,VLOOKUP($E309,Drivers!$A$26:$F$48,MATCH(J$1,Drivers!$A$25:$F$25,0),0)*$F309)","v":352099.42189115781},{"$f":"IF($F309=\"\",0,VLOOKUP($E309,Drivers!$A$26:$F$48,MATCH(K$1,Drivers!$A$25:$F$25,0),0)*$F309)","v":385745.28162105201}]
["SERVIÇOS",4300,{"$f":"VLOOKUP(B310,Centro_Custo!$A$2:$B$36,2,0)","v":"GERÊNCIA DE TECNOLOGIA E SISTEMAS DE INFORMAÇÃO"},{"$f":"VLOOKUP(B310,Centro_Custo!$A$2:$C$36,3)","v":"Encargos de Gestão"},"Fixo",{"$f":"SUMIFS('Classificação OPEX'!$O$4:$O$1666,'Classificação OPEX'!$Q$4:$Q$1666,\"N\",'Classificação OPEX'!$S$4:$S$1666,\"NÃO\",'Classificação OPEX'!$V$4:$V$1666,DRIVER_OPEX!A310,'Classificação OPEX'!$W$4:$W$1666,DRIVER_OPEX!B310)","v":502291.91816891875},{"$f":"IF($F310=\"\",0,VLOOKUP($E310,Drivers!$A$26:$F$48,MATCH(G$1,Drivers!$A$25:$F$25,0),0)*$F310)","v":502291.91816891875},{"$f":"IF($F310=\"\",0,VLOOKUP($E310,Drivers!$A$26:$F$48,MATCH(H$1,Drivers!$A$25:$F$25,0),0)*$F310)","v":502291.91816891875},{"$f":"IF($F310=\"\",0,VLOOKUP($E310,Drivers!$A$26:$F$48,MATCH(I$1,Drivers!$A$25:$F$25,0),0)*$F310)","v":502291.91816891875},{"$f":"IF($F310=\"\",0,VLOOKUP($E310,Drivers!$A$26:$F$48,MATCH(J$1,Drivers!$A$25:$F$25,0),0)*$F310)","v":502291.91816891875},{"$f":"IF($F310=\"\",0,VLOOKUP($E310,Drivers!$A$26:$F$48,MATCH(K$1,Drivers!$A$25:$F$25,0),0)*$F310)","v":502291.91816891875}]
["SERVIÇOS",4500,{"$f":"VLOOKUP(B311,Centro_Custo!$A$2:$B$36,2,0)","v":"GERÊNCIA CONTÁBIL"},{"$f":"VLOOKUP(B311,Centro_Custo!$A$2:$C$36,3)","v":"Encargos de Gestão"},"Fixo",{"$f":"SUMIFS('Classificação OPEX'!$O$4:$O$1666,'Classificação OPEX'!$Q$4:$Q$1666,\"N\",'Classificação OPEX'!$S$4:$S$1666,\"NÃO\",'Classificação OPEX'!$V$4:$V$1666,DRIVER_OPEX!A311,'Classificação OPEX'!$W$4:$W$1666,DRIVER_OPEX!B311)","v":456608.40542926744},{"$f":"IF($F311=\"\",0,VLOOKUP($E311,Drivers!$A$26:$F$48,MATCH(G$1,Drivers!$A$25:$F$25,0),0)*$F311)","v":456608.40542926744},{"$f":"IF($F311=\"\",0,VLOOKUP($E311,Drivers!$A$26:$F$48,MATCH(H$1,Drivers!$A$25:$F$25,0),0)*$F311)","v":456608.40542926744},{"$f":"IF($F311=\"\",0,VLOOKUP($E311,Drivers!$A$26:$F$48,MATCH(I$1,Drivers!$A$25:$F$25,0),0)*$F311)","v":456608.40542926744},{"$f":"IF($F311=\"\",0,VLOOKUP($E311,Drivers!$A$26:$F$48,MATCH(J$1,Drivers!$A$25:$F$25,0),0)*$F311)","v":456608.40542926744},{"$f":"IF($F311=\"\",0,VLOOKUP($E311,Drivers!$A$26:$F$48,MATCH(K$1,Drivers!$A$25:$F$25,0),0)*$F311)","v":456608.40542926744}]
["SERVIÇOS",5100,{"$f":"VLOOKUP(B312,Centro_Custo!$A$2:$B$36,2,0)","v":"GERÊNCIA DE ENGENHARIA"},{"$f":"VLOOKUP(B312,Centro_Custo!$A$2:$C$36,3)","v":"OPEX&ODESP"},"Extensão de Rede",{"$f":"SUMIFS('Classificação OPEX'!$O$4:$O$1666,'Classificação OPEX'!$Q$4:$Q$1666,\"N\",'Classificação OPEX'!$S$4:$S$1666,\"NÃO\",'Classificação OPEX'!$V$4:$V$1666,DRIVER_OPEX!A312,'Classificação OPEX'!$W$4:$W$1666,DRIVER_OPEX!B312)","v":160158.18923018698},{"$f":"IF($F312=\"\",0,VLOOKUP($E312,Drivers!$A$26:$F$48,MATCH(G$1,Drivers!$A$25:$F$25,0),0)*$F312)","v":171430.41471012493},{"$f":"IF($F312=\"\",0,VLOOKUP($E312,Drivers!$A$26:$F$48,MATCH(H$1,Drivers!$A$25:$F$25,0),0)*$F312)","v":186972.13405437546},{"$f":"IF($F312=\"\",0,VLOOKUP($E312,Drivers!$A$26:$F$48,MATCH(I$1,Drivers!$A$25:$F$25,0),0)*$F312)","v":192503.65475595277},{"$f":"IF($F312=\"\",0,VLOOKUP($E312,Drivers!$A$26:$F$48,MATCH(J$1,Drivers!$A$25:$F$25,0),0)*$F312)","v":200465.5928273976},{"$f":"IF($F312=\"\",0,VLOOKUP($E312,Drivers!$A$26:$F$48,MATCH(K$1,Drivers!$A$25:$F$25,0),0)*$F312)","v":206734.43115803585}]
["SERVIÇOS",5200,{"$f":"VLOOKUP(B313,Centro_Custo!$A$2:$B$36,2,0)","v":"GERÊNCIA DE OPERAÇÕES"},{"$f":"VLOOKUP(B313,Centro_Custo!$A$2:$C$36,3)","v":"OPEX&ODESP"},"Extensão de Rede",{"$f":"SUMIFS('Classificação OPEX'!$O$4:$O$1666,'Classificação OPEX'!$Q$4:$Q$1666,\"N\",'Classificação OPEX'!$S$4:$S$1666,\"NÃO\",'Classificação OPEX'!$V$4:$V$1666,DRIVER_OPEX!A313,'Classificação OPEX'!$W$4:$W$1666,DRIVER_OPEX!B313)","v":598217.41008122556},{"$f":"IF($F313=\"\",0,VLOOKUP($E313,Drivers!$A$26:$F$48,MATCH(G$1,Drivers!$A$25:$F$25,0),0)*$F313)","v":640321.04252657224},{"$f":"IF($F313=\"\",0,VLOOKUP($E313,Drivers!$A$26:$F$48,MATCH(H$1,Drivers!$A$25:$F$25,0),0)*$F313)","v":698371.94294580887},{"$f":"IF($F313=\"\",0,VLOOKUP($E313,Drivers!$A$26:$F$48,MATCH(I$1,Drivers!$A$25:$F$25,0),0)*$F313)","v":719033.09055126994},{"$f":"IF($F313=\"\",0,VLOOKUP($E313,Drivers!$A$26:$F$48,MATCH(J$1,Drivers!$A$25:$F$25,0),0)*$F313)","v":748772.25028590753},{"$f":"IF($F313=\"\",0,VLOOKUP($E313,Drivers!$A$26:$F$48,MATCH(K$1,Drivers!$A$25:$F$25,0),0)*$F313)","v":772187.4015710064}]
["SERVIÇOS",5300,{"$f":"VLOOKUP(B314,Centro_Custo!$A$2:$B$36,2,0)","v":"GERÊNCIA COMERCIAL"},{"$f":"VLOOKUP(B314,Centro_Custo!$A$2:$C$36,3)","v":"Encargos de Comercialização"},"Usuários total",{"$f":"SUMIFS('Classificação OPEX'!$O$4:$O$1666,'Classificação OPEX'!$Q$4:$Q$1666,\"N\",'Classificação OPEX'!$S$4:$S$1666,\"NÃO\",'Classificação OPEX'!$V$4:$V$1666,DRIVER_OPEX!A314,'Classificação OPEX'!$W$4:$W$1666,DRIVER_OPEX!B314)","v":899234.26989477372},{"$f":"IF($F314=\"\",0,VLOOKUP($E314,Drivers!$A$26:$F$48,MATCH(G$1,Drivers!$A$25:$F$25,0),0)*$F314)","v":1002086.897457749},{"$f":"IF($F314=\"\",0,VLOOKUP($E314,Drivers!$A$26:$F$48,MATCH(H$1,Drivers!$A$25:$F$25,0),0)*$F314)","v":1101066.344854},{"$f":"IF($F314=\"\",0,VLOOKUP($E314,Drivers!$A$26:$F$48,MATCH(I$1,Drivers!$A$25:$F$25,0),0)*$F314)","v":1236660.474250091},{"$f":"IF($F314=\"\",0,VLOOKUP($E314,Drivers!$A$26:$F$48,MATCH(J$1,Drivers!$A$25:$F$25,0),0)*$F314)","v":1341859.9864056157},{"$f":"IF($F314=\"\",0,VLOOKUP($E314,Drivers!$A$26:$F$48,MATCH(K$1,Drivers!$A$25:$F$25,0),0)*$F314)","v":1470085.2264167096}]
["SERVIÇOS",9999,{"$f":"VLOOKUP(B315,Centro_Custo!$A$2:$B$36,2,0)","v":"RATEIO"},{"$f":"VLOOKUP(B315,Centro_Custo!$A$2:$C$36,3)","v":"Encargos de Gestão"},"Fixo",{"$f":"SUMIFS('Classificação OPEX'!$O$4:$O$1666,'Classificação OPEX'!$Q$4:$Q$1666,\"N\",'Classificação OPEX'!$S$4:$S$1666,\"NÃO\",'Classificação OPEX'!$V$4:$V$1666,DRIVER_OPEX!A315,'Classificação OPEX'!$W$4:$W$1666,DRIVER_OPEX!B315)","v":0},{"$f":"IF($F315=\"\",0,VLOOKUP($E315,Drivers!$A$26:$F$48,MATCH(G$1,Drivers!$A$25:$F$25,0),0)*$F315)","v":0},{"$f":"IF($F315=\"\",0,VLOOKUP($E315,Drivers!$A$26:$F$48,MATCH(H$1,Drivers!$A$25:$F$25,0),0)*$F315)","v":0},{"$f":"IF($F315=\"\",0,VLOOKUP($E315,Drivers!$A$26:$F$48,MATCH(I$1,Drivers!$A$25:$F$25,0),0)*$F315)","v":0},{"$f":"IF($F315=\"\",0,VLOOKUP($E315,Drivers!$A$26:$F$48,MATCH(J$1,Drivers!$A$25:$F$25,0),0)*$F315)","v":0},{"$f":"IF($F315=\"\",0,VLOOKUP($E315,Drivers!$A$26:$F$48,MATCH(K$1,Drivers!$A$25:$F$25,0),0)*$F315)","v":0}]
["SERVIÇOS","0000","RATEIO",{"$f":"VLOOKUP(B316,Centro_Custo!$A$2:$C$36,3)","v":"Encargos de Gestão"},"Fixo",{"$f":"SUMIFS('Classificação OPEX'!$O$4:$O$1666,'Classificação OPEX'!$Q$4:$Q$1666,\"N\",'Classificação OPEX'!$S$4:$S$1666,\"NÃO\",'Classificação OPEX'!$V$4:$V$1666,DRIVER_OPEX!A316,'Classificação OPEX'!$W$4:$W$1666,DRIVER_OPEX!B316)","v":0},{"$f":"IF($F316=\"\",0,VLOOKUP($E316,Drivers!$A$26:$F$48,MATCH(G$1,Drivers!$A$25:$F$25,0),0)*$F316)","v":0},{"$f":"IF($F316=\"\",0,VLOOKUP($E316,Drivers!$A$26:$F$48,MATCH(H$1,Drivers!$A$25:$F$25,0),0)*$F316)","v":0},{"$f":"IF($F316=\"\",0,VLOOKUP($E316,Drivers!$A$26:$F$48,MATCH(I$1,Drivers!$A$25:$F$25,0),0)*$F316)","v":0},{"$f":"IF($F316=\"\",0,VLOOKUP($E316,Drivers!$A$26:$F$48,MATCH(J$1,Drivers!$A$25:$F$25,0),0)*$F316)","v":0},{"$f":"IF($F316=\"\",0,VLOOKUP($E316,Drivers!$A$26:$F$48,MATCH(K$1,Drivers!$A$25:$F$25,0),0)*$F316)","v":0}]
["SERVIÇOS",1001,"CONSELHO DE ADMINISTRAÇÃO",{"$f":"VLOOKUP(B317,Centro_Custo!$A$2:$C$36,3)","v":"Encargos de Gestão"},"Fixo",{"$f":"SUMIFS('Classificação OPEX'!$O$4:$O$1666,'Classificação OPEX'!$Q$4:$Q$1666,\"N\",'Classificação OPEX'!$S$4:$S$1666,\"NÃO\",'Classificação OPEX'!$V$4:$V$1666,DRIVER_OPEX!A317,'Classificação OPEX'!$W$4:$W$1666,DRIVER_OPEX!B317)","v":0},{"$f":"IF($F317=\"\",0,VLOOKUP($E317,Drivers!$A$26:$F$48,MATCH(G$1,Drivers!$A$25:$F$25,0),0)*$F317)","v":0},{"$f":"IF($F317=\"\",0,VLOOKUP($E317,Drivers!$A$26:$F$48,MATCH(H$1,Drivers!$A$25:$F$25,0),0)*$F317)","v":0},{"$f":"IF($F317=\"\",0,VLOOKUP($E317,Drivers!$A$26:$F$48,MATCH(I$1,Drivers!$A$25:$F$25,0),0)*$F317)","v":0},{"$f":"IF($F317=\"\",0,VLOOKUP($E317,Drivers!$A$26:$F$48,MATCH(J$1,Drivers!$A$25:$F$25,0),0)*$F317)","v":0},{"$f":"IF($F317=\"\",0,VLOOKUP($E317,Drivers!$A$26:$F$48,MATCH(K$1,Drivers!$A$25:$F$25,0),0)*$F317)","v":0}]
["SERVIÇOS",1002,"CONSELHO FISCAL",{"$f":"VLOOKUP(B318,Centro_Custo!$A$2:$C$36,3)","v":"Encargos de Gestão"},"Fixo",{"$f":"SUMIFS('Classificação OPEX'!$O$4:$O$1666,'Classificação OPEX'!$Q$4:$Q$1666,\"N\",'Classificação OPEX'!$S$4:$S$1666,\"NÃO\",'Classificação OPEX'!$V$4:$V$1666,DRIVER_OPEX!A318,'Classificação OPEX'!$W$4:$W$1666,DRIVER_OPEX!B318)","v":0},{"$f":"IF($F318=\"\",0,VLOOKUP($E318,Drivers!$A$26:$F$48,MATCH(G$1,Drivers!$A$25:$F$25,0),0)*$F318)","v":0},{"$f":"IF($F318=\"\",0,VLOOKUP($E318,Drivers!$A$26:$F$48,MATCH(H$1,Drivers!$A$25:$F$25,0),0)*$F318)","v":0},{"$f":"IF($F318=\"\",0,VLOOKUP($E318,Drivers!$A$26:$F$48,MATCH(I$1,Drivers!$A$25:$F$25,0),0)*$F318)","v":0},{"$f":"IF($F318=\"\",0,VLOOKUP($E318,Drivers!$A$26:$F$48,MATCH(J$1,Drivers!$A$25:$F$25,0),0)*$F318)","v":0},{"$f":"IF($F318=\"\",0,VLOOKUP($E318,Drivers!$A$26:$F$48,MATCH(K$1,Drivers!$A$25:$F$25,0),0)*$F318)","v":0}]
["SERVIÇOS",1003,"COMITÊ DE INDICAÇÃO E AVALIAÇÃO",{"$f":"VLOOKUP(B319,Centro_Custo!$A$2:$C$36,3)","v":"Encargos de Gestão"},"Fixo",{"$f":"SUMIFS('Classificação OPEX'!$O$4:$O$1666,'Classificação OPEX'!$Q$4:$Q$1666,\"N\",'Classificação OPEX'!$S$4:$S$1666,\"NÃO\",'Classificação OPEX'!$V$4:$V$1666,DRIVER_OPEX!A319,'Classificação OPEX'!$W$4:$W$1666,DRIVER_OPEX!B319)","v":0},{"$f":"IF($F319=\"\",0,VLOOKUP($E319,Drivers!$A$26:$F$48,MATCH(G$1,Drivers!$A$25:$F$25,0),0)*$F319)","v":0},{"$f":"IF($F319=\"\",0,VLOOKUP($E319,Drivers!$A$26:$F$48,MATCH(H$1,Drivers!$A$25:$F$25,0),0)*$F319)","v":0},{"$f":"IF($F319=\"\",0,VLOOKUP($E319,Drivers!$A$26:$F$48,MATCH(I$1,Drivers!$A$25:$F$25,0),0)*$F319)","v":0},{"$f":"IF($F319=\"\",0,VLOOKUP($E319,Drivers!$A$26:$F$48,MATCH(J$1,Drivers!$A$25:$F$25,0),0)*$F319)","v":0},{"$f":"IF($F319=\"\",0,VLOOKUP($E319,Drivers!$A$26:$F$48,MATCH(K$1,Drivers!$A$25:$F$25,0),0)*$F319)","v":0}]
["SERVIÇOS",1004,"COMITÊ DE AUDITORIA ESTATUTÁRIA",{"$f":"VLOOKUP(B320,Centro_Custo!$A$2:$C$36,3)","v":"Encargos de Gestão"},"Fixo",{"$f":"SUMIFS('Classificação OPEX'!$O$4:$O$1666,'Classificação OPEX'!$Q$4:$Q$1666,\"N\",'Classificação OPEX'!$S$4:$S$1666,\"NÃO\",'Classificação OPEX'!$V$4:$V$1666,DRIVER_OPEX!A320,'Classificação OPEX'!$W$4:$W$1666,DRIVER_OPEX!B320)","v":0},{"$f":"IF($F320=\"\",0,VLOOKUP($E320,Drivers!$A$26:$F$48,MATCH(G$1,Drivers!$A$25:$F$25,0),0)*$F320)","v":0},{"$f":"IF($F320=\"\",0,VLOOKUP($E320,Drivers!$A$26:$F$48,MATCH(H$1,Drivers!$A$25:$F$25,0),0)*$F320)","v":0},{"$f":"IF($F320=\"\",0,VLOOKUP($E320,Drivers!$A$26:$F$48,MATCH(I$1,Drivers!$A$25:$F$25,0),0)*$F320)","v":0},{"$f":"IF($F320=\"\",0,VLOOKUP($E320,Drivers!$A$26:$F$48,MATCH(J$1,Drivers!$A$25:$F$25,0),0)*$F320)","v":0},{"$f":"IF($F320=\"\",0,VLOOKUP($E320,Drivers!$A$26:$F$48,MATCH(K$1,Drivers!$A$25:$F$25,0),0)*$F320)","v":0}]
["SERVIÇOS",2100,"SECRETARIA",{"$f":"VLOOKUP(B321,Centro_Custo!$A$2:$C$36,3)","v":"Encargos de Gestão"},"Fixo",{"$f":"SUMIFS('Classificação OPEX'!$O$4:$O$1666,'Classificação OPEX'!$Q$4:$Q$1666,\"N\",'Classificação OPEX'!$S$4:$S$1666,\"NÃO\",'Classificação OPEX'!$V$4:$V$1666,DRIVER_OPEX!A321,'Classificação OPEX'!$W$4:$W$1666,DRIVER_OPEX!B321)","v":18.178823608430434},{"$f":"IF($F321=\"\",0,VLOOKUP($E321,Drivers!$A$26:$F$48,MATCH(G$1,Drivers!$A$25:$F$25,0),0)*$F321)","v":18.178823608430434},{"$f":"IF($F321=\"\",0,VLOOKUP($E321,Drivers!$A$26:$F$48,MATCH(H$1,Drivers!$A$25:$F$25,0),0)*$F321)","v":18.178823608430434},{"$f":"IF($F321=\"\",0,VLOOKUP($E321,Drivers!$A$26:$F$48,MATCH(I$1,Drivers!$A$25:$F$25,0),0)*$F321)","v":18.178823608430434},{"$f":"IF($F321=\"\",0,VLOOKUP($E321,Drivers!$A$26:$F$48,MATCH(J$1,Drivers!$A$25:$F$25,0),0)*$F321)","v":18.178823608430434},{"$f":"IF($F321=\"\",0,VLOOKUP($E321,Drivers!$A$26:$F$48,MATCH(K$1,Drivers!$A$25:$F$25,0),0)*$F321)","v":18.178823608430434}]
["SERVIÇOS",3100,"SMS",{"$f":"VLOOKUP(B322,Centro_Custo!$A$2:$C$36,3)","v":"OPEX&ODESP"},"Fixo",{"$f":"SUMIFS('Classificação OPEX'!$O$4:$O$1666,'Classificação OPEX'!$Q$4:$Q$1666,\"N\",'Classificação OPEX'!$S$4:$S$1666,\"NÃO\",'Classificação OPEX'!$V$4:$V$1666,DRIVER_OPEX!A322,'Classificação OPEX'!$W$4:$W$1666,DRIVER_OPEX!B322)","v":0},{"$f":"IF($F322=\"\",0,VLOOKUP($E322,Drivers!$A$26:$F$48,MATCH(G$1,Drivers!$A$25:$F$25,0),0)*$F322)","v":0},{"$f":"IF($F322=\"\",0,VLOOKUP($E322,Drivers!$A$26:$F$48,MATCH(H$1,Drivers!$A$25:$F$25,0),0)*$F322)","v":0},{"$f":"IF($F322=\"\",0,VLOOKUP($E322,Drivers!$A$26:$F$48,MATCH(I$1,Drivers!$A$25:$F$25,0),0)*$F322)","v":0},{"$f":"IF($F322=\"\",0,VLOOKUP($E322,Drivers!$A$26:$F$48,MATCH(J$1,Drivers!$A$25:$F$25,0),0)*$F322)","v":0},{"$f":"IF($F322=\"\",0,VLOOKUP($E322,Drivers!$A$26:$F$48,MATCH(K$1,Drivers!$A$25:$F$25,0),0)*$F322)","v":0}]
["SERVIÇOS",3400,"MARKETING",{"$f":"VLOOKUP(B323,Centro_Custo!$A$2:$C$36,3)","v":"Encargos de Comercialização"},"Fixo",{"$f":"SUMIFS('Classificação OPEX'!$O$4:$O$1666,'Classificação OPEX'!$Q$4:$Q$1666,\"N\",'Classificação OPEX'!$S$4:$S$1666,\"NÃO\",'Classificação OPEX'!$V$4:$V$1666,DRIVER_OPEX!A323,'Classificação OPEX'!$W$4:$W$1666,DRIVER_OPEX!B323)","v":36.25830938293501},{"$f":"IF($F323=\"\",0,VLOOKUP($E323,Drivers!$A$26:$F$48,MATCH(G$1,Drivers!$A$25:$F$25,0),0)*$F323)","v":36.25830938293501},{"$f":"IF($F323=\"\",0,VLOOKUP($E323,Drivers!$A$26:$F$48,MATCH(H$1,Drivers!$A$25:$F$25,0),0)*$F323)","v":36.25830938293501},{"$f":"IF($F323=\"\",0,VLOOKUP($E323,Drivers!$A$26:$F$48,MATCH(I$1,Drivers!$A$25:$F$25,0),0)*$F323)","v":36.25830938293501},{"$f":"IF($F323=\"\",0,VLOOKUP($E323,Drivers!$A$26:$F$48,MATCH(J$1,Drivers!$A$25:$F$25,0),0)*$F323)","v":36.25830938293501},{"$f":"IF($F323=\"\",0,VLOOKUP($E323,Drivers!$A$26:$F$48,MATCH(K$1,Drivers!$A$25:$F$25,0),0)*$F323)","v":36.25830938293501}]
["SERVIÇOS",4600,"GERÊNCIA DE PESSOAS E CULTURA",{"$f":"VLOOKUP(B324,Centro_Custo!$A$2:$C$36,3)","v":"Encargos de Gestão"},"Fixo",{"$f":"SUMIFS('Classificação OPEX'!$O$4:$O$1666,'Classificação OPEX'!$Q$4:$Q$1666,\"N\",'Classificação OPEX'!$S$4:$S$1666,\"NÃO\",'Classificação OPEX'!$V$4:$V$1666,DRIVER_OPEX!A324,'Classificação OPEX'!$W$4:$W$1666,DRIVER_OPEX!B324)","v":42719.858850312798},{"$f":"IF($F324=\"\",0,VLOOKUP($E324,Drivers!$A$26:$F$48,MATCH(G$1,Drivers!$A$25:$F$25,0),0)*$F324)","v":42719.858850312798},{"$f":"IF($F324=\"\",0,VLOOKUP($E324,Drivers!$A$26:$F$48,MATCH(H$1,Drivers!$A$25:$F$25,0),0)*$F324)","v":42719.858850312798},{"$f":"IF($F324=\"\",0,VLOOKUP($E324,Drivers!$A$26:$F$48,MATCH(I$1,Drivers!$A$25:$F$25,0),0)*$F324)","v":42719.858850312798},{"$f":"IF($F324=\"\",0,VLOOKUP($E324,Drivers!$A$26:$F$48,MATCH(J$1,Drivers!$A$25:$F$25,0),0)*$F324)","v":42719.858850312798},{"$f":"IF($F324=\"\",0,VLOOKUP($E324,Drivers!$A$26:$F$48,MATCH(K$1,Drivers!$A$25:$F$25,0),0)*$F324)","v":42719.858850312798}]
["SERVIÇOS","5400","GERÊNCIA COMERCIAL",{"$f":"VLOOKUP(B325,Centro_Custo!$A$2:$C$36,3)","v":"Encargos de Gestão"},"Fixo",{"$f":"SUMIFS('Classificação OPEX'!$O$4:$O$1666,'Classificação OPEX'!$Q$4:$Q$1666,\"N\",'Classificação OPEX'!$S$4:$S$1666,\"NÃO\",'Classificação OPEX'!$V$4:$V$1666,DRIVER_OPEX!A325,'Classificação OPEX'!$W$4:$W$1666,DRIVER_OPEX!B325)","v":60664.446651890816},{"$f":"IF($F325=\"\",0,VLOOKUP($E325,Drivers!$A$26:$F$48,MATCH(G$1,Drivers!$A$25:$F$25,0),0)*$F325)","v":60664.446651890816},{"$f":"IF($F325=\"\",0,VLOOKUP($E325,Drivers!$A$26:$F$48,MATCH(H$1,Drivers!$A$25:$F$25,0),0)*$F325)","v":60664.446651890816},{"$f":"IF($F325=\"\",0,VLOOKUP($E325,Drivers!$A$26:$F$48,MATCH(I$1,Drivers!$A$25:$F$25,0),0)*$F325)","v":60664.446651890816},{"$f":"IF($F325=\"\",0,VLOOKUP($E325,Drivers!$A$26:$F$48,MATCH(J$1,Drivers!$A$25:$F$25,0),0)*$F325)","v":60664.446651890816},{"$f":"IF($F325=\"\",0,VLOOKUP($E325,Drivers!$A$26:$F$48,MATCH(K$1,Drivers!$A$25:$F$25,0),0)*$F325)","v":60664.446651890816}]
["SERVIÇOS","5500","GERÊNCIA COMERCIAL",{"$f":"VLOOKUP(B326,Centro_Custo!$A$2:$C$36,3)","v":"Encargos de Gestão"},"Fixo",{"$f":"SUMIFS('Classificação OPEX'!$O$4:$O$1666,'Classificação OPEX'!$Q$4:$Q$1666,\"N\",'Classificação OPEX'!$S$4:$S$1666,\"NÃO\",'Classificação OPEX'!$V$4:$V$1666,DRIVER_OPEX!A326,'Classificação OPEX'!$W$4:$W$1666,DRIVER_OPEX!B326)","v":214107.93226388277},{"$f":"IF($F326=\"\",0,VLOOKUP($E326,Drivers!$A$26:$F$48,MATCH(G$1,Drivers!$A$25:$F$25,0),0)*$F326)","v":214107.93226388277},{"$f":"IF($F326=\"\",0,VLOOKUP($E326,Drivers!$A$26:$F$48,MATCH(H$1,Drivers!$A$25:$F$25,0),0)*$F326)","v":214107.93226388277},{"$f":"IF($F326=\"\",0,VLOOKUP($E326,Drivers!$A$26:$F$48,MATCH(I$1,Drivers!$A$25:$F$25,0),0)*$F326)","v":214107.93226388277},{"$f":"IF($F326=\"\",0,VLOOKUP($E326,Drivers!$A$26:$F$48,MATCH(J$1,Drivers!$A$25:$F$25,0),0)*$F326)","v":214107.93226388277},{"$f":"IF($F326=\"\",0,VLOOKUP($E326,Drivers!$A$26:$F$48,MATCH(K$1,Drivers!$A$25:$F$25,0),0)*$F326)","v":214107.93226388277}]
["TRIBUTOS_E_TAXAS_FISCAIS","TOTAL","TOTAL",null,null,{"$f":"SUM(F328:F362)","v":367729.68925105449},{"$f":"SUM(G328:G362)","v":438615.27405172808},495627.52111074503,433029.87006932811,452723.70039288688,442455.78836340492]
["TRIBUTOS_E_TAXAS_FISCAIS","0000",{"$f":"VLOOKUP(B328,Centro_Custo!$A$2:$B$36,2,0)","v":"RATEIO"},{"$f":"VLOOKUP(B328,Centro_Custo!$A$2:$C$36,3)","v":"Encargos de Gestão"},"Fixo",{"$f":"SUMIFS('Classificação OPEX'!$O$4:$O$1666,'Classificação OPEX'!$Q$4:$Q$1666,\"N\",'Classificação OPEX'!$S$4:$S$1666,\"NÃO\",'Classificação OPEX'!$V$4:$V$1666,DRIVER_OPEX!A328,'Classificação OPEX'!$W$4:$W$1666,DRIVER_OPEX!B328)","v":0},{"$f":"IF($F328=\"\",0,VLOOKUP($E328,Drivers!$A$26:$F$48,MATCH(G$1,Drivers!$A$25:$F$25,0),0)*$F328)","v":0},{"$f":"IF($F328=\"\",0,VLOOKUP($E328,Drivers!$A$26:$F$48,MATCH(H$1,Drivers!$A$25:$F$25,0),0)*$F328)","v":0},{"$f":"IF($F328=\"\",0,VLOOKUP($E328,Drivers!$A$26:$F$48,MATCH(I$1,Drivers!$A$25:$F$25,0),0)*$F328)","v":0},{"$f":"IF($F328=\"\",0,VLOOKUP($E328,Drivers!$A$26:$F$48,MATCH(J$1,Drivers!$A$25:$F$25,0),0)*$F328)","v":0},{"$f":"IF($F328=\"\",0,VLOOKUP($E328,Drivers!$A$26:$F$48,MATCH(K$1,Drivers!$A$25:$F$25,0),0)*$F328)","v":0}]
["TRIBUTOS_E_TAXAS_FISCAIS",3200,{"$f":"VLOOKUP(B329,Centro_Custo!$A$2:$B$36,2,0)","v":"GERÊNCIA DE PLANEJAMENTO E MEIO AMBIENTE"},{"$f":"VLOOKUP(B329,Centro_Custo!$A$2:$C$36,3)","v":"OPEX&ODESP"},"Extensão adicional de rede ",{"$f":"SUMIFS('Classificação OPEX'!$O$4:$O$1666,'Classificação OPEX'!$Q$4:$Q$1666,\"N\",'Classificação OPEX'!$S$4:$S$1666,\"NÃO\",'Classificação OPEX'!$V$4:$V$1666,DRIVER_OPEX!A329,'Classificação OPEX'!$W$4:$W$1666,DRIVER_OPEX!B329)","v":20280.555858654363},{"$f":"IF($F329=\"\",0,VLOOKUP($E329,Drivers!$A$26:$F$48,MATCH(G$1,Drivers!$A$25:$F$25,0),0)*$F329)","v":80552.737912594093},{"$f":"IF($F329=\"\",0,VLOOKUP($E329,Drivers!$A$26:$F$48,MATCH(H$1,Drivers!$A$25:$F$25,0),0)*$F329)","v":111063.0768765813},{"$f":"IF($F329=\"\",0,VLOOKUP($E329,Drivers!$A$26:$F$48,MATCH(I$1,Drivers!$A$25:$F$25,0),0)*$F329)","v":39528.941123940014},{"$f":"IF($F329=\"\",0,VLOOKUP($E329,Drivers!$A$26:$F$48,MATCH(J$1,Drivers!$A$25:$F$25,0),0)*$F329)","v":56897.008659636413},{"$f":"IF($F329=\"\",0,VLOOKUP($E329,Drivers!$A$26:$F$48,MATCH(K$1,Drivers!$A$25:$F$25,0),0)*$F329)","v":44797.905432522064}]
["TRIBUTOS_E_TAXAS_FISCAIS",3600,{"$f":"VLOOKUP(B330,Centro_Custo!$A$2:$B$36,2,0)","v":"GERÊNCIA DE GOVERNANÇA, RISCO E COMPLIANCE"},{"$f":"VLOOKUP(B330,Centro_Custo!$A$2:$C$36,3)","v":"Encargos de Gestão"},"Fixo",{"$f":"SUMIFS('Classificação OPEX'!$O$4:$O$1666,'Classificação OPEX'!$Q$4:$Q$1666,\"N\",'Classificação OPEX'!$S$4:$S$1666,\"NÃO\",'Classificação OPEX'!$V$4:$V$1666,DRIVER_OPEX!A330,'Classificação OPEX'!$W$4:$W$1666,DRIVER_OPEX!B330)","v":5923.8836098648717},{"$f":"IF($F330=\"\",0,VLOOKUP($E330,Drivers!$A$26:$F$48,MATCH(G$1,Drivers!$A$25:$F$25,0),0)*$F330)","v":5923.8836098648717},{"$f":"IF($F330=\"\",0,VLOOKUP($E330,Drivers!$A$26:$F$48,MATCH(H$1,Drivers!$A$25:$F$25,0),0)*$F330)","v":5923.8836098648717},{"$f":"IF($F330=\"\",0,VLOOKUP($E330,Drivers!$A$26:$F$48,MATCH(I$1,Drivers!$A$25:$F$25,0),0)*$F330)","v":5923.8836098648717},{"$f":"IF($F330=\"\",0,VLOOKUP($E330,Drivers!$A$26:$F$48,MATCH(J$1,Drivers!$A$25:$F$25,0),0)*$F330)","v":5923.8836098648717},{"$f":"IF($F330=\"\",0,VLOOKUP($E330,Drivers!$A$26:$F$48,MATCH(K$1,Drivers!$A$25:$F$25,0),0)*$F330)","v":5923.8836098648717}]
["TRIBUTOS_E_TAXAS_FISCAIS",4100,{"$f":"VLOOKUP(B331,Centro_Custo!$A$2:$B$36,2,0)","v":"GERÊNCIA DE SERVIÇOS CORPORATIVOS"},{"$f":"VLOOKUP(B331,Centro_Custo!$A$2:$C$36,3)","v":"Encargos de Gestão"},"Município",{"$f":"SUMIFS('Classificação OPEX'!$O$4:$O$1666,'Classificação OPEX'!$Q$4:$Q$1666,\"N\",'Classificação OPEX'!$S$4:$S$1666,\"NÃO\",'Classificação OPEX'!$V$4:$V$1666,DRIVER_OPEX!A331,'Classificação OPEX'!$W$4:$W$1666,DRIVER_OPEX!B331)","v":109810.07196264135},{"$f":"IF($F331=\"\",0,VLOOKUP($E331,Drivers!$A$26:$F$48,MATCH(G$1,Drivers!$A$25:$F$25,0),0)*$F331)","v":117130.74342681744},{"$f":"IF($F331=\"\",0,VLOOKUP($E331,Drivers!$A$26:$F$48,MATCH(H$1,Drivers!$A$25:$F$25,0),0)*$F331)","v":139092.75781934572},{"$f":"IF($F331=\"\",0,VLOOKUP($E331,Drivers!$A$26:$F$48,MATCH(I$1,Drivers!$A$25:$F$25,0),0)*$F331)","v":146413.42928352178},{"$f":"IF($F331=\"\",0,VLOOKUP($E331,Drivers!$A$26:$F$48,MATCH(J$1,Drivers!$A$25:$F$25,0),0)*$F331)","v":146413.42928352178},{"$f":"IF($F331=\"\",0,VLOOKUP($E331,Drivers!$A$26:$F$48,MATCH(K$1,Drivers!$A$25:$F$25,0),0)*$F331)","v":146413.42928352178}]
["TRIBUTOS_E_TAXAS_FISCAIS",5200,{"$f":"VLOOKUP(B332,Centro_Custo!$A$2:$B$36,2,0)","v":"GERÊNCIA DE OPERAÇÕES"},{"$f":"VLOOKUP(B332,Centro_Custo!$A$2:$C$36,3)","v":"OPEX&ODESP"},"Extensão de Rede",{"$f":"SUMIFS('Classificação OPEX'!$O$4:$O$1666,'Classificação OPEX'!$Q$4:$Q$1666,\"N\",'Classificação OPEX'!$S$4:$S$1666,\"NÃO\",'Classificação OPEX'!$V$4:$V$1666,DRIVER_OPEX!A332,'Classificação OPEX'!$W$4:$W$1666,DRIVER_OPEX!B332)","v":46783.829934436944},{"$f":"IF($F332=\"\",0,VLOOKUP($E332,Drivers!$A$26:$F$48,MATCH(G$1,Drivers!$A$25:$F$25,0),0)*$F332)","v":50076.561216994713},{"$f":"IF($F332=\"\",0,VLOOKUP($E332,Drivers!$A$26:$F$48,MATCH(H$1,Drivers!$A$25:$F$25,0),0)*$F332)","v":54616.454919496195},{"$f":"IF($F332=\"\",0,VLOOKUP($E332,Drivers!$A$26:$F$48,MATCH(I$1,Drivers!$A$25:$F$25,0),0)*$F332)","v":56232.268166544527},{"$f":"IF($F332=\"\",0,VLOOKUP($E332,Drivers!$A$26:$F$48,MATCH(J$1,Drivers!$A$25:$F$25,0),0)*$F332)","v":58558.030954406931},{"$f":"IF($F332=\"\",0,VLOOKUP($E332,Drivers!$A$26:$F$48,MATCH(K$1,Drivers!$A$25:$F$25,0),0)*$F332)","v":60389.222152039307}]
["TRIBUTOS_E_TAXAS_FISCAIS",1001,"CONSELHO DE ADMINISTRAÇÃO",{"$f":"VLOOKUP(B333,Centro_Custo!$A$2:$C$36,3)","v":"Encargos de Gestão"},"Fixo",{"$f":"SUMIFS('Classificação OPEX'!$O$4:$O$1666,'Classificação OPEX'!$Q$4:$Q$1666,\"N\",'Classificação OPEX'!$S$4:$S$1666,\"NÃO\",'Classificação OPEX'!$V$4:$V$1666,DRIVER_OPEX!A333,'Classificação OPEX'!$W$4:$W$1666,DRIVER_OPEX!B333)","v":0},{"$f":"IF($F333=\"\",0,VLOOKUP($E333,Drivers!$A$26:$F$48,MATCH(G$1,Drivers!$A$25:$F$25,0),0)*$F333)","v":0},{"$f":"IF($F333=\"\",0,VLOOKUP($E333,Drivers!$A$26:$F$48,MATCH(H$1,Drivers!$A$25:$F$25,0),0)*$F333)","v":0},{"$f":"IF($F333=\"\",0,VLOOKUP($E333,Drivers!$A$26:$F$48,MATCH(I$1,Drivers!$A$25:$F$25,0),0)*$F333)","v":0},{"$f":"IF($F333=\"\",0,VLOOKUP($E333,Drivers!$A$26:$F$48,MATCH(J$1,Drivers!$A$25:$F$25,0),0)*$F333)","v":0},{"$f":"IF($F333=\"\",0,VLOOKUP($E333,Drivers!$A$26:$F$48,MATCH(K$1,Drivers!$A$25:$F$25,0),0)*$F333)","v":0}]
["TRIBUTOS_E_TAXAS_FISCAIS",1002,"CONSELHO FISCAL",{"$f":"VLOOKUP(B334,Centro_Custo!$A$2:$C$36,3)","v":"Encargos de Gestão"},"Fixo",{"$f":"SUMIFS('Classificação OPEX'!$O$4:$O$1666,'Classificação OPEX'!$Q$4:$Q$1666,\"N\",'Classificação OPEX'!$S$4:$S$1666,\"NÃO\",'Classificação OPEX'!$V$4:$V$1666,DRIVER_OPEX!A334,'Classificação OPEX'!$W$4:$W$1666,DRIVER_OPEX!B334)","v":0},{"$f":"IF($F334=\"\",0,VLOOKUP($E334,Drivers!$A$26:$F$48,MATCH(G$1,Drivers!$A$25:$F$25,0),0)*$F334)","v":0},{"$f":"IF($F334=\"\",0,VLOOKUP($E334,Drivers!$A$26:$F$48,MATCH(H$1,Drivers!$A$25:$F$25,0),0)*$F334)","v":0},{"$f":"IF($F334=\"\",0,VLOOKUP($E334,Drivers!$A$26:$F$48,MATCH(I$1,Drivers!$A$25:$F$25,0),0)*$F334)","v":0},{"$f":"IF($F334=\"\",0,VLOOKUP($E334,Drivers!$A$26:$F$48,MATCH(J$1,Drivers!$A$25:$F$25,0),0)*$F334)","v":0},{"$f":"IF($F334=\"\",0,VLOOKUP($E334,Drivers!$A$26:$F$48,MATCH(K$1,Drivers!$A$25:$F$25,0),0)*$F334)","v":0}]
["TRIBUTOS_E_TAXAS_FISCAIS",1003,"COMITÊ DE INDICAÇÃO E AVALIAÇÃO",{"$f":"VLOOKUP(B335,Centro_Custo!$A$2:$C$36,3)","v":"Encargos de Gestão"},"Fixo",{"$f":"SUMIFS('Classificação OPEX'!$O$4:$O$1666,'Classificação OPEX'!$Q$4:$Q$1666,\"N\",'Classificação OPEX'!$S$4:$S$1666,\"NÃO\",'Classificação OPEX'!$V$4:$V$1666,DRIVER_OPEX!A335,'Classificação OPEX'!$W$4:$W$1666,DRIVER_OPEX!B335)","v":0},{"$f":"IF($F335=\"\",0,VLOOKUP($E335,Drivers!$A$26:$F$48,MATCH(G$1,Drivers!$A$25:$F$25,0),0)*$F335)","v":0},{"$f":"IF($F335=\"\",0,VLOOKUP($E335,Drivers!$A$26:$F$48,MATCH(H$1,Drivers!$A$25:$F$25,0),0)*$F335)","v":0},{"$f":"IF($F335=\"\",0,VLOOKUP($E335,Drivers!$A$26:$F$48,MATCH(I$1,Drivers!$A$25:$F$25,0),0)*$F335)","v":0},{"$f":"IF($F335=\"\",0,VLOOKUP($E335,Drivers!$A$26:$F$48,MATCH(J$1,Drivers!$A$25:$F$25,0),0)*$F335)","v":0},{"$f":"IF($F335=\"\",0,VLOOKUP($E335,Drivers!$A$26:$F$48,MATCH(K$1,Drivers!$A$25:$F$25,0),0)*$F335)","v":0}]
["TRIBUTOS_E_TAXAS_FISCAIS",1004,"COMITÊ DE AUDITORIA ESTATUTÁRIA",{"$f":"VLOOKUP(B336,Centro_Custo!$A$2:$C$36,3)","v":"Encargos de Gestão"},"Fixo",{"$f":"SUMIFS('Classificação OPEX'!$O$4:$O$1666,'Classificação OPEX'!$Q$4:$Q$1666,\"N\",'Classificação OPEX'!$S$4:$S$1666,\"NÃO\",'Classificação OPEX'!$V$4:$V$1666,DRIVER_OPEX!A336,'Classificação OPEX'!$W$4:$W$1666,DRIVER_OPEX!B336)","v":0},{"$f":"IF($F336=\"\",0,VLOOKUP($E336,Drivers!$A$26:$F$48,MATCH(G$1,Drivers!$A$25:$F$25,0),0)*$F336)","v":0},{"$f":"IF($F336=\"\",0,VLOOKUP($E336,Drivers!$A$26:$F$48,MATCH(H$1,Drivers!$A$25:$F$25,0),0)*$F336)","v":0},{"$f":"IF($F336=\"\",0,VLOOKUP($E336,Drivers!$A$26:$F$48,MATCH(I$1,Drivers!$A$25:$F$25,0),0)*$F336)","v":0},{"$f":"IF($F336=\"\",0,VLOOKUP($E336,Drivers!$A$26:$F$48,MATCH(J$1,Drivers!$A$25:$F$25,0),0)*$F336)","v":0},{"$f":"IF($F336=\"\",0,VLOOKUP($E336,Drivers!$A$26:$F$48,MATCH(K$1,Drivers!$A$25:$F$25,0),0)*$F336)","v":0}]
["TRIBUTOS_E_TAXAS_FISCAIS",1005,"AUDITORIA INTERNA",{"$f":"VLOOKUP(B337,Centro_Custo!$A$2:$C$36,3)","v":"Encargos de Gestão"},"Fixo",{"$f":"SUMIFS('Classificação OPEX'!$O$4:$O$1666,'Classificação OPEX'!$Q$4:$Q$1666,\"N\",'Classificação OPEX'!$S$4:$S$1666,\"NÃO\",'Classificação OPEX'!$V$4:$V$1666,DRIVER_OPEX!A337,'Classificação OPEX'!$W$4:$W$1666,DRIVER_OPEX!B337)","v":626.82025628822862},{"$f":"IF($F337=\"\",0,VLOOKUP($E337,Drivers!$A$26:$F$48,MATCH(G$1,Drivers!$A$25:$F$25,0),0)*$F337)","v":626.82025628822862},{"$f":"IF($F337=\"\",0,VLOOKUP($E337,Drivers!$A$26:$F$48,MATCH(H$1,Drivers!$A$25:$F$25,0),0)*$F337)","v":626.82025628822862},{"$f":"IF($F337=\"\",0,VLOOKUP($E337,Drivers!$A$26:$F$48,MATCH(I$1,Drivers!$A$25:$F$25,0),0)*$F337)","v":626.82025628822862},{"$f":"IF($F337=\"\",0,VLOOKUP($E337,Drivers!$A$26:$F$48,MATCH(J$1,Drivers!$A$25:$F$25,0),0)*$F337)","v":626.82025628822862},{"$f":"IF($F337=\"\",0,VLOOKUP($E337,Drivers!$A$26:$F$48,MATCH(K$1,Drivers!$A$25:$F$25,0),0)*$F337)","v":626.82025628822862}]
["TRIBUTOS_E_TAXAS_FISCAIS",1010,"GOVERNANÇA SOCIETÁRIA",{"$f":"VLOOKUP(B338,Centro_Custo!$A$2:$C$36,3)","v":"Encargos de Gestão"},"Fixo",{"$f":"SUMIFS('Classificação OPEX'!$O$4:$O$1666,'Classificação OPEX'!$Q$4:$Q$1666,\"N\",'Classificação OPEX'!$S$4:$S$1666,\"NÃO\",'Classificação OPEX'!$V$4:$V$1666,DRIVER_OPEX!A338,'Classificação OPEX'!$W$4:$W$1666,DRIVER_OPEX!B338)","v":0},{"$f":"IF($F338=\"\",0,VLOOKUP($E338,Drivers!$A$26:$F$48,MATCH(G$1,Drivers!$A$25:$F$25,0),0)*$F338)","v":0},{"$f":"IF($F338=\"\",0,VLOOKUP($E338,Drivers!$A$26:$F$48,MATCH(H$1,Drivers!$A$25:$F$25,0),0)*$F338)","v":0},{"$f":"IF($F338=\"\",0,VLOOKUP($E338,Drivers!$A$26:$F$48,MATCH(I$1,Drivers!$A$25:$F$25,0),0)*$F338)","v":0},{"$f":"IF($F338=\"\",0,VLOOKUP($E338,Drivers!$A$26:$F$48,MATCH(J$1,Drivers!$A$25:$F$25,0),0)*$F338)","v":0},{"$f":"IF($F338=\"\",0,VLOOKUP($E338,Drivers!$A$26:$F$48,MATCH(K$1,Drivers!$A$25:$F$25,0),0)*$F338)","v":0}]
["TRIBUTOS_E_TAXAS_FISCAIS",2100,"SECRETARIA",{"$f":"VLOOKUP(B339,Centro_Custo!$A$2:$C$36,3)","v":"Encargos de Gestão"},"Fixo",{"$f":"SUMIFS('Classificação OPEX'!$O$4:$O$1666,'Classificação OPEX'!$Q$4:$Q$1666,\"N\",'Classificação OPEX'!$S$4:$S$1666,\"NÃO\",'Classificação OPEX'!$V$4:$V$1666,DRIVER_OPEX!A339,'Classificação OPEX'!$W$4:$W$1666,DRIVER_OPEX!B339)","v":931.26343736606964},{"$f":"IF($F339=\"\",0,VLOOKUP($E339,Drivers!$A$26:$F$48,MATCH(G$1,Drivers!$A$25:$F$25,0),0)*$F339)","v":931.26343736606964},{"$f":"IF($F339=\"\",0,VLOOKUP($E339,Drivers!$A$26:$F$48,MATCH(H$1,Drivers!$A$25:$F$25,0),0)*$F339)","v":931.26343736606964},{"$f":"IF($F339=\"\",0,VLOOKUP($E339,Drivers!$A$26:$F$48,MATCH(I$1,Drivers!$A$25:$F$25,0),0)*$F339)","v":931.26343736606964},{"$f":"IF($F339=\"\",0,VLOOKUP($E339,Drivers!$A$26:$F$48,MATCH(J$1,Drivers!$A$25:$F$25,0),0)*$F339)","v":931.26343736606964},{"$f":"IF($F339=\"\",0,VLOOKUP($E339,Drivers!$A$26:$F$48,MATCH(K$1,Drivers!$A$25:$F$25,0),0)*$F339)","v":931.26343736606964}]
["TRIBUTOS_E_TAXAS_FISCAIS",2110,"ASSESSORIA DA DIRETORIA EXECUTIVA",{"$f":"VLOOKUP(B340,Centro_Custo!$A$2:$C$36,3)","v":"Encargos de Gestão"},"Fixo",{"$f":"SUMIFS('Classificação OPEX'!$O$4:$O$1666,'Classificação OPEX'!$Q$4:$Q$1666,\"N\",'Classificação OPEX'!$S$4:$S$1666,\"NÃO\",'Classificação OPEX'!$V$4:$V$1666,DRIVER_OPEX!A340,'Classificação OPEX'!$W$4:$W$1666,DRIVER_OPEX!B340)","v":2078.6225825325096},{"$f":"IF($F340=\"\",0,VLOOKUP($E340,Drivers!$A$26:$F$48,MATCH(G$1,Drivers!$A$25:$F$25,0),0)*$F340)","v":2078.6225825325096},{"$f":"IF($F340=\"\",0,VLOOKUP($E340,Drivers!$A$26:$F$48,MATCH(H$1,Drivers!$A$25:$F$25,0),0)*$F340)","v":2078.6225825325096},{"$f":"IF($F340=\"\",0,VLOOKUP($E340,Drivers!$A$26:$F$48,MATCH(I$1,Drivers!$A$25:$F$25,0),0)*$F340)","v":2078.6225825325096},{"$f":"IF($F340=\"\",0,VLOOKUP($E340,Drivers!$A$26:$F$48,MATCH(J$1,Drivers!$A$25:$F$25,0),0)*$F340)","v":2078.6225825325096},{"$f":"IF($F340=\"\",0,VLOOKUP($E340,Drivers!$A$26:$F$48,MATCH(K$1,Drivers!$A$25:$F$25,0),0)*$F340)","v":2078.6225825325096}]
["TRIBUTOS_E_TAXAS_FISCAIS",2120,"ASSESSORIA DA PRESIDÊNCIA",{"$f":"VLOOKUP(B341,Centro_Custo!$A$2:$C$36,3)","v":"Encargos de Gestão"},"Fixo",{"$f":"SUMIFS('Classificação OPEX'!$O$4:$O$1666,'Classificação OPEX'!$Q$4:$Q$1666,\"N\",'Classificação OPEX'!$S$4:$S$1666,\"NÃO\",'Classificação OPEX'!$V$4:$V$1666,DRIVER_OPEX!A341,'Classificação OPEX'!$W$4:$W$1666,DRIVER_OPEX!B341)","v":1890.115031559121},{"$f":"IF($F341=\"\",0,VLOOKUP($E341,Drivers!$A$26:$F$48,MATCH(G$1,Drivers!$A$25:$F$25,0),0)*$F341)","v":1890.115031559121},{"$f":"IF($F341=\"\",0,VLOOKUP($E341,Drivers!$A$26:$F$48,MATCH(H$1,Drivers!$A$25:$F$25,0),0)*$F341)","v":1890.115031559121},{"$f":"IF($F341=\"\",0,VLOOKUP($E341,Drivers!$A$26:$F$48,MATCH(I$1,Drivers!$A$25:$F$25,0),0)*$F341)","v":1890.115031559121},{"$f":"IF($F341=\"\",0,VLOOKUP($E341,Drivers!$A$26:$F$48,MATCH(J$1,Drivers!$A$25:$F$25,0),0)*$F341)","v":1890.115031559121},{"$f":"IF($F341=\"\",0,VLOOKUP($E341,Drivers!$A$26:$F$48,MATCH(K$1,Drivers!$A$25:$F$25,0),0)*$F341)","v":1890.115031559121}]
["TRIBUTOS_E_TAXAS_FISCAIS",2130,"ASSESSORIA DE RELAÇÕES INSTITUCIONAIS E NOVOS NEGÓCIOS",{"$f":"VLOOKUP(B342,Centro_Custo!$A$2:$C$36,3)","v":"Encargos de Gestão"},"Fixo",{"$f":"SUMIFS('Classificação OPEX'!$O$4:$O$1666,'Classificação OPEX'!$Q$4:$Q$1666,\"N\",'Classificação OPEX'!$S$4:$S$1666,\"NÃO\",'Classificação OPEX'!$V$4:$V$1666,DRIVER_OPEX!A342,'Classificação OPEX'!$W$4:$W$1666,DRIVER_OPEX!B342)","v":0},{"$f":"IF($F342=\"\",0,VLOOKUP($E342,Drivers!$A$26:$F$48,MATCH(G$1,Drivers!$A$25:$F$25,0),0)*$F342)","v":0},{"$f":"IF($F342=\"\",0,VLOOKUP($E342,Drivers!$A$26:$F$48,MATCH(H$1,Drivers!$A$25:$F$25,0),0)*$F342)","v":0},{"$f":"IF($F342=\"\",0,VLOOKUP($E342,Drivers!$A$26:$F$48,MATCH(I$1,Drivers!$A$25:$F$25,0),0)*$F342)","v":0},{"$f":"IF($F342=\"\",0,VLOOKUP($E342,Drivers!$A$26:$F$48,MATCH(J$1,Drivers!$A$25:$F$25,0),0)*$F342)","v":0},{"$f":"IF($F342=\"\",0,VLOOKUP($E342,Drivers!$A$26:$F$48,MATCH(K$1,Drivers!$A$25:$F$25,0),0)*$F342)","v":0}]
["TRIBUTOS_E_TAXAS_FISCAIS",2140,"ASSESSORIA DTC",{"$f":"VLOOKUP(B343,Centro_Custo!$A$2:$C$36,3)","v":"Encargos de Comercialização"},"Fixo",{"$f":"SUMIFS('Classificação OPEX'!$O$4:$O$1666,'Classificação OPEX'!$Q$4:$Q$1666,\"N\",'Classificação OPEX'!$S$4:$S$1666,\"NÃO\",'Classificação OPEX'!$V$4:$V$1666,DRIVER_OPEX!A343,'Classificação OPEX'!$W$4:$W$1666,DRIVER_OPEX!B343)","v":0},{"$f":"IF($F343=\"\",0,VLOOKUP($E343,Drivers!$A$26:$F$48,MATCH(G$1,Drivers!$A$25:$F$25,0),0)*$F343)","v":0},{"$f":"IF($F343=\"\",0,VLOOKUP($E343,Drivers!$A$26:$F$48,MATCH(H$1,Drivers!$A$25:$F$25,0),0)*$F343)","v":0},{"$f":"IF($F343=\"\",0,VLOOKUP($E343,Drivers!$A$26:$F$48,MATCH(I$1,Drivers!$A$25:$F$25,0),0)*$F343)","v":0},{"$f":"IF($F343=\"\",0,VLOOKUP($E343,Drivers!$A$26:$F$48,MATCH(J$1,Drivers!$A$25:$F$25,0),0)*$F343)","v":0},{"$f":"IF($F343=\"\",0,VLOOKUP($E343,Drivers!$A$26:$F$48,MATCH(K$1,Drivers!$A$25:$F$25,0),0)*$F343)","v":0}]
["TRIBUTOS_E_TAXAS_FISCAIS",2200,"DIRETORIA COLEGIADA - PRESIDÊNCIA",{"$f":"VLOOKUP(B344,Centro_Custo!$A$2:$C$36,3)","v":"Encargos de Gestão"},"Fixo",{"$f":"SUMIFS('Classificação OPEX'!$O$4:$O$1666,'Classificação OPEX'!$Q$4:$Q$1666,\"N\",'Classificação OPEX'!$S$4:$S$1666,\"NÃO\",'Classificação OPEX'!$V$4:$V$1666,DRIVER_OPEX!A344,'Classificação OPEX'!$W$4:$W$1666,DRIVER_OPEX!B344)","v":4313.1967799425147},{"$f":"IF($F344=\"\",0,VLOOKUP($E344,Drivers!$A$26:$F$48,MATCH(G$1,Drivers!$A$25:$F$25,0),0)*$F344)","v":4313.1967799425147},{"$f":"IF($F344=\"\",0,VLOOKUP($E344,Drivers!$A$26:$F$48,MATCH(H$1,Drivers!$A$25:$F$25,0),0)*$F344)","v":4313.1967799425147},{"$f":"IF($F344=\"\",0,VLOOKUP($E344,Drivers!$A$26:$F$48,MATCH(I$1,Drivers!$A$25:$F$25,0),0)*$F344)","v":4313.1967799425147},{"$f":"IF($F344=\"\",0,VLOOKUP($E344,Drivers!$A$26:$F$48,MATCH(J$1,Drivers!$A$25:$F$25,0),0)*$F344)","v":4313.1967799425147},{"$f":"IF($F344=\"\",0,VLOOKUP($E344,Drivers!$A$26:$F$48,MATCH(K$1,Drivers!$A$25:$F$25,0),0)*$F344)","v":4313.1967799425147}]
["TRIBUTOS_E_TAXAS_FISCAIS",2300,"DIRETORIA COLEGIADA - DAF",{"$f":"VLOOKUP(B345,Centro_Custo!$A$2:$C$36,3)","v":"Encargos de Gestão"},"Fixo",{"$f":"SUMIFS('Classificação OPEX'!$O$4:$O$1666,'Classificação OPEX'!$Q$4:$Q$1666,\"N\",'Classificação OPEX'!$S$4:$S$1666,\"NÃO\",'Classificação OPEX'!$V$4:$V$1666,DRIVER_OPEX!A345,'Classificação OPEX'!$W$4:$W$1666,DRIVER_OPEX!B345)","v":992.5989534453231},{"$f":"IF($F345=\"\",0,VLOOKUP($E345,Drivers!$A$26:$F$48,MATCH(G$1,Drivers!$A$25:$F$25,0),0)*$F345)","v":992.5989534453231},{"$f":"IF($F345=\"\",0,VLOOKUP($E345,Drivers!$A$26:$F$48,MATCH(H$1,Drivers!$A$25:$F$25,0),0)*$F345)","v":992.5989534453231},{"$f":"IF($F345=\"\",0,VLOOKUP($E345,Drivers!$A$26:$F$48,MATCH(I$1,Drivers!$A$25:$F$25,0),0)*$F345)","v":992.5989534453231},{"$f":"IF($F345=\"\",0,VLOOKUP($E345,Drivers!$A$26:$F$48,MATCH(J$1,Drivers!$A$25:$F$25,0),0)*$F345)","v":992.5989534453231},{"$f":"IF($F345=\"\",0,VLOOKUP($E345,Drivers!$A$26:$F$48,MATCH(K$1,Drivers!$A$25:$F$25,0),0)*$F345)","v":992.5989534453231}]
["TRIBUTOS_E_TAXAS_FISCAIS",2310,"ASSESSORIA DAF",{"$f":"VLOOKUP(B346,Centro_Custo!$A$2:$C$36,3)","v":"Encargos de Gestão"},"Fixo",{"$f":"SUMIFS('Classificação OPEX'!$O$4:$O$1666,'Classificação OPEX'!$Q$4:$Q$1666,\"N\",'Classificação OPEX'!$S$4:$S$1666,\"NÃO\",'Classificação OPEX'!$V$4:$V$1666,DRIVER_OPEX!A346,'Classificação OPEX'!$W$4:$W$1666,DRIVER_OPEX!B346)","v":626.82025628822862},{"$f":"IF($F346=\"\",0,VLOOKUP($E346,Drivers!$A$26:$F$48,MATCH(G$1,Drivers!$A$25:$F$25,0),0)*$F346)","v":626.82025628822862},{"$f":"IF($F346=\"\",0,VLOOKUP($E346,Drivers!$A$26:$F$48,MATCH(H$1,Drivers!$A$25:$F$25,0),0)*$F346)","v":626.82025628822862},{"$f":"IF($F346=\"\",0,VLOOKUP($E346,Drivers!$A$26:$F$48,MATCH(I$1,Drivers!$A$25:$F$25,0),0)*$F346)","v":626.82025628822862},{"$f":"IF($F346=\"\",0,VLOOKUP($E346,Drivers!$A$26:$F$48,MATCH(J$1,Drivers!$A$25:$F$25,0),0)*$F346)","v":626.82025628822862},{"$f":"IF($F346=\"\",0,VLOOKUP($E346,Drivers!$A$26:$F$48,MATCH(K$1,Drivers!$A$25:$F$25,0),0)*$F346)","v":626.82025628822862}]
["TRIBUTOS_E_TAXAS_FISCAIS",2400,"DIRETORIA COLEGIADA - DTC",{"$f":"VLOOKUP(B347,Centro_Custo!$A$2:$C$36,3)","v":"Encargos de Comercialização"},"Fixo",{"$f":"SUMIFS('Classificação OPEX'!$O$4:$O$1666,'Classificação OPEX'!$Q$4:$Q$1666,\"N\",'Classificação OPEX'!$S$4:$S$1666,\"NÃO\",'Classificação OPEX'!$V$4:$V$1666,DRIVER_OPEX!A347,'Classificação OPEX'!$W$4:$W$1666,DRIVER_OPEX!B347)","v":992.5989534453231},{"$f":"IF($F347=\"\",0,VLOOKUP($E347,Drivers!$A$26:$F$48,MATCH(G$1,Drivers!$A$25:$F$25,0),0)*$F347)","v":992.5989534453231},{"$f":"IF($F347=\"\",0,VLOOKUP($E347,Drivers!$A$26:$F$48,MATCH(H$1,Drivers!$A$25:$F$25,0),0)*$F347)","v":992.5989534453231},{"$f":"IF($F347=\"\",0,VLOOKUP($E347,Drivers!$A$26:$F$48,MATCH(I$1,Drivers!$A$25:$F$25,0),0)*$F347)","v":992.5989534453231},{"$f":"IF($F347=\"\",0,VLOOKUP($E347,Drivers!$A$26:$F$48,MATCH(J$1,Drivers!$A$25:$F$25,0),0)*$F347)","v":992.5989534453231},{"$f":"IF($F347=\"\",0,VLOOKUP($E347,Drivers!$A$26:$F$48,MATCH(K$1,Drivers!$A$25:$F$25,0),0)*$F347)","v":992.5989534453231}]
["TRIBUTOS_E_TAXAS_FISCAIS",2410,"ASSESSORIA DE SEGURANÇA DO TRABALHO",{"$f":"VLOOKUP(B348,Centro_Custo!$A$2:$C$36,3)","v":"OPEX&ODESP"},"Fixo",{"$f":"SUMIFS('Classificação OPEX'!$O$4:$O$1666,'Classificação OPEX'!$Q$4:$Q$1666,\"N\",'Classificação OPEX'!$S$4:$S$1666,\"NÃO\",'Classificação OPEX'!$V$4:$V$1666,DRIVER_OPEX!A348,'Classificação OPEX'!$W$4:$W$1666,DRIVER_OPEX!B348)","v":0},{"$f":"IF($F348=\"\",0,VLOOKUP($E348,Drivers!$A$26:$F$48,MATCH(G$1,Drivers!$A$25:$F$25,0),0)*$F348)","v":0},{"$f":"IF($F348=\"\",0,VLOOKUP($E348,Drivers!$A$26:$F$48,MATCH(H$1,Drivers!$A$25:$F$25,0),0)*$F348)","v":0},{"$f":"IF($F348=\"\",0,VLOOKUP($E348,Drivers!$A$26:$F$48,MATCH(I$1,Drivers!$A$25:$F$25,0),0)*$F348)","v":0},{"$f":"IF($F348=\"\",0,VLOOKUP($E348,Drivers!$A$26:$F$48,MATCH(J$1,Drivers!$A$25:$F$25,0),0)*$F348)","v":0},{"$f":"IF($F348=\"\",0,VLOOKUP($E348,Drivers!$A$26:$F$48,MATCH(K$1,Drivers!$A$25:$F$25,0),0)*$F348)","v":0}]
["TRIBUTOS_E_TAXAS_FISCAIS",3100,"SMS",{"$f":"VLOOKUP(B349,Centro_Custo!$A$2:$C$36,3)","v":"OPEX&ODESP"},"Fixo",{"$f":"SUMIFS('Classificação OPEX'!$O$4:$O$1666,'Classificação OPEX'!$Q$4:$Q$1666,\"N\",'Classificação OPEX'!$S$4:$S$1666,\"NÃO\",'Classificação OPEX'!$V$4:$V$1666,DRIVER_OPEX!A349,'Classificação OPEX'!$W$4:$W$1666,DRIVER_OPEX!B349)","v":5959.3629242780062},{"$f":"IF($F349=\"\",0,VLOOKUP($E349,Drivers!$A$26:$F$48,MATCH(G$1,Drivers!$A$25:$F$25,0),0)*$F349)","v":5959.3629242780062},{"$f":"IF($F349=\"\",0,VLOOKUP($E349,Drivers!$A$26:$F$48,MATCH(H$1,Drivers!$A$25:$F$25,0),0)*$F349)","v":5959.3629242780062},{"$f":"IF($F349=\"\",0,VLOOKUP($E349,Drivers!$A$26:$F$48,MATCH(I$1,Drivers!$A$25:$F$25,0),0)*$F349)","v":5959.3629242780062},{"$f":"IF($F349=\"\",0,VLOOKUP($E349,Drivers!$A$26:$F$48,MATCH(J$1,Drivers!$A$25:$F$25,0),0)*$F349)","v":5959.3629242780062},{"$f":"IF($F349=\"\",0,VLOOKUP($E349,Drivers!$A$26:$F$48,MATCH(K$1,Drivers!$A$25:$F$25,0),0)*$F349)","v":5959.3629242780062}]
["TRIBUTOS_E_TAXAS_FISCAIS",3300,"GERÊNCIA JURÍDICA",{"$f":"VLOOKUP(B350,Centro_Custo!$A$2:$C$36,3)","v":"Encargos de Gestão"},"Fixo",{"$f":"SUMIFS('Classificação OPEX'!$O$4:$O$1666,'Classificação OPEX'!$Q$4:$Q$1666,\"N\",'Classificação OPEX'!$S$4:$S$1666,\"NÃO\",'Classificação OPEX'!$V$4:$V$1666,DRIVER_OPEX!A350,'Classificação OPEX'!$W$4:$W$1666,DRIVER_OPEX!B350)","v":5530.4157055823762},{"$f":"IF($F350=\"\",0,VLOOKUP($E350,Drivers!$A$26:$F$48,MATCH(G$1,Drivers!$A$25:$F$25,0),0)*$F350)","v":5530.4157055823762},{"$f":"IF($F350=\"\",0,VLOOKUP($E350,Drivers!$A$26:$F$48,MATCH(H$1,Drivers!$A$25:$F$25,0),0)*$F350)","v":5530.4157055823762},{"$f":"IF($F350=\"\",0,VLOOKUP($E350,Drivers!$A$26:$F$48,MATCH(I$1,Drivers!$A$25:$F$25,0),0)*$F350)","v":5530.4157055823762},{"$f":"IF($F350=\"\",0,VLOOKUP($E350,Drivers!$A$26:$F$48,MATCH(J$1,Drivers!$A$25:$F$25,0),0)*$F350)","v":5530.4157055823762},{"$f":"IF($F350=\"\",0,VLOOKUP($E350,Drivers!$A$26:$F$48,MATCH(K$1,Drivers!$A$25:$F$25,0),0)*$F350)","v":5530.4157055823762}]
["TRIBUTOS_E_TAXAS_FISCAIS",3400,"MARKETING",{"$f":"VLOOKUP(B351,Centro_Custo!$A$2:$C$36,3)","v":"Encargos de Comercialização"},"Fixo",{"$f":"SUMIFS('Classificação OPEX'!$O$4:$O$1666,'Classificação OPEX'!$Q$4:$Q$1666,\"N\",'Classificação OPEX'!$S$4:$S$1666,\"NÃO\",'Classificação OPEX'!$V$4:$V$1666,DRIVER_OPEX!A351,'Classificação OPEX'!$W$4:$W$1666,DRIVER_OPEX!B351)","v":1857.4318895131532},{"$f":"IF($F351=\"\",0,VLOOKUP($E351,Drivers!$A$26:$F$48,MATCH(G$1,Drivers!$A$25:$F$25,0),0)*$F351)","v":1857.4318895131532},{"$f":"IF($F351=\"\",0,VLOOKUP($E351,Drivers!$A$26:$F$48,MATCH(H$1,Drivers!$A$25:$F$25,0),0)*$F351)","v":1857.4318895131532},{"$f":"IF($F351=\"\",0,VLOOKUP($E351,Drivers!$A$26:$F$48,MATCH(I$1,Drivers!$A$25:$F$25,0),0)*$F351)","v":1857.4318895131532},{"$f":"IF($F351=\"\",0,VLOOKUP($E351,Drivers!$A$26:$F$48,MATCH(J$1,Drivers!$A$25:$F$25,0),0)*$F351)","v":1857.4318895131532},{"$f":"IF($F351=\"\",0,VLOOKUP($E351,Drivers!$A$26:$F$48,MATCH(K$1,Drivers!$A$25:$F$25,0),0)*$F351)","v":1857.4318895131532}]
["TRIBUTOS_E_TAXAS_FISCAIS",3500,"ASSESSORIA DE COMUNICAÇÃO INSTITUCIONAL",{"$f":"VLOOKUP(B352,Centro_Custo!$A$2:$C$36,3)","v":"Encargos de Gestão"},"Fixo",{"$f":"SUMIFS('Classificação OPEX'!$O$4:$O$1666,'Classificação OPEX'!$Q$4:$Q$1666,\"N\",'Classificação OPEX'!$S$4:$S$1666,\"NÃO\",'Classificação OPEX'!$V$4:$V$1666,DRIVER_OPEX!A352,'Classificação OPEX'!$W$4:$W$1666,DRIVER_OPEX!B352)","v":4143.1403374824513},{"$f":"IF($F352=\"\",0,VLOOKUP($E352,Drivers!$A$26:$F$48,MATCH(G$1,Drivers!$A$25:$F$25,0),0)*$F352)","v":4143.1403374824513},{"$f":"IF($F352=\"\",0,VLOOKUP($E352,Drivers!$A$26:$F$48,MATCH(H$1,Drivers!$A$25:$F$25,0),0)*$F352)","v":4143.1403374824513},{"$f":"IF($F352=\"\",0,VLOOKUP($E352,Drivers!$A$26:$F$48,MATCH(I$1,Drivers!$A$25:$F$25,0),0)*$F352)","v":4143.1403374824513},{"$f":"IF($F352=\"\",0,VLOOKUP($E352,Drivers!$A$26:$F$48,MATCH(J$1,Drivers!$A$25:$F$25,0),0)*$F352)","v":4143.1403374824513},{"$f":"IF($F352=\"\",0,VLOOKUP($E352,Drivers!$A$26:$F$48,MATCH(K$1,Drivers!$A$25:$F$25,0),0)*$F352)","v":4143.1403374824513}]
["TRIBUTOS_E_TAXAS_FISCAIS",3700,"GERÊNCIA DE REGULAÇÃO",{"$f":"VLOOKUP(B353,Centro_Custo!$A$2:$C$36,3)","v":"Encargos de Gestão"},"Fixo",{"$f":"SUMIFS('Classificação OPEX'!$O$4:$O$1666,'Classificação OPEX'!$Q$4:$Q$1666,\"N\",'Classificação OPEX'!$S$4:$S$1666,\"NÃO\",'Classificação OPEX'!$V$4:$V$1666,DRIVER_OPEX!A353,'Classificação OPEX'!$W$4:$W$1666,DRIVER_OPEX!B353)","v":0},{"$f":"IF($F353=\"\",0,VLOOKUP($E353,Drivers!$A$26:$F$48,MATCH(G$1,Drivers!$A$25:$F$25,0),0)*$F353)","v":0},{"$f":"IF($F353=\"\",0,VLOOKUP($E353,Drivers!$A$26:$F$48,MATCH(H$1,Drivers!$A$25:$F$25,0),0)*$F353)","v":0},{"$f":"IF($F353=\"\",0,VLOOKUP($E353,Drivers!$A$26:$F$48,MATCH(I$1,Drivers!$A$25:$F$25,0),0)*$F353)","v":0},{"$f":"IF($F353=\"\",0,VLOOKUP($E353,Drivers!$A$26:$F$48,MATCH(J$1,Drivers!$A$25:$F$25,0),0)*$F353)","v":0},{"$f":"IF($F353=\"\",0,VLOOKUP($E353,Drivers!$A$26:$F$48,MATCH(K$1,Drivers!$A$25:$F$25,0),0)*$F353)","v":0}]
["TRIBUTOS_E_TAXAS_FISCAIS",4200,"GERÊNCIA FINANCEIRA",{"$f":"VLOOKUP(B354,Centro_Custo!$A$2:$C$36,3)","v":"Encargos de Gestão"},"Fixo",{"$f":"SUMIFS('Classificação OPEX'!$O$4:$O$1666,'Classificação OPEX'!$Q$4:$Q$1666,\"N\",'Classificação OPEX'!$S$4:$S$1666,\"NÃO\",'Classificação OPEX'!$V$4:$V$1666,DRIVER_OPEX!A354,'Classificação OPEX'!$W$4:$W$1666,DRIVER_OPEX!B354)","v":11228.48845420187},{"$f":"IF($F354=\"\",0,VLOOKUP($E354,Drivers!$A$26:$F$48,MATCH(G$1,Drivers!$A$25:$F$25,0),0)*$F354)","v":11228.48845420187},{"$f":"IF($F354=\"\",0,VLOOKUP($E354,Drivers!$A$26:$F$48,MATCH(H$1,Drivers!$A$25:$F$25,0),0)*$F354)","v":11228.48845420187},{"$f":"IF($F354=\"\",0,VLOOKUP($E354,Drivers!$A$26:$F$48,MATCH(I$1,Drivers!$A$25:$F$25,0),0)*$F354)","v":11228.48845420187},{"$f":"IF($F354=\"\",0,VLOOKUP($E354,Drivers!$A$26:$F$48,MATCH(J$1,Drivers!$A$25:$F$25,0),0)*$F354)","v":11228.48845420187},{"$f":"IF($F354=\"\",0,VLOOKUP($E354,Drivers!$A$26:$F$48,MATCH(K$1,Drivers!$A$25:$F$25,0),0)*$F354)","v":11228.48845420187}]
["TRIBUTOS_E_TAXAS_FISCAIS",4300,"GERÊNCIA DE TECNOLOGIA E SISTEMAS DE INFORMAÇÃO",{"$f":"VLOOKUP(B355,Centro_Custo!$A$2:$C$36,3)","v":"Encargos de Gestão"},"Fixo",{"$f":"SUMIFS('Classificação OPEX'!$O$4:$O$1666,'Classificação OPEX'!$Q$4:$Q$1666,\"N\",'Classificação OPEX'!$S$4:$S$1666,\"NÃO\",'Classificação OPEX'!$V$4:$V$1666,DRIVER_OPEX!A355,'Classificação OPEX'!$W$4:$W$1666,DRIVER_OPEX!B355)","v":12553.610532423165},{"$f":"IF($F355=\"\",0,VLOOKUP($E355,Drivers!$A$26:$F$48,MATCH(G$1,Drivers!$A$25:$F$25,0),0)*$F355)","v":12553.610532423165},{"$f":"IF($F355=\"\",0,VLOOKUP($E355,Drivers!$A$26:$F$48,MATCH(H$1,Drivers!$A$25:$F$25,0),0)*$F355)","v":12553.610532423165},{"$f":"IF($F355=\"\",0,VLOOKUP($E355,Drivers!$A$26:$F$48,MATCH(I$1,Drivers!$A$25:$F$25,0),0)*$F355)","v":12553.610532423165},{"$f":"IF($F355=\"\",0,VLOOKUP($E355,Drivers!$A$26:$F$48,MATCH(J$1,Drivers!$A$25:$F$25,0),0)*$F355)","v":12553.610532423165},{"$f":"IF($F355=\"\",0,VLOOKUP($E355,Drivers!$A$26:$F$48,MATCH(K$1,Drivers!$A$25:$F$25,0),0)*$F355)","v":12553.610532423165}]
["TRIBUTOS_E_TAXAS_FISCAIS",4500,"GERÊNCIA CONTÁBIL",{"$f":"VLOOKUP(B356,Centro_Custo!$A$2:$C$36,3)","v":"Encargos de Gestão"},"Fixo",{"$f":"SUMIFS('Classificação OPEX'!$O$4:$O$1666,'Classificação OPEX'!$Q$4:$Q$1666,\"N\",'Classificação OPEX'!$S$4:$S$1666,\"NÃO\",'Classificação OPEX'!$V$4:$V$1666,DRIVER_OPEX!A356,'Classificação OPEX'!$W$4:$W$1666,DRIVER_OPEX!B356)","v":7767.6740159486144},{"$f":"IF($F356=\"\",0,VLOOKUP($E356,Drivers!$A$26:$F$48,MATCH(G$1,Drivers!$A$25:$F$25,0),0)*$F356)","v":7767.6740159486144},{"$f":"IF($F356=\"\",0,VLOOKUP($E356,Drivers!$A$26:$F$48,MATCH(H$1,Drivers!$A$25:$F$25,0),0)*$F356)","v":7767.6740159486144},{"$f":"IF($F356=\"\",0,VLOOKUP($E356,Drivers!$A$26:$F$48,MATCH(I$1,Drivers!$A$25:$F$25,0),0)*$F356)","v":7767.6740159486144},{"$f":"IF($F356=\"\",0,VLOOKUP($E356,Drivers!$A$26:$F$48,MATCH(J$1,Drivers!$A$25:$F$25,0),0)*$F356)","v":7767.6740159486144},{"$f":"IF($F356=\"\",0,VLOOKUP($E356,Drivers!$A$26:$F$48,MATCH(K$1,Drivers!$A$25:$F$25,0),0)*$F356)","v":7767.6740159486144}]
["TRIBUTOS_E_TAXAS_FISCAIS",4600,"GERÊNCIA DE PESSOAS E CULTURA",{"$f":"VLOOKUP(B357,Centro_Custo!$A$2:$C$36,3)","v":"Encargos de Gestão"},"Fixo",{"$f":"SUMIFS('Classificação OPEX'!$O$4:$O$1666,'Classificação OPEX'!$Q$4:$Q$1666,\"N\",'Classificação OPEX'!$S$4:$S$1666,\"NÃO\",'Classificação OPEX'!$V$4:$V$1666,DRIVER_OPEX!A357,'Classificação OPEX'!$W$4:$W$1666,DRIVER_OPEX!B357)","v":1857.4318895131532},{"$f":"IF($F357=\"\",0,VLOOKUP($E357,Drivers!$A$26:$F$48,MATCH(G$1,Drivers!$A$25:$F$25,0),0)*$F357)","v":1857.4318895131532},{"$f":"IF($F357=\"\",0,VLOOKUP($E357,Drivers!$A$26:$F$48,MATCH(H$1,Drivers!$A$25:$F$25,0),0)*$F357)","v":1857.4318895131532},{"$f":"IF($F357=\"\",0,VLOOKUP($E357,Drivers!$A$26:$F$48,MATCH(I$1,Drivers!$A$25:$F$25,0),0)*$F357)","v":1857.4318895131532},{"$f":"IF($F357=\"\",0,VLOOKUP($E357,Drivers!$A$26:$F$48,MATCH(J$1,Drivers!$A$25:$F$25,0),0)*$F357)","v":1857.4318895131532},{"$f":"IF($F357=\"\",0,VLOOKUP($E357,Drivers!$A$26:$F$48,MATCH(K$1,Drivers!$A$25:$F$25,0),0)*$F357)","v":1857.4318895131532}]
["TRIBUTOS_E_TAXAS_FISCAIS",5100,"GERÊNCIA DE ENGENHARIA",{"$f":"VLOOKUP(B358,Centro_Custo!$A$2:$C$36,3)","v":"OPEX&ODESP"},"Fixo",{"$f":"SUMIFS('Classificação OPEX'!$O$4:$O$1666,'Classificação OPEX'!$Q$4:$Q$1666,\"N\",'Classificação OPEX'!$S$4:$S$1666,\"NÃO\",'Classificação OPEX'!$V$4:$V$1666,DRIVER_OPEX!A358,'Classificação OPEX'!$W$4:$W$1666,DRIVER_OPEX!B358)","v":31923.416395779772},{"$f":"IF($F358=\"\",0,VLOOKUP($E358,Drivers!$A$26:$F$48,MATCH(G$1,Drivers!$A$25:$F$25,0),0)*$F358)","v":31923.416395779772},{"$f":"IF($F358=\"\",0,VLOOKUP($E358,Drivers!$A$26:$F$48,MATCH(H$1,Drivers!$A$25:$F$25,0),0)*$F358)","v":31923.416395779772},{"$f":"IF($F358=\"\",0,VLOOKUP($E358,Drivers!$A$26:$F$48,MATCH(I$1,Drivers!$A$25:$F$25,0),0)*$F358)","v":31923.416395779772},{"$f":"IF($F358=\"\",0,VLOOKUP($E358,Drivers!$A$26:$F$48,MATCH(J$1,Drivers!$A$25:$F$25,0),0)*$F358)","v":31923.416395779772},{"$f":"IF($F358=\"\",0,VLOOKUP($E358,Drivers!$A$26:$F$48,MATCH(K$1,Drivers!$A$25:$F$25,0),0)*$F358)","v":31923.416395779772}]
["TRIBUTOS_E_TAXAS_FISCAIS",5300,"GERÊNCIA COMERCIAL",{"$f":"VLOOKUP(B359,Centro_Custo!$A$2:$C$36,3)","v":"Encargos de Comercialização"},"Fixo",{"$f":"SUMIFS('Classificação OPEX'!$O$4:$O$1666,'Classificação OPEX'!$Q$4:$Q$1666,\"N\",'Classificação OPEX'!$S$4:$S$1666,\"NÃO\",'Classificação OPEX'!$V$4:$V$1666,DRIVER_OPEX!A359,'Classificação OPEX'!$W$4:$W$1666,DRIVER_OPEX!B359)","v":23457.082864129065},{"$f":"IF($F359=\"\",0,VLOOKUP($E359,Drivers!$A$26:$F$48,MATCH(G$1,Drivers!$A$25:$F$25,0),0)*$F359)","v":23457.082864129065},{"$f":"IF($F359=\"\",0,VLOOKUP($E359,Drivers!$A$26:$F$48,MATCH(H$1,Drivers!$A$25:$F$25,0),0)*$F359)","v":23457.082864129065},{"$f":"IF($F359=\"\",0,VLOOKUP($E359,Drivers!$A$26:$F$48,MATCH(I$1,Drivers!$A$25:$F$25,0),0)*$F359)","v":23457.082864129065},{"$f":"IF($F359=\"\",0,VLOOKUP($E359,Drivers!$A$26:$F$48,MATCH(J$1,Drivers!$A$25:$F$25,0),0)*$F359)","v":23457.082864129065},{"$f":"IF($F359=\"\",0,VLOOKUP($E359,Drivers!$A$26:$F$48,MATCH(K$1,Drivers!$A$25:$F$25,0),0)*$F359)","v":23457.082864129065}]
["TRIBUTOS_E_TAXAS_FISCAIS",9999,"RATEIO",{"$f":"VLOOKUP(B360,Centro_Custo!$A$2:$C$36,3)","v":"Encargos de Gestão"},"Fixo",{"$f":"SUMIFS('Classificação OPEX'!$O$4:$O$1666,'Classificação OPEX'!$Q$4:$Q$1666,\"N\",'Classificação OPEX'!$S$4:$S$1666,\"NÃO\",'Classificação OPEX'!$V$4:$V$1666,DRIVER_OPEX!A360,'Classificação OPEX'!$W$4:$W$1666,DRIVER_OPEX!B360)","v":58237.188244844743},{"$f":"IF($F360=\"\",0,VLOOKUP($E360,Drivers!$A$26:$F$48,MATCH(G$1,Drivers!$A$25:$F$25,0),0)*$F360)","v":58237.188244844743},{"$f":"IF($F360=\"\",0,VLOOKUP($E360,Drivers!$A$26:$F$48,MATCH(H$1,Drivers!$A$25:$F$25,0),0)*$F360)","v":58237.188244844743},{"$f":"IF($F360=\"\",0,VLOOKUP($E360,Drivers!$A$26:$F$48,MATCH(I$1,Drivers!$A$25:$F$25,0),0)*$F360)","v":58237.188244844743},{"$f":"IF($F360=\"\",0,VLOOKUP($E360,Drivers!$A$26:$F$48,MATCH(J$1,Drivers!$A$25:$F$25,0),0)*$F360)","v":58237.188244844743},{"$f":"IF($F360=\"\",0,VLOOKUP($E360,Drivers!$A$26:$F$48,MATCH(K$1,Drivers!$A$25:$F$25,0),0)*$F360)","v":58237.188244844743}]
["TRIBUTOS_E_TAXAS_FISCAIS","5400","GERÊNCIA COMERCIAL",{"$f":"VLOOKUP(B361,Centro_Custo!$A$2:$C$36,3)","v":"Encargos de Gestão"},"Fixo",{"$f":"SUMIFS('Classificação OPEX'!$O$4:$O$1666,'Classificação OPEX'!$Q$4:$Q$1666,\"N\",'Classificação OPEX'!$S$4:$S$1666,\"NÃO\",'Classificação OPEX'!$V$4:$V$1666,DRIVER_OPEX!A361,'Classificação OPEX'!$W$4:$W$1666,DRIVER_OPEX!B361)","v":5307.6858204962391},{"$f":"IF($F361=\"\",0,VLOOKUP($E361,Drivers!$A$26:$F$48,MATCH(G$1,Drivers!$A$25:$F$25,0),0)*$F361)","v":5307.6858204962391},{"$f":"IF($F361=\"\",0,VLOOKUP($E361,Drivers!$A$26:$F$48,MATCH(H$1,Drivers!$A$25:$F$25,0),0)*$F361)","v":5307.6858204962391},{"$f":"IF($F361=\"\",0,VLOOKUP($E361,Drivers!$A$26:$F$48,MATCH(I$1,Drivers!$A$25:$F$25,0),0)*$F361)","v":5307.6858204962391},{"$f":"IF($F361=\"\",0,VLOOKUP($E361,Drivers!$A$26:$F$48,MATCH(J$1,Drivers!$A$25:$F$25,0),0)*$F361)","v":5307.6858204962391},{"$f":"IF($F361=\"\",0,VLOOKUP($E361,Drivers!$A$26:$F$48,MATCH(K$1,Drivers!$A$25:$F$25,0),0)*$F361)","v":5307.6858204962391}]
["TRIBUTOS_E_TAXAS_FISCAIS","5500","GERÊNCIA COMERCIAL",{"$f":"VLOOKUP(B362,Centro_Custo!$A$2:$C$36,3)","v":"Encargos de Gestão"},"Fixo",{"$f":"SUMIFS('Classificação OPEX'!$O$4:$O$1666,'Classificação OPEX'!$Q$4:$Q$1666,\"N\",'Classificação OPEX'!$S$4:$S$1666,\"NÃO\",'Classificação OPEX'!$V$4:$V$1666,DRIVER_OPEX!A362,'Classificação OPEX'!$W$4:$W$1666,DRIVER_OPEX!B362)","v":2656.3825603970404},{"$f":"IF($F362=\"\",0,VLOOKUP($E362,Drivers!$A$26:$F$48,MATCH(G$1,Drivers!$A$25:$F$25,0),0)*$F362)","v":2656.3825603970404},{"$f":"IF($F362=\"\",0,VLOOKUP($E362,Drivers!$A$26:$F$48,MATCH(H$1,Drivers!$A$25:$F$25,0),0)*$F362)","v":2656.3825603970404},{"$f":"IF($F362=\"\",0,VLOOKUP($E362,Drivers!$A$26:$F$48,MATCH(I$1,Drivers!$A$25:$F$25,0),0)*$F362)","v":2656.3825603970404},{"$f":"IF($F362=\"\",0,VLOOKUP($E362,Drivers!$A$26:$F$48,MATCH(J$1,Drivers!$A$25:$F$25,0),0)*$F362)","v":2656.3825603970404},{"$f":"IF($F362=\"\",0,VLOOKUP($E362,Drivers!$A$26:$F$48,MATCH(K$1,Drivers!$A$25:$F$25,0),0)*$F362)","v":2656.3825603970404}]
["VEÍCULOS","TOTAL","TOTAL",null,null,{"$f":"SUM(F364:F398)","v":1015875.0272280809},{"$f":"SUM(G364:G398)","v":1208175.7023286105},1312647.0790009634,1172936.1875480243,1220403.7264420241,1203222.7761775833]
["VEÍCULOS",2130,{"$f":"VLOOKUP(B364,Centro_Custo!$A$2:$B$36,2,0)","v":"ASSESSORIA DE RELAÇÕES INSTITUCIONAIS E NOVOS NEGÓCIOS"},{"$f":"VLOOKUP(B364,Centro_Custo!$A$2:$C$36,3)","v":"Encargos de Gestão"},"Município",{"$f":"SUMIFS('Classificação OPEX'!$O$4:$O$1666,'Classificação OPEX'!$Q$4:$Q$1666,\"N\",'Classificação OPEX'!$S$4:$S$1666,\"NÃO\",'Classificação OPEX'!$V$4:$V$1666,DRIVER_OPEX!A364,'Classificação OPEX'!$W$4:$W$1666,DRIVER_OPEX!B364)","v":52.403757608961101},{"$f":"IF($F364=\"\",0,VLOOKUP($E364,Drivers!$A$26:$F$48,MATCH(G$1,Drivers!$A$25:$F$25,0),0)*$F364)","v":55.897341449558503},{"$f":"IF($F364=\"\",0,VLOOKUP($E364,Drivers!$A$26:$F$48,MATCH(H$1,Drivers!$A$25:$F$25,0),0)*$F364)","v":66.378092971350725},{"$f":"IF($F364=\"\",0,VLOOKUP($E364,Drivers!$A$26:$F$48,MATCH(I$1,Drivers!$A$25:$F$25,0),0)*$F364)","v":69.871676811948134},{"$f":"IF($F364=\"\",0,VLOOKUP($E364,Drivers!$A$26:$F$48,MATCH(J$1,Drivers!$A$25:$F$25,0),0)*$F364)","v":69.871676811948134},{"$f":"IF($F364=\"\",0,VLOOKUP($E364,Drivers!$A$26:$F$48,MATCH(K$1,Drivers!$A$25:$F$25,0),0)*$F364)","v":69.871676811948134}]
["VEÍCULOS",2200,{"$f":"VLOOKUP(B365,Centro_Custo!$A$2:$B$36,2,0)","v":"DIRETORIA COLEGIADA - PRESIDÊNCIA"},{"$f":"VLOOKUP(B365,Centro_Custo!$A$2:$C$36,3)","v":"Encargos de Gestão"},"Fixo",{"$f":"SUMIFS('Classificação OPEX'!$O$4:$O$1666,'Classificação OPEX'!$Q$4:$Q$1666,\"N\",'Classificação OPEX'!$S$4:$S$1666,\"NÃO\",'Classificação OPEX'!$V$4:$V$1666,DRIVER_OPEX!A365,'Classificação OPEX'!$W$4:$W$1666,DRIVER_OPEX!B365)","v":12314.678633793455},{"$f":"IF($F365=\"\",0,VLOOKUP($E365,Drivers!$A$26:$F$48,MATCH(G$1,Drivers!$A$25:$F$25,0),0)*$F365)","v":12314.678633793455},{"$f":"IF($F365=\"\",0,VLOOKUP($E365,Drivers!$A$26:$F$48,MATCH(H$1,Drivers!$A$25:$F$25,0),0)*$F365)","v":12314.678633793455},{"$f":"IF($F365=\"\",0,VLOOKUP($E365,Drivers!$A$26:$F$48,MATCH(I$1,Drivers!$A$25:$F$25,0),0)*$F365)","v":12314.678633793455},{"$f":"IF($F365=\"\",0,VLOOKUP($E365,Drivers!$A$26:$F$48,MATCH(J$1,Drivers!$A$25:$F$25,0),0)*$F365)","v":12314.678633793455},{"$f":"IF($F365=\"\",0,VLOOKUP($E365,Drivers!$A$26:$F$48,MATCH(K$1,Drivers!$A$25:$F$25,0),0)*$F365)","v":12314.678633793455}]
["VEÍCULOS",2300,{"$f":"VLOOKUP(B366,Centro_Custo!$A$2:$B$36,2,0)","v":"DIRETORIA COLEGIADA - DAF"},{"$f":"VLOOKUP(B366,Centro_Custo!$A$2:$C$36,3)","v":"Encargos de Gestão"},"Fixo",{"$f":"SUMIFS('Classificação OPEX'!$O$4:$O$1666,'Classificação OPEX'!$Q$4:$Q$1666,\"N\",'Classificação OPEX'!$S$4:$S$1666,\"NÃO\",'Classificação OPEX'!$V$4:$V$1666,DRIVER_OPEX!A366,'Classificação OPEX'!$W$4:$W$1666,DRIVER_OPEX!B366)","v":1732.8396101138721},{"$f":"IF($F366=\"\",0,VLOOKUP($E366,Drivers!$A$26:$F$48,MATCH(G$1,Drivers!$A$25:$F$25,0),0)*$F366)","v":1732.8396101138721},{"$f":"IF($F366=\"\",0,VLOOKUP($E366,Drivers!$A$26:$F$48,MATCH(H$1,Drivers!$A$25:$F$25,0),0)*$F366)","v":1732.8396101138721},{"$f":"IF($F366=\"\",0,VLOOKUP($E366,Drivers!$A$26:$F$48,MATCH(I$1,Drivers!$A$25:$F$25,0),0)*$F366)","v":1732.8396101138721},{"$f":"IF($F366=\"\",0,VLOOKUP($E366,Drivers!$A$26:$F$48,MATCH(J$1,Drivers!$A$25:$F$25,0),0)*$F366)","v":1732.8396101138721},{"$f":"IF($F366=\"\",0,VLOOKUP($E366,Drivers!$A$26:$F$48,MATCH(K$1,Drivers!$A$25:$F$25,0),0)*$F366)","v":1732.8396101138721}]
["VEÍCULOS",2400,{"$f":"VLOOKUP(B367,Centro_Custo!$A$2:$B$36,2,0)","v":"DIRETORIA COLEGIADA - DTC"},{"$f":"VLOOKUP(B367,Centro_Custo!$A$2:$C$36,3)","v":"Encargos de Comercialização"},"Fixo",{"$f":"SUMIFS('Classificação OPEX'!$O$4:$O$1666,'Classificação OPEX'!$Q$4:$Q$1666,\"N\",'Classificação OPEX'!$S$4:$S$1666,\"NÃO\",'Classificação OPEX'!$V$4:$V$1666,DRIVER_OPEX!A367,'Classificação OPEX'!$W$4:$W$1666,DRIVER_OPEX!B367)","v":624.57683542379141},{"$f":"IF($F367=\"\",0,VLOOKUP($E367,Drivers!$A$26:$F$48,MATCH(G$1,Drivers!$A$25:$F$25,0),0)*$F367)","v":624.57683542379141},{"$f":"IF($F367=\"\",0,VLOOKUP($E367,Drivers!$A$26:$F$48,MATCH(H$1,Drivers!$A$25:$F$25,0),0)*$F367)","v":624.57683542379141},{"$f":"IF($F367=\"\",0,VLOOKUP($E367,Drivers!$A$26:$F$48,MATCH(I$1,Drivers!$A$25:$F$25,0),0)*$F367)","v":624.57683542379141},{"$f":"IF($F367=\"\",0,VLOOKUP($E367,Drivers!$A$26:$F$48,MATCH(J$1,Drivers!$A$25:$F$25,0),0)*$F367)","v":624.57683542379141},{"$f":"IF($F367=\"\",0,VLOOKUP($E367,Drivers!$A$26:$F$48,MATCH(K$1,Drivers!$A$25:$F$25,0),0)*$F367)","v":624.57683542379141}]
["VEÍCULOS",2410,{"$f":"VLOOKUP(B368,Centro_Custo!$A$2:$B$36,2,0)","v":"ASSESSORIA DE SEGURANÇA DO TRABALHO"},{"$f":"VLOOKUP(B368,Centro_Custo!$A$2:$C$36,3)","v":"OPEX&ODESP"},"Extensão de Rede",{"$f":"SUMIFS('Classificação OPEX'!$O$4:$O$1666,'Classificação OPEX'!$Q$4:$Q$1666,\"N\",'Classificação OPEX'!$S$4:$S$1666,\"NÃO\",'Classificação OPEX'!$V$4:$V$1666,DRIVER_OPEX!A368,'Classificação OPEX'!$W$4:$W$1666,DRIVER_OPEX!B368)","v":4480.1874980059401},{"$f":"IF($F368=\"\",0,VLOOKUP($E368,Drivers!$A$26:$F$48,MATCH(G$1,Drivers!$A$25:$F$25,0),0)*$F368)","v":4795.5112657924165},{"$f":"IF($F368=\"\",0,VLOOKUP($E368,Drivers!$A$26:$F$48,MATCH(H$1,Drivers!$A$25:$F$25,0),0)*$F368)","v":5230.2677839468088},{"$f":"IF($F368=\"\",0,VLOOKUP($E368,Drivers!$A$26:$F$48,MATCH(I$1,Drivers!$A$25:$F$25,0),0)*$F368)","v":5385.0038608922678},{"$f":"IF($F368=\"\",0,VLOOKUP($E368,Drivers!$A$26:$F$48,MATCH(J$1,Drivers!$A$25:$F$25,0),0)*$F368)","v":5607.7272544261232},{"$f":"IF($F368=\"\",0,VLOOKUP($E368,Drivers!$A$26:$F$48,MATCH(K$1,Drivers!$A$25:$F$25,0),0)*$F368)","v":5783.0886970781748}]
["VEÍCULOS",3200,{"$f":"VLOOKUP(B369,Centro_Custo!$A$2:$B$36,2,0)","v":"GERÊNCIA DE PLANEJAMENTO E MEIO AMBIENTE"},{"$f":"VLOOKUP(B369,Centro_Custo!$A$2:$C$36,3)","v":"OPEX&ODESP"},"Município",{"$f":"SUMIFS('Classificação OPEX'!$O$4:$O$1666,'Classificação OPEX'!$Q$4:$Q$1666,\"N\",'Classificação OPEX'!$S$4:$S$1666,\"NÃO\",'Classificação OPEX'!$V$4:$V$1666,DRIVER_OPEX!A369,'Classificação OPEX'!$W$4:$W$1666,DRIVER_OPEX!B369)","v":1270.5013968603469},{"$f":"IF($F369=\"\",0,VLOOKUP($E369,Drivers!$A$26:$F$48,MATCH(G$1,Drivers!$A$25:$F$25,0),0)*$F369)","v":1355.20148998437},{"$f":"IF($F369=\"\",0,VLOOKUP($E369,Drivers!$A$26:$F$48,MATCH(H$1,Drivers!$A$25:$F$25,0),0)*$F369)","v":1609.3017693564393},{"$f":"IF($F369=\"\",0,VLOOKUP($E369,Drivers!$A$26:$F$48,MATCH(I$1,Drivers!$A$25:$F$25,0),0)*$F369)","v":1694.0018624804625},{"$f":"IF($F369=\"\",0,VLOOKUP($E369,Drivers!$A$26:$F$48,MATCH(J$1,Drivers!$A$25:$F$25,0),0)*$F369)","v":1694.0018624804625},{"$f":"IF($F369=\"\",0,VLOOKUP($E369,Drivers!$A$26:$F$48,MATCH(K$1,Drivers!$A$25:$F$25,0),0)*$F369)","v":1694.0018624804625}]
["VEÍCULOS",4100,{"$f":"VLOOKUP(B370,Centro_Custo!$A$2:$B$36,2,0)","v":"GERÊNCIA DE SERVIÇOS CORPORATIVOS"},{"$f":"VLOOKUP(B370,Centro_Custo!$A$2:$C$36,3)","v":"Encargos de Gestão"},"Funcionário",{"$f":"SUMIFS('Classificação OPEX'!$O$4:$O$1666,'Classificação OPEX'!$Q$4:$Q$1666,\"N\",'Classificação OPEX'!$S$4:$S$1666,\"NÃO\",'Classificação OPEX'!$V$4:$V$1666,DRIVER_OPEX!A370,'Classificação OPEX'!$W$4:$W$1666,DRIVER_OPEX!B370)","v":749831.71683402185},{"$f":"IF($F370=\"\",0,VLOOKUP($E370,Drivers!$A$26:$F$48,MATCH(G$1,Drivers!$A$25:$F$25,0),0)*$F370)","v":799162.75083626015},{"$f":"IF($F370=\"\",0,VLOOKUP($E370,Drivers!$A$26:$F$48,MATCH(H$1,Drivers!$A$25:$F$25,0),0)*$F370)","v":818895.16443715536},{"$f":"IF($F370=\"\",0,VLOOKUP($E370,Drivers!$A$26:$F$48,MATCH(I$1,Drivers!$A$25:$F$25,0),0)*$F370)","v":823828.26783737924},{"$f":"IF($F370=\"\",0,VLOOKUP($E370,Drivers!$A$26:$F$48,MATCH(J$1,Drivers!$A$25:$F$25,0),0)*$F370)","v":823828.26783737924},{"$f":"IF($F370=\"\",0,VLOOKUP($E370,Drivers!$A$26:$F$48,MATCH(K$1,Drivers!$A$25:$F$25,0),0)*$F370)","v":823828.26783737924}]
["VEÍCULOS",5100,{"$f":"VLOOKUP(B371,Centro_Custo!$A$2:$B$36,2,0)","v":"GERÊNCIA DE ENGENHARIA"},{"$f":"VLOOKUP(B371,Centro_Custo!$A$2:$C$36,3)","v":"OPEX&ODESP"},"Extensão adicional de rede ",{"$f":"SUMIFS('Classificação OPEX'!$O$4:$O$1666,'Classificação OPEX'!$Q$4:$Q$1666,\"N\",'Classificação OPEX'!$S$4:$S$1666,\"NÃO\",'Classificação OPEX'!$V$4:$V$1666,DRIVER_OPEX!A371,'Classificação OPEX'!$W$4:$W$1666,DRIVER_OPEX!B371)","v":43245.760547542784},{"$f":"IF($F371=\"\",0,VLOOKUP($E371,Drivers!$A$26:$F$48,MATCH(G$1,Drivers!$A$25:$F$25,0),0)*$F371)","v":171768.68521236646},{"$f":"IF($F371=\"\",0,VLOOKUP($E371,Drivers!$A$26:$F$48,MATCH(H$1,Drivers!$A$25:$F$25,0),0)*$F371)","v":236828.18467859566},{"$f":"IF($F371=\"\",0,VLOOKUP($E371,Drivers!$A$26:$F$48,MATCH(I$1,Drivers!$A$25:$F$25,0),0)*$F371)","v":84290.545804460562},{"$f":"IF($F371=\"\",0,VLOOKUP($E371,Drivers!$A$26:$F$48,MATCH(J$1,Drivers!$A$25:$F$25,0),0)*$F371)","v":121325.78759255788},{"$f":"IF($F371=\"\",0,VLOOKUP($E371,Drivers!$A$26:$F$48,MATCH(K$1,Drivers!$A$25:$F$25,0),0)*$F371)","v":95525.956234557496}]
["VEÍCULOS",5200,{"$f":"VLOOKUP(B372,Centro_Custo!$A$2:$B$36,2,0)","v":"GERÊNCIA DE OPERAÇÕES"},{"$f":"VLOOKUP(B372,Centro_Custo!$A$2:$C$36,3)","v":"OPEX&ODESP"},"Extensão de Rede",{"$f":"SUMIFS('Classificação OPEX'!$O$4:$O$1666,'Classificação OPEX'!$Q$4:$Q$1666,\"N\",'Classificação OPEX'!$S$4:$S$1666,\"NÃO\",'Classificação OPEX'!$V$4:$V$1666,DRIVER_OPEX!A372,'Classificação OPEX'!$W$4:$W$1666,DRIVER_OPEX!B372)","v":186491.30968161271},{"$f":"IF($F372=\"\",0,VLOOKUP($E372,Drivers!$A$26:$F$48,MATCH(G$1,Drivers!$A$25:$F$25,0),0)*$F372)","v":199616.90820944528},{"$f":"IF($F372=\"\",0,VLOOKUP($E372,Drivers!$A$26:$F$48,MATCH(H$1,Drivers!$A$25:$F$25,0),0)*$F372)","v":217713.98840961928},{"$f":"IF($F372=\"\",0,VLOOKUP($E372,Drivers!$A$26:$F$48,MATCH(I$1,Drivers!$A$25:$F$25,0),0)*$F372)","v":224154.99867032762},{"$f":"IF($F372=\"\",0,VLOOKUP($E372,Drivers!$A$26:$F$48,MATCH(J$1,Drivers!$A$25:$F$25,0),0)*$F372)","v":233426.03417394194},{"$f":"IF($F372=\"\",0,VLOOKUP($E372,Drivers!$A$26:$F$48,MATCH(K$1,Drivers!$A$25:$F$25,0),0)*$F372)","v":240725.5914184532}]
["VEÍCULOS",5300,{"$f":"VLOOKUP(B373,Centro_Custo!$A$2:$B$36,2,0)","v":"GERÊNCIA COMERCIAL"},{"$f":"VLOOKUP(B373,Centro_Custo!$A$2:$C$36,3)","v":"Encargos de Comercialização"},"Usuários total",{"$f":"SUMIFS('Classificação OPEX'!$O$4:$O$1666,'Classificação OPEX'!$Q$4:$Q$1666,\"N\",'Classificação OPEX'!$S$4:$S$1666,\"NÃO\",'Classificação OPEX'!$V$4:$V$1666,DRIVER_OPEX!A373,'Classificação OPEX'!$W$4:$W$1666,DRIVER_OPEX!B373)","v":8022.5250443169498},{"$f":"IF($F373=\"\",0,VLOOKUP($E373,Drivers!$A$26:$F$48,MATCH(G$1,Drivers!$A$25:$F$25,0),0)*$F373)","v":8940.1255052005508},{"$f":"IF($F373=\"\",0,VLOOKUP($E373,Drivers!$A$26:$F$48,MATCH(H$1,Drivers!$A$25:$F$25,0),0)*$F373)","v":9823.1713612064559},{"$f":"IF($F373=\"\",0,VLOOKUP($E373,Drivers!$A$26:$F$48,MATCH(I$1,Drivers!$A$25:$F$25,0),0)*$F373)","v":11032.875367560424},{"$f":"IF($F373=\"\",0,VLOOKUP($E373,Drivers!$A$26:$F$48,MATCH(J$1,Drivers!$A$25:$F$25,0),0)*$F373)","v":11971.413576314835},{"$f":"IF($F373=\"\",0,VLOOKUP($E373,Drivers!$A$26:$F$48,MATCH(K$1,Drivers!$A$25:$F$25,0),0)*$F373)","v":13115.375982710812}]
["VEÍCULOS","0000","RATEIO",{"$f":"VLOOKUP(B374,Centro_Custo!$A$2:$C$36,3)","v":"Encargos de Gestão"},"Fixo",{"$f":"SUMIFS('Classificação OPEX'!$O$4:$O$1666,'Classificação OPEX'!$Q$4:$Q$1666,\"N\",'Classificação OPEX'!$S$4:$S$1666,\"NÃO\",'Classificação OPEX'!$V$4:$V$1666,DRIVER_OPEX!A374,'Classificação OPEX'!$W$4:$W$1666,DRIVER_OPEX!B374)","v":0},{"$f":"IF($F374=\"\",0,VLOOKUP($E374,Drivers!$A$26:$F$48,MATCH(G$1,Drivers!$A$25:$F$25,0),0)*$F374)","v":0},{"$f":"IF($F374=\"\",0,VLOOKUP($E374,Drivers!$A$26:$F$48,MATCH(H$1,Drivers!$A$25:$F$25,0),0)*$F374)","v":0},{"$f":"IF($F374=\"\",0,VLOOKUP($E374,Drivers!$A$26:$F$48,MATCH(I$1,Drivers!$A$25:$F$25,0),0)*$F374)","v":0},{"$f":"IF($F374=\"\",0,VLOOKUP($E374,Drivers!$A$26:$F$48,MATCH(J$1,Drivers!$A$25:$F$25,0),0)*$F374)","v":0},{"$f":"IF($F374=\"\",0,VLOOKUP($E374,Drivers!$A$26:$F$48,MATCH(K$1,Drivers!$A$25:$F$25,0),0)*$F374)","v":0}]
["VEÍCULOS",1001,"CONSELHO DE ADMINISTRAÇÃO",{"$f":"VLOOKUP(B375,Centro_Custo!$A$2:$C$36,3)","v":"Encargos de Gestão"},"Fixo",{"$f":"SUMIFS('Classificação OPEX'!$O$4:$O$1666,'Classificação OPEX'!$Q$4:$Q$1666,\"N\",'Classificação OPEX'!$S$4:$S$1666,\"NÃO\",'Classificação OPEX'!$V$4:$V$1666,DRIVER_OPEX!A375,'Classificação OPEX'!$W$4:$W$1666,DRIVER_OPEX!B375)","v":0},{"$f":"IF($F375=\"\",0,VLOOKUP($E375,Drivers!$A$26:$F$48,MATCH(G$1,Drivers!$A$25:$F$25,0),0)*$F375)","v":0},{"$f":"IF($F375=\"\",0,VLOOKUP($E375,Drivers!$A$26:$F$48,MATCH(H$1,Drivers!$A$25:$F$25,0),0)*$F375)","v":0},{"$f":"IF($F375=\"\",0,VLOOKUP($E375,Drivers!$A$26:$F$48,MATCH(I$1,Drivers!$A$25:$F$25,0),0)*$F375)","v":0},{"$f":"IF($F375=\"\",0,VLOOKUP($E375,Drivers!$A$26:$F$48,MATCH(J$1,Drivers!$A$25:$F$25,0),0)*$F375)","v":0},{"$f":"IF($F375=\"\",0,VLOOKUP($E375,Drivers!$A$26:$F$48,MATCH(K$1,Drivers!$A$25:$F$25,0),0)*$F375)","v":0}]
["VEÍCULOS",1002,"CONSELHO FISCAL",{"$f":"VLOOKUP(B376,Centro_Custo!$A$2:$C$36,3)","v":"Encargos de Gestão"},"Fixo",{"$f":"SUMIFS('Classificação OPEX'!$O$4:$O$1666,'Classificação OPEX'!$Q$4:$Q$1666,\"N\",'Classificação OPEX'!$S$4:$S$1666,\"NÃO\",'Classificação OPEX'!$V$4:$V$1666,DRIVER_OPEX!A376,'Classificação OPEX'!$W$4:$W$1666,DRIVER_OPEX!B376)","v":0},{"$f":"IF($F376=\"\",0,VLOOKUP($E376,Drivers!$A$26:$F$48,MATCH(G$1,Drivers!$A$25:$F$25,0),0)*$F376)","v":0},{"$f":"IF($F376=\"\",0,VLOOKUP($E376,Drivers!$A$26:$F$48,MATCH(H$1,Drivers!$A$25:$F$25,0),0)*$F376)","v":0},{"$f":"IF($F376=\"\",0,VLOOKUP($E376,Drivers!$A$26:$F$48,MATCH(I$1,Drivers!$A$25:$F$25,0),0)*$F376)","v":0},{"$f":"IF($F376=\"\",0,VLOOKUP($E376,Drivers!$A$26:$F$48,MATCH(J$1,Drivers!$A$25:$F$25,0),0)*$F376)","v":0},{"$f":"IF($F376=\"\",0,VLOOKUP($E376,Drivers!$A$26:$F$48,MATCH(K$1,Drivers!$A$25:$F$25,0),0)*$F376)","v":0}]
["VEÍCULOS",1003,"COMITÊ DE INDICAÇÃO E AVALIAÇÃO",{"$f":"VLOOKUP(B377,Centro_Custo!$A$2:$C$36,3)","v":"Encargos de Gestão"},"Fixo",{"$f":"SUMIFS('Classificação OPEX'!$O$4:$O$1666,'Classificação OPEX'!$Q$4:$Q$1666,\"N\",'Classificação OPEX'!$S$4:$S$1666,\"NÃO\",'Classificação OPEX'!$V$4:$V$1666,DRIVER_OPEX!A377,'Classificação OPEX'!$W$4:$W$1666,DRIVER_OPEX!B377)","v":0},{"$f":"IF($F377=\"\",0,VLOOKUP($E377,Drivers!$A$26:$F$48,MATCH(G$1,Drivers!$A$25:$F$25,0),0)*$F377)","v":0},{"$f":"IF($F377=\"\",0,VLOOKUP($E377,Drivers!$A$26:$F$48,MATCH(H$1,Drivers!$A$25:$F$25,0),0)*$F377)","v":0},{"$f":"IF($F377=\"\",0,VLOOKUP($E377,Drivers!$A$26:$F$48,MATCH(I$1,Drivers!$A$25:$F$25,0),0)*$F377)","v":0},{"$f":"IF($F377=\"\",0,VLOOKUP($E377,Drivers!$A$26:$F$48,MATCH(J$1,Drivers!$A$25:$F$25,0),0)*$F377)","v":0},{"$f":"IF($F377=\"\",0,VLOOKUP($E377,Drivers!$A$26:$F$48,MATCH(K$1,Drivers!$A$25:$F$25,0),0)*$F377)","v":0}]
["VEÍCULOS",1004,"COMITÊ DE AUDITORIA ESTATUTÁRIA",{"$f":"VLOOKUP(B378,Centro_Custo!$A$2:$C$36,3)","v":"Encargos de Gestão"},"Fixo",{"$f":"SUMIFS('Classificação OPEX'!$O$4:$O$1666,'Classificação OPEX'!$Q$4:$Q$1666,\"N\",'Classificação OPEX'!$S$4:$S$1666,\"NÃO\",'Classificação OPEX'!$V$4:$V$1666,DRIVER_OPEX!A378,'Classificação OPEX'!$W$4:$W$1666,DRIVER_OPEX!B378)","v":0},{"$f":"IF($F378=\"\",0,VLOOKUP($E378,Drivers!$A$26:$F$48,MATCH(G$1,Drivers!$A$25:$F$25,0),0)*$F378)","v":0},{"$f":"IF($F378=\"\",0,VLOOKUP($E378,Drivers!$A$26:$F$48,MATCH(H$1,Drivers!$A$25:$F$25,0),0)*$F378)","v":0},{"$f":"IF($F378=\"\",0,VLOOKUP($E378,Drivers!$A$26:$F$48,MATCH(I$1,Drivers!$A$25:$F$25,0),0)*$F378)","v":0},{"$f":"IF($F378=\"\",0,VLOOKUP($E378,Drivers!$A$26:$F$48,MATCH(J$1,Drivers!$A$25:$F$25,0),0)*$F378)","v":0},{"$f":"IF($F378=\"\",0,VLOOKUP($E378,Drivers!$A$26:$F$48,MATCH(K$1,Drivers!$A$25:$F$25,0),0)*$F378)","v":0}]
["VEÍCULOS",1005,"AUDITORIA INTERNA",{"$f":"VLOOKUP(B379,Centro_Custo!$A$2:$C$36,3)","v":"Encargos de Gestão"},"Fixo",{"$f":"SUMIFS('Classificação OPEX'!$O$4:$O$1666,'Classificação OPEX'!$Q$4:$Q$1666,\"N\",'Classificação OPEX'!$S$4:$S$1666,\"NÃO\",'Classificação OPEX'!$V$4:$V$1666,DRIVER_OPEX!A379,'Classificação OPEX'!$W$4:$W$1666,DRIVER_OPEX!B379)","v":0},{"$f":"IF($F379=\"\",0,VLOOKUP($E379,Drivers!$A$26:$F$48,MATCH(G$1,Drivers!$A$25:$F$25,0),0)*$F379)","v":0},{"$f":"IF($F379=\"\",0,VLOOKUP($E379,Drivers!$A$26:$F$48,MATCH(H$1,Drivers!$A$25:$F$25,0),0)*$F379)","v":0},{"$f":"IF($F379=\"\",0,VLOOKUP($E379,Drivers!$A$26:$F$48,MATCH(I$1,Drivers!$A$25:$F$25,0),0)*$F379)","v":0},{"$f":"IF($F379=\"\",0,VLOOKUP($E379,Drivers!$A$26:$F$48,MATCH(J$1,Drivers!$A$25:$F$25,0),0)*$F379)","v":0},{"$f":"IF($F379=\"\",0,VLOOKUP($E379,Drivers!$A$26:$F$48,MATCH(K$1,Drivers!$A$25:$F$25,0),0)*$F379)","v":0}]
["VEÍCULOS",1010,"GOVERNANÇA SOCIETÁRIA",{"$f":"VLOOKUP(B380,Centro_Custo!$A$2:$C$36,3)","v":"Encargos de Gestão"},"Fixo",{"$f":"SUMIFS('Classificação OPEX'!$O$4:$O$1666,'Classificação OPEX'!$Q$4:$Q$1666,\"N\",'Classificação OPEX'!$S$4:$S$1666,\"NÃO\",'Classificação OPEX'!$V$4:$V$1666,DRIVER_OPEX!A380,'Classificação OPEX'!$W$4:$W$1666,DRIVER_OPEX!B380)","v":0},{"$f":"IF($F380=\"\",0,VLOOKUP($E380,Drivers!$A$26:$F$48,MATCH(G$1,Drivers!$A$25:$F$25,0),0)*$F380)","v":0},{"$f":"IF($F380=\"\",0,VLOOKUP($E380,Drivers!$A$26:$F$48,MATCH(H$1,Drivers!$A$25:$F$25,0),0)*$F380)","v":0},{"$f":"IF($F380=\"\",0,VLOOKUP($E380,Drivers!$A$26:$F$48,MATCH(I$1,Drivers!$A$25:$F$25,0),0)*$F380)","v":0},{"$f":"IF($F380=\"\",0,VLOOKUP($E380,Drivers!$A$26:$F$48,MATCH(J$1,Drivers!$A$25:$F$25,0),0)*$F380)","v":0},{"$f":"IF($F380=\"\",0,VLOOKUP($E380,Drivers!$A$26:$F$48,MATCH(K$1,Drivers!$A$25:$F$25,0),0)*$F380)","v":0}]
["VEÍCULOS",2100,"SECRETARIA",{"$f":"VLOOKUP(B381,Centro_Custo!$A$2:$C$36,3)","v":"Encargos de Gestão"},"Fixo",{"$f":"SUMIFS('Classificação OPEX'!$O$4:$O$1666,'Classificação OPEX'!$Q$4:$Q$1666,\"N\",'Classificação OPEX'!$S$4:$S$1666,\"NÃO\",'Classificação OPEX'!$V$4:$V$1666,DRIVER_OPEX!A381,'Classificação OPEX'!$W$4:$W$1666,DRIVER_OPEX!B381)","v":54.38074750125994},{"$f":"IF($F381=\"\",0,VLOOKUP($E381,Drivers!$A$26:$F$48,MATCH(G$1,Drivers!$A$25:$F$25,0),0)*$F381)","v":54.38074750125994},{"$f":"IF($F381=\"\",0,VLOOKUP($E381,Drivers!$A$26:$F$48,MATCH(H$1,Drivers!$A$25:$F$25,0),0)*$F381)","v":54.38074750125994},{"$f":"IF($F381=\"\",0,VLOOKUP($E381,Drivers!$A$26:$F$48,MATCH(I$1,Drivers!$A$25:$F$25,0),0)*$F381)","v":54.38074750125994},{"$f":"IF($F381=\"\",0,VLOOKUP($E381,Drivers!$A$26:$F$48,MATCH(J$1,Drivers!$A$25:$F$25,0),0)*$F381)","v":54.38074750125994},{"$f":"IF($F381=\"\",0,VLOOKUP($E381,Drivers!$A$26:$F$48,MATCH(K$1,Drivers!$A$25:$F$25,0),0)*$F381)","v":54.38074750125994}]
["VEÍCULOS",2110,"ASSESSORIA DA DIRETORIA EXECUTIVA",{"$f":"VLOOKUP(B382,Centro_Custo!$A$2:$C$36,3)","v":"Encargos de Gestão"},"Fixo",{"$f":"SUMIFS('Classificação OPEX'!$O$4:$O$1666,'Classificação OPEX'!$Q$4:$Q$1666,\"N\",'Classificação OPEX'!$S$4:$S$1666,\"NÃO\",'Classificação OPEX'!$V$4:$V$1666,DRIVER_OPEX!A382,'Classificação OPEX'!$W$4:$W$1666,DRIVER_OPEX!B382)","v":0},{"$f":"IF($F382=\"\",0,VLOOKUP($E382,Drivers!$A$26:$F$48,MATCH(G$1,Drivers!$A$25:$F$25,0),0)*$F382)","v":0},{"$f":"IF($F382=\"\",0,VLOOKUP($E382,Drivers!$A$26:$F$48,MATCH(H$1,Drivers!$A$25:$F$25,0),0)*$F382)","v":0},{"$f":"IF($F382=\"\",0,VLOOKUP($E382,Drivers!$A$26:$F$48,MATCH(I$1,Drivers!$A$25:$F$25,0),0)*$F382)","v":0},{"$f":"IF($F382=\"\",0,VLOOKUP($E382,Drivers!$A$26:$F$48,MATCH(J$1,Drivers!$A$25:$F$25,0),0)*$F382)","v":0},{"$f":"IF($F382=\"\",0,VLOOKUP($E382,Drivers!$A$26:$F$48,MATCH(K$1,Drivers!$A$25:$F$25,0),0)*$F382)","v":0}]
["VEÍCULOS",2120,"ASSESSORIA DA PRESIDÊNCIA",{"$f":"VLOOKUP(B383,Centro_Custo!$A$2:$C$36,3)","v":"Encargos de Gestão"},"Fixo",{"$f":"SUMIFS('Classificação OPEX'!$O$4:$O$1666,'Classificação OPEX'!$Q$4:$Q$1666,\"N\",'Classificação OPEX'!$S$4:$S$1666,\"NÃO\",'Classificação OPEX'!$V$4:$V$1666,DRIVER_OPEX!A383,'Classificação OPEX'!$W$4:$W$1666,DRIVER_OPEX!B383)","v":321.23686318675846},{"$f":"IF($F383=\"\",0,VLOOKUP($E383,Drivers!$A$26:$F$48,MATCH(G$1,Drivers!$A$25:$F$25,0),0)*$F383)","v":321.23686318675846},{"$f":"IF($F383=\"\",0,VLOOKUP($E383,Drivers!$A$26:$F$48,MATCH(H$1,Drivers!$A$25:$F$25,0),0)*$F383)","v":321.23686318675846},{"$f":"IF($F383=\"\",0,VLOOKUP($E383,Drivers!$A$26:$F$48,MATCH(I$1,Drivers!$A$25:$F$25,0),0)*$F383)","v":321.23686318675846},{"$f":"IF($F383=\"\",0,VLOOKUP($E383,Drivers!$A$26:$F$48,MATCH(J$1,Drivers!$A$25:$F$25,0),0)*$F383)","v":321.23686318675846},{"$f":"IF($F383=\"\",0,VLOOKUP($E383,Drivers!$A$26:$F$48,MATCH(K$1,Drivers!$A$25:$F$25,0),0)*$F383)","v":321.23686318675846}]
["VEÍCULOS",2140,"ASSESSORIA DTC",{"$f":"VLOOKUP(B384,Centro_Custo!$A$2:$C$36,3)","v":"Encargos de Comercialização"},"Fixo",{"$f":"SUMIFS('Classificação OPEX'!$O$4:$O$1666,'Classificação OPEX'!$Q$4:$Q$1666,\"N\",'Classificação OPEX'!$S$4:$S$1666,\"NÃO\",'Classificação OPEX'!$V$4:$V$1666,DRIVER_OPEX!A384,'Classificação OPEX'!$W$4:$W$1666,DRIVER_OPEX!B384)","v":0},{"$f":"IF($F384=\"\",0,VLOOKUP($E384,Drivers!$A$26:$F$48,MATCH(G$1,Drivers!$A$25:$F$25,0),0)*$F384)","v":0},{"$f":"IF($F384=\"\",0,VLOOKUP($E384,Drivers!$A$26:$F$48,MATCH(H$1,Drivers!$A$25:$F$25,0),0)*$F384)","v":0},{"$f":"IF($F384=\"\",0,VLOOKUP($E384,Drivers!$A$26:$F$48,MATCH(I$1,Drivers!$A$25:$F$25,0),0)*$F384)","v":0},{"$f":"IF($F384=\"\",0,VLOOKUP($E384,Drivers!$A$26:$F$48,MATCH(J$1,Drivers!$A$25:$F$25,0),0)*$F384)","v":0},{"$f":"IF($F384=\"\",0,VLOOKUP($E384,Drivers!$A$26:$F$48,MATCH(K$1,Drivers!$A$25:$F$25,0),0)*$F384)","v":0}]
["VEÍCULOS",2310,"ASSESSORIA DAF",{"$f":"VLOOKUP(B385,Centro_Custo!$A$2:$C$36,3)","v":"Encargos de Gestão"},"Fixo",{"$f":"SUMIFS('Classificação OPEX'!$O$4:$O$1666,'Classificação OPEX'!$Q$4:$Q$1666,\"N\",'Classificação OPEX'!$S$4:$S$1666,\"NÃO\",'Classificação OPEX'!$V$4:$V$1666,DRIVER_OPEX!A385,'Classificação OPEX'!$W$4:$W$1666,DRIVER_OPEX!B385)","v":232.00445631927374},{"$f":"IF($F385=\"\",0,VLOOKUP($E385,Drivers!$A$26:$F$48,MATCH(G$1,Drivers!$A$25:$F$25,0),0)*$F385)","v":232.00445631927374},{"$f":"IF($F385=\"\",0,VLOOKUP($E385,Drivers!$A$26:$F$48,MATCH(H$1,Drivers!$A$25:$F$25,0),0)*$F385)","v":232.00445631927374},{"$f":"IF($F385=\"\",0,VLOOKUP($E385,Drivers!$A$26:$F$48,MATCH(I$1,Drivers!$A$25:$F$25,0),0)*$F385)","v":232.00445631927374},{"$f":"IF($F385=\"\",0,VLOOKUP($E385,Drivers!$A$26:$F$48,MATCH(J$1,Drivers!$A$25:$F$25,0),0)*$F385)","v":232.00445631927374},{"$f":"IF($F385=\"\",0,VLOOKUP($E385,Drivers!$A$26:$F$48,MATCH(K$1,Drivers!$A$25:$F$25,0),0)*$F385)","v":232.00445631927374}]
["VEÍCULOS",3100,"SMS",{"$f":"VLOOKUP(B386,Centro_Custo!$A$2:$C$36,3)","v":"OPEX&ODESP"},"Fixo",{"$f":"SUMIFS('Classificação OPEX'!$O$4:$O$1666,'Classificação OPEX'!$Q$4:$Q$1666,\"N\",'Classificação OPEX'!$S$4:$S$1666,\"NÃO\",'Classificação OPEX'!$V$4:$V$1666,DRIVER_OPEX!A386,'Classificação OPEX'!$W$4:$W$1666,DRIVER_OPEX!B386)","v":7051.9247124195226},{"$f":"IF($F386=\"\",0,VLOOKUP($E386,Drivers!$A$26:$F$48,MATCH(G$1,Drivers!$A$25:$F$25,0),0)*$F386)","v":7051.9247124195226},{"$f":"IF($F386=\"\",0,VLOOKUP($E386,Drivers!$A$26:$F$48,MATCH(H$1,Drivers!$A$25:$F$25,0),0)*$F386)","v":7051.9247124195226},{"$f":"IF($F386=\"\",0,VLOOKUP($E386,Drivers!$A$26:$F$48,MATCH(I$1,Drivers!$A$25:$F$25,0),0)*$F386)","v":7051.9247124195226},{"$f":"IF($F386=\"\",0,VLOOKUP($E386,Drivers!$A$26:$F$48,MATCH(J$1,Drivers!$A$25:$F$25,0),0)*$F386)","v":7051.9247124195226},{"$f":"IF($F386=\"\",0,VLOOKUP($E386,Drivers!$A$26:$F$48,MATCH(K$1,Drivers!$A$25:$F$25,0),0)*$F386)","v":7051.9247124195226}]
["VEÍCULOS",3300,"GERÊNCIA JURÍDICA",{"$f":"VLOOKUP(B387,Centro_Custo!$A$2:$C$36,3)","v":"Encargos de Gestão"},"Fixo",{"$f":"SUMIFS('Classificação OPEX'!$O$4:$O$1666,'Classificação OPEX'!$Q$4:$Q$1666,\"N\",'Classificação OPEX'!$S$4:$S$1666,\"NÃO\",'Classificação OPEX'!$V$4:$V$1666,DRIVER_OPEX!A387,'Classificação OPEX'!$W$4:$W$1666,DRIVER_OPEX!B387)","v":0},{"$f":"IF($F387=\"\",0,VLOOKUP($E387,Drivers!$A$26:$F$48,MATCH(G$1,Drivers!$A$25:$F$25,0),0)*$F387)","v":0},{"$f":"IF($F387=\"\",0,VLOOKUP($E387,Drivers!$A$26:$F$48,MATCH(H$1,Drivers!$A$25:$F$25,0),0)*$F387)","v":0},{"$f":"IF($F387=\"\",0,VLOOKUP($E387,Drivers!$A$26:$F$48,MATCH(I$1,Drivers!$A$25:$F$25,0),0)*$F387)","v":0},{"$f":"IF($F387=\"\",0,VLOOKUP($E387,Drivers!$A$26:$F$48,MATCH(J$1,Drivers!$A$25:$F$25,0),0)*$F387)","v":0},{"$f":"IF($F387=\"\",0,VLOOKUP($E387,Drivers!$A$26:$F$48,MATCH(K$1,Drivers!$A$25:$F$25,0),0)*$F387)","v":0}]
["VEÍCULOS",3400,"MARKETING",{"$f":"VLOOKUP(B388,Centro_Custo!$A$2:$C$36,3)","v":"Encargos de Comercialização"},"Fixo",{"$f":"SUMIFS('Classificação OPEX'!$O$4:$O$1666,'Classificação OPEX'!$Q$4:$Q$1666,\"N\",'Classificação OPEX'!$S$4:$S$1666,\"NÃO\",'Classificação OPEX'!$V$4:$V$1666,DRIVER_OPEX!A388,'Classificação OPEX'!$W$4:$W$1666,DRIVER_OPEX!B388)","v":0},{"$f":"IF($F388=\"\",0,VLOOKUP($E388,Drivers!$A$26:$F$48,MATCH(G$1,Drivers!$A$25:$F$25,0),0)*$F388)","v":0},{"$f":"IF($F388=\"\",0,VLOOKUP($E388,Drivers!$A$26:$F$48,MATCH(H$1,Drivers!$A$25:$F$25,0),0)*$F388)","v":0},{"$f":"IF($F388=\"\",0,VLOOKUP($E388,Drivers!$A$26:$F$48,MATCH(I$1,Drivers!$A$25:$F$25,0),0)*$F388)","v":0},{"$f":"IF($F388=\"\",0,VLOOKUP($E388,Drivers!$A$26:$F$48,MATCH(J$1,Drivers!$A$25:$F$25,0),0)*$F388)","v":0},{"$f":"IF($F388=\"\",0,VLOOKUP($E388,Drivers!$A$26:$F$48,MATCH(K$1,Drivers!$A$25:$F$25,0),0)*$F388)","v":0}]
["VEÍCULOS",3500,"ASSESSORIA DE COMUNICAÇÃO INSTITUCIONAL",{"$f":"VLOOKUP(B389,Centro_Custo!$A$2:$C$36,3)","v":"Encargos de Gestão"},"Fixo",{"$f":"SUMIFS('Classificação OPEX'!$O$4:$O$1666,'Classificação OPEX'!$Q$4:$Q$1666,\"N\",'Classificação OPEX'!$S$4:$S$1666,\"NÃO\",'Classificação OPEX'!$V$4:$V$1666,DRIVER_OPEX!A389,'Classificação OPEX'!$W$4:$W$1666,DRIVER_OPEX!B389)","v":0},{"$f":"IF($F389=\"\",0,VLOOKUP($E389,Drivers!$A$26:$F$48,MATCH(G$1,Drivers!$A$25:$F$25,0),0)*$F389)","v":0},{"$f":"IF($F389=\"\",0,VLOOKUP($E389,Drivers!$A$26:$F$48,MATCH(H$1,Drivers!$A$25:$F$25,0),0)*$F389)","v":0},{"$f":"IF($F389=\"\",0,VLOOKUP($E389,Drivers!$A$26:$F$48,MATCH(I$1,Drivers!$A$25:$F$25,0),0)*$F389)","v":0},{"$f":"IF($F389=\"\",0,VLOOKUP($E389,Drivers!$A$26:$F$48,MATCH(J$1,Drivers!$A$25:$F$25,0),0)*$F389)","v":0},{"$f":"IF($F389=\"\",0,VLOOKUP($E389,Drivers!$A$26:$F$48,MATCH(K$1,Drivers!$A$25:$F$25,0),0)*$F389)","v":0}]
["VEÍCULOS",3600,"GERÊNCIA DE GOVERNANÇA, RISCO E COMPLIANCE",{"$f":"VLOOKUP(B390,Centro_Custo!$A$2:$C$36,3)","v":"Encargos de Gestão"},"Fixo",{"$f":"SUMIFS('Classificação OPEX'!$O$4:$O$1666,'Classificação OPEX'!$Q$4:$Q$1666,\"N\",'Classificação OPEX'!$S$4:$S$1666,\"NÃO\",'Classificação OPEX'!$V$4:$V$1666,DRIVER_OPEX!A390,'Classificação OPEX'!$W$4:$W$1666,DRIVER_OPEX!B390)","v":0},{"$f":"IF($F390=\"\",0,VLOOKUP($E390,Drivers!$A$26:$F$48,MATCH(G$1,Drivers!$A$25:$F$25,0),0)*$F390)","v":0},{"$f":"IF($F390=\"\",0,VLOOKUP($E390,Drivers!$A$26:$F$48,MATCH(H$1,Drivers!$A$25:$F$25,0),0)*$F390)","v":0},{"$f":"IF($F390=\"\",0,VLOOKUP($E390,Drivers!$A$26:$F$48,MATCH(I$1,Drivers!$A$25:$F$25,0),0)*$F390)","v":0},{"$f":"IF($F390=\"\",0,VLOOKUP($E390,Drivers!$A$26:$F$48,MATCH(J$1,Drivers!$A$25:$F$25,0),0)*$F390)","v":0},{"$f":"IF($F390=\"\",0,VLOOKUP($E390,Drivers!$A$26:$F$48,MATCH(K$1,Drivers!$A$25:$F$25,0),0)*$F390)","v":0}]
["VEÍCULOS",3700,"GERÊNCIA DE REGULAÇÃO",{"$f":"VLOOKUP(B391,Centro_Custo!$A$2:$C$36,3)","v":"Encargos de Gestão"},"Fixo",{"$f":"SUMIFS('Classificação OPEX'!$O$4:$O$1666,'Classificação OPEX'!$Q$4:$Q$1666,\"N\",'Classificação OPEX'!$S$4:$S$1666,\"NÃO\",'Classificação OPEX'!$V$4:$V$1666,DRIVER_OPEX!A391,'Classificação OPEX'!$W$4:$W$1666,DRIVER_OPEX!B391)","v":0},{"$f":"IF($F391=\"\",0,VLOOKUP($E391,Drivers!$A$26:$F$48,MATCH(G$1,Drivers!$A$25:$F$25,0),0)*$F391)","v":0},{"$f":"IF($F391=\"\",0,VLOOKUP($E391,Drivers!$A$26:$F$48,MATCH(H$1,Drivers!$A$25:$F$25,0),0)*$F391)","v":0},{"$f":"IF($F391=\"\",0,VLOOKUP($E391,Drivers!$A$26:$F$48,MATCH(I$1,Drivers!$A$25:$F$25,0),0)*$F391)","v":0},{"$f":"IF($F391=\"\",0,VLOOKUP($E391,Drivers!$A$26:$F$48,MATCH(J$1,Drivers!$A$25:$F$25,0),0)*$F391)","v":0},{"$f":"IF($F391=\"\",0,VLOOKUP($E391,Drivers!$A$26:$F$48,MATCH(K$1,Drivers!$A$25:$F$25,0),0)*$F391)","v":0}]
["VEÍCULOS",4200,"GERÊNCIA FINANCEIRA",{"$f":"VLOOKUP(B392,Centro_Custo!$A$2:$C$36,3)","v":"Encargos de Gestão"},"Fixo",{"$f":"SUMIFS('Classificação OPEX'!$O$4:$O$1666,'Classificação OPEX'!$Q$4:$Q$1666,\"N\",'Classificação OPEX'!$S$4:$S$1666,\"NÃO\",'Classificação OPEX'!$V$4:$V$1666,DRIVER_OPEX!A392,'Classificação OPEX'!$W$4:$W$1666,DRIVER_OPEX!B392)","v":30.321566729103331},{"$f":"IF($F392=\"\",0,VLOOKUP($E392,Drivers!$A$26:$F$48,MATCH(G$1,Drivers!$A$25:$F$25,0),0)*$F392)","v":30.321566729103331},{"$f":"IF($F392=\"\",0,VLOOKUP($E392,Drivers!$A$26:$F$48,MATCH(H$1,Drivers!$A$25:$F$25,0),0)*$F392)","v":30.321566729103331},{"$f":"IF($F392=\"\",0,VLOOKUP($E392,Drivers!$A$26:$F$48,MATCH(I$1,Drivers!$A$25:$F$25,0),0)*$F392)","v":30.321566729103331},{"$f":"IF($F392=\"\",0,VLOOKUP($E392,Drivers!$A$26:$F$48,MATCH(J$1,Drivers!$A$25:$F$25,0),0)*$F392)","v":30.321566729103331},{"$f":"IF($F392=\"\",0,VLOOKUP($E392,Drivers!$A$26:$F$48,MATCH(K$1,Drivers!$A$25:$F$25,0),0)*$F392)","v":30.321566729103331}]
["VEÍCULOS",4300,"GERÊNCIA DE TECNOLOGIA E SISTEMAS DE INFORMAÇÃO",{"$f":"VLOOKUP(B393,Centro_Custo!$A$2:$C$36,3)","v":"Encargos de Gestão"},"Fixo",{"$f":"SUMIFS('Classificação OPEX'!$O$4:$O$1666,'Classificação OPEX'!$Q$4:$Q$1666,\"N\",'Classificação OPEX'!$S$4:$S$1666,\"NÃO\",'Classificação OPEX'!$V$4:$V$1666,DRIVER_OPEX!A393,'Classificação OPEX'!$W$4:$W$1666,DRIVER_OPEX!B393)","v":0},{"$f":"IF($F393=\"\",0,VLOOKUP($E393,Drivers!$A$26:$F$48,MATCH(G$1,Drivers!$A$25:$F$25,0),0)*$F393)","v":0},{"$f":"IF($F393=\"\",0,VLOOKUP($E393,Drivers!$A$26:$F$48,MATCH(H$1,Drivers!$A$25:$F$25,0),0)*$F393)","v":0},{"$f":"IF($F393=\"\",0,VLOOKUP($E393,Drivers!$A$26:$F$48,MATCH(I$1,Drivers!$A$25:$F$25,0),0)*$F393)","v":0},{"$f":"IF($F393=\"\",0,VLOOKUP($E393,Drivers!$A$26:$F$48,MATCH(J$1,Drivers!$A$25:$F$25,0),0)*$F393)","v":0},{"$f":"IF($F393=\"\",0,VLOOKUP($E393,Drivers!$A$26:$F$48,MATCH(K$1,Drivers!$A$25:$F$25,0),0)*$F393)","v":0}]
["VEÍCULOS",4500,"GERÊNCIA CONTÁBIL",{"$f":"VLOOKUP(B394,Centro_Custo!$A$2:$C$36,3)","v":"Encargos de Gestão"},"Fixo",{"$f":"SUMIFS('Classificação OPEX'!$O$4:$O$1666,'Classificação OPEX'!$Q$4:$Q$1666,\"N\",'Classificação OPEX'!$S$4:$S$1666,\"NÃO\",'Classificação OPEX'!$V$4:$V$1666,DRIVER_OPEX!A394,'Classificação OPEX'!$W$4:$W$1666,DRIVER_OPEX!B394)","v":0},{"$f":"IF($F394=\"\",0,VLOOKUP($E394,Drivers!$A$26:$F$48,MATCH(G$1,Drivers!$A$25:$F$25,0),0)*$F394)","v":0},{"$f":"IF($F394=\"\",0,VLOOKUP($E394,Drivers!$A$26:$F$48,MATCH(H$1,Drivers!$A$25:$F$25,0),0)*$F394)","v":0},{"$f":"IF($F394=\"\",0,VLOOKUP($E394,Drivers!$A$26:$F$48,MATCH(I$1,Drivers!$A$25:$F$25,0),0)*$F394)","v":0},{"$f":"IF($F394=\"\",0,VLOOKUP($E394,Drivers!$A$26:$F$48,MATCH(J$1,Drivers!$A$25:$F$25,0),0)*$F394)","v":0},{"$f":"IF($F394=\"\",0,VLOOKUP($E394,Drivers!$A$26:$F$48,MATCH(K$1,Drivers!$A$25:$F$25,0),0)*$F394)","v":0}]
["VEÍCULOS",4600,"GERÊNCIA DE PESSOAS E CULTURA",{"$f":"VLOOKUP(B395,Centro_Custo!$A$2:$C$36,3)","v":"Encargos de Gestão"},"Fixo",{"$f":"SUMIFS('Classificação OPEX'!$O$4:$O$1666,'Classificação OPEX'!$Q$4:$Q$1666,\"N\",'Classificação OPEX'!$S$4:$S$1666,\"NÃO\",'Classificação OPEX'!$V$4:$V$1666,DRIVER_OPEX!A395,'Classificação OPEX'!$W$4:$W$1666,DRIVER_OPEX!B395)","v":0},{"$f":"IF($F395=\"\",0,VLOOKUP($E395,Drivers!$A$26:$F$48,MATCH(G$1,Drivers!$A$25:$F$25,0),0)*$F395)","v":0},{"$f":"IF($F395=\"\",0,VLOOKUP($E395,Drivers!$A$26:$F$48,MATCH(H$1,Drivers!$A$25:$F$25,0),0)*$F395)","v":0},{"$f":"IF($F395=\"\",0,VLOOKUP($E395,Drivers!$A$26:$F$48,MATCH(I$1,Drivers!$A$25:$F$25,0),0)*$F395)","v":0},{"$f":"IF($F395=\"\",0,VLOOKUP($E395,Drivers!$A$26:$F$48,MATCH(J$1,Drivers!$A$25:$F$25,0),0)*$F395)","v":0},{"$f":"IF($F395=\"\",0,VLOOKUP($E395,Drivers!$A$26:$F$48,MATCH(K$1,Drivers!$A$25:$F$25,0),0)*$F395)","v":0}]
["VEÍCULOS",9999,"RATEIO",{"$f":"VLOOKUP(B396,Centro_Custo!$A$2:$C$36,3)","v":"Encargos de Gestão"},"Fixo",{"$f":"SUMIFS('Classificação OPEX'!$O$4:$O$1666,'Classificação OPEX'!$Q$4:$Q$1666,\"N\",'Classificação OPEX'!$S$4:$S$1666,\"NÃO\",'Classificação OPEX'!$V$4:$V$1666,DRIVER_OPEX!A396,'Classificação OPEX'!$W$4:$W$1666,DRIVER_OPEX!B396)","v":0},{"$f":"IF($F396=\"\",0,VLOOKUP($E396,Drivers!$A$26:$F$48,MATCH(G$1,Drivers!$A$25:$F$25,0),0)*$F396)","v":0},{"$f":"IF($F396=\"\",0,VLOOKUP($E396,Drivers!$A$26:$F$48,MATCH(H$1,Drivers!$A$25:$F$25,0),0)*$F396)","v":0},{"$f":"IF($F396=\"\",0,VLOOKUP($E396,Drivers!$A$26:$F$48,MATCH(I$1,Drivers!$A$25:$F$25,0),0)*$F396)","v":0},{"$f":"IF($F396=\"\",0,VLOOKUP($E396,Drivers!$A$26:$F$48,MATCH(J$1,Drivers!$A$25:$F$25,0),0)*$F396)","v":0},{"$f":"IF($F396=\"\",0,VLOOKUP($E396,Drivers!$A$26:$F$48,MATCH(K$1,Drivers!$A$25:$F$25,0),0)*$F396)","v":0}]
["VEÍCULOS","5400","GERÊNCIA COMERCIAL",{"$f":"VLOOKUP(B397,Centro_Custo!$A$2:$C$36,3)","v":"Encargos de Gestão"},"Fixo",{"$f":"SUMIFS('Classificação OPEX'!$O$4:$O$1666,'Classificação OPEX'!$Q$4:$Q$1666,\"N\",'Classificação OPEX'!$S$4:$S$1666,\"NÃO\",'Classificação OPEX'!$V$4:$V$1666,DRIVER_OPEX!A397,'Classificação OPEX'!$W$4:$W$1666,DRIVER_OPEX!B397)","v":118.65904262442704},{"$f":"IF($F397=\"\",0,VLOOKUP($E397,Drivers!$A$26:$F$48,MATCH(G$1,Drivers!$A$25:$F$25,0),0)*$F397)","v":118.65904262442704},{"$f":"IF($F397=\"\",0,VLOOKUP($E397,Drivers!$A$26:$F$48,MATCH(H$1,Drivers!$A$25:$F$25,0),0)*$F397)","v":118.65904262442704},{"$f":"IF($F397=\"\",0,VLOOKUP($E397,Drivers!$A$26:$F$48,MATCH(I$1,Drivers!$A$25:$F$25,0),0)*$F397)","v":118.65904262442704},{"$f":"IF($F397=\"\",0,VLOOKUP($E397,Drivers!$A$26:$F$48,MATCH(J$1,Drivers!$A$25:$F$25,0),0)*$F397)","v":118.65904262442704},{"$f":"IF($F397=\"\",0,VLOOKUP($E397,Drivers!$A$26:$F$48,MATCH(K$1,Drivers!$A$25:$F$25,0),0)*$F397)","v":118.65904262442704}]
["VEÍCULOS","5500","GERÊNCIA COMERCIAL",{"$f":"VLOOKUP(B398,Centro_Custo!$A$2:$C$36,3)","v":"Encargos de Gestão"},"Fixo",{"$f":"SUMIFS('Classificação OPEX'!$O$4:$O$1666,'Classificação OPEX'!$Q$4:$Q$1666,\"N\",'Classificação OPEX'!$S$4:$S$1666,\"NÃO\",'Classificação OPEX'!$V$4:$V$1666,DRIVER_OPEX!A398,'Classificação OPEX'!$W$4:$W$1666,DRIVER_OPEX!B398)","v":0},{"$f":"IF($F398=\"\",0,VLOOKUP($E398,Drivers!$A$26:$F$48,MATCH(G$1,Drivers!$A$25:$F$25,0),0)*$F398)","v":0},{"$f":"IF($F398=\"\",0,VLOOKUP($E398,Drivers!$A$26:$F$48,MATCH(H$1,Drivers!$A$25:$F$25,0),0)*$F398)","v":0},{"$f":"IF($F398=\"\",0,VLOOKUP($E398,Drivers!$A$26:$F$48,MATCH(I$1,Drivers!$A$25:$F$25,0),0)*$F398)","v":0},{"$f":"IF($F398=\"\",0,VLOOKUP($E398,Drivers!$A$26:$F$48,MATCH(J$1,Drivers!$A$25:$F$25,0),0)*$F398)","v":0},{"$f":"IF($F398=\"\",0,VLOOKUP($E398,Drivers!$A$26:$F$48,MATCH(K$1,Drivers!$A$25:$F$25,0),0)*$F398)","v":0}]
["VIAGENS_REPRESENTAÇÕES","TOTAL","TOTAL",null,null,{"$f":"SUM(F400:F434)","v":324148.24136050773},{"$f":"SUM(G400:G434)","v":494049.85369093739},591999.05438700726,406021.18970042659,455910.69301044487,426306.83354066301]
["VIAGENS_REPRESENTAÇÕES",1001,{"$f":"VLOOKUP(B400,Centro_Custo!$A$2:$B$36,2,0)","v":"CONSELHO DE ADMINISTRAÇÃO"},{"$f":"VLOOKUP(B400,Centro_Custo!$A$2:$C$36,3)","v":"Encargos de Gestão"},"Fixo",{"$f":"SUMIFS('Classificação OPEX'!$O$4:$O$1666,'Classificação OPEX'!$Q$4:$Q$1666,\"N\",'Classificação OPEX'!$S$4:$S$1666,\"NÃO\",'Classificação OPEX'!$V$4:$V$1666,DRIVER_OPEX!A400,'Classificação OPEX'!$W$4:$W$1666,DRIVER_OPEX!B400)","v":13761.869956986709},{"$f":"IF($F400=\"\",0,VLOOKUP($E400,Drivers!$A$26:$F$48,MATCH(G$1,Drivers!$A$25:$F$25,0),0)*$F400)","v":13761.869956986709},{"$f":"IF($F400=\"\",0,VLOOKUP($E400,Drivers!$A$26:$F$48,MATCH(H$1,Drivers!$A$25:$F$25,0),0)*$F400)","v":13761.869956986709},{"$f":"IF($F400=\"\",0,VLOOKUP($E400,Drivers!$A$26:$F$48,MATCH(I$1,Drivers!$A$25:$F$25,0),0)*$F400)","v":13761.869956986709},{"$f":"IF($F400=\"\",0,VLOOKUP($E400,Drivers!$A$26:$F$48,MATCH(J$1,Drivers!$A$25:$F$25,0),0)*$F400)","v":13761.869956986709},{"$f":"IF($F400=\"\",0,VLOOKUP($E400,Drivers!$A$26:$F$48,MATCH(K$1,Drivers!$A$25:$F$25,0),0)*$F400)","v":13761.869956986709}]
["VIAGENS_REPRESENTAÇÕES",1005,{"$f":"VLOOKUP(B401,Centro_Custo!$A$2:$B$36,2,0)","v":"AUDITORIA INTERNA"},{"$f":"VLOOKUP(B401,Centro_Custo!$A$2:$C$36,3)","v":"Encargos de Gestão"},"Fixo",{"$f":"SUMIFS('Classificação OPEX'!$O$4:$O$1666,'Classificação OPEX'!$Q$4:$Q$1666,\"N\",'Classificação OPEX'!$S$4:$S$1666,\"NÃO\",'Classificação OPEX'!$V$4:$V$1666,DRIVER_OPEX!A401,'Classificação OPEX'!$W$4:$W$1666,DRIVER_OPEX!B401)","v":1164.2873344586683},{"$f":"IF($F401=\"\",0,VLOOKUP($E401,Drivers!$A$26:$F$48,MATCH(G$1,Drivers!$A$25:$F$25,0),0)*$F401)","v":1164.2873344586683},{"$f":"IF($F401=\"\",0,VLOOKUP($E401,Drivers!$A$26:$F$48,MATCH(H$1,Drivers!$A$25:$F$25,0),0)*$F401)","v":1164.2873344586683},{"$f":"IF($F401=\"\",0,VLOOKUP($E401,Drivers!$A$26:$F$48,MATCH(I$1,Drivers!$A$25:$F$25,0),0)*$F401)","v":1164.2873344586683},{"$f":"IF($F401=\"\",0,VLOOKUP($E401,Drivers!$A$26:$F$48,MATCH(J$1,Drivers!$A$25:$F$25,0),0)*$F401)","v":1164.2873344586683},{"$f":"IF($F401=\"\",0,VLOOKUP($E401,Drivers!$A$26:$F$48,MATCH(K$1,Drivers!$A$25:$F$25,0),0)*$F401)","v":1164.2873344586683}]
["VIAGENS_REPRESENTAÇÕES",2120,{"$f":"VLOOKUP(B402,Centro_Custo!$A$2:$B$36,2,0)","v":"ASSESSORIA DA PRESIDÊNCIA"},{"$f":"VLOOKUP(B402,Centro_Custo!$A$2:$C$36,3)","v":"Encargos de Gestão"},"Fixo",{"$f":"SUMIFS('Classificação OPEX'!$O$4:$O$1666,'Classificação OPEX'!$Q$4:$Q$1666,\"N\",'Classificação OPEX'!$S$4:$S$1666,\"NÃO\",'Classificação OPEX'!$V$4:$V$1666,DRIVER_OPEX!A402,'Classificação OPEX'!$W$4:$W$1666,DRIVER_OPEX!B402)","v":15362.960981372747},{"$f":"IF($F402=\"\",0,VLOOKUP($E402,Drivers!$A$26:$F$48,MATCH(G$1,Drivers!$A$25:$F$25,0),0)*$F402)","v":15362.960981372747},{"$f":"IF($F402=\"\",0,VLOOKUP($E402,Drivers!$A$26:$F$48,MATCH(H$1,Drivers!$A$25:$F$25,0),0)*$F402)","v":15362.960981372747},{"$f":"IF($F402=\"\",0,VLOOKUP($E402,Drivers!$A$26:$F$48,MATCH(I$1,Drivers!$A$25:$F$25,0),0)*$F402)","v":15362.960981372747},{"$f":"IF($F402=\"\",0,VLOOKUP($E402,Drivers!$A$26:$F$48,MATCH(J$1,Drivers!$A$25:$F$25,0),0)*$F402)","v":15362.960981372747},{"$f":"IF($F402=\"\",0,VLOOKUP($E402,Drivers!$A$26:$F$48,MATCH(K$1,Drivers!$A$25:$F$25,0),0)*$F402)","v":15362.960981372747}]
["VIAGENS_REPRESENTAÇÕES",2130,{"$f":"VLOOKUP(B403,Centro_Custo!$A$2:$B$36,2,0)","v":"ASSESSORIA DE RELAÇÕES INSTITUCIONAIS E NOVOS NEGÓCIOS"},{"$f":"VLOOKUP(B403,Centro_Custo!$A$2:$C$36,3)","v":"Encargos de Gestão"},"Município",{"$f":"SUMIFS('Classificação OPEX'!$O$4:$O$1666,'Classificação OPEX'!$Q$4:$Q$1666,\"N\",'Classificação OPEX'!$S$4:$S$1666,\"NÃO\",'Classificação OPEX'!$V$4:$V$1666,DRIVER_OPEX!A403,'Classificação OPEX'!$W$4:$W$1666,DRIVER_OPEX!B403)","v":4540.0305730453656},{"$f":"IF($F403=\"\",0,VLOOKUP($E403,Drivers!$A$26:$F$48,MATCH(G$1,Drivers!$A$25:$F$25,0),0)*$F403)","v":4842.6992779150569},{"$f":"IF($F403=\"\",0,VLOOKUP($E403,Drivers!$A$26:$F$48,MATCH(H$1,Drivers!$A$25:$F$25,0),0)*$F403)","v":5750.7053925241298},{"$f":"IF($F403=\"\",0,VLOOKUP($E403,Drivers!$A$26:$F$48,MATCH(I$1,Drivers!$A$25:$F$25,0),0)*$F403)","v":6053.3740973938202},{"$f":"IF($F403=\"\",0,VLOOKUP($E403,Drivers!$A$26:$F$48,MATCH(J$1,Drivers!$A$25:$F$25,0),0)*$F403)","v":6053.3740973938202},{"$f":"IF($F403=\"\",0,VLOOKUP($E403,Drivers!$A$26:$F$48,MATCH(K$1,Drivers!$A$25:$F$25,0),0)*$F403)","v":6053.3740973938202}]
["VIAGENS_REPRESENTAÇÕES",2140,{"$f":"VLOOKUP(B404,Centro_Custo!$A$2:$B$36,2,0)","v":"ASSESSORIA DTC"},{"$f":"VLOOKUP(B404,Centro_Custo!$A$2:$C$36,3)","v":"Encargos de Comercialização"},"Fixo",{"$f":"SUMIFS('Classificação OPEX'!$O$4:$O$1666,'Classificação OPEX'!$Q$4:$Q$1666,\"N\",'Classificação OPEX'!$S$4:$S$1666,\"NÃO\",'Classificação OPEX'!$V$4:$V$1666,DRIVER_OPEX!A404,'Classificação OPEX'!$W$4:$W$1666,DRIVER_OPEX!B404)","v":1152.8354401558527},{"$f":"IF($F404=\"\",0,VLOOKUP($E404,Drivers!$A$26:$F$48,MATCH(G$1,Drivers!$A$25:$F$25,0),0)*$F404)","v":1152.8354401558527},{"$f":"IF($F404=\"\",0,VLOOKUP($E404,Drivers!$A$26:$F$48,MATCH(H$1,Drivers!$A$25:$F$25,0),0)*$F404)","v":1152.8354401558527},{"$f":"IF($F404=\"\",0,VLOOKUP($E404,Drivers!$A$26:$F$48,MATCH(I$1,Drivers!$A$25:$F$25,0),0)*$F404)","v":1152.8354401558527},{"$f":"IF($F404=\"\",0,VLOOKUP($E404,Drivers!$A$26:$F$48,MATCH(J$1,Drivers!$A$25:$F$25,0),0)*$F404)","v":1152.8354401558527},{"$f":"IF($F404=\"\",0,VLOOKUP($E404,Drivers!$A$26:$F$48,MATCH(K$1,Drivers!$A$25:$F$25,0),0)*$F404)","v":1152.8354401558527}]
["VIAGENS_REPRESENTAÇÕES",2200,{"$f":"VLOOKUP(B405,Centro_Custo!$A$2:$B$36,2,0)","v":"DIRETORIA COLEGIADA - PRESIDÊNCIA"},{"$f":"VLOOKUP(B405,Centro_Custo!$A$2:$C$36,3)","v":"Encargos de Gestão"},"Fixo",{"$f":"SUMIFS('Classificação OPEX'!$O$4:$O$1666,'Classificação OPEX'!$Q$4:$Q$1666,\"N\",'Classificação OPEX'!$S$4:$S$1666,\"NÃO\",'Classificação OPEX'!$V$4:$V$1666,DRIVER_OPEX!A405,'Classificação OPEX'!$W$4:$W$1666,DRIVER_OPEX!B405)","v":74431.352417803806},{"$f":"IF($F405=\"\",0,VLOOKUP($E405,Drivers!$A$26:$F$48,MATCH(G$1,Drivers!$A$25:$F$25,0),0)*$F405)","v":74431.352417803806},{"$f":"IF($F405=\"\",0,VLOOKUP($E405,Drivers!$A$26:$F$48,MATCH(H$1,Drivers!$A$25:$F$25,0),0)*$F405)","v":74431.352417803806},{"$f":"IF($F405=\"\",0,VLOOKUP($E405,Drivers!$A$26:$F$48,MATCH(I$1,Drivers!$A$25:$F$25,0),0)*$F405)","v":74431.352417803806},{"$f":"IF($F405=\"\",0,VLOOKUP($E405,Drivers!$A$26:$F$48,MATCH(J$1,Drivers!$A$25:$F$25,0),0)*$F405)","v":74431.352417803806},{"$f":"IF($F405=\"\",0,VLOOKUP($E405,Drivers!$A$26:$F$48,MATCH(K$1,Drivers!$A$25:$F$25,0),0)*$F405)","v":74431.352417803806}]
["VIAGENS_REPRESENTAÇÕES",2300,{"$f":"VLOOKUP(B406,Centro_Custo!$A$2:$B$36,2,0)","v":"DIRETORIA COLEGIADA - DAF"},{"$f":"VLOOKUP(B406,Centro_Custo!$A$2:$C$36,3)","v":"Encargos de Gestão"},"Fixo",{"$f":"SUMIFS('Classificação OPEX'!$O$4:$O$1666,'Classificação OPEX'!$Q$4:$Q$1666,\"N\",'Classificação OPEX'!$S$4:$S$1666,\"NÃO\",'Classificação OPEX'!$V$4:$V$1666,DRIVER_OPEX!A406,'Classificação OPEX'!$W$4:$W$1666,DRIVER_OPEX!B406)","v":12835.02491136684},{"$f":"IF($F406=\"\",0,VLOOKUP($E406,Drivers!$A$26:$F$48,MATCH(G$1,Drivers!$A$25:$F$25,0),0)*$F406)","v":12835.02491136684},{"$f":"IF($F406=\"\",0,VLOOKUP($E406,Drivers!$A$26:$F$48,MATCH(H$1,Drivers!$A$25:$F$25,0),0)*$F406)","v":12835.02491136684},{"$f":"IF($F406=\"\",0,VLOOKUP($E406,Drivers!$A$26:$F$48,MATCH(I$1,Drivers!$A$25:$F$25,0),0)*$F406)","v":12835.02491136684},{"$f":"IF($F406=\"\",0,VLOOKUP($E406,Drivers!$A$26:$F$48,MATCH(J$1,Drivers!$A$25:$F$25,0),0)*$F406)","v":12835.02491136684},{"$f":"IF($F406=\"\",0,VLOOKUP($E406,Drivers!$A$26:$F$48,MATCH(K$1,Drivers!$A$25:$F$25,0),0)*$F406)","v":12835.02491136684}]
["VIAGENS_REPRESENTAÇÕES",2400,{"$f":"VLOOKUP(B407,Centro_Custo!$A$2:$B$36,2,0)","v":"DIRETORIA COLEGIADA - DTC"},{"$f":"VLOOKUP(B407,Centro_Custo!$A$2:$C$36,3)","v":"Encargos de Comercialização"},"Município",{"$f":"SUMIFS('Classificação OPEX'!$O$4:$O$1666,'Classificação OPEX'!$Q$4:$Q$1666,\"N\",'Classificação OPEX'!$S$4:$S$1666,\"NÃO\",'Classificação OPEX'!$V$4:$V$1666,DRIVER_OPEX!A407,'Classificação OPEX'!$W$4:$W$1666,DRIVER_OPEX!B407)","v":20015.539185744732},{"$f":"IF($F407=\"\",0,VLOOKUP($E407,Drivers!$A$26:$F$48,MATCH(G$1,Drivers!$A$25:$F$25,0),0)*$F407)","v":21349.908464794382},{"$f":"IF($F407=\"\",0,VLOOKUP($E407,Drivers!$A$26:$F$48,MATCH(H$1,Drivers!$A$25:$F$25,0),0)*$F407)","v":25353.016301943328},{"$f":"IF($F407=\"\",0,VLOOKUP($E407,Drivers!$A$26:$F$48,MATCH(I$1,Drivers!$A$25:$F$25,0),0)*$F407)","v":26687.385580992974},{"$f":"IF($F407=\"\",0,VLOOKUP($E407,Drivers!$A$26:$F$48,MATCH(J$1,Drivers!$A$25:$F$25,0),0)*$F407)","v":26687.385580992974},{"$f":"IF($F407=\"\",0,VLOOKUP($E407,Drivers!$A$26:$F$48,MATCH(K$1,Drivers!$A$25:$F$25,0),0)*$F407)","v":26687.385580992974}]
["VIAGENS_REPRESENTAÇÕES",2410,{"$f":"VLOOKUP(B408,Centro_Custo!$A$2:$B$36,2,0)","v":"ASSESSORIA DE SEGURANÇA DO TRABALHO"},{"$f":"VLOOKUP(B408,Centro_Custo!$A$2:$C$36,3)","v":"OPEX&ODESP"},"Extensão de Rede",{"$f":"SUMIFS('Classificação OPEX'!$O$4:$O$1666,'Classificação OPEX'!$Q$4:$Q$1666,\"N\",'Classificação OPEX'!$S$4:$S$1666,\"NÃO\",'Classificação OPEX'!$V$4:$V$1666,DRIVER_OPEX!A408,'Classificação OPEX'!$W$4:$W$1666,DRIVER_OPEX!B408)","v":4754.8443310365728},{"$f":"IF($F408=\"\",0,VLOOKUP($E408,Drivers!$A$26:$F$48,MATCH(G$1,Drivers!$A$25:$F$25,0),0)*$F408)","v":5089.4989476944565},{"$f":"IF($F408=\"\",0,VLOOKUP($E408,Drivers!$A$26:$F$48,MATCH(H$1,Drivers!$A$25:$F$25,0),0)*$F408)","v":5550.9081111831911},{"$f":"IF($F408=\"\",0,VLOOKUP($E408,Drivers!$A$26:$F$48,MATCH(I$1,Drivers!$A$25:$F$25,0),0)*$F408)","v":5715.1302466626603},{"$f":"IF($F408=\"\",0,VLOOKUP($E408,Drivers!$A$26:$F$48,MATCH(J$1,Drivers!$A$25:$F$25,0),0)*$F408)","v":5951.5076450650786},{"$f":"IF($F408=\"\",0,VLOOKUP($E408,Drivers!$A$26:$F$48,MATCH(K$1,Drivers!$A$25:$F$25,0),0)*$F408)","v":6137.6195794088135}]
["VIAGENS_REPRESENTAÇÕES",3100,{"$f":"VLOOKUP(B409,Centro_Custo!$A$2:$B$36,2,0)","v":"SMS"},{"$f":"VLOOKUP(B409,Centro_Custo!$A$2:$C$36,3)","v":"OPEX&ODESP"},"Extensão adicional de rede ",{"$f":"SUMIFS('Classificação OPEX'!$O$4:$O$1666,'Classificação OPEX'!$Q$4:$Q$1666,\"N\",'Classificação OPEX'!$S$4:$S$1666,\"NÃO\",'Classificação OPEX'!$V$4:$V$1666,DRIVER_OPEX!A409,'Classificação OPEX'!$W$4:$W$1666,DRIVER_OPEX!B409)","v":3064.5405677548883},{"$f":"IF($F409=\"\",0,VLOOKUP($E409,Drivers!$A$26:$F$48,MATCH(G$1,Drivers!$A$25:$F$25,0),0)*$F409)","v":12172.108836530237},{"$f":"IF($F409=\"\",0,VLOOKUP($E409,Drivers!$A$26:$F$48,MATCH(H$1,Drivers!$A$25:$F$25,0),0)*$F409)","v":16782.444575981477},{"$f":"IF($F409=\"\",0,VLOOKUP($E409,Drivers!$A$26:$F$48,MATCH(I$1,Drivers!$A$25:$F$25,0),0)*$F409)","v":5973.1125970600651},{"$f":"IF($F409=\"\",0,VLOOKUP($E409,Drivers!$A$26:$F$48,MATCH(J$1,Drivers!$A$25:$F$25,0),0)*$F409)","v":8597.5548420163559},{"$f":"IF($F409=\"\",0,VLOOKUP($E409,Drivers!$A$26:$F$48,MATCH(K$1,Drivers!$A$25:$F$25,0),0)*$F409)","v":6769.2917050805117}]
["VIAGENS_REPRESENTAÇÕES",3200,{"$f":"VLOOKUP(B410,Centro_Custo!$A$2:$B$36,2,0)","v":"GERÊNCIA DE PLANEJAMENTO E MEIO AMBIENTE"},{"$f":"VLOOKUP(B410,Centro_Custo!$A$2:$C$36,3)","v":"OPEX&ODESP"},"Município",{"$f":"SUMIFS('Classificação OPEX'!$O$4:$O$1666,'Classificação OPEX'!$Q$4:$Q$1666,\"N\",'Classificação OPEX'!$S$4:$S$1666,\"NÃO\",'Classificação OPEX'!$V$4:$V$1666,DRIVER_OPEX!A410,'Classificação OPEX'!$W$4:$W$1666,DRIVER_OPEX!B410)","v":14736.446411537663},{"$f":"IF($F410=\"\",0,VLOOKUP($E410,Drivers!$A$26:$F$48,MATCH(G$1,Drivers!$A$25:$F$25,0),0)*$F410)","v":15718.87617230684},{"$f":"IF($F410=\"\",0,VLOOKUP($E410,Drivers!$A$26:$F$48,MATCH(H$1,Drivers!$A$25:$F$25,0),0)*$F410)","v":18666.165454614373},{"$f":"IF($F410=\"\",0,VLOOKUP($E410,Drivers!$A$26:$F$48,MATCH(I$1,Drivers!$A$25:$F$25,0),0)*$F410)","v":19648.59521538355},{"$f":"IF($F410=\"\",0,VLOOKUP($E410,Drivers!$A$26:$F$48,MATCH(J$1,Drivers!$A$25:$F$25,0),0)*$F410)","v":19648.59521538355},{"$f":"IF($F410=\"\",0,VLOOKUP($E410,Drivers!$A$26:$F$48,MATCH(K$1,Drivers!$A$25:$F$25,0),0)*$F410)","v":19648.59521538355}]
["VIAGENS_REPRESENTAÇÕES",3500,{"$f":"VLOOKUP(B411,Centro_Custo!$A$2:$B$36,2,0)","v":"ASSESSORIA DE COMUNICAÇÃO INSTITUCIONAL"},{"$f":"VLOOKUP(B411,Centro_Custo!$A$2:$C$36,3)","v":"Encargos de Gestão"},"Município",{"$f":"SUMIFS('Classificação OPEX'!$O$4:$O$1666,'Classificação OPEX'!$Q$4:$Q$1666,\"N\",'Classificação OPEX'!$S$4:$S$1666,\"NÃO\",'Classificação OPEX'!$V$4:$V$1666,DRIVER_OPEX!A411,'Classificação OPEX'!$W$4:$W$1666,DRIVER_OPEX!B411)","v":4507.8137730162171},{"$f":"IF($F411=\"\",0,VLOOKUP($E411,Drivers!$A$26:$F$48,MATCH(G$1,Drivers!$A$25:$F$25,0),0)*$F411)","v":4808.3346912172983},{"$f":"IF($F411=\"\",0,VLOOKUP($E411,Drivers!$A$26:$F$48,MATCH(H$1,Drivers!$A$25:$F$25,0),0)*$F411)","v":5709.8974458205412},{"$f":"IF($F411=\"\",0,VLOOKUP($E411,Drivers!$A$26:$F$48,MATCH(I$1,Drivers!$A$25:$F$25,0),0)*$F411)","v":6010.4183640216224},{"$f":"IF($F411=\"\",0,VLOOKUP($E411,Drivers!$A$26:$F$48,MATCH(J$1,Drivers!$A$25:$F$25,0),0)*$F411)","v":6010.4183640216224},{"$f":"IF($F411=\"\",0,VLOOKUP($E411,Drivers!$A$26:$F$48,MATCH(K$1,Drivers!$A$25:$F$25,0),0)*$F411)","v":6010.4183640216224}]
["VIAGENS_REPRESENTAÇÕES",3600,{"$f":"VLOOKUP(B412,Centro_Custo!$A$2:$B$36,2,0)","v":"GERÊNCIA DE GOVERNANÇA, RISCO E COMPLIANCE"},{"$f":"VLOOKUP(B412,Centro_Custo!$A$2:$C$36,3)","v":"Encargos de Gestão"},"Fixo",{"$f":"SUMIFS('Classificação OPEX'!$O$4:$O$1666,'Classificação OPEX'!$Q$4:$Q$1666,\"N\",'Classificação OPEX'!$S$4:$S$1666,\"NÃO\",'Classificação OPEX'!$V$4:$V$1666,DRIVER_OPEX!A412,'Classificação OPEX'!$W$4:$W$1666,DRIVER_OPEX!B412)","v":2953.9673246165225},{"$f":"IF($F412=\"\",0,VLOOKUP($E412,Drivers!$A$26:$F$48,MATCH(G$1,Drivers!$A$25:$F$25,0),0)*$F412)","v":2953.9673246165225},{"$f":"IF($F412=\"\",0,VLOOKUP($E412,Drivers!$A$26:$F$48,MATCH(H$1,Drivers!$A$25:$F$25,0),0)*$F412)","v":2953.9673246165225},{"$f":"IF($F412=\"\",0,VLOOKUP($E412,Drivers!$A$26:$F$48,MATCH(I$1,Drivers!$A$25:$F$25,0),0)*$F412)","v":2953.9673246165225},{"$f":"IF($F412=\"\",0,VLOOKUP($E412,Drivers!$A$26:$F$48,MATCH(J$1,Drivers!$A$25:$F$25,0),0)*$F412)","v":2953.9673246165225},{"$f":"IF($F412=\"\",0,VLOOKUP($E412,Drivers!$A$26:$F$48,MATCH(K$1,Drivers!$A$25:$F$25,0),0)*$F412)","v":2953.9673246165225}]
["VIAGENS_REPRESENTAÇÕES",3700,{"$f":"VLOOKUP(B413,Centro_Custo!$A$2:$B$36,2,0)","v":"GERÊNCIA DE REGULAÇÃO"},{"$f":"VLOOKUP(B413,Centro_Custo!$A$2:$C$36,3)","v":"Encargos de Gestão"},"Fixo",{"$f":"SUMIFS('Classificação OPEX'!$O$4:$O$1666,'Classificação OPEX'!$Q$4:$Q$1666,\"N\",'Classificação OPEX'!$S$4:$S$1666,\"NÃO\",'Classificação OPEX'!$V$4:$V$1666,DRIVER_OPEX!A413,'Classificação OPEX'!$W$4:$W$1666,DRIVER_OPEX!B413)","v":3607.2729263121782},{"$f":"IF($F413=\"\",0,VLOOKUP($E413,Drivers!$A$26:$F$48,MATCH(G$1,Drivers!$A$25:$F$25,0),0)*$F413)","v":3607.2729263121782},{"$f":"IF($F413=\"\",0,VLOOKUP($E413,Drivers!$A$26:$F$48,MATCH(H$1,Drivers!$A$25:$F$25,0),0)*$F413)","v":3607.2729263121782},{"$f":"IF($F413=\"\",0,VLOOKUP($E413,Drivers!$A$26:$F$48,MATCH(I$1,Drivers!$A$25:$F$25,0),0)*$F413)","v":3607.2729263121782},{"$f":"IF($F413=\"\",0,VLOOKUP($E413,Drivers!$A$26:$F$48,MATCH(J$1,Drivers!$A$25:$F$25,0),0)*$F413)","v":3607.2729263121782},{"$f":"IF($F413=\"\",0,VLOOKUP($E413,Drivers!$A$26:$F$48,MATCH(K$1,Drivers!$A$25:$F$25,0),0)*$F413)","v":3607.2729263121782}]
["VIAGENS_REPRESENTAÇÕES",4100,{"$f":"VLOOKUP(B414,Centro_Custo!$A$2:$B$36,2,0)","v":"GERÊNCIA DE SERVIÇOS CORPORATIVOS"},{"$f":"VLOOKUP(B414,Centro_Custo!$A$2:$C$36,3)","v":"Encargos de Gestão"},"Funcionário",{"$f":"SUMIFS('Classificação OPEX'!$O$4:$O$1666,'Classificação OPEX'!$Q$4:$Q$1666,\"N\",'Classificação OPEX'!$S$4:$S$1666,\"NÃO\",'Classificação OPEX'!$V$4:$V$1666,DRIVER_OPEX!A414,'Classificação OPEX'!$W$4:$W$1666,DRIVER_OPEX!B414)","v":3974.0848972835888},{"$f":"IF($F414=\"\",0,VLOOKUP($E414,Drivers!$A$26:$F$48,MATCH(G$1,Drivers!$A$25:$F$25,0),0)*$F414)","v":4235.537851052246},{"$f":"IF($F414=\"\",0,VLOOKUP($E414,Drivers!$A$26:$F$48,MATCH(H$1,Drivers!$A$25:$F$25,0),0)*$F414)","v":4340.119032559709},{"$f":"IF($F414=\"\",0,VLOOKUP($E414,Drivers!$A$26:$F$48,MATCH(I$1,Drivers!$A$25:$F$25,0),0)*$F414)","v":4366.2643279365739},{"$f":"IF($F414=\"\",0,VLOOKUP($E414,Drivers!$A$26:$F$48,MATCH(J$1,Drivers!$A$25:$F$25,0),0)*$F414)","v":4366.2643279365739},{"$f":"IF($F414=\"\",0,VLOOKUP($E414,Drivers!$A$26:$F$48,MATCH(K$1,Drivers!$A$25:$F$25,0),0)*$F414)","v":4366.2643279365739}]
["VIAGENS_REPRESENTAÇÕES",4200,{"$f":"VLOOKUP(B415,Centro_Custo!$A$2:$B$36,2,0)","v":"GERÊNCIA FINANCEIRA"},{"$f":"VLOOKUP(B415,Centro_Custo!$A$2:$C$36,3)","v":"Encargos de Gestão"},"Fixo",{"$f":"SUMIFS('Classificação OPEX'!$O$4:$O$1666,'Classificação OPEX'!$Q$4:$Q$1666,\"N\",'Classificação OPEX'!$S$4:$S$1666,\"NÃO\",'Classificação OPEX'!$V$4:$V$1666,DRIVER_OPEX!A415,'Classificação OPEX'!$W$4:$W$1666,DRIVER_OPEX!B415)","v":12805.142694587021},{"$f":"IF($F415=\"\",0,VLOOKUP($E415,Drivers!$A$26:$F$48,MATCH(G$1,Drivers!$A$25:$F$25,0),0)*$F415)","v":12805.142694587021},{"$f":"IF($F415=\"\",0,VLOOKUP($E415,Drivers!$A$26:$F$48,MATCH(H$1,Drivers!$A$25:$F$25,0),0)*$F415)","v":12805.142694587021},{"$f":"IF($F415=\"\",0,VLOOKUP($E415,Drivers!$A$26:$F$48,MATCH(I$1,Drivers!$A$25:$F$25,0),0)*$F415)","v":12805.142694587021},{"$f":"IF($F415=\"\",0,VLOOKUP($E415,Drivers!$A$26:$F$48,MATCH(J$1,Drivers!$A$25:$F$25,0),0)*$F415)","v":12805.142694587021},{"$f":"IF($F415=\"\",0,VLOOKUP($E415,Drivers!$A$26:$F$48,MATCH(K$1,Drivers!$A$25:$F$25,0),0)*$F415)","v":12805.142694587021}]
["VIAGENS_REPRESENTAÇÕES",4300,{"$f":"VLOOKUP(B416,Centro_Custo!$A$2:$B$36,2,0)","v":"GERÊNCIA DE TECNOLOGIA E SISTEMAS DE INFORMAÇÃO"},{"$f":"VLOOKUP(B416,Centro_Custo!$A$2:$C$36,3)","v":"Encargos de Gestão"},"Município",{"$f":"SUMIFS('Classificação OPEX'!$O$4:$O$1666,'Classificação OPEX'!$Q$4:$Q$1666,\"N\",'Classificação OPEX'!$S$4:$S$1666,\"NÃO\",'Classificação OPEX'!$V$4:$V$1666,DRIVER_OPEX!A416,'Classificação OPEX'!$W$4:$W$1666,DRIVER_OPEX!B416)","v":8646.5702188683463},{"$f":"IF($F416=\"\",0,VLOOKUP($E416,Drivers!$A$26:$F$48,MATCH(G$1,Drivers!$A$25:$F$25,0),0)*$F416)","v":9223.00823345957},{"$f":"IF($F416=\"\",0,VLOOKUP($E416,Drivers!$A$26:$F$48,MATCH(H$1,Drivers!$A$25:$F$25,0),0)*$F416)","v":10952.322277233237},{"$f":"IF($F416=\"\",0,VLOOKUP($E416,Drivers!$A$26:$F$48,MATCH(I$1,Drivers!$A$25:$F$25,0),0)*$F416)","v":11528.760291824461},{"$f":"IF($F416=\"\",0,VLOOKUP($E416,Drivers!$A$26:$F$48,MATCH(J$1,Drivers!$A$25:$F$25,0),0)*$F416)","v":11528.760291824461},{"$f":"IF($F416=\"\",0,VLOOKUP($E416,Drivers!$A$26:$F$48,MATCH(K$1,Drivers!$A$25:$F$25,0),0)*$F416)","v":11528.760291824461}]
["VIAGENS_REPRESENTAÇÕES",4500,{"$f":"VLOOKUP(B417,Centro_Custo!$A$2:$B$36,2,0)","v":"GERÊNCIA CONTÁBIL"},{"$f":"VLOOKUP(B417,Centro_Custo!$A$2:$C$36,3)","v":"Encargos de Gestão"},"Fixo",{"$f":"SUMIFS('Classificação OPEX'!$O$4:$O$1666,'Classificação OPEX'!$Q$4:$Q$1666,\"N\",'Classificação OPEX'!$S$4:$S$1666,\"NÃO\",'Classificação OPEX'!$V$4:$V$1666,DRIVER_OPEX!A417,'Classificação OPEX'!$W$4:$W$1666,DRIVER_OPEX!B417)","v":2804.8064748800934},{"$f":"IF($F417=\"\",0,VLOOKUP($E417,Drivers!$A$26:$F$48,MATCH(G$1,Drivers!$A$25:$F$25,0),0)*$F417)","v":2804.8064748800934},{"$f":"IF($F417=\"\",0,VLOOKUP($E417,Drivers!$A$26:$F$48,MATCH(H$1,Drivers!$A$25:$F$25,0),0)*$F417)","v":2804.8064748800934},{"$f":"IF($F417=\"\",0,VLOOKUP($E417,Drivers!$A$26:$F$48,MATCH(I$1,Drivers!$A$25:$F$25,0),0)*$F417)","v":2804.8064748800934},{"$f":"IF($F417=\"\",0,VLOOKUP($E417,Drivers!$A$26:$F$48,MATCH(J$1,Drivers!$A$25:$F$25,0),0)*$F417)","v":2804.8064748800934},{"$f":"IF($F417=\"\",0,VLOOKUP($E417,Drivers!$A$26:$F$48,MATCH(K$1,Drivers!$A$25:$F$25,0),0)*$F417)","v":2804.8064748800934}]
["VIAGENS_REPRESENTAÇÕES",5100,{"$f":"VLOOKUP(B418,Centro_Custo!$A$2:$B$36,2,0)","v":"GERÊNCIA DE ENGENHARIA"},{"$f":"VLOOKUP(B418,Centro_Custo!$A$2:$C$36,3)","v":"OPEX&ODESP"},"Extensão adicional de rede ",{"$f":"SUMIFS('Classificação OPEX'!$O$4:$O$1666,'Classificação OPEX'!$Q$4:$Q$1666,\"N\",'Classificação OPEX'!$S$4:$S$1666,\"NÃO\",'Classificação OPEX'!$V$4:$V$1666,DRIVER_OPEX!A418,'Classificação OPEX'!$W$4:$W$1666,DRIVER_OPEX!B418)","v":51444.390556865212},{"$f":"IF($F418=\"\",0,VLOOKUP($E418,Drivers!$A$26:$F$48,MATCH(G$1,Drivers!$A$25:$F$25,0),0)*$F418)","v":204332.98468157725},{"$f":"IF($F418=\"\",0,VLOOKUP($E418,Drivers!$A$26:$F$48,MATCH(H$1,Drivers!$A$25:$F$25,0),0)*$F418)","v":281726.61257939978},{"$f":"IF($F418=\"\",0,VLOOKUP($E418,Drivers!$A$26:$F$48,MATCH(I$1,Drivers!$A$25:$F$25,0),0)*$F418)","v":100270.53990295454},{"$f":"IF($F418=\"\",0,VLOOKUP($E418,Drivers!$A$26:$F$48,MATCH(J$1,Drivers!$A$25:$F$25,0),0)*$F418)","v":144327.00737611289},{"$f":"IF($F418=\"\",0,VLOOKUP($E418,Drivers!$A$26:$F$48,MATCH(K$1,Drivers!$A$25:$F$25,0),0)*$F418)","v":113635.98509144076}]
["VIAGENS_REPRESENTAÇÕES",5200,{"$f":"VLOOKUP(B419,Centro_Custo!$A$2:$B$36,2,0)","v":"GERÊNCIA DE OPERAÇÕES"},{"$f":"VLOOKUP(B419,Centro_Custo!$A$2:$C$36,3)","v":"OPEX&ODESP"},"Extensão de Rede",{"$f":"SUMIFS('Classificação OPEX'!$O$4:$O$1666,'Classificação OPEX'!$Q$4:$Q$1666,\"N\",'Classificação OPEX'!$S$4:$S$1666,\"NÃO\",'Classificação OPEX'!$V$4:$V$1666,DRIVER_OPEX!A419,'Classificação OPEX'!$W$4:$W$1666,DRIVER_OPEX!B419)","v":41648.012112736993},{"$f":"IF($F419=\"\",0,VLOOKUP($E419,Drivers!$A$26:$F$48,MATCH(G$1,Drivers!$A$25:$F$25,0),0)*$F419)","v":44579.275169484092},{"$f":"IF($F419=\"\",0,VLOOKUP($E419,Drivers!$A$26:$F$48,MATCH(H$1,Drivers!$A$25:$F$25,0),0)*$F419)","v":48620.790115509117},{"$f":"IF($F419=\"\",0,VLOOKUP($E419,Drivers!$A$26:$F$48,MATCH(I$1,Drivers!$A$25:$F$25,0),0)*$F419)","v":50059.223218983068},{"$f":"IF($F419=\"\",0,VLOOKUP($E419,Drivers!$A$26:$F$48,MATCH(J$1,Drivers!$A$25:$F$25,0),0)*$F419)","v":52129.669287549739},{"$f":"IF($F419=\"\",0,VLOOKUP($E419,Drivers!$A$26:$F$48,MATCH(K$1,Drivers!$A$25:$F$25,0),0)*$F419)","v":53759.836661332716}]
["VIAGENS_REPRESENTAÇÕES",5300,{"$f":"VLOOKUP(B420,Centro_Custo!$A$2:$B$36,2,0)","v":"GERÊNCIA COMERCIAL"},{"$f":"VLOOKUP(B420,Centro_Custo!$A$2:$C$36,3)","v":"Encargos de Comercialização"},"Usuários total",{"$f":"SUMIFS('Classificação OPEX'!$O$4:$O$1666,'Classificação OPEX'!$Q$4:$Q$1666,\"N\",'Classificação OPEX'!$S$4:$S$1666,\"NÃO\",'Classificação OPEX'!$V$4:$V$1666,DRIVER_OPEX!A420,'Classificação OPEX'!$W$4:$W$1666,DRIVER_OPEX!B420)","v":7708.2353643391834},{"$f":"IF($F420=\"\",0,VLOOKUP($E420,Drivers!$A$26:$F$48,MATCH(G$1,Drivers!$A$25:$F$25,0),0)*$F420)","v":8589.8879966269924},{"$f":"IF($F420=\"\",0,VLOOKUP($E420,Drivers!$A$26:$F$48,MATCH(H$1,Drivers!$A$25:$F$25,0),0)*$F420)","v":9438.3397319593332},{"$f":"IF($F420=\"\",0,VLOOKUP($E420,Drivers!$A$26:$F$48,MATCH(I$1,Drivers!$A$25:$F$25,0),0)*$F420)","v":10600.652488934264},{"$f":"IF($F420=\"\",0,VLOOKUP($E420,Drivers!$A$26:$F$48,MATCH(J$1,Drivers!$A$25:$F$25,0),0)*$F420)","v":11502.422613868819},{"$f":"IF($F420=\"\",0,VLOOKUP($E420,Drivers!$A$26:$F$48,MATCH(K$1,Drivers!$A$25:$F$25,0),0)*$F420)","v":12601.569257568301}]
["VIAGENS_REPRESENTAÇÕES","0000","RATEIO",{"$f":"VLOOKUP(B421,Centro_Custo!$A$2:$C$36,3)","v":"Encargos de Gestão"},"Fixo",{"$f":"SUMIFS('Classificação OPEX'!$O$4:$O$1666,'Classificação OPEX'!$Q$4:$Q$1666,\"N\",'Classificação OPEX'!$S$4:$S$1666,\"NÃO\",'Classificação OPEX'!$V$4:$V$1666,DRIVER_OPEX!A421,'Classificação OPEX'!$W$4:$W$1666,DRIVER_OPEX!B421)","v":0},{"$f":"IF($F421=\"\",0,VLOOKUP($E421,Drivers!$A$26:$F$48,MATCH(G$1,Drivers!$A$25:$F$25,0),0)*$F421)","v":0},{"$f":"IF($F421=\"\",0,VLOOKUP($E421,Drivers!$A$26:$F$48,MATCH(H$1,Drivers!$A$25:$F$25,0),0)*$F421)","v":0},{"$f":"IF($F421=\"\",0,VLOOKUP($E421,Drivers!$A$26:$F$48,MATCH(I$1,Drivers!$A$25:$F$25,0),0)*$F421)","v":0},{"$f":"IF($F421=\"\",0,VLOOKUP($E421,Drivers!$A$26:$F$48,MATCH(J$1,Drivers!$A$25:$F$25,0),0)*$F421)","v":0},{"$f":"IF($F421=\"\",0,VLOOKUP($E421,Drivers!$A$26:$F$48,MATCH(K$1,Drivers!$A$25:$F$25,0),0)*$F421)","v":0}]
["VIAGENS_REPRESENTAÇÕES",1002,"CONSELHO FISCAL",{"$f":"VLOOKUP(B422,Centro_Custo!$A$2:$C$36,3)","v":"Encargos de Gestão"},"Fixo",{"$f":"SUMIFS('Classificação OPEX'!$O$4:$O$1666,'Classificação OPEX'!$Q$4:$Q$1666,\"N\",'Classificação OPEX'!$S$4:$S$1666,\"NÃO\",'Classificação OPEX'!$V$4:$V$1666,DRIVER_OPEX!A422,'Classificação OPEX'!$W$4:$W$1666,DRIVER_OPEX!B422)","v":777.13246336110444},{"$f":"IF($F422=\"\",0,VLOOKUP($E422,Drivers!$A$26:$F$48,MATCH(G$1,Drivers!$A$25:$F$25,0),0)*$F422)","v":777.13246336110444},{"$f":"IF($F422=\"\",0,VLOOKUP($E422,Drivers!$A$26:$F$48,MATCH(H$1,Drivers!$A$25:$F$25,0),0)*$F422)","v":777.13246336110444},{"$f":"IF($F422=\"\",0,VLOOKUP($E422,Drivers!$A$26:$F$48,MATCH(I$1,Drivers!$A$25:$F$25,0),0)*$F422)","v":777.13246336110444},{"$f":"IF($F422=\"\",0,VLOOKUP($E422,Drivers!$A$26:$F$48,MATCH(J$1,Drivers!$A$25:$F$25,0),0)*$F422)","v":777.13246336110444},{"$f":"IF($F422=\"\",0,VLOOKUP($E422,Drivers!$A$26:$F$48,MATCH(K$1,Drivers!$A$25:$F$25,0),0)*$F422)","v":777.13246336110444}]
["VIAGENS_REPRESENTAÇÕES",1003,"COMITÊ DE INDICAÇÃO E AVALIAÇÃO",{"$f":"VLOOKUP(B423,Centro_Custo!$A$2:$C$36,3)","v":"Encargos de Gestão"},"Fixo",{"$f":"SUMIFS('Classificação OPEX'!$O$4:$O$1666,'Classificação OPEX'!$Q$4:$Q$1666,\"N\",'Classificação OPEX'!$S$4:$S$1666,\"NÃO\",'Classificação OPEX'!$V$4:$V$1666,DRIVER_OPEX!A423,'Classificação OPEX'!$W$4:$W$1666,DRIVER_OPEX!B423)","v":0},{"$f":"IF($F423=\"\",0,VLOOKUP($E423,Drivers!$A$26:$F$48,MATCH(G$1,Drivers!$A$25:$F$25,0),0)*$F423)","v":0},{"$f":"IF($F423=\"\",0,VLOOKUP($E423,Drivers!$A$26:$F$48,MATCH(H$1,Drivers!$A$25:$F$25,0),0)*$F423)","v":0},{"$f":"IF($F423=\"\",0,VLOOKUP($E423,Drivers!$A$26:$F$48,MATCH(I$1,Drivers!$A$25:$F$25,0),0)*$F423)","v":0},{"$f":"IF($F423=\"\",0,VLOOKUP($E423,Drivers!$A$26:$F$48,MATCH(J$1,Drivers!$A$25:$F$25,0),0)*$F423)","v":0},{"$f":"IF($F423=\"\",0,VLOOKUP($E423,Drivers!$A$26:$F$48,MATCH(K$1,Drivers!$A$25:$F$25,0),0)*$F423)","v":0}]
["VIAGENS_REPRESENTAÇÕES",1004,"COMITÊ DE AUDITORIA ESTATUTÁRIA",{"$f":"VLOOKUP(B424,Centro_Custo!$A$2:$C$36,3)","v":"Encargos de Gestão"},"Fixo",{"$f":"SUMIFS('Classificação OPEX'!$O$4:$O$1666,'Classificação OPEX'!$Q$4:$Q$1666,\"N\",'Classificação OPEX'!$S$4:$S$1666,\"NÃO\",'Classificação OPEX'!$V$4:$V$1666,DRIVER_OPEX!A424,'Classificação OPEX'!$W$4:$W$1666,DRIVER_OPEX!B424)","v":0},{"$f":"IF($F424=\"\",0,VLOOKUP($E424,Drivers!$A$26:$F$48,MATCH(G$1,Drivers!$A$25:$F$25,0),0)*$F424)","v":0},{"$f":"IF($F424=\"\",0,VLOOKUP($E424,Drivers!$A$26:$F$48,MATCH(H$1,Drivers!$A$25:$F$25,0),0)*$F424)","v":0},{"$f":"IF($F424=\"\",0,VLOOKUP($E424,Drivers!$A$26:$F$48,MATCH(I$1,Drivers!$A$25:$F$25,0),0)*$F424)","v":0},{"$f":"IF($F424=\"\",0,VLOOKUP($E424,Drivers!$A$26:$F$48,MATCH(J$1,Drivers!$A$25:$F$25,0),0)*$F424)","v":0},{"$f":"IF($F424=\"\",0,VLOOKUP($E424,Drivers!$A$26:$F$48,MATCH(K$1,Drivers!$A$25:$F$25,0),0)*$F424)","v":0}]
["VIAGENS_REPRESENTAÇÕES",1010,"GOVERNANÇA SOCIETÁRIA",{"$f":"VLOOKUP(B425,Centro_Custo!$A$2:$C$36,3)","v":"Encargos de Gestão"},"Fixo",{"$f":"SUMIFS('Classificação OPEX'!$O$4:$O$1666,'Classificação OPEX'!$Q$4:$Q$1666,\"N\",'Classificação OPEX'!$S$4:$S$1666,\"NÃO\",'Classificação OPEX'!$V$4:$V$1666,DRIVER_OPEX!A425,'Classificação OPEX'!$W$4:$W$1666,DRIVER_OPEX!B425)","v":0},{"$f":"IF($F425=\"\",0,VLOOKUP($E425,Drivers!$A$26:$F$48,MATCH(G$1,Drivers!$A$25:$F$25,0),0)*$F425)","v":0},{"$f":"IF($F425=\"\",0,VLOOKUP($E425,Drivers!$A$26:$F$48,MATCH(H$1,Drivers!$A$25:$F$25,0),0)*$F425)","v":0},{"$f":"IF($F425=\"\",0,VLOOKUP($E425,Drivers!$A$26:$F$48,MATCH(I$1,Drivers!$A$25:$F$25,0),0)*$F425)","v":0},{"$f":"IF($F425=\"\",0,VLOOKUP($E425,Drivers!$A$26:$F$48,MATCH(J$1,Drivers!$A$25:$F$25,0),0)*$F425)","v":0},{"$f":"IF($F425=\"\",0,VLOOKUP($E425,Drivers!$A$26:$F$48,MATCH(K$1,Drivers!$A$25:$F$25,0),0)*$F425)","v":0}]
["VIAGENS_REPRESENTAÇÕES",2100,"SECRETARIA",{"$f":"VLOOKUP(B426,Centro_Custo!$A$2:$C$36,3)","v":"Encargos de Gestão"},"Fixo",{"$f":"SUMIFS('Classificação OPEX'!$O$4:$O$1666,'Classificação OPEX'!$Q$4:$Q$1666,\"N\",'Classificação OPEX'!$S$4:$S$1666,\"NÃO\",'Classificação OPEX'!$V$4:$V$1666,DRIVER_OPEX!A426,'Classificação OPEX'!$W$4:$W$1666,DRIVER_OPEX!B426)","v":401.72235848682982},{"$f":"IF($F426=\"\",0,VLOOKUP($E426,Drivers!$A$26:$F$48,MATCH(G$1,Drivers!$A$25:$F$25,0),0)*$F426)","v":401.72235848682982},{"$f":"IF($F426=\"\",0,VLOOKUP($E426,Drivers!$A$26:$F$48,MATCH(H$1,Drivers!$A$25:$F$25,0),0)*$F426)","v":401.72235848682982},{"$f":"IF($F426=\"\",0,VLOOKUP($E426,Drivers!$A$26:$F$48,MATCH(I$1,Drivers!$A$25:$F$25,0),0)*$F426)","v":401.72235848682982},{"$f":"IF($F426=\"\",0,VLOOKUP($E426,Drivers!$A$26:$F$48,MATCH(J$1,Drivers!$A$25:$F$25,0),0)*$F426)","v":401.72235848682982},{"$f":"IF($F426=\"\",0,VLOOKUP($E426,Drivers!$A$26:$F$48,MATCH(K$1,Drivers!$A$25:$F$25,0),0)*$F426)","v":401.72235848682982}]
["VIAGENS_REPRESENTAÇÕES",2110,"ASSESSORIA DA DIRETORIA EXECUTIVA",{"$f":"VLOOKUP(B427,Centro_Custo!$A$2:$C$36,3)","v":"Encargos de Gestão"},"Fixo",{"$f":"SUMIFS('Classificação OPEX'!$O$4:$O$1666,'Classificação OPEX'!$Q$4:$Q$1666,\"N\",'Classificação OPEX'!$S$4:$S$1666,\"NÃO\",'Classificação OPEX'!$V$4:$V$1666,DRIVER_OPEX!A427,'Classificação OPEX'!$W$4:$W$1666,DRIVER_OPEX!B427)","v":0},{"$f":"IF($F427=\"\",0,VLOOKUP($E427,Drivers!$A$26:$F$48,MATCH(G$1,Drivers!$A$25:$F$25,0),0)*$F427)","v":0},{"$f":"IF($F427=\"\",0,VLOOKUP($E427,Drivers!$A$26:$F$48,MATCH(H$1,Drivers!$A$25:$F$25,0),0)*$F427)","v":0},{"$f":"IF($F427=\"\",0,VLOOKUP($E427,Drivers!$A$26:$F$48,MATCH(I$1,Drivers!$A$25:$F$25,0),0)*$F427)","v":0},{"$f":"IF($F427=\"\",0,VLOOKUP($E427,Drivers!$A$26:$F$48,MATCH(J$1,Drivers!$A$25:$F$25,0),0)*$F427)","v":0},{"$f":"IF($F427=\"\",0,VLOOKUP($E427,Drivers!$A$26:$F$48,MATCH(K$1,Drivers!$A$25:$F$25,0),0)*$F427)","v":0}]
["VIAGENS_REPRESENTAÇÕES",2310,"ASSESSORIA DAF",{"$f":"VLOOKUP(B428,Centro_Custo!$A$2:$C$36,3)","v":"Encargos de Gestão"},"Fixo",{"$f":"SUMIFS('Classificação OPEX'!$O$4:$O$1666,'Classificação OPEX'!$Q$4:$Q$1666,\"N\",'Classificação OPEX'!$S$4:$S$1666,\"NÃO\",'Classificação OPEX'!$V$4:$V$1666,DRIVER_OPEX!A428,'Classificação OPEX'!$W$4:$W$1666,DRIVER_OPEX!B428)","v":3288.0469410860178},{"$f":"IF($F428=\"\",0,VLOOKUP($E428,Drivers!$A$26:$F$48,MATCH(G$1,Drivers!$A$25:$F$25,0),0)*$F428)","v":3288.0469410860178},{"$f":"IF($F428=\"\",0,VLOOKUP($E428,Drivers!$A$26:$F$48,MATCH(H$1,Drivers!$A$25:$F$25,0),0)*$F428)","v":3288.0469410860178},{"$f":"IF($F428=\"\",0,VLOOKUP($E428,Drivers!$A$26:$F$48,MATCH(I$1,Drivers!$A$25:$F$25,0),0)*$F428)","v":3288.0469410860178},{"$f":"IF($F428=\"\",0,VLOOKUP($E428,Drivers!$A$26:$F$48,MATCH(J$1,Drivers!$A$25:$F$25,0),0)*$F428)","v":3288.0469410860178},{"$f":"IF($F428=\"\",0,VLOOKUP($E428,Drivers!$A$26:$F$48,MATCH(K$1,Drivers!$A$25:$F$25,0),0)*$F428)","v":3288.0469410860178}]
["VIAGENS_REPRESENTAÇÕES",3300,"GERÊNCIA JURÍDICA",{"$f":"VLOOKUP(B429,Centro_Custo!$A$2:$C$36,3)","v":"Encargos de Gestão"},"Fixo",{"$f":"SUMIFS('Classificação OPEX'!$O$4:$O$1666,'Classificação OPEX'!$Q$4:$Q$1666,\"N\",'Classificação OPEX'!$S$4:$S$1666,\"NÃO\",'Classificação OPEX'!$V$4:$V$1666,DRIVER_OPEX!A429,'Classificação OPEX'!$W$4:$W$1666,DRIVER_OPEX!B429)","v":9670.7397480721593},{"$f":"IF($F429=\"\",0,VLOOKUP($E429,Drivers!$A$26:$F$48,MATCH(G$1,Drivers!$A$25:$F$25,0),0)*$F429)","v":9670.7397480721593},{"$f":"IF($F429=\"\",0,VLOOKUP($E429,Drivers!$A$26:$F$48,MATCH(H$1,Drivers!$A$25:$F$25,0),0)*$F429)","v":9670.7397480721593},{"$f":"IF($F429=\"\",0,VLOOKUP($E429,Drivers!$A$26:$F$48,MATCH(I$1,Drivers!$A$25:$F$25,0),0)*$F429)","v":9670.7397480721593},{"$f":"IF($F429=\"\",0,VLOOKUP($E429,Drivers!$A$26:$F$48,MATCH(J$1,Drivers!$A$25:$F$25,0),0)*$F429)","v":9670.7397480721593},{"$f":"IF($F429=\"\",0,VLOOKUP($E429,Drivers!$A$26:$F$48,MATCH(K$1,Drivers!$A$25:$F$25,0),0)*$F429)","v":9670.7397480721593}]
["VIAGENS_REPRESENTAÇÕES",3400,"MARKETING",{"$f":"VLOOKUP(B430,Centro_Custo!$A$2:$C$36,3)","v":"Encargos de Comercialização"},"Fixo",{"$f":"SUMIFS('Classificação OPEX'!$O$4:$O$1666,'Classificação OPEX'!$Q$4:$Q$1666,\"N\",'Classificação OPEX'!$S$4:$S$1666,\"NÃO\",'Classificação OPEX'!$V$4:$V$1666,DRIVER_OPEX!A430,'Classificação OPEX'!$W$4:$W$1666,DRIVER_OPEX!B430)","v":2019.8048073720024},{"$f":"IF($F430=\"\",0,VLOOKUP($E430,Drivers!$A$26:$F$48,MATCH(G$1,Drivers!$A$25:$F$25,0),0)*$F430)","v":2019.8048073720024},{"$f":"IF($F430=\"\",0,VLOOKUP($E430,Drivers!$A$26:$F$48,MATCH(H$1,Drivers!$A$25:$F$25,0),0)*$F430)","v":2019.8048073720024},{"$f":"IF($F430=\"\",0,VLOOKUP($E430,Drivers!$A$26:$F$48,MATCH(I$1,Drivers!$A$25:$F$25,0),0)*$F430)","v":2019.8048073720024},{"$f":"IF($F430=\"\",0,VLOOKUP($E430,Drivers!$A$26:$F$48,MATCH(J$1,Drivers!$A$25:$F$25,0),0)*$F430)","v":2019.8048073720024},{"$f":"IF($F430=\"\",0,VLOOKUP($E430,Drivers!$A$26:$F$48,MATCH(K$1,Drivers!$A$25:$F$25,0),0)*$F430)","v":2019.8048073720024}]
["VIAGENS_REPRESENTAÇÕES",4600,"GERÊNCIA DE PESSOAS E CULTURA",{"$f":"VLOOKUP(B431,Centro_Custo!$A$2:$C$36,3)","v":"Encargos de Gestão"},"Fixo",{"$f":"SUMIFS('Classificação OPEX'!$O$4:$O$1666,'Classificação OPEX'!$Q$4:$Q$1666,\"N\",'Classificação OPEX'!$S$4:$S$1666,\"NÃO\",'Classificação OPEX'!$V$4:$V$1666,DRIVER_OPEX!A431,'Classificação OPEX'!$W$4:$W$1666,DRIVER_OPEX!B431)","v":965.99769524430019},{"$f":"IF($F431=\"\",0,VLOOKUP($E431,Drivers!$A$26:$F$48,MATCH(G$1,Drivers!$A$25:$F$25,0),0)*$F431)","v":965.99769524430019},{"$f":"IF($F431=\"\",0,VLOOKUP($E431,Drivers!$A$26:$F$48,MATCH(H$1,Drivers!$A$25:$F$25,0),0)*$F431)","v":965.99769524430019},{"$f":"IF($F431=\"\",0,VLOOKUP($E431,Drivers!$A$26:$F$48,MATCH(I$1,Drivers!$A$25:$F$25,0),0)*$F431)","v":965.99769524430019},{"$f":"IF($F431=\"\",0,VLOOKUP($E431,Drivers!$A$26:$F$48,MATCH(J$1,Drivers!$A$25:$F$25,0),0)*$F431)","v":965.99769524430019},{"$f":"IF($F431=\"\",0,VLOOKUP($E431,Drivers!$A$26:$F$48,MATCH(K$1,Drivers!$A$25:$F$25,0),0)*$F431)","v":965.99769524430019}]
["VIAGENS_REPRESENTAÇÕES",9999,"RATEIO",{"$f":"VLOOKUP(B432,Centro_Custo!$A$2:$C$36,3)","v":"Encargos de Gestão"},"Fixo",{"$f":"SUMIFS('Classificação OPEX'!$O$4:$O$1666,'Classificação OPEX'!$Q$4:$Q$1666,\"N\",'Classificação OPEX'!$S$4:$S$1666,\"NÃO\",'Classificação OPEX'!$V$4:$V$1666,DRIVER_OPEX!A432,'Classificação OPEX'!$W$4:$W$1666,DRIVER_OPEX!B432)","v":0},{"$f":"IF($F432=\"\",0,VLOOKUP($E432,Drivers!$A$26:$F$48,MATCH(G$1,Drivers!$A$25:$F$25,0),0)*$F432)","v":0},{"$f":"IF($F432=\"\",0,VLOOKUP($E432,Drivers!$A$26:$F$48,MATCH(H$1,Drivers!$A$25:$F$25,0),0)*$F432)","v":0},{"$f":"IF($F432=\"\",0,VLOOKUP($E432,Drivers!$A$26:$F$48,MATCH(I$1,Drivers!$A$25:$F$25,0),0)*$F432)","v":0},{"$f":"IF($F432=\"\",0,VLOOKUP($E432,Drivers!$A$26:$F$48,MATCH(J$1,Drivers!$A$25:$F$25,0),0)*$F432)","v":0},{"$f":"IF($F432=\"\",0,VLOOKUP($E432,Drivers!$A$26:$F$48,MATCH(K$1,Drivers!$A$25:$F$25,0),0)*$F432)","v":0}]
["VIAGENS_REPRESENTAÇÕES","5400","GERÊNCIA COMERCIAL",{"$f":"VLOOKUP(B433,Centro_Custo!$A$2:$C$36,3)","v":"Encargos de Gestão"},"Fixo",{"$f":"SUMIFS('Classificação OPEX'!$O$4:$O$1666,'Classificação OPEX'!$Q$4:$Q$1666,\"N\",'Classificação OPEX'!$S$4:$S$1666,\"NÃO\",'Classificação OPEX'!$V$4:$V$1666,DRIVER_OPEX!A433,'Classificação OPEX'!$W$4:$W$1666,DRIVER_OPEX!B433)","v":1096.2728931619417},{"$f":"IF($F433=\"\",0,VLOOKUP($E433,Drivers!$A$26:$F$48,MATCH(G$1,Drivers!$A$25:$F$25,0),0)*$F433)","v":1096.2728931619417},{"$f":"IF($F433=\"\",0,VLOOKUP($E433,Drivers!$A$26:$F$48,MATCH(H$1,Drivers!$A$25:$F$25,0),0)*$F433)","v":1096.2728931619417},{"$f":"IF($F433=\"\",0,VLOOKUP($E433,Drivers!$A$26:$F$48,MATCH(I$1,Drivers!$A$25:$F$25,0),0)*$F433)","v":1096.2728931619417},{"$f":"IF($F433=\"\",0,VLOOKUP($E433,Drivers!$A$26:$F$48,MATCH(J$1,Drivers!$A$25:$F$25,0),0)*$F433)","v":1096.2728931619417},{"$f":"IF($F433=\"\",0,VLOOKUP($E433,Drivers!$A$26:$F$48,MATCH(K$1,Drivers!$A$25:$F$25,0),0)*$F433)","v":1096.2728931619417}]
["VIAGENS_REPRESENTAÇÕES","5500","GERÊNCIA COMERCIAL",{"$f":"VLOOKUP(B434,Centro_Custo!$A$2:$C$36,3)","v":"Encargos de Gestão"},"Fixo",{"$f":"SUMIFS('Classificação OPEX'!$O$4:$O$1666,'Classificação OPEX'!$Q$4:$Q$1666,\"N\",'Classificação OPEX'!$S$4:$S$1666,\"NÃO\",'Classificação OPEX'!$V$4:$V$1666,DRIVER_OPEX!A434,'Classificação OPEX'!$W$4:$W$1666,DRIVER_OPEX!B434)","v":8.4959989541844845},{"$f":"IF($F434=\"\",0,VLOOKUP($E434,Drivers!$A$26:$F$48,MATCH(G$1,Drivers!$A$25:$F$25,0),0)*$F434)","v":8.4959989541844845},{"$f":"IF($F434=\"\",0,VLOOKUP($E434,Drivers!$A$26:$F$48,MATCH(H$1,Drivers!$A$25:$F$25,0),0)*$F434)","v":8.4959989541844845},{"$f":"IF($F434=\"\",0,VLOOKUP($E434,Drivers!$A$26:$F$48,MATCH(I$1,Drivers!$A$25:$F$25,0),0)*$F434)","v":8.4959989541844845},{"$f":"IF($F434=\"\",0,VLOOKUP($E434,Drivers!$A$26:$F$48,MATCH(J$1,Drivers!$A$25:$F$25,0),0)*$F434)","v":8.4959989541844845},{"$f":"IF($F434=\"\",0,VLOOKUP($E434,Drivers!$A$26:$F$48,MATCH(K$1,Drivers!$A$25:$F$25,0),0)*$F434)","v":8.4959989541844845}]
["SERVIÇOS","TOTAL","TOTAL",null,null,{"$f":"SUM(F436)","v":0},{"$f":"SUM(G436)","v":1434956.6677191255},3791255.8731633117,10690089.575014515,11956373.8931184,12291950.568209739]
["TRANSPORTE LONDRINA",null,"GERÊNCIA DE OPERAÇÕES","OPEX&ODESP","Fixo",null,{"$f":"'Transporte Norte do Paraná'!B4","v":1434956.6677191255},{"$f":"'Transporte Norte do Paraná'!C4","v":3791255.8731633117},{"$f":"'Transporte Norte do Paraná'!D4","v":10690089.575014515},{"$f":"'Transporte Norte do Paraná'!E4","v":11956373.8931184},{"$f":"'Transporte Norte do Paraná'!F4","v":12291950.568209739}]
[]
[null,null,null,null,null,"Orçamento Base","Ano 1","Ano 2","Ano 3","Ano 4","Ano 5"]
[null,null,null,"OPEX&ODESP",null,{"$f":"SUMIF($D$4:F$434,$D439,F$4:F$434)","v":25339953.213043455},{"$f":"SUMIF($D$4:G$436,$D439,G$4:G$436)","v":29085504.157164797},{"$f":"SUMIF($D$4:H$436,$D439,H$4:H$436)","v":33846636.649661914},{"$f":"SUMIF($D$4:I$436,$D439,I$4:I$436)","v":40672251.540548518},{"$f":"SUMIF($D$4:J$436,$D439,J$4:J$436)","v":43169646.767308183},{"$f":"SUMIF($D$4:K$436,$D439,K$4:K$436)","v":44195754.157343253}]
[null,null,null,"Encargos de Gestão",null,{"$f":"SUMIF($D$4:F$434,$D440,F$4:F$434)","v":34605894.761643849},{"$f":"SUMIF($D$4:G$434,$D440,G$4:G$434)","v":36242231.098926596},{"$f":"SUMIF($D$4:H$434,$D440,H$4:H$434)","v":37437795.342582211},{"$f":"SUMIF($D$4:I$434,$D440,I$4:I$434)","v":37899886.887335561},{"$f":"SUMIF($D$4:J$434,$D440,J$4:J$434)","v":38023130.038960494},{"$f":"SUMIF($D$4:K$434,$D440,K$4:K$434)","v":38185675.269308336}]
[null,null,null,"Encargos de Comercialização",null,{"$f":"SUMIF($D$4:F$434,$D441,F$4:F$434)","v":10239941.029506849},{"$f":"SUMIF($D$4:G$434,$D441,G$4:G$434)","v":10939528.9942805},{"$f":"SUMIF($D$4:H$434,$D441,H$4:H$434)","v":11375173.69059941},{"$f":"SUMIF($D$4:I$434,$D441,I$4:I$434)","v":11776383.572501753},{"$f":"SUMIF($D$4:J$434,$D441,J$4:J$434)","v":12053467.836538957},{"$f":"SUMIF($D$4:K$434,$D441,K$4:K$434)","v":12391199.405169645}]
[null,null,null,"Total",null,{"$f":"SUM(F439:F441)","v":70185789.004194155},{"$f":"SUM(G439:G441)","v":76267264.250371888},82659605.682843536,90348522.000385821,93246244.642807633,94772628.831821248]
[]
[null,null,null,"Odesp","PDD/PCLD",5.0000000000000001E-3,{"$f":"IR!D6*1000*$F444","v":1172808.3045543693},{"$f":"IR!E6*1000*$F444","v":1364098.2527873716},{"$f":"IR!F6*1000*$F444","v":1430572.4698619652},{"$f":"IR!G6*1000*$F444","v":1567193.5383404554},{"$f":"IR!H6*1000*$F444","v":1687868.1059653796}]
[null,null,null,"Odesp","PD&I",2.5000000000000001E-3,{"$f":"IR!D6*1000*$F445","v":586404.15227718465},{"$f":"IR!E6*1000*$F445","v":682049.12639368582},{"$f":"IR!F6*1000*$F445","v":715286.23493098258},{"$f":"IR!G6*1000*$F445","v":783596.76917022769},{"$f":"IR!H6*1000*$F445","v":843934.05298268981}]
[null,null,null,"Odesp","Taxa Agepar","Enquadramento+UPF",{"$f":"'Taxa Agepar'!K7","v":2405944.5113420002},{"$f":"'Taxa Agepar'!K8","v":2928525.7104370003},{"$f":"'Taxa Agepar'!K9","v":2928525.7104370003},{"$f":"'Taxa Agepar'!K10","v":2928525.7104370003},{"$f":"'Taxa Agepar'!K11","v":3346866.8024470005}]
[null,null,null,"Odesp","Outros",2.5000000000000001E-2,{"$f":"G442*$F447","v":1906681.6062592973},{"$f":"H442*$F447","v":2066490.1420710885},{"$f":"I442*$F447","v":2258713.0500096455},{"$f":"J442*$F447","v":2331156.1160701909},{"$f":"K442*$F447","v":2369315.7207955313}]
[]
[null,null,null,"Valores em R$ mil"]
[null,null,null,null,null,"Orçamento Base","Ano 1","Ano 2","Ano 3","Ano 4","Ano 5"]
[null,null,null,"OPEX&ODESP",null,{"$f":"F439/1000","v":25339.953213043456},{"$f":"G439/1000+SUM(G444:G447)/1000","v":35157.342731597644},{"$f":"H439/1000+SUM(H444:H447)/1000","v":40887.799881351064},{"$f":"I439/1000+SUM(I444:I447)/1000","v":48005.349005788114},{"$f":"J439/1000+SUM(J444:J447)/1000","v":50780.118901326059},{"$f":"K439/1000+SUM(K444:K447)/1000","v":52443.738839533857}]
[null,null,null,"Atividades de Gestão",null,{"$f":"F440/1000","v":34605.894761643853},36242.231098926597,37437.795342582212,37899.88688733556,38023.130038960495,38185.675269308333]
[null,null,null,"Atividades de Comercialização",null,{"$f":"F441/1000","v":10239.941029506848},10939.528994280501,11375.173690599409,11776.383572501752,12053.467836538957,12391.199405169646]
[null,null,null,"Total",null,{"$f":"SUM(F451:F453)","v":70185.789004194157},{"$f":"SUM(G451:G453)","v":82339.102824804737},89700.768914532688,97681.619465625423,100856.7167768255,103020.61351401184]
[]
[null,null,null,"Atividades de Gestão","Rateio","Total",{"$f":"SUM(G457:G459)","v":1},{"$f":"IF(G456<>100%,\"ERRO\",\"OK\")","v":"OK"}]
[null,null,null,"Comportamento será avaliado ao","OPEX&ODESP","Critério Agepar",0.5]
[null,null,null,"longo do ciclo tarifário com vistas a","Mercado Cativo","Critério Agepar",0.47499999999999998]
[null,null,null,"aprimorar o rateio para segundo ciclo","Mercado Livre","Sugerido Compagás",2.5000000000000001E-2]

{"sheet":"Centro_Custo","index":10,"n_rows":36,"n_cols":3,"rows_kept":36,"cut":false,"hidden":false,"merged":[]}
["Código_CC","Descrição_CC","Alocação"]
["0000","RATEIO","Encargos de Gestão"]
[1001,"CONSELHO DE ADMINISTRAÇÃO","Encargos de Gestão"]
[1002,"CONSELHO FISCAL","Encargos de Gestão"]
[1003,"COMITÊ DE INDICAÇÃO E AVALIAÇÃO","Encargos de Gestão"]
[1004,"COMITÊ DE AUDITORIA ESTATUTÁRIA","Encargos de Gestão"]
[1005,"AUDITORIA INTERNA","Encargos de Gestão"]
[1010,"GOVERNANÇA SOCIETÁRIA","Encargos de Gestão"]
[2100,"SECRETARIA","Encargos de Gestão"]
[2110,"ASSESSORIA DA DIRETORIA EXECUTIVA","Encargos de Gestão"]
[2120,"ASSESSORIA DA PRESIDÊNCIA","Encargos de Gestão"]
[2130,"ASSESSORIA DE RELAÇÕES INSTITUCIONAIS E NOVOS NEGÓCIOS","Encargos de Gestão"]
[2140,"ASSESSORIA DTC","Encargos de Comercialização"]
[2200,"DIRETORIA COLEGIADA - PRESIDÊNCIA","Encargos de Gestão"]
[2300,"DIRETORIA COLEGIADA - DAF","Encargos de Gestão"]
[2310,"ASSESSORIA DAF","Encargos de Gestão"]
[2400,"DIRETORIA COLEGIADA - DTC","Encargos de Comercialização"]
[2410,"ASSESSORIA DE SEGURANÇA DO TRABALHO","OPEX&ODESP"]
[3100,"SMS","OPEX&ODESP"]
[3200,"GERÊNCIA DE PLANEJAMENTO E MEIO AMBIENTE","OPEX&ODESP"]
[3300,"GERÊNCIA JURÍDICA","Encargos de Gestão"]
[3400,"MARKETING","Encargos de Comercialização"]
[3500,"ASSESSORIA DE COMUNICAÇÃO INSTITUCIONAL","Encargos de Gestão"]
[3600,"GERÊNCIA DE GOVERNANÇA, RISCO E COMPLIANCE","Encargos de Gestão"]
[3700,"GERÊNCIA DE REGULAÇÃO","Encargos de Gestão"]
[4100,"GERÊNCIA DE SERVIÇOS CORPORATIVOS","Encargos de Gestão"]
[4200,"GERÊNCIA FINANCEIRA","Encargos de Gestão"]
[4300,"GERÊNCIA DE TECNOLOGIA E SISTEMAS DE INFORMAÇÃO","Encargos de Gestão"]
[4500,"GERÊNCIA CONTÁBIL","Encargos de Gestão"]
[4600,"GERÊNCIA DE PESSOAS E CULTURA","Encargos de Gestão"]
[5100,"GERÊNCIA DE ENGENHARIA","OPEX&ODESP"]
[5200,"GERÊNCIA DE OPERAÇÕES","OPEX&ODESP"]
[5300,"GERÊNCIA COMERCIAL","Encargos de Comercialização"]
[5400,"GERÊNCIA COMERCIAL","Encargos de Comercialização"]
[5500,"GERÊNCIA COMERCIAL","Encargos de Comercialização"]
[9999,"RATEIO","Encargos de Gestão"]

{"sheet":"Drivers","index":11,"n_rows":49,"n_cols":7,"rows_kept":49,"cut":false,"hidden":false,"merged":[]}
["Driver","2023/2024","2024/2025","2025/2026","2026/2027","2027/2028","2028/2029"]
["Captação",2495,{"$f":"SUM(C3:C6)","v":6267},{"$f":"SUM(D3:D6)","v":6031},{"$f":"SUM(E3:E6)","v":8262},{"$f":"SUM(F3:F6)","v":6410},{"$f":"SUM(G3:G6)","v":7813.0000000000009}]
["Captação usuários comerciais",69,58,70,71,72,71]
["Captação usuários industriais",4,18,20,16,14,20]
["Captação usuários GNV",2,4,0,1,0,1]
["Captação usuários residenciais",2420,6187,5941,8174,6324,7721.0000000000009]
["Extensão adicional de rede ",15.588690000000042,{"$f":"SUM(C8:C9)+9","v":61.917023809523812},{"$f":"SUM(D8:D9)","v":85.368857142857138},{"$f":"SUM(E8:E9)","v":30.384},{"$f":"SUM(F8:F9)","v":43.734000000000002},{"$f":"SUM(G8:G9)","v":34.433999999999997}]
["Extensão adicional de rede - Aço",0,28.26,48.082000000000001,0.75,0,15]
["Extensão adicional de rede - PEAD ",14.61369000000002,24.657023809523807,37.286857142857144,29.634,43.734000000000002,19.434000000000001]
["Extensão de Rede",879.73031000000003,{"$f":"B10+C7","v":941.64733380952384},{"$f":"C10+D7","v":1027.0161909523811},{"$f":"D10+E7","v":1057.4001909523811},{"$f":"E10+F7","v":1101.134190952381},{"$f":"F10+G7","v":1135.568190952381}]
["Extensão de Rede - Aço",471.15717699999999,{"$f":"B11+C8","v":499.41717699999998},{"$f":"C11+D8","v":547.49917700000003},548.24917700000003,548.24917700000003,563.24917700000003]
["Extensão de Rede - PEAD",408.57313300000004,{"$f":"B12+C9","v":433.23015680952386},470.51701395238103,500.15101395238105,543.88501395238109,563.31901395238106]
["Fixo",1,1,1,1,1,1]
["Mesoregião",2,{"$f":"B14+(C15-B15)","v":3},{"$f":"C14+(D15-C15)","v":6},{"$f":"D14+(E15-D15)","v":7},{"$f":"E14+(F15-E15)","v":7},{"$f":"F14+(G15-F15)","v":7}]
["Município",15,16,19,20,20,20]
["Volume distribuído",299535490.1643998,{"$f":"VOLUME!E4","v":469927461.93578792},{"$f":"VOLUME!F4","v":551333391.03942132},{"$f":"VOLUME!G4","v":576633942.72671223},{"$f":"VOLUME!H4","v":636069452.48545504},{"$f":"VOLUME!I4","v":688666645.42370522}]
["Volume distribuído - Sem Termoelétrica",299535490.1643998,{"$f":"C16-VOLUME!E19","v":297937461.93578792},{"$f":"D16-VOLUME!F19","v":321383391.03942132},{"$f":"E16-VOLUME!G19","v":346683942.72671223},{"$f":"F16-VOLUME!H19","v":405489452.48545504},{"$f":"G16-VOLUME!I19","v":458716645.42370522}]
["Usuários comerciais",635,{"$f":"B18+C3","v":693},763,834,906,977]
["Usuários industriais",175,193,213,229,243,263]
["Usuários GNV",34,38,38,39,39,40]
["Usuários residenciais",53946,60133,66074,74248,80572,88293]
["Usuários total",54792,{"$f":"B22+C2","v":61059},{"$f":"C22+D2","v":67090},{"$f":"D22+E2","v":75352},{"$f":"E22+F2","v":81762},{"$f":"F22+G2","v":89575}]
["Funcionário",152,{"$f":"B23+10","v":162},{"$f":"C23+4","v":166},{"$f":"D23+1","v":167},{"$f":"E23","v":167},{"$f":"F23","v":167}]
[null,{"$f":"(B15+B11)","v":486.15717699999999},{"$f":"(C15+C11)","v":515.41717700000004},566.49917700000003,568.24917700000003,568.24917700000003,583.24917700000003]
["Driver","2024/2025","2025/2026","2026/2027","2027/2028","2028/2029"]
[{"$f":"A2","v":"Captação"},{"$f":"IF(B2=0,0,C2/B2)","v":2.5118236472945892},{"$f":"IF(ISERROR(D2/$B2)=TRUE,0,D2/$B2)","v":2.4172344689378757},3.3114228456913826,2.5691382765531063,3.1314629258517037]
["Captação usuários comerciais",{"$f":"IF(B3=0,0,C3/B3)","v":0.84057971014492749},1.0144927536231885,1.0289855072463767,1.0434782608695652,1.0289855072463767]
["Captação usuários industriais",4.5,5,4,3.5,5]
["Captação usuários GNV",2,0,0.5,0,0.5]
["Captação usuários residenciais",2.556611570247934,2.4549586776859504,3.3776859504132233,2.6132231404958679,3.1904958677685955]
["Extensão adicional de rede ",3.9719196295213801,5.4763329787722324,1.9491054091139099,2.8054955227154998,2.2089091514424819]
["Extensão adicional de rede - Aço",0,0,0,0,0]
["Extensão adicional de rede - PEAD ",1.6872551566047846,2.5515018549631949,2.0278245946095721,2.9926733083841208,1.3298489293258564]
["Extensão de Rede",1.0703818239586673,1.1674216282855834,1.2019594856887232,1.2516724482897275,1.2908139892922195]
["Extensão de Rede - Aço",1.0599799841317072,1.1620308545146072,1.1636226799958096,1.1636226799958096,1.1954591896198581]
["Extensão de Rede - PEAD",1.0603491072172966,1.1516102649666418,1.2241407316236357,1.3311815438250587,1.3787470796626782]
["Fixo",1,1,1,1,1]
["Mesoregião",{"$f":"IF(B14=0,0,C14/B14)","v":1.5},3,3.5,3.5,3.5]
["Município",1.0666666666666667,1.2666666666666666,1.3333333333333333,1.3333333333333333,1.3333333333333333]
["Volume distribuído",{"$f":"IF(ISERROR(C16/$B16)=TRUE,0,C16/$B16)","v":1.5688540335499763},1.8406279360646796,1.9250938925808998,2.123519493921568,2.2991153570674752]
["Volume distribuído - Sem Termoelétrica",{"$f":"IF(ISERROR(C17/$B17)=TRUE,0,C17/$B17)","v":0.99466497867169323},1.0729392729490261,1.1574052294652464,1.3537275741946388,1.5314266939518217]
[{"$f":"A18","v":"Usuários comerciais"},{"$f":"IF(B18=0,0,C18/B18)","v":1.0913385826771653},{"$f":"IF(ISERROR(D18/$B18)=TRUE,0,D18/$B18)","v":1.2015748031496063},1.3133858267716536,1.426771653543307,1.5385826771653544]
["Usuários industriais",1.1028571428571428,1.2171428571428571,1.3085714285714285,1.3885714285714286,1.5028571428571429]
["Usuários GNV",1.1176470588235294,1.1176470588235294,1.1470588235294117,1.1470588235294117,1.1764705882352942]
["Usuários residenciais",1.1146887628369111,1.2248174100025953,1.3763393022652282,1.4935676417157899,1.636692247803359]
["Usuários total",1.1143780113885238,1.2244488246459337,1.375237260914002,1.4922251423565485,1.6348189516717768]
["Funcionário",1.0657894736842106,1.0921052631578947,1.0986842105263157,1.0986842105263157,1.0986842105263157]
["Extensão de Rede/Município",1.0601862964989202,1.1652593107763582,1.1688589696578726,1.1688589696578726,1.1997131886422816]
[null,100,{"$f":"IF(ISERROR(D25/$B25)=TRUE,0,D25/$B25)","v":0}]

{"sheet":"Transporte Norte do Paraná","index":12,"n_rows":4,"n_cols":7,"rows_kept":4,"cut":false,"hidden":false,"merged":[]}
[null,"2024/2025","2025/2026","2026/2027","2027/2028","2028/2029","Total"]
["Volume - m³",1593818.6660102999,4210980.383033853,11873574.087127231,13280046.929180423,13652774.81753429,{"$f":"SUM(B2:F2)","v":44611194.882886097}]
["R$/m³ COM IMPOSTOS",{"$f":"'GLINK Londrina'!C20","v":0.90032617782746693},{"$f":"B3","v":0.90032617782746693},{"$f":"C3","v":0.90032617782746693},0.90032617782746693,0.90032617782746693,0.90032617782746693]
["Serviço de Logísitca",{"$f":"B2*B3","v":1434956.6677191255},{"$f":"C2*C3","v":3791255.8731633117},10690089.575014515,11956373.8931184,12291950.568209739,{"$f":"SUM(B4:F4)","v":40164626.577225089}]

{"sheet":"GLINK Londrina","index":13,"n_rows":21,"n_cols":3,"rows_kept":21,"cut":false,"hidden":false,"merged":[]}
[null,"4.3 GNLINK LONDRINA OUT/23","2024-02-01"]
[null,"Fator de Preço BRENT %",5.3999999999999999E-2]
[null,"BRENTt (US$/bbl)¹",95]
[null,"TCt (R$/US$)²",5.03]
[null,"Parcela Fixa Molécula01 (USD/MMBTU)",7.01]
[null,"CPI0 (jun/23)",305.10899999999998]
[null,"CPIt",319.17511589128475]
[null,"Parcela Fixa Moléculat1 (USD/MMBTU)",{"$f":"C5*C7/C6","v":7.3331745782586095}]
[null,"Parcela Fixa Molécula02 (R$/m³)",1.1697]
[null,"IPCA0 (jun/23)",6659.95]
[null,"IPCAt",6967.3535995852399]
[null,"Parcela Fixa Moléculat2 (R$/m³)",{"$f":"C9*C11/C10","v":1.2236898933828113}]
[null,"Fator Energético",26.8081]
[null,"PM (R$/m³)",{"$f":"((C2*C3+C8)*C4/C13)+C12","v":3.5621535714741643}]
[null,"PM  Faturado (R$/m³)",{"$f":"(C14/(1-9.25%))/(1-12%)","v":4.4604978355549267}]
[null,"Preço de Logística Base (R$/m³)",0.68859999999999999]
[null,"IPCA0 (Índice Acumulado)",{"$f":"'Série - IPCA'!C431","v":6659.95}]
[null,"IPCAt (Índice Acumulado)",{"$f":"'Série - IPCA'!C444","v":6953.975144}]
[null,"PT (R$/m³)",{"$f":"(C18/C17)*C16","v":0.71900048561301511}]
[null,"PT Faturado (R$/m³)",{"$f":"(C19/(1-9.25%))/(1-12%)","v":0.90032617782746693}]
[null,"PG (R$/m³)",{"$f":"C19+C14","v":4.2811540570871793}]

{"sheet":"rWACC","index":14,"n_rows":24,"n_cols":4,"rows_kept":24,"cut":false,"hidden":false,"merged":[]}
[]
[]
[null,null,"CLÁUSULA I - METODOLOGIA DE CÁLCULO DA TAXA DE REMUNERAÇÃO REGULATÓRIA",{"$f":"(D5*D21)+((D13*D22)*(1-D4))","v":8.709704577308397E-2}]
[null,null,"𝒕: taxa de tributos sobre o lucro (IR + CSLL)",0.34]
[null,null,"REMUNERAÇÃO DO CAPITAL PRÓPRIO - 𝑟𝑃  = 𝑟𝑓  + 𝛽 ∙ (𝑟𝑚  − 𝑟𝑓) + 𝑟B",{"$f":"D12","v":8.709704577308397E-2}]
[null,null,"𝑟𝑓: taxa de retorno do ativo livre de risco estadunidense;",{"$f":"'Taxa livre de risco'!G2","v":3.742560000000001E-2}]
[null,null,"𝑟𝑚: taxa de retorno do mercado estadunidense",{"$f":"'RetornoMerdado-SP500'!P3","v":0.11783779819146287}]
[null,null,"𝑟𝑚 - 𝑟𝑓 : prêmio de risco de mercado",{"$f":"D7-D6","v":8.0412198191462864E-2}]
[null,null,"𝛽: beta do setor regulado",{"$f":"Beta_Damodaran!I14","v":0.65}]
[null,null,"𝑟𝐵: prêmio de risco Brasil",{"$f":"'Risco-Brasil'!F3","v":2.53E-2}]
[null,null," 𝑟𝑃 Nominal = 𝑟𝑓  + (𝛽 sreg )∙ (𝑟𝑚  − 𝑟𝑓) + 𝑟B",{"$f":"D6+(D9)*(D7-D6)+D10","v":0.11499352882445087}]
[null,null," 𝑟𝑃 Real = [1+( 𝑟𝑃 Nominal)]/[1+(Média do índice US CPI (Consumer Price Index))]-1",{"$f":"((1+D11)/(1+D24))-1","v":8.709704577308397E-2}]
[null,null,"REMUNERAÇÃO DO CAPITAL DE TERCEIROS - 𝑟d  = 𝑟𝑓  + 𝑟C + 𝑟B",{"$f":"D19","v":5.4297404634959801E-2}]
[null,null,"𝑟𝑓: taxa de retorno do ativo livre de risco estadunidense",{"$f":"'Taxa livre de risco'!G6","v":2.41894E-2}]
[null,null,"IGUUU510 (Bloomberg)",{"$f":"'RendimDividaRiscoBB-IGUUU510'!H3","v":5.6052201438848925E-2}]
[null,null,"𝑟C: prêmio de risco de crédito (IGUUU510 (Bloomberg) - 𝑟𝑓)",{"$f":"D15-D14","v":3.1862801438848926E-2}]
[null,null,"𝑟B: prêmio de risco Brasil",{"$f":"'Risco-Brasil'!F3","v":2.53E-2}]
[null,null,"𝑟d Nominal  = 𝑟𝑓  + 𝑟C + 𝑟B",{"$f":"D14+D16+D17","v":8.1352201438848928E-2}]
[null,null,"𝑟d Real  = 𝑟𝑓  + 𝑟C + 𝑟B = [(1)+(16)/[1+(9)]-1",{"$f":"((1+D18)/(1+D24))-1","v":5.4297404634959801E-2}]
[null,null,"ESTRUTURA CAPITAL REGULATÓRIA"]
[null,null,"𝒘e: participação do capital próprio na estrutura de capital considerada",{"$f":"100%-D22","v":1}]
[null,null,"𝒘𝒅: participação da dívida na estrutura de capital considerada",0]
[null,null,"INFLAÇÃO AMERICANA"]
[null,null,"Média do índice US CPI (Consumer Price Index)",{"$f":"'Inflação americana'!H6","v":2.5661446841232304E-2}]

{"sheet":"Taxa livre de risco","index":15,"n_rows":32,"n_cols":7,"rows_kept":32,"cut":false,"hidden":false,"merged":[[0,0,0,3]]}
["USGG10YR Index (Bloomberg)"]
[null,"2023-12-31",3.8791000000000002,{"$f":"(C2/100+1)*D3","v":299.97497203992253},null,"Rendimento médio anual",{"$f":"SUM(C2:C31)/100/30","v":3.742560000000001E-2}]
[null,"2022-12-31",3.8748,288.77317192767606,null,"(média aritm.)"]
[null,"2021-12-31",1.5101,278.0011821227825]
[null,"2020-12-31",0.91320000000000001,273.86553862402116]
[null,"2019-12-31",1.9175,271.38723043568251,null,"Média para compor rC",{"$f":"SUM(C2:C6)/100/5","v":2.41894E-2}]
[null,"2018-12-31",2.6842000000000001,266.28128676202078,null,"(média aritm.)"]
[null,"2017-12-29",2.4054000000000002,259.320603132732]
[null,"2016-12-30",2.4443000000000001,253.2294226014761]
[null,"2015-12-31",2.2694000000000001,247.18742048261944]
[null,"2014-12-31",2.1711999999999998,241.70223007333519]
[null,"2013-12-31",3.0282,236.56591101341201]
[null,"2012-12-31",1.7574000000000001,229.61277690322845]
[null,"2011-12-30",1.8762000000000001,225.64725209491246]
[null,"2010-12-31",3.2934999999999999,221.49162620407168]
[null,"2009-12-31",3.8368000000000002,214.42939410908886]
[null,"2008-12-31",2.2122999999999999,206.50616554929357]
[null,"2007-12-31",4.0232000000000001,202.03651179876942]
[null,"2006-12-29",4.7022000000000004,194.22255016070397]
[null,"2005-12-30",4.3910999999999998,185.49997054570392]
[null,"2004-12-31",4.2182000000000004,177.69711263288144]
[null,"2003-12-31",4.2454999999999998,170.50487595533357]
[null,"2002-12-31",3.8159999999999998,163.56089802949154]
[null,"2001-12-31",5.0510000000000002,157.5488345047888]
[null,"2000-12-29",5.1120000000000001,149.97366470075372]
[null,"1999-12-31",6.4420000000000002,142.67986975868951]
[null,"1998-12-31",4.6479999999999997,134.04470956829965]
[null,"1997-12-31",5.742,128.09103811663829]
[null,"1996-12-31",6.4180000000000001,121.13544108929119]
[null,"1995-12-29",5.5720000000000001,113.82984184]
[null,"1994-12-30",7.8220000000000001,{"$f":"(C31/100+1)*D32","v":107.822}]
[null,"1993-12-31",null,100]

{"sheet":"Beta_Damodaran","index":16,"n_rows":18,"n_cols":9,"rows_kept":18,"cut":false,"hidden":false,"merged":[[10,2,10,7],[0,1,0,6],[0,7,6,7],[0,8,0,10],[1,1,1,6],[1,8,6,10],[2,1,2,4],[2,5,2,6],[3,1,3,6],[4,1,4,6],[5,1,5,6],[6,1,6,6]]}
["Date updated:","2024-01-05",null,null,null,null,null,"YouTube Video explaining estimation choices and process.","Notes"]
["Created by:","Aswath Damodaran, adamodar@stern.nyu.edu",null,null,null,null,null,null,"if you are looking for a pure-play beta, i.e., a beta for a  business, the unlevered beta corrected for cash is your best bet. Since even sector betas can move over time, I have also reported the average of the this sector beta across time in the last column. This number, for obvious reasons, is less likely to be volatile over time."]
["What is this data?","Beta, Unlevered beta and other risk measures",null,null,null,"US companies"]
["Home Page:","http://www.damodaran.com"]
["Data website:","https://pages.stern.nyu.edu/~adamodar/New_Home_Page/data.html"]
["Companies in each industry:","https://pages.stern.nyu.edu/~adamodar/pc/datasets/indname.xls"]
["Variable definitions:","https://pages.stern.nyu.edu/~adamodar/New_Home_Page/datafile/variable.htm"]
[]
[]
[]
[null,null,"Unlevered beta corrected for cash - Over time"]
["date updated","data de divulgação","2020-01-05","2021-01-05","2022-01-05","2023-01-05","2024-01-05"]
["Industry Name","Number of firms","Ano de\n2019","Ano de\n2020","Ano de\n2021","Ano de\n2022","Ano de\n2023","Average (2019-23)","Média\n2019-2023"]
["Oil/Gas Distribution",24,0.6175192303191579,0.6,0.86451087132141691,0.65648991865828199,0.52912157126984105,{"$f":"AVERAGE(Beta_Damodaran!$C$14:$G$14)","v":0.65352831831373959},{"$f":"ROUND(Beta_Damodaran!$H$14:$H$14,2)","v":0.65}]
[]
[]
[]
["Fonte: Damodaran, adaptado pela Agepar"]

{"sheet":"RetornoMerdado-SP500","index":17,"n_rows":39,"n_cols":16,"rows_kept":39,"cut":false,"hidden":false,"merged":[[6,0,6,3]]}
["SPX Index (Bloomberg)"]
[null,null,"s/ dividendos",null,null,"c/ dividendos",null,"período","30 anos",null,"media dos retornos dos anos da amostra do SP500 s/ div","media dos retornos dos anos da amostra do SP500 c/ div"]
[null,"1993-12-31",466.45,null,"1993-12-31",466.45,null,null,null,null,{"$f":"SUM(H9:H39)/30","v":9.6655938124060981E-2},{"$f":"SUM(I9:I39)/30","v":0.11783779819146287},null,"c/ dividendos","rendimento médio anual",{"$f":"L3","v":0.11783779819146287}]
[null,"2023-12-29",4769.83,null,"2023-12-29",8458.6257000000005]
[]
[]
["SPX Index (Bloomberg)"]
["ANO","data","SPX Index s/ div",null,"data","SPX Index c/ div",null,"Retorno DO ANO\n(s/ div)","Retorno DO ANO\n(c/ div)"]
[1993,"1993-12-31",466.45,0,"1993-12-31",466.45,null,0,0]
[1994,"1994-12-30",459.27,-1.8900000000000432,"1994-12-30",472.57889999999998,null,{"$f":"C10/C9-1","v":-1.5392860971165212E-2},{"$f":"F10/F9-1","v":1.3139457605316762E-2}]
[1995,"1995-12-29",615.92999999999995,1.8099999999999454,"1995-12-29",650.07510000000002,null,{"$f":"C11/C10-1","v":0.34110653863740281},0.3755906156622737]
[1996,"1996-12-31",740.74,-13.110000000000014,"1996-12-31",799.13210000000004,null,0.20263666325718832,0.22929196949706276]
[1997,"1997-12-31",970.43,-0.41000000000008185,"1997-12-31",1065.5944,null,0.31008181008180991,0.33343961530265132]
[1998,"1998-12-31",1229.23,-2.7000000000000455,"1998-12-31",1369.9477999999999,null,0.26668590212586185,0.28561843042718693]
[1999,"1999-12-31",1469.25,4.7799999999999727,"1999-12-31",1658.1351999999999,null,0.19526044759727634,0.21036378174409287]
[2000,"2000-12-29",1320.28,-13.940000000000055,"2000-12-29",1507.2221999999999,null,-0.10139186659860477,-9.1013688147986938E-2]
[2001,"2001-12-31",1148.08,-12.940000000000055,"2001-12-31",1328.0068000000001,null,-0.1304268791468477,-0.11890443227282599]
[2002,"2002-12-31",879.82,0.43000000000006366,"2002-12-31",1034.5500999999999,null,-0.23365967528395226,-0.22097529922286552]
[2003,"2003-12-31",1111.92,2.2799999999999727,"2003-12-31",1331.1057000000001,null,0.26380395990088878,0.28665175325970216]
[2004,"2004-12-31",1211.92,-1.6299999999998818,"2004-12-31",1475.8724,null,8.9934527663860786E-2,0.10875672758369226]
[2005,"2005-12-30",1248.29,-6.1300000000001091,"2005-12-30",1548.2925,null,3.0010231698461842E-2,4.9069350439780557E-2]
[2006,"2006-12-29",1418.3,-6.4300000000000637,"2006-12-29",1792.5621000000001,null,0.13619431382130753,0.1577670885830682]
[2007,"2007-12-31",1468.36,-10.130000000000109,"2007-12-31",1892.432,null,3.5295776633998521E-2,5.5713495225632625E-2]
[2008,"2008-12-31",903.25,12.610000000000014,"2008-12-31",1192.2346,null,-0.38485793674575708,-0.36999871065380419]
[2009,"2009-12-31",1115.0999999999999,-11.320000000000164,"2009-12-31",1507.5585000000001,null,0.23454193191253792,0.26448142001582586]
[2010,"2010-12-31",1257.6400000000001,-0.24000000000000909,"2010-12-31",1734.5764999999999,null,0.12782710070845682,0.15058652781964987]
[2011,"2011-12-30",1257.6099999999999,-5.4100000000000819,"2011-12-30",1771.0986,null,-2.385420311079578E-5,2.1055341174056164E-2]
[2012,"2012-12-31",1426.19,23.759999999999991,"2012-12-31",2054.2946999999999,null,0.13404791628565316,0.15989855110268847]
[2013,"2013-12-31",1848.36,7.2899999999999636,"2013-12-31",2719.2869000000001,null,0.29601245275874866,0.32370827807714253]
[2014,"2014-12-31",2058.9,-21.449999999999818,"2014-12-31",3091.1300999999999,null,0.11390638187366098,0.13674290859121929]
[2015,"2015-12-31",2043.94,-19.420000000000073,"2015-12-31",3133.5077000000001,null,-7.26601583369757E-3,1.3709419736167128E-2]
[2016,"2016-12-30",2238.83,-10.430000000000291,"2016-12-30",3507.8904000000002,null,9.5350157049619799E-2,0.11947719164692017]
[2017,"2017-12-29",2673.61,-13.929999999999836,"2017-12-29",4273.2622000000001,null,0.19419964892376829,0.21818577912240356]
[2018,"2018-12-31",2506.85,21.110000000000127,"2018-12-31",4085.4661000000001,null,-6.2372597349650949E-2,-4.394677677395975E-2]
[2019,"2019-12-31",3230.78,9.4900000000002365,"2019-12-31",5371.3401999999996,null,0.28878074077028959,0.3147435490897843]
[2020,"2020-12-31",3756.07,24.0300000000002,"2020-12-31",6358.9561999999996,null,0.16258921994069531,0.18386770586603318]
[2021,"2021-12-31",4766.18,-12.549999999999272,"2021-12-31",8182.6230999999998,null,0.268927362908572,0.28678714597845478]
[2022,"2022-12-30",3839.5,-9.7800000000002001,"2022-12-30",6699.4418999999998,null,-0.19442824232404154,-0.1812598700776038]
[2023,"2023-12-29",4769.83,-13.520000000000437,"2023-12-29",8458.6257000000005,null,0.24230498762859742,0.26258661934212779]

{"sheet":"RendimDividaRiscoBB-IGUUU510","index":18,"n_rows":1254,"n_cols":8,"rows_kept":1254,"cut":false,"hidden":false,"merged":[[0,0,0,2]]}
["IGUUU510 (Bloomberg)"]
[null,"data","taxa %"]
[null,"12/29/2023",6.3015999999999996,{"$f":"(1+C3/100)^(1/252)*D4","v":131.04707309546021},null,"Média",{"$f":"AVERAGE(C3:C1253)","v":5.6052201438848925},{"$f":"G3/100","v":5.6052201438848925E-2}]
[null,"12/28/2023",6.2976000000000001,131.01529795461821,null,"Média para compor rC"]
[null,"12/27/2023",6.3266,130.98355007723802]
[null,"12/26/2023",6.2873000000000001,130.95166814209625]
[null,"12/22/2023",6.3989000000000003,130.91998602673456]
[null,"12/21/2023",6.3708,130.88776650387959]
[null,"12/20/2023",6.4187000000000003,130.85569206740672]
[null,"12/19/2023",6.4387999999999996,130.82339176834245]
[null,"12/18/2023",6.6158000000000001,130.79100142228012]
[null,"12/15/2023",6.4866999999999999,130.75775694972558]
[null,"12/14/2023",6.4560000000000004,130.72514945623772]
[null,"12/13/2023",6.8888999999999996,130.69269963376848]
[null,"2023-12-12",7.0063000000000004,130.65815372265129]
[null,"2023-11-12",6.9753999999999996,130.62304793641522]
[null,"2023-08-12",6.9831000000000003,130.58810124562487]
[null,"2023-07-12",6.8888999999999996,130.55312661565597]
[null,"2023-06-12",6.8789999999999996,130.51861759777836]
[null,"2023-05-12",6.9073000000000002,130.48416566172489]
[null,"2023-04-12",6.9097,130.44958576969523]
[null,"2023-01-12",6.9039000000000001,130.41500342390043]
[null,"11/30/2023",7.0910000000000002,130.38045831542181]
[null,"11/29/2023",6.9999000000000002,130.34501788390554]
[null,"11/28/2023",7.1917999999999997,130.31002716097555]
[null,"11/27/2023",7.2728000000000002,130.27411951000892]
[null,"11/24/2023",7.2691999999999997,130.23783136539254]
[null,"11/22/2023",7.2602000000000002,130.20157066838951]
[null,"11/21/2023",7.2755999999999998,130.16536340621832]
[null,"11/20/2023",7.2751000000000001,130.12909207750874]
[null,"11/17/2023",7.3536999999999999,130.09283326216504]
[null,"11/16/2023",7.3411,130.05620654645239]
[null,"11/15/2023",7.3239000000000001,130.01965070294156]
[null,"11/14/2023",7.3189000000000002,129.98318779222183]
[null,"11/13/2023",7.5265000000000004,129.94675913139537]
[null,"2023-10-11",7.5130999999999997,129.90934441938958]
[null,"2023-09-11",7.4694000000000003,129.87200470896752]
[null,"2023-08-11",7.4650999999999996,129.83488518996921]
[null,"2023-07-11",7.4328000000000003,129.79779688943151]
[null,"2023-06-11",7.5308999999999999,129.76087397358938]
[null,"2023-03-11",7.3949999999999996,129.72349171799956]
[null,"2023-02-11",7.7397999999999998,129.68677104258148]
[null,"2023-01-11",7.9805999999999999,129.64841162599461]
[null,"10/31/2023",8.1903000000000006,129.60891531811967]
[null,"10/30/2023",8.3133999999999997,129.56843349936145]
[null,"10/27/2023",8.3496000000000006,129.52737982425037]
[null,"10/26/2023",8.3794000000000004,129.48616745434214]
[null,"10/25/2023",8.4108999999999998,129.44482693899045]
[null,"10/24/2023",8.3835999999999995,129.40335039576047]
[null,"10/23/2023",8.4673999999999996,129.36201642806449]
[null,"10/20/2023",8.5068000000000001,129.32029903884472]
[null,"10/19/2023",8.5200999999999993,129.2784087895663]
[null,"10/18/2023",8.423,129.23646925277697]
[null,"10/17/2023",8.2658000000000005,129.19500225314312]
[null,"10/16/2023",8.1959999999999997,129.15429218233444]
[null,"10/13/2023",8.1868999999999996,129.11392536697619]
[null,"2023-12-10",8.2154000000000007,129.07361424910769]
[null,"2023-11-10",8.1374999999999993,129.03318084731481]
[null,"2023-10-10",8.1644000000000005,128.99312872421893]
[null,"2023-06-10",8.3953000000000007,128.95296175548989]
[null,"2023-05-10",8.4408999999999992,128.91171643147089]
[null,"2023-04-10",8.3976000000000006,128.87026921195974]
[null,"2023-03-10",8.3507999999999996,128.82903948956152]
[null,"2023-02-10",8.2111000000000001,128.78804365393501]
[null,"09/29/2023",8.0925999999999991,128.74772001099404]
[null,"09/28/2023",8.048,128.70796860718872]
[null,"09/27/2023",7.9717000000000002,{"$f":"(1+C67/100)^(1/252)*D68","v":128.66844019383311}]
[null,"09/26/2023",7.9974999999999996,128.62928449888562]
[null,"09/25/2023",7.8990999999999998,128.59001880243878]
[null,"09/22/2023",7.7511000000000001,128.55123009370561]
[null,"09/21/2023",7.8521999999999998,128.51315306889072]
[null,"09/20/2023",7.6356000000000002,128.47460919544406]
[null,"09/19/2023",7.6599000000000004,128.43710148161551]
[null,"09/18/2023",7.5547000000000004,128.39948970044139]
[null,"09/15/2023",7.5461,128.36238691190349]
[null,"09/14/2023",7.4764999999999997,128.32533556382845]
[null,"09/13/2023",7.5759999999999996,128.2886244763348]
[null,"2023-12-09",7.5365000000000002,128.25145294503093]
[null,"2023-11-09",7.4767000000000001,128.21447903611238]
[null,"2023-08-09",7.5457000000000001,128.17779871574339]
[null,"2023-07-09",7.5709999999999997,128.1408025396648]
[null,"2023-06-09",7.5243000000000002,128.10369746759079]
[null,"2023-05-09",7.4710999999999999,128.06682381410496]
[null,"2023-01-09",7.383,128.03021220839193]
[null,"08/31/2023",7.3559000000000001,127.99402760343742]
[null,"08/30/2023",7.3468999999999998,127.95798138596881]
[null,"08/29/2023",7.3970000000000002,127.92198787780889]
[null,"08/28/2023",7.5065999999999997,127.88576770126147]
[null,"08/25/2023",7.5743,127.84904029883683]
[null,"08/24/2023",7.6329000000000002,127.81200415179732]
[null,"08/23/2023",7.5750000000000002,127.77470260233449]
[null,"08/22/2023",7.7077999999999998,127.7376846915007]
[null,"08/21/2023",7.6985999999999999,127.70005231756379]
[null,"08/18/2023",7.6341000000000001,127.66247430385941]
[null,"08/17/2023",7.5984999999999996,127.62521074785842]
[null,"08/16/2023",7.5004,127.58812555586782]
[null,"08/15/2023",7.4347000000000003,127.55151282437733]
[null,"08/14/2023",7.4443000000000001,127.51521994848466]
[null,"2023-11-08",7.3358999999999996,127.47889219849644]
[null,"2023-10-08",7.3251999999999997,127.44308527932215]
[null,"2023-09-08",7.2949000000000002,127.40733882052832]
[null,"2023-08-08",7.3624999999999998,127.37174510486324]
[null,"2023-07-08",7.4335000000000004,127.33584307339524]
[null,"2023-04-08",7.3539000000000003,127.29961720552866]
[null,"2023-03-08",7.3409000000000004,127.26377595916912]
[null,"2023-02-08",7.3657000000000004,127.22800594511506]
[null,"2023-01-08",7.2404999999999999,127.19212938557088]
[null,"07/31/2023",7.1529999999999996,127.15685169192574]
[null,"07/28/2023",7.2098000000000004,127.12199554448378]
[null,"07/27/2023",7.2190000000000003,127.08688169449489]
[null,"07/26/2023",7.1315999999999997,127.0517342808909]
[null,"07/25/2023",7.1398000000000001,127.01700762138361]
[null,"07/24/2023",7.1192000000000002,126.98225188604489]
[null,"07/21/2023",7.0772000000000004,126.94760252929618]
[null,"07/20/2023",7.0121000000000002,126.91316012987755]
[null,"07/19/2023",7.0373999999999999,126.87903327484277]
[null,"07/18/2023",7.0168999999999997,126.84479660699932]
[null,"07/17/2023",7.0896999999999997,126.81066556370477]
[null,"07/14/2023",7.0469999999999997,126.77620159165819]
[null,"07/13/2023",7.0387000000000004,126.74194756542849]
[null,"2023-12-07",7.0824999999999996,126.70774178167572]
[null,"2023-11-07",7.3197000000000001,126.67333957919914]
[null,"2023-10-07",7.3414999999999999,126.63783477948694]
[null,"2023-07-07",7.4340000000000002,126.60223789045965]
[null,"2023-06-07",7.5469999999999997,126.56621838899973]
[null,"2023-05-07",7.3353999999999999,126.52968129677883]
[null,"2023-03-07",7.2275,126.49414333506375]
[null,"06/30/2023",7.3289,126.45912006905778]
[null,"06/29/2023",7.1241000000000003,126.42363230727398]
[null,"06/28/2023",7.0792999999999999,126.38911243794612]
[null,"06/27/2023",7.1430999999999996,{"$f":"(1+C131/100)^(1/252)*D132","v":126.35481173002721}]
[null,"06/26/2023",7.1673,126.32022175238129]
[null,"06/23/2023",7.2007000000000003,126.28552806757264]
[null,"06/22/2023",7.3044000000000002,126.25068779441378]
[null,"06/21/2023",7.0797999999999996,126.21537286745979]
[null,"06/20/2023",7.0087000000000002,126.18111697260828]
[null,"06/16/2023",6.9977,126.14720286830286]
[null,"06/15/2023",6.976,126.11334932576136]
[null,"06/14/2023",7.2069999999999999,126.07960634670422]
[null,"06/13/2023",7.1558999999999999,126.04479349052104]
[null,"2023-12-06",7.2704000000000004,126.01022864672872]
[null,"2023-09-06",7.0030999999999999,125.97513940270967]
[null,"2023-08-06",6.9756,125.94130681424738]
[null,"2023-07-06",7.1191000000000004,125.90761173522006]
[null,"2023-06-06",7.1082999999999998,125.87325607937274]
[null,"2023-05-06",7.0796999999999999,125.83896014722319]
[null,"2023-02-06",7.0970000000000004,125.8048068801118]
[null,"2023-01-06",7.1349,125.77058225497282]
[null,"05/31/2023",7.1040999999999999,125.73619039967015]
[null,"05/30/2023",7.1425999999999998,125.70195137331297]
[null,"05/26/2023",7.2217000000000002,125.6675424451643]
[null,"05/25/2023",7.2274000000000003,125.63277501279133]
[null,"05/24/2023",7.1981000000000002,125.59799070431271]
[null,"05/23/2023",7.0286,125.56335219725379]
[null,"05/22/2023",6.9496000000000002,125.52951150425892]
[null,"05/19/2023",6.9928999999999997,125.49604765101979]
[null,"05/18/2023",6.9202000000000004,125.46239119118137]
[null,"05/17/2023",6.8516000000000004,125.42908207484514]
[null,"05/16/2023",6.9333999999999998,125.39610116628381]
[null,"05/15/2023",6.8765999999999998,125.3627482370326]
[null,"2023-12-05",6.8460000000000001,125.32966842184827]
[null,"2023-11-05",6.6901000000000002,125.29673971256609]
[null,"2023-10-05",6.7160000000000002,125.2645454787404]
[null,"2023-09-05",6.9873000000000003,125.23223889163263]
[null,"2023-08-05",6.8780999999999999,125.19867918618766]
[null,"2023-05-05",6.8868999999999998,125.16563569343663]
[null,"2023-04-05",6.9875999999999996,125.13256003850465]
[null,"2023-03-05",6.6501999999999999,125.09902565296666]
[null,"2023-02-05",6.7968000000000002,125.06706786079484]
[null,"2023-01-05",6.6680999999999999,125.03443667229332]
[null,"04/28/2023",6.6588000000000003,125.00241213219199]
[null,"04/27/2023",6.6787000000000001,124.97043903323711]
[null,"04/26/2023",6.6574,124.93838161882402]
[null,"04/25/2023",6.6944999999999997,124.90643140365027]
[null,"04/24/2023",6.6744000000000003,124.87431702133928]
[null,"04/21/2023",6.6525999999999996,124.84230423334394]
[null,"04/20/2023",6.7321,124.81040087783441]
[null,"04/19/2023",6.6204000000000001,124.77813672099731]
[null,"04/18/2023",6.5571999999999999,124.74639924142315]
[null,"04/17/2023",6.5940000000000003,124.7149632768283]
[null,"04/14/2023",6.5629,124.68336439062487]
[null,"04/13/2023",6.5016999999999996,124.65191785141361]
[null,"2023-12-04",6.5204000000000004,124.62076333569692]
[null,"2023-11-04",6.6170999999999998,124.58952980482016]
[null,"2023-10-04",6.6822999999999997,124.55785559623021]
[null,"2023-07-04",6.7065000000000001,124.52588734229904]
[null,"2023-06-04",6.6576000000000004,124.49381524074077]
[null,"2023-05-04",6.6737000000000002,124.46197778740471]
[null,"2023-04-04",6.6555,124.43007394686425]
[null,"2023-03-04",6.6325000000000003,124.39826251395775]
[null,"03/31/2023",6.7175000000000002,124.36656565128716]
[null,"03/30/2023",6.8433999999999999,124.33448372429565]
[null,"03/29/2023",6.9234999999999998,124.30182848981042]
[null,"03/28/2023",7.0542999999999996,124.26881227244149]
[null,"03/27/2023",7.0136000000000003,{"$f":"(1+C195/100)^(1/252)*D196","v":124.23520210648333}]
[null,"03/24/2023",7.0694999999999997,124.20178844390108]
[null,"03/23/2023",7.0453999999999999,124.16812645050159]
[null,"03/22/2023",7.0206,124.13458447035468]
[null,"03/21/2023",7.1219000000000001,124.10116565718666]
[null,"03/20/2023",7.1757999999999997,124.06729004653684]
[null,"03/17/2023",7.1947999999999999,124.03317608946114]
[null,"03/16/2023",7.2526999999999999,123.99898428845009]
[null,"03/15/2023",7.4131,123.96453627817763]
[null,"03/14/2023",7.2804000000000002,123.92936290690226]
[null,"03/13/2023",7.3482000000000003,123.89480727767379]
[null,"2023-10-03",7.3437999999999999,123.85995075409433]
[null,"2023-09-03",7.3613,123.82512417775821]
[null,"2023-08-03",7.2649999999999997,123.79022731614634]
[null,"2023-07-03",7.1925999999999997,123.75578098372195]
[null,"2023-06-03",7.1771000000000003,123.7216757275135]
[null,"2023-03-03",7.2847,123.68765084824216]
[null,"2023-02-03",7.4073000000000002,123.65314294910952]
[null,"2023-01-03",7.3346,123.61808442065578]
[null,"02/28/2023",7.2343000000000002,123.58336788443788]
[null,"02/27/2023",7.2217000000000002,123.5491194534583]
[null,"02/24/2023",7.3155000000000001,123.51493810820591]
[null,"02/23/2023",7.2430000000000003,123.48033774188238]
[null,"02/22/2023",7.3598999999999997,123.44607812191188]
[null,"02/21/2023",7.4428999999999998,123.41129447060894]
[null,"02/17/2023",7.1650999999999998,123.37614226536098]
[null,"02/16/2023",7.1322000000000001,123.34226721608009]
[null,"02/15/2023",7.0236000000000001,123.30855171331876]
[null,"02/14/2023",6.9683000000000002,123.2753415673177]
[null,"02/13/2023",6.8513999999999999,123.2423931306587]
[null,"2023-10-02",6.8716999999999997,123.20998811545479]
[null,"2023-09-02",6.7088999999999999,123.17749876567649]
[null,"2023-08-02",6.6775000000000002,123.14576295563941]
[null,"2023-07-02",6.6308999999999996,123.11417910267519]
[null,"2023-06-02",6.6566999999999998,123.08281675513176]
[null,"2023-03-02",6.6102999999999996,123.05134426419525]
[null,"2023-02-02",6.5042999999999997,123.02009224281116]
[null,"2023-01-02",6.6551999999999998,122.9893336581255]
[null,"01/31/2023",6.7454999999999998,122.95789193315872]
[null,"01/30/2023",6.7931999999999997,122.92604542110209]
[null,"01/27/2023",6.6999000000000004,122.89398928497206]
[null,"01/26/2023",6.7805,122.86236764154401]
[null,"01/25/2023",6.7133000000000003,122.83038607941108]
[null,"01/24/2023",6.7987000000000002,122.79871960788616]
[null,"01/23/2023",6.7972999999999999,122.76667158598291]
[null,"01/20/2023",6.7746000000000004,122.73463831254345]
[null,"01/19/2023",6.7571000000000003,122.70271690340697]
[null,"01/18/2023",6.5902000000000003,122.67088358618136]
[null,"01/17/2023",6.6083999999999996,122.6398199556901]
[null,"01/13/2023",6.5949999999999998,122.60868112257565]
[null,"2023-12-01",6.5627000000000004,122.57761133938254]
[null,"2023-11-01",6.6768999999999998,122.54669680734035]
[null,"2023-10-01",6.7382,122.51526933452348]
[null,"2023-09-01",6.7131999999999996,122.48357070355837]
[null,"2023-06-01",6.7948000000000004,122.45199409864222]
[null,"2023-05-01",7.0068999999999999,122.42005430539864]
[null,"2023-04-01",6.9972000000000003,122.38715924343438]
[null,"2023-03-01",7.1124999999999998,122.35431703534408]
[null,"2022-12-30",7.1153000000000004,122.32096085396634]
[null,"2022-12-29",7.1999000000000004,122.28760108103026]
[null,"2022-12-28",7.0686,122.2538673960451]
[null,"2022-12-27",6.9352999999999998,122.22073741797502]
[null,"2022-12-23",6.8826000000000001,122.18822045865772]
[null,"2022-12-22",6.8315000000000001,122.15595110226715]
[null,"2022-12-21",6.8967000000000001,{"$f":"(1+C259/100)^(1/252)*D260","v":122.12392201688063}]
[null,"2022-12-20",6.9790999999999999,122.0916057314149]
[null,"2022-12-19",6.9149000000000003,122.05892477715673]
[null,"2022-12-16",6.7839999999999998,122.02654325382994]
[null,"2022-12-15",6.6909000000000001,121.99476339256198]
[null,"2022-12-14",6.7127999999999997,121.96341395237981]
[null,"2022-12-13",6.6684999999999999,121.93197325899571]
[null,"2022-12-12",6.7995999999999999,121.90074152572218]
[null,"2022-12-09",6.7908999999999997,121.86892378285594]
[null,"2022-12-08",6.8048999999999999,121.83715373126586]
[null,"2022-12-07",6.9096000000000002,121.80532859948501]
[null,"2022-12-06",6.9249000000000001,121.77303830890376]
[null,"2022-12-05",6.7104999999999997,121.74068744642034]
[null,"2022-12-02",6.6435000000000004,121.70931457896138]
[null,"2022-12-01",6.6151999999999997,121.67825305690786]
[null,"2022-11-30",6.7869999999999999,121.64732758047984]
[null,"2022-11-29",6.8678999999999997,121.61563292179858]
[null,"2022-11-28",6.8060999999999998,121.58358114442237]
[null,"2022-11-25",6.7462,121.55181682907171]
[null,"2022-11-23",6.7775999999999996,121.52033133300303]
[null,"2022-11-22",6.8114999999999997,121.48871220149536]
[null,"2022-11-21",6.8868999999999998,121.45694830376166]
[null,"2022-11-18",6.9036999999999997,121.42485268830835]
[null,"2022-11-17",6.9260000000000002,121.39268984610521]
[null,"2022-11-16",6.8319000000000001,121.36043507461724]
[null,"2022-11-15",6.8853999999999997,121.328612769502]
[null,"2022-11-14",6.98,121.29655782224714]
[null,"2022-11-10",7.0166000000000004,121.26408563467636]
[null,"2022-11-09",7.3489000000000004,121.23145758209365]
[null,"2022-11-08",7.3174999999999999,121.19734722829268]
[null,"2022-11-07",7.2797000000000001,121.16338713053591]
[null,"2022-11-04",7.2354000000000003,121.12960588375279]
[null,"2022-11-03",7.3166000000000002,121.09603253000435]
[null,"2022-11-02",7.1022999999999996,121.06210484998181]
[null,"2022-11-01",7.0686,121.0291466881847]
[null,"2022-10-31",7.0583,120.99634860121186]
[null,"2022-10-28",6.9763999999999999,120.96360558189255]
[null,"2022-10-27",7.0422000000000002,120.93123867763515]
[null,"2022-10-26",7.1087999999999996,120.89858543154071]
[null,"2022-10-25",7.2598000000000003,120.86564267913656]
[null,"2022-10-24",7.4005000000000001,120.83203339800666]
[null,"2022-10-21",7.4653,120.79780506862036]
[null,"2022-10-20",7.4776999999999996,120.7632973853684]
[null,"2022-10-19",7.4370000000000003,120.72874428349185]
[null,"2022-10-18",7.2731000000000003,120.69438247104215]
[null,"2022-10-17",7.4069000000000003,120.66076144435296]
[null,"2022-10-14",7.4798999999999998,120.62655310798949]
[null,"2022-10-13",7.4739000000000004,120.59202933642872]
[null,"2022-10-12",7.4791999999999996,120.5575421529965]
[null,"2022-10-11",7.4747000000000003,120.52304124751267]
[null,"2022-10-07",7.3129999999999997,120.4885702344293]
[null,"2022-10-06",7.2083000000000004,120.45482878305435]
[null,"2022-10-05",7.1165000000000003,120.42156323496307]
[null,"2022-10-04",7.0906000000000002,120.38871612000823]
[null,"2022-10-03",7.3719999999999999,120.35599345960348]
[null,"2022-09-30",7.4687000000000001,120.32202669764833]
[null,"2022-09-29",7.5483000000000002,120.28763982589327]
[null,"2022-09-28",7.4082999999999997,120.25290946340144]
[null,"2022-09-27",7.4919000000000002,120.21881053828686]
[null,"2022-09-26",7.407,120.18435021937462]
[null,"2022-09-23",7.2530999999999999,120.15027650567639]
[null,"2022-09-22",7.0766,120.1168959226495]
[null,"2022-09-21",6.9372999999999996,120.0843094456273]
[null,"2022-09-20",6.9118000000000004,120.05235197533732]
[null,"2022-09-19",6.8414000000000001,{"$f":"(1+C323/100)^(1/252)*D324","v":120.0205165938264}]
[null,"2022-09-16",6.8997999999999999,119.98900329362795]
[null,"2022-09-15",6.8152999999999997,119.95723814340458]
[null,"2022-09-14",6.7417999999999996,119.9258577275434]
[null,"2022-09-13",6.7317999999999998,119.89481301412961]
[null,"2022-09-12",6.5419,119.86382090001999]
[null,"2022-09-09",6.5842000000000001,119.83368362401566]
[null,"2022-09-08",6.7380000000000004,119.80336521208787]
[null,"2022-09-07",6.8882000000000003,119.7723691282952]
[null,"2022-09-06",6.8666999999999998,119.7407128923803]
[null,"2022-09-02",6.9543999999999997,119.70916058395389]
[null,"2022-09-01",6.9143999999999997,119.67722701503325]
[null,"2022-08-31",6.8226000000000004,119.6454795626664]
[null,"2022-08-30",6.8556999999999997,119.61414826362555]
[null,"2022-08-29",6.6817000000000002,119.58267815291399]
[null,"2022-08-26",6.5171000000000001,119.55198946564543]
[null,"2022-08-25",6.4775,119.52204100844719]
[null,"2022-08-24",6.4565999999999999,119.49227637106871]
[null,"2022-08-23",6.4204999999999997,119.46261220584705]
[null,"2022-08-22",6.4284999999999997,119.43311614784952]
[null,"2022-08-19",6.2256999999999998,119.40359175495939]
[null,"2022-08-18",6.1497999999999999,119.37497817535311]
[null,"2022-08-17",6.0862999999999996,119.34670996666166]
[null,"2022-08-16",5.9470000000000001,119.31873178159866]
[null,"2022-08-15",5.9387999999999996,119.29138214697085]
[null,"2022-08-12",5.9191000000000003,119.26407541247815]
[null,"2022-08-11",5.9101999999999997,119.23686292440136]
[null,"2022-08-10",5.9493999999999998,119.20969639611346]
[null,"2022-08-09",6.0567000000000002,119.18236104057934]
[null,"2022-08-08",6.0350999999999999,119.15455333148753]
[null,"2022-08-05",6.0110999999999999,119.12684839776435]
[null,"2022-08-04",5.9923000000000002,119.09925688984359]
[null,"2022-08-03",5.9779999999999998,119.07175557426582]
[null,"2022-08-02",5.9516999999999998,119.04432434713306]
[null,"2022-08-01",6.0891999999999999,119.01701665962366]
[null,"2022-07-29",6.1006,118.9891028564132]
[null,"2022-07-28",6.2981999999999996,118.96114487582157]
[null,"2022-07-27",6.4143999999999997,118.93231531990281]
[null,"2022-07-26",6.4204999999999997,118.90297724186584]
[null,"2022-07-25",6.3212000000000002,118.87361936120304]
[null,"2022-07-22",6.3518999999999997,118.84470898505413]
[null,"2022-07-21",6.4226999999999999,118.81566951769656]
[null,"2022-07-20",6.5461,118.7863234493677]
[null,"2022-07-19",6.7019000000000002,118.75643851072935]
[null,"2022-07-18",6.7447999999999997,118.72587266251958]
[null,"2022-07-15",6.8059000000000003,118.69512534658872]
[null,"2022-07-14",6.9032,118.66411653644863]
[null,"2022-07-13",6.9238,118.63268715593061]
[null,"2022-07-12",6.9050000000000002,118.60117541733899]
[null,"2022-07-11",6.9522000000000004,118.56975478510252]
[null,"2022-07-08",7.0137999999999998,118.53813483940857]
[null,"2022-07-07",7.0686,118.50625255192668]
[null,"2022-07-06",7.2060000000000004,118.47413815234295]
[null,"2022-07-05",7.2786999999999997,118.44142968739068]
[null,"2022-07-01",7.2956000000000003,118.40841172235976]
[null,"2022-06-30",7.3578000000000001,118.37532896720047]
[null,"2022-06-29",7.3780999999999999,118.34198329700875]
[null,"2022-06-28",7.2041000000000004,118.3085582560456]
[null,"2022-06-27",7.0427999999999997,118.27590382285604]
[null,"2022-06-24",7.1029999999999998,118.2439649268443]
[null,"2022-06-23",7.2473999999999998,118.21177091454994]
[null,"2022-06-22",7.2138,118.17895381804135]
[null,"2022-06-21",7.1432000000000002,118.14629273807874]
[null,"2022-06-17",7.2106000000000003,118.11394942765226]
[null,"2022-06-16",7.2731000000000003,{"$f":"(1+C387/100)^(1/252)*D388","v":118.08132029870312}]
[null,"2022-06-15",7.0750999999999999,118.04842717526211]
[null,"2022-06-14",7.2182000000000004,118.01640841308202]
[null,"2022-06-13",7.1506999999999996,117.98377304187126]
[null,"2022-06-10",6.5357000000000003,117.95144145921856]
[null,"2022-06-09",6.3914,117.92181224329771]
[null,"2022-06-08",6.2584,117.89282456050181]
[null,"2022-06-07",6.2072000000000003,117.8644290600526]
[null,"2022-06-06",6.1586999999999996,117.83626576540181]
[null,"2022-06-03",6.0579999999999998,117.8083227317952]
[null,"2022-06-02",6.03,117.78082988527952]
[null,"2022-06-01",5.9767999999999999,117.75346683477898]
[null,"2022-05-31",5.9527999999999999,117.72634459902797]
[null,"2022-05-27",5.9150999999999998,117.69933439506792]
[null,"2022-05-26",6.1205999999999996,117.6724965687107]
[null,"2022-05-25",6.4034000000000004,117.64475994921273]
[null,"2022-05-24",6.59,117.61578773180467]
[null,"2022-05-23",6.6706000000000003,117.58600506568298]
[null,"2022-05-20",6.7062999999999997,117.55587732766486]
[null,"2022-05-19",6.7805,117.52560125201332]
[null,"2022-05-18",6.7739000000000003,117.49500887136168]
[null,"2022-05-17",6.6798999999999999,117.46445326588683]
[null,"2022-05-16",6.6764999999999999,117.4343160448035]
[null,"2022-05-13",6.6437999999999997,117.40420140449176]
[null,"2022-05-12",6.694,117.37423728321693]
[null,"2022-05-11",6.6117999999999997,117.34406166680122]
[null,"2022-05-10",6.6538000000000004,117.31425260515293]
[null,"2022-05-09",6.7419000000000002,117.28426780092204]
[null,"2022-05-06",6.5891000000000002,117.2539064691198]
[null,"2022-05-05",6.5182000000000002,117.22421936631788]
[null,"2022-05-04",6.3635000000000002,117.19484922621466]
[null,"2022-05-03",6.3723999999999998,117.16616218912203]
[null,"2022-05-02",6.3350999999999997,117.13744328078964]
[null,"2022-04-29",6.2563000000000004,117.10889439586036]
[null,"2022-04-28",6.1083999999999996,117.08069689389583]
[null,"2022-04-27",6.0940000000000003,117.05315317091316]
[null,"2022-04-26",6.0758999999999999,117.02567895413647]
[null,"2022-04-25",6.0391000000000004,116.99829040029786]
[null,"2022-04-22",6.0510999999999999,116.97106931509575]
[null,"2022-04-21",5.9410999999999996,116.94380205014272]
[null,"2022-04-20",5.8875000000000002,116.91702262249007]
[null,"2022-04-19",5.9904999999999999,116.89048406785653]
[null,"2022-04-18",5.8042999999999996,116.86350065751772]
[null,"2022-04-14",5.8552,116.83733869474558]
[null,"2022-04-13",5.8068999999999997,116.81095964597397]
[null,"2022-04-12",5.8061999999999996,116.78479805735765]
[null,"2022-04-11",5.9240000000000004,116.75864539333352]
[null,"2022-04-08",5.5937999999999999,116.73198314034695]
[null,"2022-04-07",5.6087999999999996,116.70677292594868]
[null,"2022-04-06",5.6494999999999997,116.68150238675977]
[null,"2022-04-05",5.4096000000000002,116.65605895108568]
[null,"2022-04-04",5.4546000000000001,116.63167319588237]
[null,"2022-04-01",5.4302000000000001,116.6070950394691]
[null,"2022-03-31",5.4414999999999996,116.58262911765874]
[null,"2022-03-30",5.4413999999999998,116.5581187576483]
[null,"2022-03-29",5.5304000000000002,116.53361398927224]
[null,"2022-03-28",5.5529000000000002,116.50872429218123]
[null,"2022-03-25",5.5698999999999996,116.48374136862314]
[null,"2022-03-24",5.4478999999999997,116.45868937775543]
[null,"2022-03-23",5.4390999999999998,116.4341770311725]
[null,"2022-03-22",5.3925999999999998,116.40970839637642]
[null,"2022-03-21",5.3692000000000002,116.38544862888875]
[null,"2022-03-18",5.3193000000000001,116.36129644968726]
[null,"2022-03-17",5.3929999999999998,116.33736796198451]
[null,"2022-03-16",5.5263,{"$f":"(1+C451/100)^(1/252)*D452","v":116.31312151846303}]
[null,"2022-03-15",5.5961999999999996,116.28829684375673]
[null,"2022-03-14",5.7199,116.26317196480571]
[null,"2022-03-11",5.4539,116.23751248917155]
[null,"2022-03-10",5.4751000000000003,116.21302045664916]
[null,"2022-03-09",5.4164000000000003,116.18844090346334]
[null,"2022-03-08",5.3916000000000004,116.16412316277197]
[null,"2022-03-07",5.3586999999999998,116.13991894814767]
[null,"2022-03-04",5.2168999999999999,116.11586363954534]
[null,"2022-03-03",5.0602999999999998,116.09243375432129]
[null,"2022-03-02",5.12,116.06969463240536]
[null,"2022-03-01",5.1494,116.04669836000559]
[null,"2022-02-28",5.0983999999999998,116.02357789374412]
[null,"2022-02-25",5.2667000000000002,116.00068535422784]
[null,"2022-02-24",5.2854000000000001,115.97706093218359]
[null,"2022-02-23",5.2988999999999997,115.95335958889659]
[null,"2022-02-22",5.3193999999999999,115.92960410561419]
[null,"2022-02-18",5.3170000000000002,115.90576395422897]
[null,"2022-02-17",5.3011999999999997,115.88193918448862]
[null,"2022-02-16",5.3392999999999997,115.85818829105601]
[null,"2022-02-15",5.3221999999999996,115.83427598174461]
[null,"2022-02-14",5.3433000000000002,115.81044321620763]
[null,"2022-02-11",5.3407,115.78652331421928]
[null,"2022-02-10",5.2243000000000004,115.76261969081425]
[null,"2022-02-09",5.0484999999999998,115.73922878259984]
[null,"2022-02-08",5.1505999999999998,115.71661042103815]
[null,"2022-02-07",5.0801999999999996,115.69355048018103]
[null,"2022-02-04",5.0507,115.67080255245965]
[null,"2022-02-03",4.9527999999999999,115.6481879521515]
[null,"2022-02-02",4.7778,115.62600557277563]
[null,"2022-02-01",4.8240999999999996,115.60459300857487]
[null,"2022-01-31",4.9671000000000003,115.58298177703561]
[null,"2022-01-28",4.9577,115.56074942748619]
[null,"2022-01-27",4.8878000000000004,115.5385624144637]
[null,"2022-01-26",4.8263999999999996,115.51668504863346]
[null,"2022-01-25",4.7793999999999999,115.49508019469968]
[null,"2022-01-24",4.7900999999999998,115.47368487903512]
[null,"2022-01-21",4.6814999999999998,115.45224674387228]
[null,"2022-01-20",4.5944000000000003,115.43128754854087]
[null,"2022-01-19",4.6501000000000001,115.41071337651498]
[null,"2022-01-18",4.6718999999999999,115.3898990911333]
[null,"2022-01-14",4.4889999999999999,115.36899320089373]
[null,"2022-01-13",4.4867999999999997,115.34889162291198]
[null,"2022-01-12",4.4466999999999999,115.32880318331019]
[null,"2022-01-11",4.5727000000000002,115.30889388412643]
[null,"2022-01-10",4.593,115.28843645239894]
[null,"2022-01-07",4.4595000000000002,115.26789386430181]
[null,"2022-01-06",4.3952999999999998,115.24793903694101]
[null,"2022-01-05",4.2820999999999998,115.22826877555421]
[null,"2022-01-04",4.1883999999999997,115.20909787677954]
[null,"2022-01-03",4.1261999999999999,115.1903410709497]
[null,"2021-12-31",4.1093999999999999,115.17186024554373]
[null,"2021-12-30",4.101,115.1534561179292]
[null,"2021-12-29",4.0932000000000004,115.1350917962174]
[null,"2021-12-28",4.0265000000000004,115.11676463217033]
[null,"2021-12-27",4.0991999999999997,115.09873314568107]
[null,"2021-12-23",4.1334999999999997,115.08038544729405]
[null,"2021-12-22",4.1258999999999997,115.06189025338799]
[null,"2021-12-21",4.0971000000000002,115.04343135157718]
[null,"2021-12-20",4.2286000000000001,115.025101676822]
[null,"2021-12-17",4.1658999999999997,115.00619877358208]
[null,"2021-12-16",4.1304999999999996,114.98757355189034]
[null,"2021-12-15",4.1052,114.96910641798809]
[null,"2021-12-14",4.0564999999999998,114.95075309245132]
[null,"2021-12-13",4.1079999999999997,{"$f":"(1+C515/100)^(1/252)*D516","v":114.93261609976838}]
[null,"2021-12-10",4.1021000000000001,114.91425633484369]
[null,"2021-12-09",4.1176000000000004,114.89592534228505]
[null,"2021-12-08",4.109,114.87752940438085]
[null,"2021-12-07",4.1086999999999998,114.85917406117807]
[null,"2021-12-06",4.2369000000000003,114.84082296402123]
[null,"2021-12-03",4.3266999999999998,114.82191406204538]
[null,"2021-12-02",4.2676999999999996,114.80261597210473]
[null,"2021-12-01",4.3029000000000002,114.78357879217734]
[null,"2021-11-30",4.4260000000000002,114.76439105047544]
[null,"2021-11-29",4.4257999999999997,114.74466943686551]
[null,"2021-11-26",4.5205000000000002,114.72495208422866]
[null,"2021-11-24",4.3773,114.7048255216346]
[null,"2021-11-23",4.3042999999999996,114.68532643352735]
[null,"2021-11-22",4.1821999999999999,114.66614900863425]
[null,"2021-11-19",4.1196000000000002,114.64750767228725]
[null,"2021-11-18",4.0941000000000001,114.62914277074968]
[null,"2021-11-17",4.0678000000000001,114.61089221122057]
[null,"2021-11-16",4.0635000000000003,114.59275946296316]
[null,"2021-11-15",4.0712000000000002,114.57464837014861]
[null,"2021-11-12",4.1208999999999998,114.55650650442988]
[null,"2021-11-10",3.9556,114.53815050509179]
[null,"2021-11-09",4.0091000000000001,114.5205194871139]
[null,"2021-11-08",4.0068999999999999,114.50265740187727]
[null,"2021-11-05",3.9946000000000002,114.48480771219405]
[null,"2021-11-04",4.0357000000000003,114.46701452660641]
[null,"2021-11-03",4.0849000000000002,114.44904465075287]
[null,"2021-11-02",4.1605999999999996,114.4308629003762]
[null,"2021-11-01",4.1512000000000002,114.4123539553225]
[null,"2021-10-29",4.1186999999999996,114.39388897218475]
[null,"2021-10-28",4.0646000000000004,114.37556861999653]
[null,"2021-10-27",4.0454999999999997,114.35748705679087]
[null,"2021-10-26",4.1547999999999998,114.33949163689168]
[null,"2021-10-25",4.1355000000000004,114.32102273261651]
[null,"2021-10-22",4.1679000000000004,114.30264086855439]
[null,"2021-10-21",4.1280000000000001,114.28412088052595]
[null,"2021-10-20",4.0663999999999998,114.26577760828037]
[null,"2021-10-19",4.0690999999999997,114.24770556012358]
[null,"2021-10-18",4.0571000000000002,114.2296246097048]
[null,"2021-10-15",4.0534999999999997,114.21159878376103]
[null,"2021-10-14",4.0339,114.19359147994989]
[null,"2021-10-13",4.1390000000000002,114.17567236717443]
[null,"2021-10-12",4.1637000000000004,114.1572986489613]
[null,"2021-10-08",4.1459000000000001,114.13882047249825]
[null,"2021-10-07",4.0107999999999997,114.12042268032806]
[null,"2021-10-06",4.0343,114.10261559867062]
[null,"2021-10-05",4.0830000000000002,114.08470902106555]
[null,"2021-10-04",4.0156999999999998,114.06659341305094]
[null,"2021-10-01",4.0629,114.04877341027823]
[null,"2021-09-30",3.9472,114.03075090207786]
[null,"2021-09-29",3.9474,114.01323454861392]
[null,"2021-09-28",3.9792999999999998,113.99572001547909]
[null,"2021-09-27",3.9087000000000001,113.97806939144266]
[null,"2021-09-24",3.8740999999999999,113.96072865662461]
[null,"2021-09-23",3.8723999999999998,113.9435411463173]
[null,"2021-09-22",3.8222,113.92636362715261]
[null,"2021-09-21",3.8108,113.90940720548259]
[null,"2021-09-20",3.7787000000000002,113.89250293625821]
[null,"2021-09-17",3.7671999999999999,113.8757409282959]
[null,"2021-09-16",3.7439,113.85903145760271]
[null,"2021-09-15",3.8008000000000002,113.84242588781312]
[null,"2021-09-14",3.7429999999999999,113.82557507154088]
[null,"2021-09-13",3.7675999999999998,113.80897829907912]
[null,"2021-09-10",3.7947000000000002,113.7922768841004]
[null,"2021-09-09",3.8424999999999998,{"$f":"(1+C579/100)^(1/252)*D580","v":113.77546002403892}]
[null,"2021-09-08",3.8302,113.75843780587992]
[null,"2021-09-07",3.9043999999999999,113.74147159998833]
[null,"2021-09-03",3.7658999999999998,113.72418553712811]
[null,"2021-09-02",3.8155999999999999,113.70750395774282]
[null,"2021-09-01",3.8056999999999999,113.69060879123566]
[null,"2021-08-31",3.8260999999999998,113.67375915335178]
[null,"2021-08-30",3.9255,113.65682338662744]
[null,"2021-08-27",3.8854000000000002,113.6394586225472]
[null,"2021-08-26",3.847,113.62227051926729]
[null,"2021-08-25",3.8597999999999999,113.60525168459539]
[null,"2021-08-24",3.7740999999999998,113.58817984423098]
[null,"2021-08-23",3.8433999999999999,113.57148260158914]
[null,"2021-08-20",3.9708999999999999,113.55448699554563]
[null,"2021-08-19",3.9590000000000001,113.53694108895235]
[null,"2021-08-18",3.9161999999999999,113.51944945545777]
[null,"2021-08-17",3.9068999999999998,113.50214598699915]
[null,"2021-08-16",3.8776000000000002,113.48488546084016]
[null,"2021-08-13",3.8115000000000001,113.46775454561724]
[null,"2021-08-12",3.8971,113.45091278236794]
[null,"2021-08-11",4.0289999999999999,113.43370250380511]
[null,"2021-08-10",4.0071000000000003,113.4159238303267]
[null,"2021-08-09",3.9039999999999999,113.39824268499717]
[null,"2021-08-06",3.8555999999999999,113.38101051703791]
[null,"2021-08-05",3.9464000000000001,113.36399056633876]
[null,"2021-08-04",3.8165,113.34658009613374]
[null,"2021-08-03",3.8965999999999998,113.32973465858494]
[null,"2021-08-02",3.7774999999999999,113.31254492644256]
[null,"2021-07-30",3.8134000000000001,113.29587347181533]
[null,"2021-07-29",3.8549000000000002,113.27904899326444]
[null,"2021-07-28",3.9472999999999998,113.26204737768174]
[null,"2021-07-27",3.9140999999999999,113.24464867305286]
[null,"2021-07-26",3.8304,113.22739617186416]
[null,"2021-07-23",3.9950000000000001,113.21050830144326]
[null,"2021-07-22",3.9434999999999998,113.19291143929394]
[null,"2021-07-21",3.8904000000000001,113.1755397733357]
[null,"2021-07-20",4.0834999999999999,113.15840022651378]
[null,"2021-07-19",3.9683000000000002,113.14042955107782]
[null,"2021-07-16",4.0052000000000003,113.12295884849489]
[null,"2021-07-15",4.0425000000000004,113.10533157468613]
[null,"2021-07-14",4.0780000000000003,113.08754613487818]
[null,"2021-07-13",3.9697,113.06961042210349]
[null,"2021-07-12",3.9222999999999999,113.05214461422236]
[null,"2021-07-09",4.0346000000000002,113.03488604610487]
[null,"2021-07-08",4.0373000000000001,113.01714573828211]
[null,"2021-07-07",4.1219000000000001,112.99939657732021]
[null,"2021-07-06",4.0682,112.98128577608104]
[null,"2021-07-02",4.2046999999999999,112.9634091271393]
[null,"2021-07-01",4.3025000000000002,112.94494782100151]
[null,"2021-06-30",4.2302999999999997,112.92606915169483]
[null,"2021-06-29",4.2183999999999999,112.90750388988388]
[null,"2021-06-28",4.2202000000000002,112.88899282824566]
[null,"2021-06-25",4.2229999999999999,112.87047706569435]
[null,"2021-06-24",4.2012999999999998,112.85195230885337]
[null,"2021-06-23",4.2628000000000004,112.83352382733473]
[null,"2021-06-22",4.3578999999999999,112.81483421158795]
[null,"2021-06-21",4.2807000000000004,112.79573961083952]
[null,"2021-06-18",4.2412000000000001,112.77697942794317]
[null,"2021-06-17",4.2526000000000002,112.75839188620992]
[null,"2021-06-16",4.2887000000000004,112.73975848442164]
[null,"2021-06-15",4.2929000000000004,112.72097329812232]
[null,"2021-06-14",4.2877000000000001,112.70217323100604]
[null,"2021-06-11",4.2313999999999998,112.68339859502251]
[null,"2021-06-10",4.2717000000000001,112.66486851042798]
[null,"2021-06-09",4.2217000000000002,{"$f":"(1+C643/100)^(1/252)*D644","v":112.64616867497611}]
[null,"2021-06-08",4.2755999999999998,112.62768630730264]
[null,"2021-06-07",4.4127000000000001,112.6089759299482]
[null,"2021-06-04",4.3555000000000001,112.58968161965615]
[null,"2021-06-03",4.3383000000000003,112.57063540079099]
[null,"2021-06-02",4.2916999999999996,112.55166602461074]
[null,"2021-06-01",4.3063000000000002,112.53289933342123]
[null,"2021-05-28",4.3266999999999998,112.51407327148721]
[null,"2021-05-27",4.3369,112.49516305976222]
[null,"2021-05-26",4.2788000000000004,112.47621239039573]
[null,"2021-05-25",4.3125,112.45751348220857]
[null,"2021-05-24",4.3505000000000003,112.43867351125643]
[null,"2021-05-21",4.2739000000000003,112.41967421269189]
[null,"2021-05-20",4.3514999999999997,112.40100566329465]
[null,"2021-05-19",4.2827999999999999,112.38200845598912]
[null,"2021-05-18",4.2352999999999996,112.36330810569703]
[null,"2021-05-17",4.3379000000000003,112.34481397744163]
[null,"2021-05-14",4.2676999999999996,112.32588436344705]
[null,"2021-05-13",4.2443999999999997,112.3072578883182]
[null,"2021-05-12",4.2695999999999996,112.28873408605475]
[null,"2021-05-11",4.1041999999999996,112.27010565311301]
[null,"2021-05-10",4.0248999999999997,112.25218746683436]
[null,"2021-05-07",4.0438000000000001,112.23461152790784]
[null,"2021-05-06",4.0297000000000001,112.21695744194234]
[null,"2021-05-05",4.0807000000000002,112.19936647522987]
[null,"2021-05-04",4.0532000000000004,112.18156007961313]
[null,"2021-05-03",4.0514000000000001,112.16387412747092]
[null,"2021-04-30",4.0072000000000001,112.14619866207958]
[null,"2021-04-29",4.0209999999999999,112.12871503464488]
[null,"2021-04-28",4.0305999999999997,112.11117510800099]
[null,"2021-04-27",4.0486000000000004,112.09359687532057]
[null,"2021-04-26",4.0204000000000004,112.07594445281713]
[null,"2021-04-23",4.1132,112.05841534583141]
[null,"2021-04-22",4.0240999999999998,112.04049250981645]
[null,"2021-04-21",3.9508999999999999,112.0229531358258]
[null,"2021-04-20",3.8892000000000002,112.0057293812319]
[null,"2021-04-19",4.0077999999999996,111.98877212613834]
[null,"2021-04-16",4.0016999999999996,111.97131047828891]
[null,"2021-04-15",3.9613999999999998,111.95387760956334]
[null,"2021-04-14",3.9310999999999998,111.93661961014277]
[null,"2021-04-13",3.9885000000000002,111.91949373202878]
[null,"2021-04-12",3.8833000000000002,111.90212529428007]
[null,"2021-04-09",3.9116,111.88520893987359]
[null,"2021-04-08",3.9666999999999999,111.86817422560932]
[null,"2021-04-07",3.9922,111.85090681035639]
[null,"2021-04-06",4.1059000000000001,111.83353322646794]
[null,"2021-04-05",4.0548000000000002,111.81567747098943]
[null,"2021-04-02",4.0976999999999997,111.79804238023098]
[null,"2021-04-01",4.1142000000000003,111.78022723111833]
[null,"2021-03-31",4.3057999999999996,111.76234462926013]
[null,"2021-03-30",4.226,111.74364960199512]
[null,"2021-03-29",4.2118000000000002,111.72529702309046]
[null,"2021-03-26",4.2179000000000002,111.70700785625056]
[null,"2021-03-25",4.2556000000000003,111.68869574097538]
[null,"2021-03-24",4.2961,111.67022635560147]
[null,"2021-03-23",4.2196999999999996,111.65158794219968]
[null,"2021-03-22",4.2213000000000003,111.63327726087944]
[null,"2021-03-19",4.3342000000000001,111.6149627827977]
[null,"2021-03-18",4.2653999999999996,111.59617184977327]
[null,"2021-03-17",4.2930999999999999,111.57767614641566]
[null,"2021-03-16",4.1852999999999998,111.55906591415213]
[null,"2021-03-15",4.0995999999999997,111.54091652765128]
[null,"2021-03-12",4.0448000000000004,111.52313427441946]
[null,"2021-03-11",3.9777,111.50558784834557]
[null,"2021-03-10",3.9719000000000002,{"$f":"(1+C707/100)^(1/252)*D708","v":111.48832959381267}]
[null,"2021-03-09",3.9706000000000001,111.47109868567435]
[null,"2021-03-08",3.9485999999999999,111.45387597062732]
[null,"2021-03-05",3.9175,111.43674949714973]
[null,"2021-03-04",3.7984,111.41975795792322]
[null,"2021-03-03",3.7551000000000001,111.40327596344768]
[null,"2021-03-02",3.6637,111.3869808327744]
[null,"2021-03-01",3.8003999999999998,111.3710775782267]
[null,"2021-02-26",3.7353000000000001,111.35459427071656]
[null,"2021-02-25",3.7120000000000002,111.33839058289018]
[null,"2021-02-24",3.5771000000000002,111.32228848670972]
[null,"2021-02-23",3.4946000000000002,111.30676361016253]
[null,"2021-02-22",3.6349999999999998,111.29159280281445]
[null,"2021-02-19",3.5651999999999999,111.2758254359931]
[null,"2021-02-18",3.4493,111.26035776715631]
[null,"2021-02-17",3.4102000000000001,111.24538655133543]
[null,"2021-02-16",3.5123000000000002,111.23058421096644]
[null,"2021-02-12",3.4813000000000001,111.2153483151981]
[null,"2021-02-11",3.4813999999999998,111.20024667845907]
[null,"2021-02-10",3.4407999999999999,111.18514666596364]
[null,"2021-02-09",3.4651000000000001,111.17022181965048]
[null,"2021-02-08",3.5234999999999999,111.15519536887292]
[null,"2021-02-05",3.4598,111.13992208265105]
[null,"2021-02-04",3.5310000000000001,111.1249223167359]
[null,"2021-02-03",3.5577999999999999,111.10962124850309]
[null,"2021-02-02",3.6042999999999998,111.09420818352994]
[null,"2021-02-01",3.6635,111.07859937619736]
[null,"2021-01-29",3.5728,111.06274100105099]
[null,"2021-01-28",3.5739999999999998,111.0472706152142]
[null,"2021-01-27",3.6065,111.03179727949788]
[null,"2021-01-26",3.5171000000000001,111.01618788631883]
[null,"2021-01-25",3.5670000000000002,111.00096093249471]
[null,"2021-01-22",3.5253999999999999,110.98552381606869]
[null,"2021-01-21",3.7094,110.97026576161522]
[null,"2021-01-20",3.5451000000000001,110.95422794283269]
[null,"2021-01-19",3.5613000000000001,110.93889042609339]
[null,"2021-01-15",3.5960999999999999,110.92348616830097]
[null,"2021-01-14",3.5156999999999998,110.90793618247736]
[null,"2021-01-13",3.5301,110.89273002786204]
[null,"2021-01-12",3.552,110.87746475563611]
[null,"2021-01-11",3.5419,110.86210853523635]
[null,"2021-01-08",3.5362,110.84679734650013]
[null,"2021-01-07",3.5912999999999999,110.83151248454513]
[null,"2021-01-06",3.4841000000000002,110.81599576776898]
[null,"2021-01-05",3.5434000000000001,110.80093646116855]
[null,"2021-01-04",3.5829,110.78562735216023]
[null,"2020-12-31",3.5301,110.77015270419386]
[null,"2020-12-30",3.5851000000000002,110.75490430571803]
[null,"2020-12-29",3.5876999999999999,110.73942461595254]
[null,"2020-12-28",3.4863,110.72393606133316]
[null,"2020-12-24",3.613,110.70887992559994]
[null,"2020-12-23",3.5716000000000001,110.69328837262071]
[null,"2020-12-22",3.6029,110.67787453795945]
[null,"2020-12-21",3.6196999999999999,110.6623301598375]
[null,"2020-12-18",3.7496,110.64671677138598]
[null,"2020-12-17",3.7869999999999999,110.63055557610117]
[null,"2020-12-16",3.7235,110.61423853724972]
[null,"2020-12-15",3.6892999999999998,110.59819250787025]
[null,"2020-12-14",3.637,110.58229351843319]
[null,"2020-12-11",3.6372,110.5666181751599]
[null,"2020-12-10",3.6305000000000001,110.55094420731261]
[null,"2020-12-09",3.6545999999999998,110.53530081928091]
[null,"2020-12-08",3.6991999999999998,110.51955766420484]
[null,"2020-12-07",3.7017000000000002,110.50362811335103]
[null,"2020-12-04",3.8279000000000001,{"$f":"(1+C771/100)^(1/252)*D772","v":110.48769028853091}]
[null,"2020-12-03",3.8028,110.4712216006151]
[null,"2020-12-02",3.8898000000000001,110.45486134067733]
[null,"2020-12-01",3.8363,110.43813635026092]
[null,"2020-11-30",3.8426,110.42163959979662]
[null,"2020-11-27",4.0246000000000004,110.40511873281325]
[null,"2020-11-25",3.8801999999999999,110.38783326283682]
[null,"2020-11-24",3.7538,110.37115889550371]
[null,"2020-11-23",3.8988,110.35502022111548]
[null,"2020-11-20",4.1045999999999996,110.33827241911861]
[null,"2020-11-19",4.0681000000000003,110.32066086923258]
[null,"2020-11-18",4.0743999999999998,110.30320562262382]
[null,"2020-11-17",4.0168999999999997,110.28572664498846]
[null,"2020-11-16",4.0785,110.26849225831077]
[null,"2020-11-13",4.1231999999999998,110.25100154637474]
[null,"2020-11-12",4.0473999999999997,110.23332577835556]
[null,"2020-11-10",4.0293999999999999,110.21597135425503]
[null,"2020-11-09",4.0339,110.19869532027921]
[null,"2020-11-06",4.1475,110.18140308151554]
[null,"2020-11-05",4.0427,110.16363646096072]
[null,"2020-11-04",4.2709000000000001,110.14631275278238]
[null,"2020-11-03",4.2984,110.12803429388379]
[null,"2020-11-02",4.5205000000000002,110.10964364572665]
[null,"2020-10-30",4.9519000000000002,110.09032676134549]
[null,"2020-10-29",4.8940999999999999,110.06921417609068]
[null,"2020-10-28",5.0396999999999998,110.04834620869984]
[null,"2020-10-27",4.7264999999999997,110.0268765660775]
[null,"2020-10-26",4.8239999999999998,110.00671467687937]
[null,"2020-10-23",4.6802999999999999,109.98615033435696]
[null,"2020-10-22",4.7183999999999999,109.96618845623627]
[null,"2020-10-21",4.7382,109.94607143399649]
[null,"2020-10-20",4.7011000000000003,109.92587562103728]
[null,"2020-10-19",4.6105999999999998,109.90583803103551]
[null,"2020-10-16",4.6307999999999998,109.88618116780438]
[null,"2020-10-15",4.5884999999999998,109.86644364227104]
[null,"2020-10-14",4.6425999999999998,109.84688592264823]
[null,"2020-10-13",4.5602999999999998,109.82710630710626]
[null,"2020-10-09",4.6162000000000001,109.80767309487365]
[null,"2020-10-08",4.5372000000000003,109.78801046719612]
[null,"2020-10-07",4.6811999999999996,109.76868041610133]
[null,"2020-10-06",4.7892999999999999,109.74875426323285]
[null,"2020-10-05",4.7012999999999998,109.72838230774943]
[null,"2020-10-02",4.8052000000000001,109.70837988576433]
[null,"2020-10-01",4.7606999999999999,109.68794938491745]
[null,"2020-09-30",4.8144999999999998,109.66770750802313]
[null,"2020-09-29",4.8137999999999996,109.64724597333934]
[null,"2020-09-28",4.8315000000000001,109.62679116164108]
[null,"2020-09-25",4.9782999999999999,109.60626672235092]
[null,"2020-09-24",4.9058000000000002,109.58513759471266]
[null,"2020-09-23",5.0156000000000001,109.56431291013661]
[null,"2020-09-22",4.8978000000000002,109.54303744538474]
[null,"2020-09-21",4.8052999999999999,109.522253905482]
[null,"2020-09-18",4.6769999999999996,109.50185765143563]
[null,"2020-09-17",4.7270000000000003,109.4819973658922]
[null,"2020-09-16",4.6553000000000004,109.46193324931482]
[null,"2020-09-15",4.6809000000000003,109.44217024524582]
[null,"2020-09-14",4.6951000000000001,109.42230460770125]
[null,"2020-09-11",4.6474000000000002,109.40238368933242]
[null,"2020-09-10",4.6271000000000004,109.38266420325422]
[null,"2020-09-09",4.5551000000000004,109.3630324652532]
[null,"2020-09-08",4.6460999999999997,109.34370294741062]
[null,"2020-09-04",4.5141999999999998,109.32399942768124]
[null,"2020-09-03",4.3758999999999997,109.3048465165005]
[null,"2020-09-02",4.5313999999999997,109.28627120723061]
[null,"2020-09-01",4.54,{"$f":"(1+C835/100)^(1/252)*D836","v":109.26705355379296}]
[null,"2020-08-31",4.6043000000000003,109.24780361440533]
[null,"2020-08-28",4.4974999999999996,109.22829054617725]
[null,"2020-08-27",4.5419999999999998,109.20922365496982]
[null,"2020-08-26",4.5662000000000003,109.18997561421976]
[null,"2020-08-25",4.6295000000000002,109.1706306938987]
[null,"2020-08-24",4.7469999999999999,109.15102707567095]
[null,"2020-08-21",4.6801000000000004,109.13094091941088]
[null,"2020-08-20",4.7156000000000002,109.11113508431482]
[null,"2020-08-19",4.6897000000000002,109.09118605928209]
[null,"2020-08-18",4.6730999999999998,109.07134774768141]
[null,"2020-08-17",4.6368,109.0515816667171]
[null,"2020-08-14",4.6402999999999999,109.03196923986242]
[null,"2020-08-13",4.6044999999999998,109.01234587078004]
[null,"2020-08-12",4.6702000000000004,108.99287403139809]
[null,"2020-08-11",4.5324,108.97313415241869]
[null,"2020-08-10",4.3833000000000002,108.95396742704035]
[null,"2020-08-07",4.3691000000000004,108.93542109953167]
[null,"2020-08-06",4.3764000000000003,108.91693672959192]
[null,"2020-08-05",4.4161000000000001,108.89842527177345]
[null,"2020-08-04",4.4667000000000003,108.87975265449076]
[null,"2020-08-03",4.4747000000000003,108.86087394845939]
[null,"2020-07-31",4.4368999999999996,108.84196544145979]
[null,"2020-07-30",4.5263999999999998,108.82321649032009]
[null,"2020-07-29",4.4776999999999996,108.80410091639494]
[null,"2020-07-28",4.6365999999999996,108.78518987478454]
[null,"2020-07-27",4.5408999999999997,108.76562618223993]
[null,"2020-07-24",4.5777000000000001,108.74646086585703]
[null,"2020-07-23",4.6181000000000001,108.72714707370876]
[null,"2020-07-22",4.5202,108.70767009511982]
[null,"2020-07-21",4.5594000000000001,108.68860040136202]
[null,"2020-07-20",4.6238999999999999,108.6693723523494]
[null,"2020-07-17",4.7405999999999997,108.64988182110925]
[null,"2020-07-16",4.7201000000000004,108.62991422551823]
[null,"2020-07-15",4.8330000000000002,108.61003466227277]
[null,"2020-07-14",4.9359000000000002,108.58969441543906]
[null,"2020-07-13",4.9831000000000003,108.56893529935219]
[null,"2020-07-10",5.0309999999999997,108.54798644632623]
[null,"2020-07-09",5.1341999999999999,108.52684518454134]
[null,"2020-07-08",5.0681000000000003,108.50528517689474]
[null,"2020-07-07",5.1090999999999998,108.48400019623055]
[null,"2020-07-06",5.2065999999999999,108.46255146883846]
[null,"2020-07-02",5.0782999999999996,108.44070799807919]
[null,"2020-07-01",5.2957999999999998,108.41939392000596]
[null,"2020-06-30",5.3808999999999996,108.39719459170233]
[null,"2020-06-29",5.5624000000000002,108.37465237590182]
[null,"2020-06-26",5.3226000000000004,108.35137494228037]
[null,"2020-06-25",5.2839999999999998,108.3290801421835]
[null,"2020-06-24",5.2687999999999997,108.30694747315941]
[null,"2020-06-23",5.0823,108.28488136718505]
[null,"2020-06-22",5.0678999999999998,108.26358156304683]
[null,"2020-06-19",5.0952000000000002,108.24234481389304]
[null,"2020-06-18",5.0065,108.22100066050041]
[null,"2020-06-17",5.0552999999999999,108.20002325111442]
[null,"2020-06-16",5.0027999999999997,108.17885045294358]
[null,"2020-06-15",5.1458000000000004,108.15789633734488]
[null,"2020-06-12",5.0830000000000002,108.13636228169054]
[null,"2020-06-11",5.0991,108.11508883354885]
[null,"2020-06-10",4.7938999999999998,108.09375385612157]
[null,"2020-06-09",4.6818,108.07367028203704]
[null,"2020-06-08",4.7176,108.054049364294]
[null,"2020-06-05",4.6862000000000004,108.03428542057509]
[null,"2020-06-04",4.8108000000000004,108.01465363736472]
[null,"2020-06-03",4.7832999999999997,107.99451565372588]
[null,"2020-06-02",4.7735000000000003,{"$f":"(1+C899/100)^(1/252)*D900","v":107.97449386021626}]
[null,"2020-06-01",4.9287000000000001,107.95451584638347]
[null,"2020-05-29",4.9747000000000003,107.93390754624072]
[null,"2020-05-28",5.0147000000000004,107.91311548962159]
[null,"2020-05-27",4.9316000000000004,107.89216432767275]
[null,"2020-05-26",4.9901999999999997,107.87155609978154]
[null,"2020-05-22",5.2099000000000002,107.85071286591833]
[null,"2020-05-21",5.2526000000000002,107.82897919300925]
[null,"2020-05-20",5.0818000000000003,107.80707630758008]
[null,"2020-05-19",5.2983000000000002,107.78587252361798]
[null,"2020-05-18",5.2769000000000004,107.76379275845166]
[null,"2020-05-15",5.4790000000000001,107.74180441635046]
[null,"2020-05-14",5.3926999999999996,107.71900075661402]
[null,"2020-05-13",5.1870000000000003,107.69655172592317]
[null,"2020-05-12",5.2643000000000004,107.67494213122238]
[null,"2020-05-11",5.2224000000000004,107.65302304994164]
[null,"2020-05-08",5.1490999999999998,107.63127847296956]
[null,"2020-05-07",5.2408000000000001,107.6098358641397]
[null,"2020-05-06",5.3152999999999997,107.58802535951853]
[null,"2020-05-05",5.3569000000000004,107.5659172154833]
[null,"2020-05-04",5.3494999999999999,107.54364507533273]
[null,"2020-05-01",5.3329000000000004,107.52140751617584]
[null,"2020-04-30",5.4005000000000001,107.49924177771948]
[null,"2020-04-29",5.3639000000000001,107.4768069823063]
[null,"2020-04-28",5.4368999999999996,107.45452496305286]
[null,"2020-04-27",5.4615999999999998,107.43195229681551]
[null,"2020-04-24",5.4421999999999997,107.40928453456718]
[null,"2020-04-23",5.4404000000000003,107.38669995171691]
[null,"2020-04-22",5.4741,107.36412739076366]
[null,"2020-04-21",5.4833999999999996,107.34142345497344]
[null,"2020-04-20",5.3071999999999999,107.3186867717861]
[null,"2020-04-17",5.2920999999999996,107.2966667226751]
[null,"2020-04-16",5.3475999999999999,107.2747122362444]
[null,"2020-04-15",5.4714999999999998,107.25253796217896]
[null,"2020-04-14",5.4032,107.22986811317301]
[null,"2020-04-13",5.3182999999999998,107.20747863746941]
[null,"2020-04-09",5.8193000000000001,107.18543657556927]
[null,"2020-04-08",5.9561999999999999,107.16138093569049]
[null,"2020-04-07",6.0129000000000001,107.13678103105018]
[null,"2020-04-06",6.1351000000000004,107.11195937986815]
[null,"2020-04-03",6.3003,107.0866539282256]
[null,"2020-04-02",6.3194999999999997,107.0606936945299]
[null,"2020-04-01",6.3705999999999996,107.03466304425454]
[null,"2020-03-31",6.2415000000000003,107.00843468013825]
[null,"2020-03-30",6.3581000000000003,106.98272830456715]
[null,"2020-03-27",6.4194000000000004,106.95656254616814]
[null,"2020-03-26",6.7614000000000001,106.93015869520579]
[null,"2020-03-25",7.3230000000000004,106.90240023725868]
[null,"2020-03-24",7.5635000000000003,106.87242392021685]
[null,"2020-03-23",7.8242000000000003,106.84150698407637]
[null,"2020-03-20",7.3475999999999999,106.80957295710574]
[null,"2020-03-19",7.6634000000000002,106.77952555597308]
[null,"2020-03-18",7.0132000000000003,106.74824225218308]
[null,"2020-03-17",6.7157999999999998,106.71953337555087]
[null,"2020-03-16",6.4090999999999996,106.69201046798057]
[null,"2020-03-13",6.1063999999999998,106.66571289530766]
[null,"2020-03-12",6.1921999999999997,106.64062731720477]
[null,"2020-03-11",5.9226999999999999,106.61520566755294]
[null,"2020-03-10",5.8758999999999997,106.59086489643457]
[null,"2020-03-09",5.7637999999999998,106.5667165669979]
[null,"2020-03-06",5.3944999999999999,106.54302158881379]
[null,"2020-03-05",5.2102000000000004,106.52081041719737]
[null,"2020-03-04",5.0095999999999998,106.49934353619864]
[null,"2020-03-03",5.0871000000000004,106.47868737658141]
[null,"2020-03-02",5.3684000000000003,{"$f":"(1+C963/100)^(1/252)*D964","v":106.45772355710832}]
[null,"2020-02-28",5.5033000000000003,106.43563477514689]
[null,"2020-02-27",5.1535000000000002,106.4130102962291]
[null,"2020-02-26",5.0248999999999997,106.39179272794161]
[null,"2020-02-25",5.0041000000000002,106.37109593141054]
[null,"2020-02-24",4.8651,106.35048675081906]
[null,"2020-02-21",4.9260000000000002,106.33044048634476]
[null,"2020-02-20",4.8598999999999997,106.31015307440991]
[null,"2020-02-19",4.8112000000000004,106.29013532837907]
[null,"2020-02-18",4.8463000000000003,106.27031725024672]
[null,"2020-02-14",4.8594999999999997,106.25036169254616]
[null,"2020-02-13",4.6840000000000002,106.23035681302589]
[null,"2020-02-12",4.8643000000000001,106.2110616936785]
[null,"2020-02-11",4.8536000000000001,106.19104492453168]
[null,"2020-02-10",4.8848000000000003,106.1710749194138]
[null,"2020-02-07",4.8007,106.1509833469182]
[null,"2020-02-06",4.7911000000000001,106.13123340758065]
[null,"2020-02-05",4.8693999999999997,106.11152571630672]
[null,"2020-02-04",4.9717000000000002,106.09150723148606]
[null,"2020-02-03",4.9767999999999999,106.07108211847731]
[null,"2020-01-31",5.0552000000000001,106.05064049216803]
[null,"2020-01-30",4.9566999999999997,106.02988869004538]
[null,"2020-01-29",4.9207999999999998,106.00953555664518]
[null,"2020-01-28",4.9245000000000001,105.98933021660612]
[null,"2020-01-27",5.1284000000000001,105.96911389871059]
[null,"2020-01-24",4.9173,105.9480852061685]
[null,"2020-01-23",4.8959999999999999,105.92790560095879]
[null,"2020-01-22",4.7874999999999996,105.90781516971549]
[null,"2020-01-21",4.8529,105.88816340087754]
[null,"2020-01-17",4.8541999999999996,105.86825315951967]
[null,"2020-01-16",4.7671999999999999,105.84834145422799]
[null,"2020-01-15",4.782,105.82878208495306]
[null,"2020-01-14",4.9413,105.80916701990036]
[null,"2020-01-13",4.9196999999999997,105.78891785564606]
[null,"2020-01-10",4.8967999999999998,105.76875896556012]
[null,"2020-01-09",4.9385000000000003,105.7486955178878]
[null,"2020-01-08",4.9420999999999999,105.72846912093478]
[null,"2020-01-07",4.9497999999999998,105.70823220239957]
[null,"2020-01-06",4.9329000000000001,105.68796838570174]
[null,"2020-01-03",4.9781000000000004,105.66777598118919]
[null,"2020-01-02",4.9493,105.64740688689297]
[null,"2019-12-31",5.0655999999999999,105.62715672708586]
[null,"2019-12-30",5.0411999999999999,105.60644630717137]
[null,"2019-12-27",5.0194999999999999,105.58583726405723]
[null,"2019-12-26",4.9856999999999996,105.56531879246734]
[null,"2019-12-24",4.9279000000000002,105.54493912789329]
[null,"2019-12-23",4.9344000000000001,105.52479400375415]
[null,"2019-12-20",4.8898000000000001,105.50462679004616]
[null,"2019-12-19",4.8876999999999997,105.48464138040794]
[null,"2019-12-18",4.9779,105.46466813563225]
[null,"2019-12-17",5.0246000000000004,105.44433899068363]
[null,"2019-12-16",5.0457000000000001,105.42382770089974]
[null,"2019-12-13",5.0117000000000003,105.40323637740447]
[null,"2019-12-12",4.9584999999999999,105.38278445120369]
[null,"2019-12-11",5.0682999999999998,105.36254836329545]
[null,"2019-12-10",5.032,105.34187908307922]
[null,"2019-12-09",5.0217999999999998,105.32135827702596]
[null,"2019-12-06",5.1196999999999999,105.30088205023857]
[null,"2019-12-05",5.0674000000000001,105.28002053779571]
[null,"2019-12-04",5.0941000000000001,105.25937102524377]
[null,"2019-12-03",5.0674999999999999,105.23861945125152]
[null,"2019-12-02",5.0529999999999999,105.21797766167124]
[null,"2019-11-29",5.0490000000000004,105.19739753560802]
[null,"2019-11-27",5.1163999999999996,105.17683732694607]
[null,"2019-11-26",5.1029999999999998,{"$f":"(1+C1027/100)^(1/252)*D1028","v":105.1560134893878}]
[null,"2019-11-25",5.0606,105.13524696223041]
[null,"2019-11-22",5.1787999999999998,105.11465284254834]
[null,"2019-11-21",5.3061999999999996,105.09359382465898]
[null,"2019-11-20",5.3178000000000001,105.07203428784319]
[null,"2019-11-19",5.2644000000000002,105.05043325645583]
[null,"2019-11-18",5.2367999999999997,105.029048043033]
[null,"2019-11-15",5.2220000000000004,105.0077764540888]
[null,"2019-11-14",5.2438000000000002,104.98656776790486]
[null,"2019-11-13",5.2489999999999997,104.96527707732318]
[null,"2019-11-12",5.1599000000000004,104.94397012874748]
[null,"2019-11-08",5.1872999999999996,104.92302013030556]
[null,"2019-11-07",5.1836000000000002,104.90196586472288]
[null,"2019-11-06",5.1731999999999996,104.88093046400354]
[null,"2019-11-05",5.0979999999999999,104.85994042627094]
[null,"2019-11-04",5.2234999999999996,104.83925216046494]
[null,"2019-11-01",5.2060000000000004,104.81807158207005]
[null,"2019-10-31",5.1616999999999997,104.79696445144064]
[null,"2019-10-30",5.2004000000000001,104.77603668306625]
[null,"2019-10-29",5.1074999999999999,104.75496014450813]
[null,"2019-10-28",5.0213999999999999,104.73425502446344]
[null,"2019-10-25",4.9850000000000003,104.71389452298085]
[null,"2019-10-24",5.0152000000000001,104.69368199817914]
[null,"2019-10-23",4.9939,104.67335390651519]
[null,"2019-10-22",5.0118999999999998,104.65311400278847]
[null,"2019-10-21",5.0880999999999998,104.63280683586189]
[null,"2019-10-18",5.0967000000000002,104.61220248817003]
[null,"2019-10-17",5.1317000000000004,104.59156823354422]
[null,"2019-10-16",5.0997000000000003,104.57079987794692]
[null,"2019-10-15",5.0385999999999997,104.5501619471024]
[null,"2019-10-11",5.1192000000000002,104.52976930468482]
[null,"2019-10-10",5.2638999999999996,104.50906253259134]
[null,"2019-10-09",5.2451999999999996,104.48778949599857]
[null,"2019-10-08",5.2915999999999999,104.46659444037714]
[null,"2019-10-07",5.2705000000000002,104.44522099680481]
[null,"2019-10-04",5.2747999999999999,104.42393497461404]
[null,"2019-10-03",5.2755999999999998,104.40263636805795]
[null,"2019-10-02",5.2893999999999997,104.38133895797843]
[null,"2019-10-01",5.2514000000000003,104.35999161033898]
[null,"2019-09-30",5.2827000000000002,104.33879808759151]
[null,"2019-09-27",5.2920999999999996,104.317485782828]
[null,"2019-09-26",5.2358000000000002,104.29614088092137]
[null,"2019-09-25",5.2554999999999996,104.27502166006036]
[null,"2019-09-24",5.2716000000000003,104.25382927776488]
[null,"2019-09-23",5.2458,104.23257793934526]
[null,"2019-09-20",5.3579999999999997,104.21143229511489]
[null,"2019-09-19",5.3815,104.18985040360374]
[null,"2019-09-18",5.3411,104.16818079104014]
[null,"2019-09-17",5.3807999999999998,104.1466741545361]
[null,"2019-09-16",5.3495999999999997,104.12501626652165]
[null,"2019-09-13",5.3707000000000003,104.10348520926023]
[null,"2019-09-12",5.3249000000000004,104.08187588986667]
[null,"2019-09-11",5.2842000000000002,104.06045058097997]
[null,"2019-09-10",5.2287999999999997,104.03918924960851]
[null,"2019-09-09",5.2709000000000001,104.01814951689025]
[null,"2019-09-06",5.2415000000000003,103.99694896412372]
[null,"2019-09-05",5.3017000000000003,103.97586797984204]
[null,"2019-09-04",5.3109999999999999,103.95455536839552]
[null,"2019-09-03",5.3586999999999998,103.93321070198425]
[null,"2019-08-30",5.3147000000000002,103.91168368973807]
[null,"2019-08-29",5.2591999999999999,103.89033334181977]
[null,"2019-08-28",5.3708,103.86920465292695]
[null,"2019-08-27",5.4028999999999998,103.84764357331703]
[null,"2019-08-26",5.4200999999999997,103.82596147495214]
[null,"2019-08-23",5.4146999999999998,{"$f":"(1+C1091/100)^(1/252)*D1092","v":103.80421669026626}]
[null,"2019-08-22",5.4386000000000001,103.78249755593501]
[null,"2019-08-21",5.4650999999999996,103.76068962331262]
[null,"2019-08-20",5.5408999999999997,103.73878282273874]
[null,"2019-08-19",5.5286999999999997,103.71658494636885]
[null,"2019-08-16",5.5618999999999996,103.6944393883152]
[null,"2019-08-15",5.5949,103.67216915078581]
[null,"2019-08-14",5.6185,103.64977513586413]
[null,"2019-08-13",5.5343999999999998,103.62729406270758]
[null,"2019-08-12",5.6490999999999998,103.60514536388213]
[null,"2019-08-09",5.6234000000000002,103.58255489999513]
[null,"2019-08-08",5.7370000000000001,103.56006934149724]
[null,"2019-08-07",5.7603,103.53714701098994]
[null,"2019-08-06",5.8002000000000002,103.51413924755323]
[null,"2019-08-05",5.7542999999999997,103.49098169000082]
[null,"2019-08-02",5.5632999999999999,103.46800747942969]
[null,"2019-08-01",5.4874999999999998,103.44578042805546]
[null,"2019-07-31",5.5270999999999999,103.42385295442094]
[null,"2019-07-30",5.5590999999999999,103.4017761217675]
[null,"2019-07-29",5.5304000000000002,103.37957962046551]
[null,"2019-07-26",5.5373999999999999,103.35749941258328]
[null,"2019-07-25",5.5968,103.33539672156753]
[null,"2019-07-24",5.5949999999999998,103.31306807548586]
[null,"2019-07-23",5.6143999999999998,103.29075124109266]
[null,"2019-07-22",5.6741999999999999,103.2683639463942]
[null,"2019-07-19",5.6596000000000002,103.24574958977666]
[null,"2019-07-18",5.6273,103.2231967820185]
[null,"2019-07-17",5.5987,103.20077411154287]
[null,"2019-07-16",5.5190999999999999,103.17846718768229]
[null,"2019-07-15",5.4923999999999999,103.15647376906092]
[null,"2019-07-12",5.5307000000000004,103.13458860966504]
[null,"2019-07-11",5.5038,103.11255956470519]
[null,"2019-07-10",5.4960000000000004,103.09063951615231]
[null,"2019-07-09",5.5359999999999996,103.06875436655235]
[null,"2019-07-08",5.5053999999999998,103.04671884727838]
[null,"2019-07-05",5.3731,103.02480659541426]
[null,"2019-07-03",5.3764000000000003,103.00341187339311]
[null,"2019-07-02",5.3891999999999998,102.98200879643684]
[null,"2019-07-01",5.3719999999999999,102.96056054066239]
[null,"2019-06-28",5.4276,102.93918342462186]
[null,"2019-06-27",5.4265999999999996,102.91759530787419]
[null,"2019-06-26",5.4606000000000003,102.89601559151021]
[null,"2019-06-25",5.4634999999999998,102.87430876679477]
[null,"2019-06-24",5.4306000000000001,102.85259529813057]
[null,"2019-06-21",5.4362000000000004,102.83101372900801]
[null,"2019-06-20",5.4687000000000001,102.8094150191814]
[null,"2019-06-19",5.5869,102.78769513662643]
[null,"2019-06-18",5.6036999999999999,102.7655230717162]
[null,"2019-06-17",5.6886999999999999,102.74329092338778]
[null,"2019-06-14",5.6680999999999999,102.72073562287001]
[null,"2019-06-13",5.6886999999999999,102.69826471469159]
[null,"2019-06-12",5.6721000000000004,102.67571929880627]
[null,"2019-06-11",5.6718999999999999,102.65324281843016]
[null,"2019-06-10",5.6962999999999999,102.63077202913277]
[null,"2019-06-07",5.8148999999999997,102.60821215130893]
[null,"2019-06-06",5.9466000000000001,102.58520070547256]
[null,"2019-06-05",5.9511000000000003,102.56168818256708]
[null,"2019-06-04",5.8765999999999998,102.53816376644028]
[null,"2019-06-03",5.9802999999999997,102.51493089327997]
[null,"2019-05-31",5.9123000000000001,102.49130512795774]
[null,"2019-05-30",5.8696999999999999,102.46794578917772]
[null,"2019-05-29",5.9161000000000001,102.44475532014961]
[null,"2019-05-28",5.8413000000000004,102.42139200870086]
[null,"2019-05-24",5.7850999999999999,102.39832109338049]
[null,"2019-05-23",5.8272000000000004,{"$f":"(1+C1155/100)^(1/252)*D1156","v":102.37547114506}]
[null,"2019-05-22",5.8438999999999997,102.35246468525567]
[null,"2019-05-21",5.8478000000000003,102.32939932115268]
[null,"2019-05-20",5.8586999999999998,102.3063241962209]
[null,"2019-05-17",5.8975,102.28321247951401]
[null,"2019-05-16",5.8695000000000004,102.25995727705649]
[null,"2019-05-15",5.8963999999999999,102.23681464625088]
[null,"2019-05-14",6.0434000000000001,102.21357420609642]
[null,"2019-05-13",6.0785999999999998,102.18977652245475]
[null,"2019-05-10",5.9522000000000004,102.16584982675481]
[null,"2019-05-09",5.8182999999999998,102.14241199531729]
[null,"2019-05-08",5.8380999999999998,102.11949199155417]
[null,"2019-05-07",5.7769000000000004,102.09650132998823]
[null,"2019-05-06",5.7259000000000002,102.07375013132622]
[null,"2019-05-03",5.5770999999999997,102.05119930208235]
[null,"2019-05-02",5.6378000000000004,102.02922368505477]
[null,"2019-05-01",5.6402999999999999,102.00702013893122]
[null,"2019-04-30",5.6833,101.98481184726832]
[null,"2019-04-29",5.6628999999999996,101.96244372974074]
[null,"2019-04-26",5.6558000000000002,101.94015861084449]
[null,"2019-04-25",5.6332000000000004,101.91790553955347]
[null,"2019-04-24",5.6192000000000002,101.89574382615774]
[null,"2019-04-23",5.6239999999999997,101.87364051358487]
[null,"2019-04-22",5.6498999999999997,101.85152362795006]
[null,"2019-04-18",5.6013000000000002,101.82931247067023]
[null,"2019-04-17",5.6215000000000002,101.80729204235941]
[null,"2019-04-16",5.5922999999999998,101.78519912124658]
[null,"2019-04-15",5.6048,101.76322265008953]
[null,"2019-04-12",5.6279000000000003,101.74120313261768]
[null,"2019-04-11",5.7153999999999998,101.71910009552754]
[null,"2019-04-10",5.6974,101.69666769871428]
[null,"2019-04-09",5.6749999999999998,101.67430895293936]
[null,"2019-04-08",5.6486000000000001,101.65204061876177]
[null,"2019-04-05",5.6364999999999998,101.62987792598518]
[null,"2019-04-04",5.6872999999999996,101.60776624723354]
[null,"2019-04-03",5.6261999999999999,101.58546556907896]
[null,"2019-04-02",5.5938999999999997,101.56340285210877]
[null,"2019-04-01",5.8304,101.54146816346098]
[null,"2019-03-29",5.8837999999999999,101.51863694481608]
[null,"2019-03-28",5.9351000000000003,101.49560768555169]
[null,"2019-03-27",5.9447000000000001,101.47238860739583]
[null,"2019-03-26",5.9782999999999999,101.44913836065341]
[null,"2019-03-25",5.9978999999999996,101.42576581519646]
[null,"2019-03-22",5.9054000000000002,101.40232424186362]
[null,"2019-03-21",5.9184000000000001,101.37923930840691]
[null,"2019-03-20",5.9756999999999998,101.35611026210229]
[null,"2019-03-19",6.0151000000000003,101.3327690144118]
[null,"2019-03-18",6.0587,101.30928370493362]
[null,"2019-03-15",5.9520999999999997,101.28563857492955]
[null,"2019-03-14",6.0381,101.26240305170444]
[null,"2019-03-13",6.0540000000000003,101.23884690205381]
[null,"2019-03-12",6.0984999999999996,101.21523601112831]
[null,"2019-03-11",6.1036999999999999,101.19146217108897]
[null,"2019-03-08",6.0831,101.1676742396921]
[null,"2019-03-07",6.1127000000000002,101.14396983274135]
[null,"2019-03-06",6.0266000000000002,101.12015903037104]
[null,"2019-03-05",6.0347999999999997,101.09667948087622]
[null,"2019-03-04",6.0549999999999997,101.07317436492878]
[null,"2019-03-01",6.1254,101.04959833111343]
[null,"2019-02-28",6.1428000000000003,101.02576176721364]
[null,"2019-02-27",6.1218000000000004,101.00186511735022]
[null,"2019-02-26",6.1130000000000004,100.97805340627716]
[null,"2019-02-25",6.1406000000000001,100.95428053051133]
[null,"2019-02-22",6.1600999999999999,100.93040909036061]
[null,"2019-02-21",6.1673999999999998,{"$f":"(1+C1219/100)^(1/252)*D1220","v":100.90646973647947}]
[null,"2019-02-20",6.1840000000000002,100.8825085334978]
[null,"2019-02-19",6.1760999999999999,100.85849044617426]
[null,"2019-02-15",6.2614999999999998,100.83450784802558]
[null,"2019-02-14",6.3684000000000003,100.8102093191476]
[null,"2019-02-13",6.4249999999999998,100.78551450135824]
[null,"2019-02-12",6.5044000000000004,100.76061302725867]
[null,"2019-02-11",6.5297999999999998,100.73541958149291]
[null,"2019-02-08",6.5404,100.71013713615469]
[null,"2019-02-07",6.5484,100.6848212825506]
[null,"2019-02-06",6.4778000000000002,100.65948180011715]
[null,"2019-02-05",6.5522999999999998,100.63441339073493]
[null,"2019-02-04",6.6191000000000004,100.60907198128771]
[null,"2019-02-01",6.6681999999999997,100.5834868010874]
[null,"2019-01-31",6.6318999999999999,100.55772440500766]
[null,"2019-01-30",6.7069000000000001,100.53210439172061]
[null,"2019-01-29",6.7667000000000002,100.50621048238752]
[null,"2019-01-28",6.8047000000000004,100.48009985081967]
[null,"2019-01-25",6.7893999999999997,100.45385415010459]
[null,"2019-01-24",6.8331999999999997,100.42767239811326]
[null,"2019-01-23",6.8468,100.40133409100103]
[null,"2019-01-22",6.8403,100.37495198884429]
[null,"2019-01-18",6.8250000000000002,100.34860104468773]
[null,"2019-01-17",6.8720999999999997,100.3223140326824]
[null,"2019-01-16",6.9236000000000004,100.29585846411572]
[null,"2019-01-15",7.0034000000000001,100.26921817924764]
[null,"2019-01-14",7.0077999999999996,100.24228820159685]
[null,"2019-01-11",6.8449,100.21534910437109]
[null,"2019-01-10",6.8268000000000004,100.18902294276582]
[null,"2019-01-09",6.8893000000000004,100.16277103602026]
[null,"2019-01-08",6.9683000000000002,100.13629359284138]
[null,"2019-01-07",6.9145000000000003,100.10952964893531]
[null,"2019-01-04",7.101,100.08297265843915]
[null,"2019-01-03",7.3127000000000004,100.05573071209055]
[null,"2019-01-02",7.2321,{"$f":"(1+C1253/100)^(1/252)*D1254","v":100.02771235429213}]
[null,null,null,100]

{"sheet":"Risco-Brasil","index":19,"n_rows":3866,"n_cols":6,"rows_kept":3866,"cut":false,"hidden":false,"merged":[[0,0,0,1],[1,0,1,1]]}
["Ipeadata"]
["EMBI + Risco-Brasil",null,null,"Mediana",{"$f":"MEDIAN(B4:B3866)","v":253}]
["Data","Risco",null,"Risco Brasil",{"$f":"E2/100","v":2.5299999999999998},{"$f":"E3/100","v":2.53E-2}]
["2023-12-29",195]
["2023-12-28",197]
["2023-12-27",201]
["2023-12-26",195]
["2023-12-22",193]
["2023-12-21",194]
["2023-12-20",195]
["2023-12-19",192]
["2023-12-18",191]
["2023-12-15",192]
["2023-12-14",192]
["2023-12-13",197]
["2023-12-12",196]
["2023-12-11",195]
["2023-12-08",195]
["2023-12-07",196]
["2023-12-06",196]
["2023-12-05",193]
["2023-12-04",192]
["2023-12-01",193]
["2023-11-30",189]
["2023-11-29",196]
["2023-11-28",198]
["2023-11-27",199]
["2023-11-24",196]
["2023-11-22",197]
["2023-11-21",199]
["2023-11-20",200]
["2023-11-17",203]
["2023-11-16",203]
["2023-11-15",202]
["2023-11-14",207]
["2023-11-13",207]
["2023-11-10",203]
["2023-11-09",204]
["2023-11-08",207]
["2023-11-07",202]
["2023-11-06",196]
["2023-11-03",194]
["2023-11-02",195]
["2023-11-01",200]
["2023-10-30",201]
["2023-10-27",203]
["2023-10-26",201]
["2023-10-25",194]
["2023-10-24",198]
["2023-10-23",200]
["2023-10-20",200]
["2023-10-19",199]
["2023-10-18",198]
["2023-10-17",200]
["2023-10-16",200]
["2023-10-13",200]
["2023-10-12",198]
["2023-10-11",202]
["2023-10-10",204]
["2023-10-06",208]
["2023-10-05",211]
["2023-10-04",209]
["2023-10-03",205]
["2023-10-02",200]
["2023-09-29",201]
["2023-09-28",204]
["2023-09-27",202]
["2023-09-26",203]
["2023-09-25",201]
["2023-09-22",205]
["2023-09-21",205]
["2023-09-20",201]
["2023-09-19",204]
["2023-09-18",207]
["2023-09-15",205]
["2023-09-14",204]
["2023-09-13",208]
["2023-09-12",211]
["2023-09-11",208]
["2023-09-08",209]
["2023-09-07",213]
["2023-09-06",210]
["2023-09-05",208]
["2023-09-01",208]
["2023-08-31",209]
["2023-08-30",207]
["2023-08-29",209]
["2023-08-28",209]
["2023-08-25",210]
["2023-08-24",212]
["2023-08-23",217]
["2023-08-22",215]
["2023-08-21",218]
["2023-08-18",221]
["2023-08-17",219]
["2023-08-16",213]
["2023-08-15",216]
["2023-08-14",207]
["2023-08-11",204]
["2023-08-10",207]
["2023-08-09",216]
["2023-08-08",213]
["2023-08-07",211]
["2023-08-04",211]
["2023-08-03",204]
["2023-08-02",204]
["2023-08-01",198]
["2023-07-31",199]
["2023-07-28",201]
["2023-07-27",199]
["2023-07-26",206]
["2023-07-25",211]
["2023-07-24",211]
["2023-07-21",214]
["2023-07-20",217]
["2023-07-19",220]
["2023-07-18",218]
["2023-07-17",221]
["2023-07-14",221]
["2023-07-13",224]
["2023-07-12",225]
["2023-07-11",223]
["2023-07-10",228]
["2023-07-07",225]
["2023-07-06",223]
["2023-07-05",221]
["2023-07-03",227]
["2023-06-30",230]
["2023-06-29",230]
["2023-06-28",235]
["2023-06-27",230]
["2023-06-26",232]
["2023-06-23",232]
["2023-06-22",228]
["2023-06-21",231]
["2023-06-20",231]
["2023-06-16",228]
["2023-06-15",230]
["2023-06-14",227]
["2023-06-13",225]
["2023-06-12",233]
["2023-06-09",233]
["2023-06-06",239]
["2023-06-05",241]
["2023-06-02",241]
["2023-06-01",252]
["2023-05-31",249]
["2023-05-30",241]
["2023-05-26",240]
["2023-05-25",239]
["2023-05-24",244]
["2023-05-23",246]
["2023-05-22",242]
["2023-05-19",244]
["2023-05-18",246]
["2023-05-17",252]
["2023-05-16",253]
["2023-05-15",258]
["2023-05-12",258]
["2023-05-11",261]
["2023-05-10",261]
["2023-05-09",258]
["2023-05-08",261]
["2023-05-05",266]
["2023-05-04",269]
["2023-05-03",269]
["2023-05-02",265]
["2023-05-01",252]
["2023-04-28",260]
["2023-04-27",259]
["2023-04-26",264]
["2023-04-25",265]
["2023-04-24",257]
["2023-04-21",253]
["2023-04-20",256]
["2023-04-19",251]
["2023-04-18",249]
["2023-04-17",250]
["2023-04-14",250]
["2023-04-13",257]
["2023-04-12",261]
["2023-04-11",261]
["2023-04-10",261]
["2023-04-07",258]
["2023-04-06",263]
["2023-04-05",260]
["2023-04-04",255]
["2023-04-03",251]
["2023-03-31",253]
["2023-03-30",252]
["2023-03-29",251]
["2023-03-28",257]
["2023-03-27",256]
["2023-03-24",269]
["2023-03-23",267]
["2023-03-22",265]
["2023-03-21",259]
["2023-03-20",269]
["2023-03-17",278]
["2023-03-16",266]
["2023-03-15",276]
["2023-03-14",262]
["2023-03-13",273]
["2023-03-10",265]
["2023-03-09",259]
["2023-03-08",252]
["2023-03-07",253]
["2023-03-06",247]
["2023-03-03",247]
["2023-03-02",248]
["2023-03-01",247]
["2023-02-28",248]
["2023-02-27",247]
["2023-02-24",246]
["2023-02-23",250]
["2023-02-22",256]
["2023-02-21",256]
["2023-02-17",259]
["2023-02-16",254]
["2023-02-15",251]
["2023-02-14",250]
["2023-02-13",252]
["2023-02-10",253]
["2023-02-09",251]
["2023-02-08",249]
["2023-02-07",241]
["2023-02-06",242]
["2023-02-03",243]
["2023-02-02",248]
["2023-02-01",257]
["2023-01-31",258]
["2023-01-30",259]
["2023-01-27",257]
["2023-01-26",257]
["2023-01-25",262]
["2023-01-24",255]
["2023-01-23",249]
["2023-01-20",250]
["2023-01-19",254]
["2023-01-18",252]
["2023-01-17",251]
["2023-01-13",252]
["2023-01-12",258]
["2023-01-11",258]
["2023-01-10",260]
["2023-01-09",263]
["2023-01-06",262]
["2023-01-05",261]
["2023-01-04",261]
["2023-01-03",257]
["2022-12-30",256]
["2022-12-29",260]
["2022-12-28",255]
["2022-12-27",258]
["2022-12-23",263]
["2022-12-22",265]
["2022-12-21",267]
["2022-12-20",275]
["2022-12-19",276]
["2022-12-16",274]
["2022-12-15",267]
["2022-12-14",260]
["2022-12-13",251]
["2022-12-12",254]
["2022-12-09",244]
["2022-12-08",252]
["2022-12-07",260]
["2022-12-06",256]
["2022-12-05",244]
["2022-12-02",248]
["2022-12-01",253]
["2022-11-30",251]
["2022-11-29",251]
["2022-11-28",270]
["2022-11-25",270]
["2022-11-23",269]
["2022-11-22",265]
["2022-11-21",268]
["2022-11-18",271]
["2022-11-17",278]
["2022-11-16",270]
["2022-11-15",265]
["2022-11-14",277]
["2022-11-10",286]
["2022-11-09",279]
["2022-11-08",264]
["2022-11-07",252]
["2022-11-04",259]
["2022-11-03",263]
["2022-11-02",260]
["2022-11-01",261]
["2022-10-28",255]
["2022-10-27",272]
["2022-10-26",259]
["2022-10-25",253]
["2022-10-24",246]
["2022-10-22",246]
["2022-10-21",255]
["2022-10-20",264]
["2022-10-19",276]
["2022-10-18",278]
["2022-10-17",283]
["2022-10-14",288]
["2022-10-13",291]
["2022-10-12",288]
["2022-10-11",282]
["2022-10-07",276]
["2022-10-06",271]
["2022-10-05",272]
["2022-10-04",266]
["2022-10-03",280]
["2022-09-30",288]
["2022-09-29",301]
["2022-09-28",299]
["2022-09-27",297]
["2022-09-26",292]
["2022-09-23",278]
["2022-09-22",266]
["2022-09-21",270]
["2022-09-20",270]
["2022-09-19",266]
["2022-09-16",269]
["2022-09-15",261]
["2022-09-14",263]
["2022-09-13",259]
["2022-09-12",255]
["2022-09-09",259]
["2022-09-08",264]
["2022-09-07",273]
["2022-09-06",274]
["2022-09-05",281]
["2022-09-02",281]
["2022-09-01",281]
["2022-08-31",285]
["2022-08-30",293]
["2022-08-29",297]
["2022-08-26",291]
["2022-08-25",288]
["2022-08-24",288]
["2022-08-23",299]
["2022-08-22",303]
["2022-08-19",297]
["2022-08-18",292]
["2022-08-17",295]
["2022-08-16",291]
["2022-08-15",286]
["2022-08-12",285]
["2022-08-11",282]
["2022-08-10",290]
["2022-08-09",305]
["2022-08-08",294]
["2022-08-05",297]
["2022-08-04",300]
["2022-08-03",311]
["2022-08-02",307]
["2022-08-01",312]
["2022-07-29",305]
["2022-07-28",317]
["2022-07-27",329]
["2022-07-26",334]
["2022-07-25",332]
["2022-07-22",339]
["2022-07-21",337]
["2022-07-20",331]
["2022-07-19",345]
["2022-07-18",364]
["2022-07-15",376]
["2022-07-13",376]
["2022-07-12",367]
["2022-07-11",359]
["2022-07-08",349]
["2022-07-07",352]
["2022-07-06",357]
["2022-07-05",369]
["2022-07-04",362]
["2022-07-01",362]
["2022-06-30",364]
["2022-06-29",365]
["2022-06-28",356]
["2022-06-27",340]
["2022-06-24",343]
["2022-06-23",347]
["2022-06-22",347]
["2022-06-21",342]
["2022-06-20",346]
["2022-06-17",346]
["2022-06-16",348]
["2022-06-15",336]
["2022-06-14",338]
["2022-06-13",338]
["2022-06-10",325]
["2022-06-09",318]
["2022-06-08",312]
["2022-06-07",311]
["2022-06-06",307]
["2022-06-03",309]
["2022-06-02",305]
["2022-06-01",302]
["2022-05-31",300]
["2022-05-30",305]
["2022-05-27",305]
["2022-05-26",310]
["2022-05-25",316]
["2022-05-24",330]
["2022-05-23",325]
["2022-05-20",332]
["2022-05-19",326]
["2022-05-18",328]
["2022-05-17",315]
["2022-05-16",319]
["2022-05-13",314]
["2022-05-12",318]
["2022-05-11",316]
["2022-05-10",315]
["2022-05-09",323]
["2022-05-06",301]
["2022-05-05",299]
["2022-05-04",300]
["2022-05-03",302]
["2022-05-02",310]
["2022-04-29",306]
["2022-04-28",303]
["2022-04-27",297]
["2022-04-26",298]
["2022-04-25",295]
["2022-04-22",293]
["2022-04-21",288]
["2022-04-20",283]
["2022-04-19",283]
["2022-04-18",284]
["2022-04-14",284]
["2022-04-13",296]
["2022-04-12",301]
["2022-04-11",300]
["2022-04-08",294]
["2022-04-07",291]
["2022-04-06",292]
["2022-04-05",283]
["2022-04-04",290]
["2022-04-01",295]
["2022-03-31",294]
["2022-03-30",294]
["2022-03-29",300]
["2022-03-28",301]
["2022-03-25",301]
["2022-03-24",313]
["2022-03-23",320]
["2022-03-22",309]
["2022-03-21",309]
["2022-03-18",313]
["2022-03-17",310]
["2022-03-16",324]
["2022-03-15",331]
["2022-03-14",331]
["2022-03-11",330]
["2022-03-10",332]
["2022-03-09",332]
["2022-03-08",346]
["2022-03-07",347]
["2022-03-04",343]
["2022-03-03",330]
["2022-03-02",327]
["2022-03-01",339]
["2022-02-28",338]
["2022-02-25",328]
["2022-02-24",338]
["2022-02-23",340]
["2022-02-22",341]
["2022-02-18",340]
["2022-02-17",335]
["2022-02-16",328]
["2022-02-15",325]
["2022-02-14",335]
["2022-02-11",337]
["2022-02-10",318]
["2022-02-09",318]
["2022-02-08",325]
["2022-02-07",328]
["2022-02-04",326]
["2022-02-03",325]
["2022-02-02",327]
["2022-02-01",331]
["2022-01-31",334]
["2022-01-28",339]
["2022-01-27",333]
["2022-01-26",329]
["2022-01-25",334]
["2022-01-24",336]
["2022-01-21",335]
["2022-01-20",328]
["2022-01-19",332]
["2022-01-18",336]
["2022-01-17",336]
["2022-01-14",336]
["2022-01-13",337]
["2022-01-12",333]
["2022-01-11",336]
["2022-01-10",335]
["2022-01-07",333]
["2022-01-06",333]
["2022-01-05",323]
["2022-01-04",323]
["2022-01-03",320]
["2021-12-31",326]
["2021-12-30",326]
["2021-12-29",325]
["2021-12-28",331]
["2021-12-27",334]
["2021-12-24",335]
["2021-12-23",335]
["2021-12-22",342]
["2021-12-21",341]
["2021-12-20",345]
["2021-12-17",343]
["2021-12-16",342]
["2021-12-15",339]
["2021-12-14",338]
["2021-12-13",337]
["2021-12-10",333]
["2021-12-09",333]
["2021-12-08",327]
["2021-12-07",330]
["2021-12-06",343]
["2021-12-03",349]
["2021-12-02",345]
["2021-12-01",355]
["2021-11-30",366]
["2021-11-29",366]
["2021-11-26",375]
["2021-11-25",349]
["2021-11-24",349]
["2021-11-23",345]
["2021-11-22",339]
["2021-11-19",341]
["2021-11-18",340]
["2021-11-17",338]
["2021-11-16",336]
["2021-11-15",336]
["2021-11-12",339]
["2021-11-11",338]
["2021-11-10",341]
["2021-11-09",346]
["2021-11-08",343]
["2021-11-05",355]
["2021-11-04",356]
["2021-11-03",361]
["2021-11-02",370]
["2021-11-01",366]
["2021-10-29",362]
["2021-10-28",347]
["2021-10-27",346]
["2021-10-26",346]
["2021-10-25",348]
["2021-10-22",353]
["2021-10-21",350]
["2021-10-20",336]
["2021-10-19",329]
["2021-10-18",327]
["2021-10-15",324]
["2021-10-14",328]
["2021-10-13",330]
["2021-10-12",332]
["2021-10-11",327]
["2021-10-08",326]
["2021-10-07",326]
["2021-10-06",334]
["2021-10-05",332]
["2021-10-04",334]
["2021-10-01",333]
["2021-09-30",327]
["2021-09-29",320]
["2021-09-28",325]
["2021-09-27",322]
["2021-09-24",320]
["2021-09-23",317]
["2021-09-22",318]
["2021-09-21",318]
["2021-09-20",322]
["2021-09-17",311]
["2021-09-16",312]
["2021-09-15",314]
["2021-09-14",318]
["2021-09-13",314]
["2021-09-10",310]
["2021-09-09",317]
["2021-09-08",312]
["2021-09-07",304]
["2021-09-06",304]
["2021-09-03",304]
["2021-09-02",305]
["2021-09-01",304]
["2021-08-31",304]
["2021-08-30",304]
["2021-08-27",309]
["2021-08-26",311]
["2021-08-25",310]
["2021-08-24",315]
["2021-08-23",318]
["2021-08-20",320]
["2021-08-19",321]
["2021-08-18",313]
["2021-08-17",309]
["2021-08-16",307]
["2021-08-13",304]
["2021-08-12",300]
["2021-08-11",301]
["2021-08-10",301]
["2021-08-09",301]
["2021-08-06",301]
["2021-08-05",301]
["2021-08-04",305]
["2021-08-03",304]
["2021-08-02",302]
["2021-07-30",300]
["2021-07-29",298]
["2021-07-28",300]
["2021-07-27",300]
["2021-07-26",294]
["2021-07-23",294]
["2021-07-22",296]
["2021-07-21",296]
["2021-07-20",299]
["2021-07-19",303]
["2021-07-16",291]
["2021-07-15",292]
["2021-07-14",289]
["2021-07-13",285]
["2021-07-12",288]
["2021-07-09",289]
["2021-07-08",294]
["2021-07-07",291]
["2021-07-06",287]
["2021-07-05",279]
["2021-07-02",279]
["2021-07-01",276]
["2021-06-30",275]
["2021-06-29",270]
["2021-06-28",266]
["2021-06-25",262]
["2021-06-24",265]
["2021-06-23",264]
["2021-06-22",267]
["2021-06-21",263]
["2021-06-18",267]
["2021-06-17",263]
["2021-06-16",266]
["2021-06-15",266]
["2021-06-14",263]
["2021-06-11",262]
["2021-06-10",266]
["2021-06-09",264]
["2021-06-08",263]
["2021-06-07",261]
["2021-06-04",263]
["2021-06-03",260]
["2021-06-02",258]
["2021-06-01",260]
["2021-05-31",262]
["2021-05-28",261]
["2021-05-27",264]
["2021-05-26",265]
["2021-05-25",271]
["2021-05-24",268]
["2021-05-21",266]
["2021-05-20",266]
["2021-05-19",262]
["2021-05-18",260]
["2021-05-17",260]
["2021-05-14",258]
["2021-05-13",257]
["2021-05-12",256]
["2021-05-11",256]
["2021-05-10",254]
["2021-05-07",261]
["2021-05-06",272]
["2021-05-05",276]
["2021-05-04",277]
["2021-05-03",277]
["2021-04-30",277]
["2021-04-29",277]
["2021-04-28",281]
["2021-04-27",282]
["2021-04-26",283]
["2021-04-23",283]
["2021-04-22",287]
["2021-04-21",286]
["2021-04-20",286]
["2021-04-19",281]
["2021-04-16",285]
["2021-04-15",290]
["2021-04-14",291]
["2021-04-13",296]
["2021-04-12",292]
["2021-04-09",289]
["2021-04-08",289]
["2021-04-07",286]
["2021-04-06",288]
["2021-04-05",289]
["2021-04-01",292]
["2021-03-31",290]
["2021-03-30",299]
["2021-03-29",295]
["2021-03-26",299]
["2021-03-25",301]
["2021-03-24",294]
["2021-03-23",289]
["2021-03-22",289]
["2021-03-19",288]
["2021-03-18",289]
["2021-03-17",294]
["2021-03-16",295]
["2021-03-15",302]
["2021-03-12",302]
["2021-03-11",310]
["2021-03-10",320]
["2021-03-09",324]
["2021-03-08",323]
["2021-03-05",306]
["2021-03-04",299]
["2021-03-03",304]
["2021-03-02",303]
["2021-03-01",296]
["2021-02-26",299]
["2021-02-25",285]
["2021-02-24",280]
["2021-02-23",288]
["2021-02-22",292]
["2021-02-19",274]
["2021-02-18",279]
["2021-02-17",271]
["2021-02-16",270]
["2021-02-15",269]
["2021-02-12",269]
["2021-02-11",271]
["2021-02-10",273]
["2021-02-09",270]
["2021-02-08",268]
["2021-02-05",266]
["2021-02-04",270]
["2021-02-03",276]
["2021-02-02",276]
["2021-02-01",283]
["2021-01-29",288]
["2021-01-28",287]
["2021-01-27",294]
["2021-01-26",290]
["2021-01-25",291]
["2021-01-22",287]
["2021-01-21",283]
["2021-01-20",283]
["2021-01-19",283]
["2021-01-18",280]
["2021-01-15",280]
["2021-01-14",272]
["2021-01-13",273]
["2021-01-12",273]
["2021-01-11",270]
["2021-01-08",265]
["2021-01-07",268]
["2021-01-06",266]
["2021-01-05",264]
["2021-01-04",261]
["2020-12-31",260]
["2020-12-30",259]
["2020-12-29",259]
["2020-12-28",261]
["2020-12-24",261]
["2020-12-23",259]
["2020-12-22",263]
["2020-12-21",261]
["2020-12-18",256]
["2020-12-17",258]
["2020-12-16",260]
["2020-12-15",263]
["2020-12-14",268]
["2020-12-11",269]
["2020-12-10",268]
["2020-12-09",267]
["2020-12-08",270]
["2020-12-07",266]
["2020-12-04",262]
["2020-12-03",267]
["2020-12-02",266]
["2020-12-01",264]
["2020-11-30",275]
["2020-11-29",259]
["2020-11-28",261]
["2020-11-27",275]
["2020-11-26",271]
["2020-11-25",271]
["2020-11-24",272]
["2020-11-23",275]
["2020-11-22",263]
["2020-11-21",261]
["2020-11-20",276]
["2020-11-19",277]
["2020-11-18",275]
["2020-11-17",279]
["2020-11-16",276]
["2020-11-13",279]
["2020-11-12",279]
["2020-11-11",273]
["2020-11-10",273]
["2020-11-09",271]
["2020-11-06",289]
["2020-11-05",290]
["2020-11-04",296]
["2020-11-03",307]
["2020-11-02",317]
["2020-10-30",318]
["2020-10-29",319]
["2020-10-28",321]
["2020-10-27",315]
["2020-10-26",317]
["2020-10-23",310]
["2020-10-22",306]
["2020-10-21",306]
["2020-10-20",305]
["2020-10-19",306]
["2020-10-16",307]
["2020-10-15",310]
["2020-10-14",309]
["2020-10-13",311]
["2020-10-12",308]
["2020-10-09",309]
["2020-10-08",315]
["2020-10-07",320]
["2020-10-06",328]
["2020-10-05",331]
["2020-10-02",341]
["2020-10-01",343]
["2020-09-30",343]
["2020-09-29",353]
["2020-09-28",347]
["2020-09-25",346]
["2020-09-24",348]
["2020-09-23",348]
["2020-09-22",332]
["2020-09-21",327]
["2020-09-18",313]
["2020-09-17",310]
["2020-09-16",306]
["2020-09-15",307]
["2020-09-14",310]
["2020-09-11",311]
["2020-09-10",308]
["2020-09-09",311]
["2020-09-08",317]
["2020-09-07",312]
["2020-09-04",312]
["2020-09-03",318]
["2020-09-02",312]
["2020-09-01",314]
["2020-08-31",319]
["2020-08-28",320]
["2020-08-27",327]
["2020-08-26",334]
["2020-08-25",334]
["2020-08-24",329]
["2020-08-21",333]
["2020-08-20",338]
["2020-08-19",327]
["2020-08-18",325]
["2020-08-17",321]
["2020-08-14",317]
["2020-08-13",307]
["2020-08-12",307]
["2020-08-11",298]
["2020-08-10",309]
["2020-08-07",317]
["2020-08-06",323]
["2020-08-05",323]
["2020-08-04",333]
["2020-08-03",329]
["2020-07-31",334]
["2020-07-30",342]
["2020-07-29",340]
["2020-07-28",349]
["2020-07-27",346]
["2020-07-24",352]
["2020-07-23",351]
["2020-07-22",342]
["2020-07-21",346]
["2020-07-20",355]
["2020-07-17",364]
["2020-07-16",375]
["2020-07-15",376]
["2020-07-14",385]
["2020-07-13",377]
["2020-07-10",382]
["2020-07-09",382]
["2020-07-08",374]
["2020-07-07",375]
["2020-07-06",362]
["2020-07-03",366]
["2020-07-02",366]
["2020-07-01",372]
["2020-06-30",380]
["2020-06-29",384]
["2020-06-26",384]
["2020-06-25",377]
["2020-06-24",376]
["2020-06-23",375]
["2020-06-22",375]
["2020-06-19",377]
["2020-06-18",380]
["2020-06-17",374]
["2020-06-16",367]
["2020-06-15",387]
["2020-06-12",384]
["2020-06-11",389]
["2020-06-10",355]
["2020-06-09",344]
["2020-06-08",332]
["2020-06-05",334]
["2020-06-04",348]
["2020-06-03",351]
["2020-06-02",375]
["2020-06-01",386]
["2020-05-29",392]
["2020-05-28",379]
["2020-05-27",384]
["2020-05-26",387]
["2020-05-25",405]
["2020-05-22",405]
["2020-05-21",405]
["2020-05-20",420]
["2020-05-19",429]
["2020-05-18",427]
["2020-05-15",451]
["2020-05-14",450]
["2020-05-13",438]
["2020-05-12",420]
["2020-05-11",414]
["2020-05-08",419]
["2020-05-07",432]
["2020-05-06",429]
["2020-05-05",423]
["2020-05-04",426]
["2020-05-01",422]
["2020-04-30",422]
["2020-04-29",446]
["2020-04-28",470]
["2020-04-27",475]
["2020-04-24",473]
["2020-04-23",442]
["2020-04-22",426]
["2020-04-21",421]
["2020-04-20",403]
["2020-04-17",397]
["2020-04-16",400]
["2020-04-15",394]
["2020-04-14",366]
["2020-04-13",374]
["2020-04-09",390]
["2020-04-08",415]
["2020-04-07",418]
["2020-04-06",437]
["2020-04-03",445]
["2020-04-02",427]
["2020-04-01",414]
["2020-03-31",389]
["2020-03-30",393]
["2020-03-27",375]
["2020-03-26",343]
["2020-03-25",370]
["2020-03-24",427]
["2020-03-23",476]
["2020-03-20",453]
["2020-03-19",465]
["2020-03-18",441]
["2020-03-17",374]
["2020-03-16",395]
["2020-03-13",335]
["2020-03-12",367]
["2020-03-11",302]
["2020-03-10",284]
["2020-03-09",312]
["2020-03-06",262]
["2020-03-05",239]
["2020-03-04",223]
["2020-03-03",240]
["2020-03-02",247]
["2020-02-28",252]
["2020-02-27",233]
["2020-02-26",218]
["2020-02-25",214]
["2020-02-24",208]
["2020-02-21",202]
["2020-02-20",193]
["2020-02-19",189]
["2020-02-18",198]
["2020-02-17",196]
["2020-02-14",196]
["2020-02-13",203]
["2020-02-12",203]
["2020-02-11",209]
["2020-02-10",216]
["2020-02-07",217]
["2020-02-06",213]
["2020-02-05",214]
["2020-02-04",219]
["2020-02-03",226]
["2020-01-31",225]
["2020-01-30",224]
["2020-01-29",225]
["2020-01-28",227]
["2020-01-27",232]
["2020-01-24",225]
["2020-01-23",220]
["2020-01-22",216]
["2020-01-21",214]
["2020-01-20",209]
["2020-01-17",209]
["2020-01-16",211]
["2020-01-15",217]
["2020-01-14",215]
["2020-01-13",213]
["2020-01-10",213]
["2020-01-09",215]
["2020-01-08",215]
["2020-01-07",220]
["2020-01-06",222]
["2020-01-03",225]
["2020-01-02",218]
["2019-12-31",214]
["2019-12-30",215]
["2019-12-27",215]
["2019-12-26",214]
["2019-12-24",215]
["2019-12-23",212]
["2019-12-20",214]
["2019-12-19",213]
["2019-12-18",208]
["2019-12-17",211]
["2019-12-16",212]
["2019-12-13",218]
["2019-12-12",215]
["2019-12-11",230]
["2019-12-10",228]
["2019-12-09",231]
["2019-12-06",231]
["2019-12-05",238]
["2019-12-04",240]
["2019-12-03",250]
["2019-12-02",240]
["2019-11-29",239]
["2019-11-28",244]
["2019-11-27",244]
["2019-11-26",246]
["2019-11-25",242]
["2019-11-22",241]
["2019-11-21",245]
["2019-11-20",249]
["2019-11-19",246]
["2019-11-18",240]
["2019-11-15",238]
["2019-11-14",238]
["2019-11-13",235]
["2019-11-12",232]
["2019-11-11",229]
["2019-11-08",229]
["2019-11-07",230]
["2019-11-06",235]
["2019-11-05",231]
["2019-11-04",229]
["2019-11-01",231]
["2019-10-31",240]
["2019-10-30",237]
["2019-10-29",228]
["2019-10-28",227]
["2019-10-25",231]
["2019-10-24",235]
["2019-10-23",237]
["2019-10-22",237]
["2019-10-21",235]
["2019-10-18",238]
["2019-10-17",238]
["2019-10-16",239]
["2019-10-15",237]
["2019-10-14",240]
["2019-10-11",240]
["2019-10-10",247]
["2019-10-09",255]
["2019-10-08",262]
["2019-10-07",259]
["2019-10-04",264]
["2019-10-03",264]
["2019-10-02",259]
["2019-10-01",252]
["2019-09-30",247]
["2019-09-27",246]
["2019-09-26",243]
["2019-09-25",240]
["2019-09-24",243]
["2019-09-23",234]
["2019-09-20",232]
["2019-09-19",227]
["2019-09-18",225]
["2019-09-17",227]
["2019-09-16",224]
["2019-09-13",219]
["2019-09-12",222]
["2019-09-11",228]
["2019-09-10",229]
["2019-09-09",234]
["2019-09-06",240]
["2019-09-05",238]
["2019-09-04",247]
["2019-09-03",249]
["2019-09-02",248]
["2019-08-30",248]
["2019-08-29",247]
["2019-08-28",252]
["2019-08-27",250]
["2019-08-26",245]
["2019-08-23",246]
["2019-08-22",240]
["2019-08-21",244]
["2019-08-20",247]
["2019-08-19",243]
["2019-08-16",248]
["2019-08-15",251]
["2019-08-14",244]
["2019-08-13",236]
["2019-08-12",239]
["2019-08-09",226]
["2019-08-08",229]
["2019-08-07",232]
["2019-08-06",233]
["2019-08-05",235]
["2019-08-02",222]
["2019-08-01",221]
["2019-07-31",212]
["2019-07-30",209]
["2019-07-29",207]
["2019-07-26",207]
["2019-07-25",208]
["2019-07-24",213]
["2019-07-23",213]
["2019-07-22",216]
["2019-07-19",220]
["2019-07-18",222]
["2019-07-17",221]
["2019-07-16",215]
["2019-07-15",217]
["2019-07-12",217]
["2019-07-11",218]
["2019-07-10",224]
["2019-07-09",228]
["2019-07-08",232]
["2019-07-05",233]
["2019-07-04",238]
["2019-07-03",238]
["2019-07-02",238]
["2019-07-01",234]
["2019-06-28",239]
["2019-06-27",242]
["2019-06-26",240]
["2019-06-25",243]
["2019-06-24",239]
["2019-06-21",236]
["2019-06-20",237]
["2019-06-19",246]
["2019-06-18",247]
["2019-06-17",252]
["2019-06-14",250]
["2019-06-13",248]
["2019-06-12",247]
["2019-06-11",248]
["2019-06-10",250]
["2019-06-07",254]
["2019-06-06",255]
["2019-06-05",256]
["2019-06-04",261]
["2019-06-03",276]
["2019-05-31",274]
["2019-05-30",270]
["2019-05-29",269]
["2019-05-28",267]
["2019-05-27",265]
["2019-05-24",265]
["2019-05-23",266]
["2019-05-22",258]
["2019-05-21",257]
["2019-05-20",260]
["2019-05-17",263]
["2019-05-16",261]
["2019-05-15",260]
["2019-05-14",256]
["2019-05-13",260]
["2019-05-10",252]
["2019-05-09",253]
["2019-05-08",250]
["2019-05-07",255]
["2019-05-06",250]
["2019-05-03",248]
["2019-05-02",250]
["2019-05-01",250]
["2019-04-30",252]
["2019-04-29",248]
["2019-04-26",252]
["2019-04-25",252]
["2019-04-24",251]
["2019-04-23",247]
["2019-04-22",250]
["2019-04-19",253]
["2019-04-18",253]
["2019-04-17",249]
["2019-04-16",248]
["2019-04-15",254]
["2019-04-12",252]
["2019-04-11",253]
["2019-04-10",253]
["2019-04-09",251]
["2019-04-08",250]
["2019-04-05",250]
["2019-04-04",250]
["2019-04-03",249]
["2019-04-02",253]
["2019-04-01",248]
["2019-03-29",253]
["2019-03-28",258]
["2019-03-27",262]
["2019-03-26",255]
["2019-03-25",255]
["2019-03-22",255]
["2019-03-21",239]
["2019-03-20",240]
["2019-03-19",240]
["2019-03-18",242]
["2019-03-15",246]
["2019-03-14",245]
["2019-03-13",249]
["2019-03-12",245]
["2019-03-11",243]
["2019-03-08",251]
["2019-03-07",249]
["2019-03-06",245]
["2019-03-05",242]
["2019-03-04",240]
["2019-03-01",236]
["2019-02-28",235]
["2019-02-27",236]
["2019-02-26",239]
["2019-02-25",240]
["2019-02-22",241]
["2019-02-21",242]
["2019-02-20",241]
["2019-02-19",241]
["2019-02-18",241]
["2019-02-15",241]
["2019-02-14",240]
["2019-02-13",242]
["2019-02-12",244]
["2019-02-11",250]
["2019-02-08",249]
["2019-02-07",245]
["2019-02-06",239]
["2019-02-05",232]
["2019-02-04",234]
["2019-02-01",237]
["2019-01-31",238]
["2019-01-30",240]
["2019-01-29",244]
["2019-01-28",240]
["2019-01-25",239]
["2019-01-24",246]
["2019-01-23",247]
["2019-01-22",252]
["2019-01-21",245]
["2019-01-18",245]
["2019-01-17",255]
["2019-01-16",255]
["2019-01-15",255]
["2019-01-14",258]
["2019-01-11",258]
["2019-01-10",254]
["2019-01-09",250]
["2019-01-08",254]
["2019-01-07",256]
["2019-01-04",264]
["2019-01-03",278]
["2019-01-02",275]
["2018-12-31",276]
["2018-12-28",272]
["2018-12-27",274]
["2018-12-26",273]
["2018-12-24",276]
["2018-12-21",273]
["2018-12-20",268]
["2018-12-19",270]
["2018-12-18",265]
["2018-12-17",260]
["2018-12-14",261]
["2018-12-13",258]
["2018-12-12",261]
["2018-12-11",270]
["2018-12-10",276]
["2018-12-07",274]
["2018-12-06",277]
["2018-12-05",274]
["2018-12-04",274]
["2018-12-03",267]
["2018-11-30",270]
["2018-11-29",272]
["2018-11-28",272]
["2018-11-27",280]
["2018-11-26",276]
["2018-11-23",274]
["2018-11-22",271]
["2018-11-21",271]
["2018-11-20",273]
["2018-11-19",267]
["2018-11-16",263]
["2018-11-15",261]
["2018-11-14",263]
["2018-11-13",262]
["2018-11-12",254]
["2018-11-09",254]
["2018-11-08",251]
["2018-11-07",247]
["2018-11-06",249]
["2018-11-05",247]
["2018-11-02",248]
["2018-11-01",254]
["2018-10-31",260]
["2018-10-30",263]
["2018-10-29",267]
["2018-10-26",266]
["2018-10-25",264]
["2018-10-24",269]
["2018-10-23",260]
["2018-10-22",260]
["2018-10-19",262]
["2018-10-18",264]
["2018-10-17",255]
["2018-10-16",256]
["2018-10-15",261]
["2018-10-12",266]
["2018-10-11",272]
["2018-10-10",268]
["2018-10-09",260]
["2018-10-08",272]
["2018-10-05",272]
["2018-10-04",278]
["2018-10-03",273]
["2018-10-02",285]
["2018-10-01",296]
["2018-09-28",293]
["2018-09-27",291]
["2018-09-26",294]
["2018-09-25",295]
["2018-09-24",293]
["2018-09-21",287]
["2018-09-20",309]
["2018-09-19",328]
["2018-09-18",335]
["2018-09-17",337]
["2018-09-14",334]
["2018-09-13",334]
["2018-09-12",332]
["2018-09-11",336]
["2018-09-10",329]
["2018-09-07",323]
["2018-09-06",332]
["2018-09-05",338]
["2018-09-04",349]
["2018-09-03",345]
["2018-08-31",345]
["2018-08-30",343]
["2018-08-29",335]
["2018-08-28",330]
["2018-08-27",329]
["2018-08-24",332]
["2018-08-23",332]
["2018-08-22",323]
["2018-08-21",311]
["2018-08-20",308]
["2018-08-17",305]
["2018-08-16",302]
["2018-08-15",306]
["2018-08-14",300]
["2018-08-13",306]
["2018-08-10",301]
["2018-08-09",285]
["2018-08-08",277]
["2018-08-07",275]
["2018-08-06",272]
["2018-08-03",270]
["2018-08-02",273]
["2018-08-01",271]
["2018-07-31",267]
["2018-07-30",266]
["2018-07-27",264]
["2018-07-26",267]
["2018-07-25",271]
["2018-07-24",276]
["2018-07-23",277]
["2018-07-20",280]
["2018-07-19",297]
["2018-07-18",292]
["2018-07-17",295]
["2018-07-16",295]
["2018-07-13",298]
["2018-07-12",299]
["2018-07-11",301]
["2018-07-10",296]
["2018-07-09",303]
["2018-07-06",312]
["2018-07-05",319]
["2018-07-04",327]
["2018-07-03",327]
["2018-07-02",331]
["2018-06-29",332]
["2018-06-28",332]
["2018-06-27",332]
["2018-06-26",320]
["2018-06-25",323]
["2018-06-22",318]
["2018-06-21",325]
["2018-06-20",333]
["2018-06-19",345]
["2018-06-18",343]
["2018-06-15",333]
["2018-06-14",334]
["2018-06-13",330]
["2018-06-12",332]
["2018-06-11",330]
["2018-06-08",325]
["2018-06-07",330]
["2018-06-06",311]
["2018-06-05",304]
["2018-06-04",300]
["2018-06-01",309]
["2018-05-31",307]
["2018-05-30",295]
["2018-05-29",297]
["2018-05-28",271]
["2018-05-25",271]
["2018-05-24",268]
["2018-05-23",265]
["2018-05-22",265]
["2018-05-21",270]
["2018-05-18",274]
["2018-05-17",261]
["2018-05-16",257]
["2018-05-15",260]
["2018-05-14",255]
["2018-05-11",254]
["2018-05-10",252]
["2018-05-09",264]
["2018-05-08",269]
["2018-05-07",262]
["2018-05-04",261]
["2018-05-03",263]
["2018-05-02",256]
["2018-05-01",250]
["2018-04-30",250]
["2018-04-27",249]
["2018-04-26",244]
["2018-04-25",243]
["2018-04-24",242]
["2018-04-23",243]
["2018-04-20",243]
["2018-04-19",245]
["2018-04-18",244]
["2018-04-17",247]
["2018-04-16",248]
["2018-04-13",245]
["2018-04-12",244]
["2018-04-11",246]
["2018-04-10",246]
["2018-04-09",247]
["2018-04-06",247]
["2018-04-05",239]
["2018-04-04",244]
["2018-04-03",243]
["2018-04-02",251]
["2018-03-29",248]
["2018-03-28",250]
["2018-03-27",251]
["2018-03-26",248]
["2018-03-23",252]
["2018-03-22",250]
["2018-03-21",246]
["2018-03-20",246]
["2018-03-19",249]
["2018-03-16",244]
["2018-03-15",247]
["2018-03-14",245]
["2018-03-13",243]
["2018-03-12",235]
["2018-03-09",233]
["2018-03-08",242]
["2018-03-07",239]
["2018-03-06",235]
["2018-03-05",237]
["2018-03-02",240]
["2018-03-01",243]
["2018-02-28",236]
["2018-02-27",229]
["2018-02-26",231]
["2018-02-23",236]
["2018-02-22",238]
["2018-02-21",233]
["2018-02-20",235]
["2018-02-16",228]
["2018-02-15",233]
["2018-02-14",249]
["2018-02-13",255]
["2018-02-12",245]
["2018-02-09",256]
["2018-02-08",241]
["2018-02-07",226]
["2018-02-06",235]
["2018-02-05",243]
["2018-02-02",229]
["2018-02-01",227]
["2018-01-31",227]
["2018-01-30",224]
["2018-01-29",224]
["2018-01-26",222]
["2018-01-25",225]
["2018-01-24",226]
["2018-01-23",233]
["2018-01-22",231]
["2018-01-19",231]
["2018-01-18",231]
["2018-01-17",228]
["2018-01-16",226]
["2018-01-15",225]
["2018-01-12",225]
["2018-01-11",223]
["2018-01-10",222]
["2018-01-09",218]
["2018-01-08",222]
["2018-01-05",221]
["2018-01-04",225]
["2018-01-03",228]
["2018-01-02",234]
["2017-12-29",240]
["2017-12-28",239]
["2017-12-27",240]
["2017-12-26",237]
["2017-12-22",235]
["2017-12-21",233]
["2017-12-20",231]
["2017-12-19",234]
["2017-12-18",238]
["2017-12-15",244]
["2017-12-14",245]
["2017-12-13",243]
["2017-12-12",239]
["2017-12-11",239]
["2017-12-08",240]
["2017-12-07",242]
["2017-12-06",238]
["2017-12-05",236]
["2017-12-04",242]
["2017-12-01",244]
["2017-11-30",241]
["2017-11-29",240]
["2017-11-28",239]
["2017-11-27",242]
["2017-11-24",243]
["2017-11-23",246]
["2017-11-22",246]
["2017-11-21",247]
["2017-11-20",248]
["2017-11-17",246]
["2017-11-16",251]
["2017-11-15",260]
["2017-11-14",256]
["2017-11-13",251]
["2017-11-10",253]
["2017-11-09",255]
["2017-11-08",253]
["2017-11-07",253]
["2017-11-06",247]
["2017-11-03",249]
["2017-11-02",245]
["2017-11-01",244]
["2017-10-31",243]
["2017-10-30",239]
["2017-10-27",238]
["2017-10-26",242]
["2017-10-25",234]
["2017-10-24",234]
["2017-10-23",233]
["2017-10-20",233]
["2017-10-19",236]
["2017-10-18",236]
["2017-10-17",240]
["2017-10-16",242]
["2017-10-13",244]
["2017-10-12",245]
["2017-10-11",247]
["2017-10-10",248]
["2017-10-09",244]
["2017-10-06",244]
["2017-10-05",241]
["2017-10-04",245]
["2017-10-03",245]
["2017-10-02",246]
["2017-09-29",247]
["2017-09-28",253]
["2017-09-27",256]
["2017-09-26",256]
["2017-09-25",257]
["2017-09-22",253]
["2017-09-21",255]
["2017-09-20",254]
["2017-09-19",252]
["2017-09-18",252]
["2017-09-15",255]
["2017-09-14",256]
["2017-09-13",257]
["2017-09-12",260]
["2017-09-11",259]
["2017-09-08",264]
["2017-09-07",265]
["2017-09-06",267]
["2017-09-05",268]
["2017-09-04",265]
["2017-09-01",265]
["2017-08-31",272]
["2017-08-30",272]
["2017-08-29",274]
["2017-08-28",273]
["2017-08-25",270]
["2017-08-24",269]
["2017-08-23",274]
["2017-08-22",276]
["2017-08-21",279]
["2017-08-18",277]
["2017-08-17",279]
["2017-08-16",271]
["2017-08-15",269]
["2017-08-14",276]
["2017-08-11",281]
["2017-08-10",281]
["2017-08-09",269]
["2017-08-08",262]
["2017-08-07",263]
["2017-08-04",262]
["2017-08-03",264]
["2017-08-02",268]
["2017-08-01",267]
["2017-07-31",268]
["2017-07-28",271]
["2017-07-27",268]
["2017-07-26",269]
["2017-07-25",272]
["2017-07-24",270]
["2017-07-21",264]
["2017-07-20",266]
["2017-07-19",271]
["2017-07-18",273]
["2017-07-17",273]
["2017-07-14",274]
["2017-07-13",277]
["2017-07-12",277]
["2017-07-11",282]
["2017-07-10",286]
["2017-07-07",293]
["2017-07-06",297]
["2017-07-05",291]
["2017-07-03",286]
["2017-06-30",289]
["2017-06-29",294]
["2017-06-28",290]
["2017-06-27",298]
["2017-06-26",290]
["2017-06-23",294]
["2017-06-22",298]
["2017-06-21",302]
["2017-06-20",299]
["2017-06-19",289]
["2017-06-16",286]
["2017-06-15",286]
["2017-06-14",281]
["2017-06-13",282]
["2017-06-12",286]
["2017-06-09",285]
["2017-06-08",285]
["2017-06-07",288]
["2017-06-06",285]
["2017-06-05",283]
["2017-06-02",283]
["2017-06-01",284]
["2017-05-31",284]
["2017-05-30",284]
["2017-05-29",286]
["2017-05-26",283]
["2017-05-25",286]
["2017-05-24",281]
["2017-05-23",280]
["2017-05-22",288]
["2017-05-19",282]
["2017-05-18",300]
["2017-05-17",258]
["2017-05-16",250]
["2017-05-15",251]
["2017-05-12",255]
["2017-05-11",255]
["2017-05-10",257]
["2017-05-09",264]
["2017-05-08",262]
["2017-05-05",262]
["2017-05-04",264]
["2017-05-03",256]
["2017-05-02",258]
["2017-05-01",260]
["2017-04-28",263]
["2017-04-27",264]
["2017-04-26",268]
["2017-04-25",263]
["2017-04-24",263]
["2017-04-21",272]
["2017-04-20",275]
["2017-04-19",273]
["2017-04-18",275]
["2017-04-17",270]
["2017-04-13",271]
["2017-04-12",271]
["2017-04-11",272]
["2017-04-10",267]
["2017-04-07",271]
["2017-04-06",269]
["2017-04-05",263]
["2017-04-04",265]
["2017-04-03",270]
["2017-03-31",270]
["2017-03-30",274]
["2017-03-29",275]
["2017-03-28",278]
["2017-03-27",279]
["2017-03-24",278]
["2017-03-23",280]
["2017-03-22",280]
["2017-03-21",277]
["2017-03-20",269]
["2017-03-17",272]
["2017-03-16",274]
["2017-03-15",282]
["2017-03-14",291]
["2017-03-13",286]
["2017-03-10",280]
["2017-03-09",290]
["2017-03-08",287]
["2017-03-07",274]
["2017-03-06",272]
["2017-03-03",273]
["2017-03-02",280]
["2017-03-01",275]
["2017-02-28",286]
["2017-02-27",277]
["2017-02-24",277]
["2017-02-23",272]
["2017-02-22",277]
["2017-02-21",279]
["2017-02-20",282]
["2017-02-17",282]
["2017-02-16",280]
["2017-02-15",271]
["2017-02-14",266]
["2017-02-13",268]
["2017-02-10",272]
["2017-02-09",280]
["2017-02-08",284]
["2017-02-07",287]
["2017-02-06",277]
["2017-02-03",276]
["2017-02-02",281]
["2017-02-01",285]
["2017-01-31",289]
["2017-01-30",291]
["2017-01-27",284]
["2017-01-26",296]
["2017-01-25",296]
["2017-01-24",293]
["2017-01-23",295]
["2017-01-20",294]
["2017-01-19",296]
["2017-01-18",291]
["2017-01-17",282]
["2017-01-16",288]
["2017-01-13",288]
["2017-01-12",298]
["2017-01-11",305]
["2017-01-10",305]
["2017-01-09",302]
["2017-01-06",301]
["2017-01-05",302]
["2017-01-04",311]
["2017-01-03",325]
["2017-01-02",328]
["2016-12-30",328]
["2016-12-29",325]
["2016-12-28",325]
["2016-12-27",322]
["2016-12-26",325]
["2016-12-23",325]
["2016-12-22",326]
["2016-12-21",323]
["2016-12-20",324]
["2016-12-19",327]
["2016-12-16",328]
["2016-12-15",332]
["2016-12-14",332]
["2016-12-13",324]
["2016-12-12",330]
["2016-12-09",328]
["2016-12-08",334]
["2016-12-07",336]
["2016-12-06",341]
["2016-12-05",342]
["2016-12-02",350]
["2016-12-01",348]
["2016-11-30",337]
["2016-11-29",337]
["2016-11-28",334]
["2016-11-25",337]
["2016-11-24",336]
["2016-11-23",336]
["2016-11-22",332]
["2016-11-21",333]
["2016-11-18",334]
["2016-11-17",331]
["2016-11-16",329]
["2016-11-15",330]
["2016-11-14",357]
["2016-11-11",341]
["2016-11-10",341]
["2016-11-09",306]
["2016-11-08",303]
["2016-11-07",314]
["2016-11-04",328]
["2016-11-03",327]
["2016-11-02",328]
["2016-11-01",323]
["2016-10-31",313]
["2016-10-28",308]
["2016-10-27",313]
["2016-10-26",309]
["2016-10-25",307]
["2016-10-24",305]
["2016-10-21",308]
["2016-10-20",308]
["2016-10-19",311]
["2016-10-18",314]
["2016-10-17",314]
["2016-10-14",309]
["2016-10-13",313]
["2016-10-12",314]
["2016-10-11",319]
["2016-10-10",317]
["2016-10-07",317]
["2016-10-06",317]
["2016-10-05",319]
["2016-10-04",318]
["2016-10-03",315]
["2016-09-30",319]
["2016-09-29",318]
["2016-09-28",311]
["2016-09-27",322]
["2016-09-26",320]
["2016-09-23",315]
["2016-09-22",306]
["2016-09-21",312]
["2016-09-20",328]
["2016-09-19",334]
["2016-09-16",340]
["2016-09-15",331]
["2016-09-14",333]
["2016-09-13",325]
["2016-09-12",313]
["2016-09-09",314]
["2016-09-08",303]
["2016-09-07",303]
["2016-09-06",309]
["2016-09-05",309]
["2016-09-02",309]
["2016-09-01",315]
["2016-08-31",309]
["2016-08-30",306]
["2016-08-29",304]
["2016-08-26",299]
["2016-08-25",306]
["2016-08-24",305]
["2016-08-23",302]
["2016-08-22",303]
["2016-08-19",296]
["2016-08-18",297]
["2016-08-17",298]
["2016-08-16",292]
["2016-08-15",299]
["2016-08-12",306]
["2016-08-11",309]
["2016-08-10",316]
["2016-08-09",320]
["2016-08-08",317]
["2016-08-05",319]
["2016-08-04",325]
["2016-08-03",327]
["2016-08-02",331]
["2016-08-01",336]
["2016-07-29",339]
["2016-07-28",340]
["2016-07-27",344]
["2016-07-26",343]
["2016-07-25",341]
["2016-07-22",338]
["2016-07-21",337]
["2016-07-20",330]
["2016-07-19",332]
["2016-07-18",332]
["2016-07-15",331]
["2016-07-14",331]
["2016-07-13",334]
["2016-07-12",331]
["2016-07-11",340]
["2016-07-08",345]
["2016-07-07",355]
["2016-07-06",355]
["2016-07-05",352]
["2016-07-04",347]
["2016-07-01",347]
["2016-06-30",350]
["2016-06-29",354]
["2016-06-28",376]
["2016-06-27",393]
["2016-06-24",384]
["2016-06-23",365]
["2016-06-22",376]
["2016-06-21",378]
["2016-06-20",380]
["2016-06-17",392]
["2016-06-16",399]
["2016-06-15",395]
["2016-06-14",401]
["2016-06-13",389]
["2016-06-10",383]
["2016-06-09",375]
["2016-06-08",371]
["2016-06-07",377]
["2016-06-06",385]
["2016-06-03",391]
["2016-06-02",392]
["2016-06-01",401]
["2016-05-31",404]
["2016-05-30",391]
["2016-05-27",391]
["2016-05-26",395]
["2016-05-25",391]
["2016-05-24",395]
["2016-05-23",397]
["2016-05-20",392]
["2016-05-19",394]
["2016-05-18",377]
["2016-05-17",374]
["2016-05-16",375]
["2016-05-13",382]
["2016-05-12",376]
["2016-05-11",379]
["2016-05-10",387]
["2016-05-09",394]
["2016-05-06",390]
["2016-05-05",397]
["2016-05-04",395]
["2016-05-03",392]
["2016-05-02",382]
["2016-04-29",385]
["2016-04-28",385]
["2016-04-27",382]
["2016-04-26",397]
["2016-04-25",403]
["2016-04-22",406]
["2016-04-21",400]
["2016-04-20",385]
["2016-04-19",390]
["2016-04-18",394]
["2016-04-15",387]
["2016-04-14",382]
["2016-04-13",387]
["2016-04-12",397]
["2016-04-11",416]
["2016-04-08",440]
["2016-04-07",449]
["2016-04-06",430]
["2016-04-05",432]
["2016-04-04",413]
["2016-04-01",404]
["2016-03-31",409]
["2016-03-30",404]
["2016-03-29",416]
["2016-03-28",419]
["2016-03-24",427]
["2016-03-23",419]
["2016-03-22",391]
["2016-03-21",392]
["2016-03-18",409]
["2016-03-17",435]
["2016-03-16",457]
["2016-03-15",459]
["2016-03-14",437]
["2016-03-11",427]
["2016-03-10",434]
["2016-03-09",440]
["2016-03-08",460]
["2016-03-07",452]
["2016-03-04",447]
["2016-03-03",462]
["2016-03-02",485]
["2016-03-01",489]
["2016-02-29",502]
["2016-02-26",506]
["2016-02-25",513]
["2016-02-24",506]
["2016-02-23",519]
["2016-02-22",521]
["2016-02-19",529]
["2016-02-18",539]
["2016-02-17",535]
["2016-02-16",549]
["2016-02-15",554]
["2016-02-12",554]
["2016-02-11",569]
["2016-02-10",554]
["2016-02-09",547]
["2016-02-08",548]
["2016-02-05",521]
["2016-02-04",523]
["2016-02-03",525]
["2016-02-02",530]
["2016-02-01",513]
["2016-01-29",512]
["2016-01-28",499]
["2016-01-27",503]
["2016-01-26",511]
["2016-01-25",523]
["2016-01-22",514]
["2016-01-21",534]
["2016-01-20",544]
["2016-01-19",533]
["2016-01-18",533]
["2016-01-15",533]
["2016-01-14",512]
["2016-01-13",521]
["2016-01-12",506]
["2016-01-11",506]
["2016-01-08",512]
["2016-01-07",506]
["2016-01-06",505]
["2016-01-05",497]
["2016-01-04",532]
["2015-12-31",523]
["2015-12-30",516]
["2015-12-29",506]
["2015-12-28",520]
["2015-12-24",518]
["2015-12-23",516]
["2015-12-22",521]
["2015-12-21",545]
["2015-12-18",524]
["2015-12-17",498]
["2015-12-16",499]
["2015-12-15",465]
["2015-12-14",484]
["2015-12-11",501]
["2015-12-10",473]
["2015-12-09",458]
["2015-12-08",453]
["2015-12-07",444]
["2015-12-04",435]
["2015-12-03",438]
["2015-12-02",440]
["2015-12-01",436]
["2015-11-30",432]
["2015-11-27",409]
["2015-11-26",411]
["2015-11-25",411]
["2015-11-24",393]
["2015-11-23",397]
["2015-11-20",386]
["2015-11-19",381]
["2015-11-18",395]
["2015-11-17",399]
["2015-11-16",410]
["2015-11-13",415]
["2015-11-12",398]
["2015-11-11",396]
["2015-11-10",396]
["2015-11-09",403]
["2015-11-06",393]
["2015-11-05",387]
["2015-11-04",378]
["2015-11-03",376]
["2015-11-02",394]
["2015-10-30",410]
["2015-10-29",410]
["2015-10-28",414]
["2015-10-27",422]
["2015-10-26",418]
["2015-10-23",423]
["2015-10-22",437]
["2015-10-21",450]
["2015-10-20",454]
["2015-10-19",438]
["2015-10-16",419]
["2015-10-15",408]
["2015-10-14",411]
["2015-10-13",408]
["2015-10-12",383]
["2015-10-09",383]
["2015-10-08",389]
["2015-10-07",405]
["2015-10-06",386]
["2015-10-05",388]
["2015-10-02",406]
["2015-10-01",421]
["2015-09-30",442]
["2015-09-29",485]
["2015-09-28",489]
["2015-09-25",453]
["2015-09-24",450]
["2015-09-23",454]
["2015-09-22",443]
["2015-09-21",422]
["2015-09-18",397]
["2015-09-17",376]
["2015-09-16",374]
["2015-09-15",377]
["2015-09-14",389]
["2015-09-11",390]
["2015-09-10",388]
["2015-09-09",363]
["2015-09-08",372]
["2015-09-07",381]
["2015-09-04",381]
["2015-09-03",365]
["2015-09-02",367]
["2015-09-01",361]
["2015-08-31",340]
["2015-08-28",334]
["2015-08-27",338]
["2015-08-26",358]
["2015-08-25",352]
["2015-08-24",369]
["2015-08-21",351]
["2015-08-20",338]
["2015-08-19",329]
["2015-08-18",316]
["2015-08-17",316]
["2015-08-14",318]
["2015-08-13",322]
["2015-08-12",323]
["2015-08-11",342]
["2015-08-10",335]
["2015-08-07",343]
["2015-08-06",341]
["2015-08-05",317]
["2015-08-04",322]
["2015-08-03",323]
["2015-07-31",315]
["2015-07-30",339]
["2015-07-29",340]
["2015-07-28",350]
["2015-07-27",360]
["2015-07-24",353]
["2015-07-23",344]
["2015-07-22",328]
["2015-07-21",320]
["2015-07-20",318]
["2015-07-17",311]
["2015-07-16",306]
["2015-07-15",306]
["2015-07-14",297]
["2015-07-13",296]
["2015-07-10",297]
["2015-07-09",307]
["2015-07-08",312]
["2015-07-07",309]
["2015-07-06",304]
["2015-07-03",295]
["2015-07-02",295]
["2015-07-01",299]
["2015-06-30",304]
["2015-06-29",310]
["2015-06-26",296]
["2015-06-25",298]
["2015-06-24",292]
["2015-06-23",288]
["2015-06-22",292]
["2015-06-19",292]
["2015-06-18",283]
["2015-06-17",298]
["2015-06-16",297]
["2015-06-15",292]
["2015-06-12",287]
["2015-06-11",288]
["2015-06-10",291]
["2015-06-09",290]
["2015-06-08",288]
["2015-06-05",287]
["2015-06-04",288]
["2015-06-03",283]
["2015-06-02",284]
["2015-06-01",292]
["2015-05-29",294]
["2015-05-28",287]
["2015-05-27",285]
["2015-05-26",281]
["2015-05-25",268]
["2015-05-22",268]
["2015-05-21",269]
["2015-05-20",270]
["2015-05-19",274]
["2015-05-18",275]
["2015-05-15",285]
["2015-05-14",282]
["2015-05-13",279]
["2015-05-12",283]
["2015-05-11",275]
["2015-05-08",274]
["2015-05-07",281]
["2015-05-06",277]
["2015-05-05",284]
["2015-05-04",292]
["2015-05-01",296]
["2015-04-30",295]
["2015-04-29",282]
["2015-04-28",281]
["2015-04-27",283]
["2015-04-24",280]
["2015-04-23",276]
["2015-04-22",278]
["2015-04-21",288]
["2015-04-20",296]
["2015-04-17",310]
["2015-04-16",300]
["2015-04-15",293]
["2015-04-14",289]
["2015-04-13",291]
["2015-04-10",287]
["2015-04-09",283]
["2015-04-08",287]
["2015-04-07",301]
["2015-04-06",302]
["2015-04-03",312]
["2015-04-02",309]
["2015-04-01",317]
["2015-03-31",322]
["2015-03-30",318]
["2015-03-27",324]
["2015-03-26",319]
["2015-03-25",324]
["2015-03-24",328]
["2015-03-23",333]
["2015-03-20",344]
["2015-03-19",351]
["2015-03-18",360]
["2015-03-17",361]
["2015-03-16",344]
["2015-03-13",344]
["2015-03-12",324]
["2015-03-11",333]
["2015-03-10",328]
["2015-03-09",327]
["2015-03-06",308]
["2015-03-05",307]
["2015-03-04",307]
["2015-03-03",303]
["2015-03-02",310]
["2015-02-27",322]
["2015-02-26",329]
["2015-02-25",322]
["2015-02-24",314]
["2015-02-23",314]
["2015-02-20",306]
["2015-02-19",297]
["2015-02-18",304]
["2015-02-17",301]
["2015-02-16",305]
["2015-02-13",305]
["2015-02-12",313]
["2015-02-11",312]
["2015-02-10",300]
["2015-02-09",296]
["2015-02-06",297]
["2015-02-05",300]
["2015-02-04",307]
["2015-02-03",311]
["2015-02-02",324]
["2015-01-30",324]
["2015-01-29",294]
["2015-01-28",297]
["2015-01-27",284]
["2015-01-26",286]
["2015-01-23",283]
["2015-01-22",286]
["2015-01-21",288]
["2015-01-20",290]
["2015-01-19",294]
["2015-01-16",294]
["2015-01-15",294]
["2015-01-14",289]
["2015-01-13",292]
["2015-01-12",293]
["2015-01-09",281]
["2015-01-08",278]
["2015-01-07",284]
["2015-01-06",287]
["2015-01-05",281]
["2015-01-02",264]
["2014-12-31",259]
["2014-12-30",261]
["2014-12-29",257]
["2014-12-26",256]
["2014-12-24",254]
["2014-12-23",250]
["2014-12-22",263]
["2014-12-19",266]
["2014-12-18",283]
["2014-12-17",284]
["2014-12-16",318]
["2014-12-15",312]
["2014-12-12",301]
["2014-12-11",273]
["2014-12-10",280]
["2014-12-09",266]
["2014-12-08",255]
["2014-12-05",243]
["2014-12-04",238]
["2014-12-03",233]
["2014-12-02",238]
["2014-12-01",244]
["2014-11-28",238]
["2014-11-27",238]
["2014-11-26",238]
["2014-11-25",245]
["2014-11-24",241]
["2014-11-21",237]
["2014-11-20",252]
["2014-11-19",255]
["2014-11-18",264]
["2014-11-17",264]
["2014-11-14",263]
["2014-11-13",250]
["2014-11-12",249]
["2014-11-11",249]
["2014-11-10",249]
["2014-11-07",252]
["2014-11-06",243]
["2014-11-05",242]
["2014-11-04",244]
["2014-11-03",237]
["2014-10-31",233]
["2014-10-30",233]
["2014-10-29",236]
["2014-10-28",239]
["2014-10-27",245]
["2014-10-24",243]
["2014-10-23",243]
["2014-10-22",243]
["2014-10-21",244]
["2014-10-20",241]
["2014-10-17",239]
["2014-10-16",245]
["2014-10-15",244]
["2014-10-14",245]
["2014-10-13",236]
["2014-10-10",236]
["2014-10-09",232]
["2014-10-08",239]
["2014-10-07",240]
["2014-10-06",237]
["2014-10-03",239]
["2014-10-02",240]
["2014-10-01",246]
["2014-09-30",239]
["2014-09-29",243]
["2014-09-26",230]
["2014-09-25",228]
["2014-09-24",218]
["2014-09-23",220]
["2014-09-22",219]
["2014-09-19",212]
["2014-09-18",210]
["2014-09-17",209]
["2014-09-16",218]
["2014-09-15",219]
["2014-09-12",214]
["2014-09-11",209]
["2014-09-10",208]
["2014-09-09",210]
["2014-09-08",200]
["2014-09-05",200]
["2014-09-04",203]
["2014-09-03",201]
["2014-09-02",203]
["2014-09-01",205]
["2014-08-29",205]
["2014-08-28",204]
["2014-08-27",205]
["2014-08-26",209]
["2014-08-25",212]
["2014-08-22",212]
["2014-08-21",211]
["2014-08-20",213]
["2014-08-19",215]
["2014-08-18",218]
["2014-08-15",222]
["2014-08-14",221]
["2014-08-13",227]
["2014-08-12",228]
["2014-08-11",231]
["2014-08-08",233]
["2014-08-07",234]
["2014-08-06",230]
["2014-08-05",231]
["2014-08-04",224]
["2014-08-01",225]
["2014-07-31",212]
["2014-07-30",206]
["2014-07-29",215]
["2014-07-28",210]
["2014-07-25",209]
["2014-07-24",203]
["2014-07-23",203]
["2014-07-22",207]
["2014-07-21",208]
["2014-07-18",209]
["2014-07-17",219]
["2014-07-16",214]
["2014-07-15",214]
["2014-07-14",213]
["2014-07-11",215]
["2014-07-10",214]
["2014-07-09",212]
["2014-07-08",208]
["2014-07-07",206]
["2014-07-04",206]
["2014-07-03",206]
["2014-07-02",207]
["2014-07-01",206]
["2014-06-30",208]
["2014-06-27",205]
["2014-06-26",203]
["2014-06-25",203]
["2014-06-24",207]
["2014-06-23",208]
["2014-06-20",209]
["2014-06-19",208]
["2014-06-18",206]
["2014-06-17",207]
["2014-06-16",208]
["2014-06-13",204]
["2014-06-12",211]
["2014-06-11",212]
["2014-06-10",201]
["2014-06-09",197]
["2014-06-06",198]
["2014-06-05",207]
["2014-06-04",210]
["2014-06-03",207]
["2014-06-02",208]
["2014-05-30",208]
["2014-05-29",206]
["2014-05-28",212]
["2014-05-27",216]
["2014-05-26",214]
["2014-05-23",214]
["2014-05-22",215]
["2014-05-21",212]
["2014-05-20",216]
["2014-05-19",210]
["2014-05-16",212]
["2014-05-15",214]
["2014-05-14",207]
["2014-05-13",205]
["2014-05-12",205]
["2014-05-09",205]
["2014-05-08",202]
["2014-05-07",204]
["2014-05-06",204]
["2014-05-05",207]
["2014-05-02",207]
["2014-05-01",209]
["2014-04-30",211]
["2014-04-29",214]
["2014-04-28",219]
["2014-04-25",222]
["2014-04-24",220]
["2014-04-23",219]
["2014-04-22",215]
["2014-04-21",213]
["2014-04-17",212]
["2014-04-16",221]
["2014-04-15",224]
["2014-04-14",223]
["2014-04-11",222]
["2014-04-10",220]
["2014-04-09",222]
["2014-04-08",221]
["2014-04-07",222]
["2014-04-04",221]
["2014-04-03",223]
["2014-04-02",223]
["2014-04-01",222]
["2014-03-31",228]
["2014-03-28",227]
["2014-03-27",224]
["2014-03-26",223]
["2014-03-25",230]
["2014-03-24",237]
["2014-03-21",234]
["2014-03-20",236]
["2014-03-19",232]
["2014-03-18",234]
["2014-03-17",240]
["2014-03-14",245]
["2014-03-13",245]
["2014-03-12",238]
["2014-03-11",237]
["2014-03-10",232]
["2014-03-07",230]
["2014-03-06",226]
["2014-03-05",229]
["2014-03-04",238]
["2014-03-03",251]
["2014-02-28",245]
["2014-02-27",247]
["2014-02-26",249]
["2014-02-25",244]
["2014-02-24",239]
["2014-02-21",246]
["2014-02-20",249]
["2014-02-19",251]
["2014-02-18",259]
["2014-02-17",256]
["2014-02-14",256]
["2014-02-13",257]
["2014-02-12",255]
["2014-02-11",255]
["2014-02-10",256]
["2014-02-07",252]
["2014-02-06",254]
["2014-02-05",260]
["2014-02-04",268]
["2014-02-03",278]
["2014-01-31",272]
["2014-01-30",273]
["2014-01-29",273]
["2014-01-28",264]
["2014-01-27",264]
["2014-01-24",264]
["2014-01-23",261]
["2014-01-22",252]
["2014-01-21",248]
["2014-01-20",248]
["2014-01-17",248]
["2014-01-16",246]
["2014-01-15",243]
["2014-01-14",248]
["2014-01-13",251]
["2014-01-10",249]
["2014-01-09",245]
["2014-01-08",248]
["2014-01-07",245]
["2014-01-06",236]
["2014-01-03",229]
["2014-01-02",230]
["2013-12-31",224]
["2013-12-30",228]
["2013-12-27",226]
["2013-12-26",222]
["2013-12-24",223]
["2013-12-23",229]
["2013-12-20",232]
["2013-12-19",230]
["2013-12-18",235]
["2013-12-17",238]
["2013-12-16",232]
["2013-12-13",234]
["2013-12-12",235]
["2013-12-11",243]
["2013-12-10",247]
["2013-12-09",246]
["2013-12-06",246]
["2013-12-05",255]
["2013-12-04",257]
["2013-12-03",259]
["2013-12-02",255]
["2013-11-29",247]
["2013-11-28",247]
["2013-11-27",247]
["2013-11-26",243]
["2013-11-25",242]
["2013-11-22",237]
["2013-11-21",236]
["2013-11-20",235]
["2013-11-19",236]
["2013-11-18",232]
["2013-11-15",233]
["2013-11-14",235]
["2013-11-13",241]
["2013-11-12",242]
["2013-11-11",237]
["2013-11-08",237]
["2013-11-07",233]
["2013-11-06",226]
["2013-11-05",224]
["2013-11-04",223]
["2013-11-01",224]
["2013-10-31",220]
["2013-10-30",216]
["2013-10-29",219]
["2013-10-28",219]
["2013-10-25",219]
["2013-10-24",215]
["2013-10-23",213]
["2013-10-22",213]
["2013-10-21",211]
["2013-10-18",206]
["2013-10-17",214]
["2013-10-16",211]
["2013-10-15",207]
["2013-10-14",213]
["2013-10-11",213]
["2013-10-10",219]
["2013-10-09",222]
["2013-10-08",225]
["2013-10-07",228]
["2013-10-04",230]
["2013-10-03",234]
["2013-10-02",234]
["2013-10-01",234]
["2013-09-30",236]
["2013-09-27",231]
["2013-09-26",228]
["2013-09-25",221]
["2013-09-24",221]
["2013-09-23",213]
["2013-09-20",213]
["2013-09-19",208]
["2013-09-18",211]
["2013-09-17",217]
["2013-09-16",222]
["2013-09-13",229]
["2013-09-12",231]
["2013-09-11",230]
["2013-09-10",235]
["2013-09-09",230]
["2013-09-06",237]
["2013-09-05",243]
["2013-09-04",250]
["2013-09-03",248]
["2013-09-02",251]
["2013-08-30",251]
["2013-08-29",251]
["2013-08-28",248]
["2013-08-27",249]
["2013-08-26",242]
["2013-08-23",242]
["2013-08-22",238]
["2013-08-21",246]
["2013-08-20",241]
["2013-08-19",240]
["2013-08-16",232]
["2013-08-15",228]
["2013-08-14",226]
["2013-08-13",222]
["2013-08-12",230]
["2013-08-09",236]
["2013-08-08",234]
["2013-08-07",237]
["2013-08-06",232]
["2013-08-05",233]
["2013-08-02",236]
["2013-08-01",233]
["2013-07-31",235]
["2013-07-30",236]
["2013-07-29",233]
["2013-07-26",230]
["2013-07-25",217]
["2013-07-24",211]
["2013-07-23",208]
["2013-07-22",207]
["2013-07-19",207]
["2013-07-18",203]
["2013-07-17",211]
["2013-07-16",221]
["2013-07-15",224]
["2013-07-12",234]
["2013-07-11",239]
["2013-07-10",238]
["2013-07-09",243]
["2013-07-08",241]
["2013-07-05",236]
["2013-07-04",239]
["2013-07-03",239]
["2013-07-02",236]
["2013-07-01",232]
["2013-06-28",237]
["2013-06-27",244]
["2013-06-26",248]
["2013-06-25",252]
["2013-06-24",263]
["2013-06-21",253]
["2013-06-20",249]
["2013-06-19",233]
["2013-06-18",224]
["2013-06-17",216]
["2013-06-14",216]
["2013-06-13",212]
["2013-06-12",226]
["2013-06-11",236]
["2013-06-10",222]
["2013-06-07",213]
["2013-06-06",218]
["2013-06-05",210]
["2013-06-04",206]
["2013-06-03",207]
["2013-05-31",206]
["2013-05-30",198]
["2013-05-29",203]
["2013-05-28",197]
["2013-05-27",191]
["2013-05-24",191]
["2013-05-23",189]
["2013-05-22",178]
["2013-05-21",181]
["2013-05-20",176]
["2013-05-17",175]
["2013-05-16",177]
["2013-05-15",168]
["2013-05-14",162]
["2013-05-13",165]
["2013-05-10",161]
["2013-05-09",161]
["2013-05-08",164]
["2013-05-07",161]
["2013-05-06",162]
["2013-05-03",165]
["2013-05-02",169]
["2013-05-01",170]
["2013-04-30",171]
["2013-04-29",173]
["2013-04-26",175]
["2013-04-25",174]
["2013-04-24",176]
["2013-04-23",174]
["2013-04-22",174]
["2013-04-19",176]
["2013-04-18",178]
["2013-04-17",173]
["2013-04-16",172]
["2013-04-15",174]
["2013-04-12",168]
["2013-04-11",165]
["2013-04-10",169]
["2013-04-09",174]
["2013-04-08",178]
["2013-04-05",181]
["2013-04-04",181]
["2013-04-03",185]
["2013-04-02",188]
["2013-04-01",191]
["2013-03-28",189]
["2013-03-27",191]
["2013-03-26",191]
["2013-03-25",191]
["2013-03-22",194]
["2013-03-21",189]
["2013-03-20",187]
["2013-03-19",188]
["2013-03-18",179]
["2013-03-15",179]
["2013-03-14",174]
["2013-03-13",177]
["2013-03-12",169]
["2013-03-11",170]
["2013-03-08",167]
["2013-03-07",166]
["2013-03-06",167]
["2013-03-05",171]
["2013-03-04",178]
["2013-03-01",182]
["2013-02-28",178]
["2013-02-27",173]
["2013-02-26",176]
["2013-02-25",173]
["2013-02-22",171]
["2013-02-21",171]
["2013-02-20",169]
["2013-02-19",158]
["2013-02-18",158]
["2013-02-15",158]
["2013-02-14",156]
["2013-02-13",154]
["2013-02-12",156]
["2013-02-11",156]
["2013-02-08",155]
["2013-02-07",156]
["2013-02-06",156]
["2013-02-05",153]
["2013-02-04",155]
["2013-02-01",151]
["2013-01-31",155]
["2013-01-30",153]
["2013-01-29",150]
["2013-01-28",148]
["2013-01-25",147]
["2013-01-24",151]
["2013-01-23",149]
["2013-01-22",148]
["2013-01-21",147]
["2013-01-18",147]
["2013-01-17",146]
["2013-01-16",148]
["2013-01-15",147]
["2013-01-14",143]
["2013-01-11",147]
["2013-01-10",146]
["2013-01-09",148]
["2013-01-08",146]
["2013-01-07",142]
["2013-01-04",137]
["2013-01-03",137]
["2013-01-02",136]
["2012-12-31",142]
["2012-12-28",148]
["2012-12-27",146]
["2012-12-26",142]
["2012-12-24",141]
["2012-12-21",143]
["2012-12-20",138]
["2012-12-19",137]
["2012-12-18",138]
["2012-12-17",140]
["2012-12-14",146]
["2012-12-13",147]
["2012-12-12",148]
["2012-12-11",153]
["2012-12-10",155]
["2012-12-07",154]
["2012-12-06",158]
["2012-12-05",156]
["2012-12-04",156]
["2012-12-03",155]
["2012-11-30",153]
["2012-11-29",152]
["2012-11-28",155]
["2012-11-27",154]
["2012-11-26",155]
["2012-11-23",154]
["2012-11-22",154]
["2012-11-21",154]
["2012-11-20",158]
["2012-11-19",162]
["2012-11-16",165]
["2012-11-15",166]
["2012-11-14",164]
["2012-11-13",160]
["2012-11-12",154]
["2012-11-09",154]
["2012-11-08",152]
["2012-11-07",147]
["2012-11-06",143]
["2012-11-05",147]
["2012-11-02",153]
["2012-11-01",152]
["2012-10-31",158]
["2012-10-30",157]
["2012-10-29",157]
["2012-10-26",154]
["2012-10-25",144]
["2012-10-24",145]
["2012-10-23",146]
["2012-10-22",145]
["2012-10-19",145]
["2012-10-18",137]
["2012-10-17",140]
["2012-10-16",146]
["2012-10-15",151]
["2012-10-12",152]
["2012-10-11",155]
["2012-10-10",153]
["2012-10-09",149]
["2012-10-08",146]
["2012-10-05",146]
["2012-10-04",153]
["2012-10-03",157]
["2012-10-02",159]
["2012-10-01",162]
["2012-09-28",166]
["2012-09-27",166]
["2012-09-26",168]
["2012-09-25",164]
["2012-09-24",157]
["2012-09-21",154]
["2012-09-20",156]
["2012-09-19",156]
["2012-09-18",155]
["2012-09-17",153]
["2012-09-14",149]
["2012-09-13",157]
["2012-09-12",157]
["2012-09-11",163]
["2012-09-10",165]
["2012-09-07",166]
["2012-09-06",165]
["2012-09-05",176]
["2012-09-04",176]
["2012-09-03",181]
["2012-08-31",181]
["2012-08-30",175]
["2012-08-29",173]
["2012-08-28",173]
["2012-08-27",177]
["2012-08-24",174]
["2012-08-23",172]
["2012-08-22",169]
["2012-08-21",167]
["2012-08-20",168]
["2012-08-17",167]
["2012-08-16",166]
["2012-08-15",163]
["2012-08-14",166]
["2012-08-13",169]
["2012-08-10",169]
["2012-08-09",165]
["2012-08-08",164]
["2012-08-07",169]
["2012-08-06",173]
["2012-08-03",174]
["2012-08-02",182]
["2012-08-01",175]
["2012-07-31",183]
["2012-07-30",182]
["2012-07-27",190]
["2012-07-26",207]
["2012-07-25",210]
["2012-07-24",211]
["2012-07-23",205]
["2012-07-20",198]
["2012-07-19",197]
["2012-07-18",199]
["2012-07-17",195]
["2012-07-16",200]
["2012-07-13",203]
["2012-07-12",206]
["2012-07-11",208]
["2012-07-10",211]
["2012-07-09",208]
["2012-07-06",208]
["2012-07-05",205]
["2012-07-04",205]
["2012-07-03",205]
["2012-07-02",213]
["2012-06-29",208]
["2012-06-28",219]
["2012-06-27",213]
["2012-06-26",213]
["2012-06-25",214]
["2012-06-22",208]
["2012-06-21",212]
["2012-06-20",211]
["2012-06-19",211]
["2012-06-18",211]
["2012-06-15",203]
["2012-06-14",213]
["2012-06-13",214]
["2012-06-12",216]
["2012-06-11",226]
["2012-06-08",222]
["2012-06-07",222]
["2012-06-06",221]
["2012-06-05",234]
["2012-06-04",244]
["2012-06-01",251]
["2012-05-31",244]
["2012-05-30",237]
["2012-05-29",229]
["2012-05-28",229]
["2012-05-25",229]
["2012-05-24",229]
["2012-05-23",234]
["2012-05-22",223]
["2012-05-21",226]
["2012-05-18",228]
["2012-05-17",227]
["2012-05-16",216]
["2012-05-15",212]
["2012-05-14",208]
["2012-05-11",201]
["2012-05-10",195]
["2012-05-09",196]
["2012-05-08",193]
["2012-05-07",188]
["2012-05-04",187]
["2012-05-03",182]
["2012-05-02",183]
["2012-05-01",184]
["2012-04-30",188]
["2012-04-27",188]
["2012-04-26",186]
["2012-04-25",185]
["2012-04-24",185]
["2012-04-23",188]
["2012-04-20",183]
["2012-04-19",181]
["2012-04-18",184]
["2012-04-17",183]
["2012-04-16",190]
["2012-04-13",188]
["2012-04-12",181]
["2012-04-11",188]
["2012-04-10",194]
["2012-04-09",196]
["2012-04-05",185]
["2012-04-04",178]
["2012-04-03",167]
["2012-04-02",178]
["2012-03-30",177]
["2012-03-29",183]
["2012-03-28",179]
["2012-03-27",177]
["2012-03-26",173]
["2012-03-23",174]
["2012-03-22",171]
["2012-03-21",167]
["2012-03-20",165]
["2012-03-19",166]
["2012-03-16",171]
["2012-03-15",169]
["2012-03-14",166]
["2012-03-13",172]
["2012-03-12",176]
["2012-03-09",182]
["2012-03-08",186]
["2012-03-07",195]
["2012-03-06",200]
["2012-03-05",191]
["2012-03-02",190]
["2012-03-01",193]
["2012-02-29",196]
["2012-02-28",202]
["2012-02-27",206]
["2012-02-24",201]
["2012-02-23",201]
["2012-02-22",197]
["2012-02-21",194]
["2012-02-20",198]
["2012-02-17",198]
["2012-02-16",202]
["2012-02-15",205]
["2012-02-14",203]
["2012-02-13",196]
["2012-02-10",201]
["2012-02-09",196]
["2012-02-08",203]
["2012-02-07",203]
["2012-02-06",210]
["2012-02-03",207]
["2012-02-02",218]
["2012-02-01",216]
["2012-01-31",224]
["2012-01-30",224]
["2012-01-27",218]
["2012-01-26",218]
["2012-01-25",210]
["2012-01-24",212]
["2012-01-23",209]
["2012-01-20",213]
["2012-01-19",218]
["2012-01-18",230]
["2012-01-17",234]
["2012-01-16",237]
["2012-01-13",237]
["2012-01-12",229]
["2012-01-11",233]
["2012-01-10",224]
["2012-01-09",220]
["2012-01-06",219]
["2012-01-05",214]
["2012-01-04",216]
["2012-01-03",217]
["2012-01-02",223]
["2011-12-30",223]
["2011-12-29",223]
["2011-12-28",220]
["2011-12-27",211]
["2011-12-26",210]
["2011-12-23",210]
["2011-12-22",219]
["2011-12-21",217]
["2011-12-20",223]
["2011-12-19",235]
["2011-12-16",231]
["2011-12-15",221]
["2011-12-14",222]
["2011-12-13",213]
["2011-12-12",211]
["2011-12-09",208]
["2011-12-08",221]
["2011-12-07",221]
["2011-12-06",214]
["2011-12-05",220]
["2011-12-02",224]
["2011-12-01",219]
["2011-11-30",228]
["2011-11-29",237]
["2011-11-28",241]
["2011-11-25",241]
["2011-11-24",248]
["2011-11-23",248]
["2011-11-22",239]
["2011-11-21",241]
["2011-11-18",232]
["2011-11-17",236]
["2011-11-16",225]
["2011-11-15",219]
["2011-11-14",220]
["2011-11-11",220]
["2011-11-10",220]
["2011-11-09",230]
["2011-11-08",213]
["2011-11-07",223]
["2011-11-04",219]
["2011-11-03",215]
["2011-11-02",225]
["2011-11-01",229]
["2011-10-31",222]
["2011-10-28",212]
["2011-10-27",197]
["2011-10-26",224]
["2011-10-25",233]
["2011-10-24",226]
["2011-10-21",231]
["2011-10-20",237]
["2011-10-19",235]
["2011-10-18",232]
["2011-10-17",232]
["2011-10-14",225]
["2011-10-13",233]
["2011-10-12",223]
["2011-10-11",239]
["2011-10-10",257]
["2011-10-07",257]
["2011-10-06",262]
["2011-10-05",279]
["2011-10-04",289]
["2011-10-03",288]
["2011-09-30",275]
["2011-09-29",270]
["2011-09-28",265]
["2011-09-27",264]
["2011-09-26",282]
["2011-09-23",278]
["2011-09-22",282]
["2011-09-21",254]
["2011-09-20",244]
["2011-09-19",251]
["2011-09-16",231]
["2011-09-15",228]
["2011-09-14",233]
["2011-09-13",228]
["2011-09-12",232]
["2011-09-09",228]
["2011-09-08",217]
["2011-09-07",211]
["2011-09-06",217]
["2011-09-05",214]
["2011-09-02",214]
["2011-09-01",203]
["2011-08-31",194]
["2011-08-30",207]
["2011-08-29",200]
["2011-08-26",210]
["2011-08-25",204]
["2011-08-24",201]
["2011-08-23",213]
["2011-08-22",214]
["2011-08-19",215]
["2011-08-18",213]
["2011-08-17",206]
["2011-08-16",206]
["2011-08-15",199]
["2011-08-12",214]
["2011-08-11",215]
["2011-08-10",221]
["2011-08-09",217]
["2011-08-08",212]
["2011-08-05",179]
["2011-08-04",186]
["2011-08-03",166]
["2011-08-02",162]
["2011-08-01",157]
["2011-07-29",157]
["2011-07-28",153]
["2011-07-27",156]
["2011-07-26",159]
["2011-07-25",159]
["2011-07-22",163]
["2011-07-21",161]
["2011-07-20",166]
["2011-07-19",171]
["2011-07-18",170]
["2011-07-15",173]
["2011-07-14",172]
["2011-07-13",176]
["2011-07-12",173]
["2011-07-11",173]
["2011-07-08",163]
["2011-07-07",153]
["2011-07-06",159]
["2011-07-05",154]
["2011-07-04",147]
["2011-07-01",147]
["2011-06-30",148]
["2011-06-29",154]
["2011-06-28",160]
["2011-06-27",168]
["2011-06-24",175]
["2011-06-23",172]
["2011-06-22",166]
["2011-06-21",167]
["2011-06-20",172]
["2011-06-17",179]
["2011-06-16",179]
["2011-06-15",174]
["2011-06-14",161]
["2011-06-13",176]
["2011-06-10",177]
["2011-06-09",176]
["2011-06-08",179]
["2011-06-07",175]
["2011-06-06",177]
["2011-06-03",175]
["2011-06-02",174]
["2011-06-01",183]
["2011-05-31",175]
["2011-05-30",175]
["2011-05-27",175]
["2011-05-26",174]
["2011-05-25",166]
["2011-05-24",165]
["2011-05-23",165]
["2011-05-20",162]
["2011-05-19",163]
["2011-05-18",166]
["2011-05-17",169]
["2011-05-16",169]
["2011-05-13",168]
["2011-05-12",167]
["2011-05-11",171]
["2011-05-10",166]
["2011-05-09",168]
["2011-05-06",171]
["2011-05-05",171]
["2011-05-04",173]
["2011-05-03",169]
["2011-05-02",165]
["2011-04-29",169]
["2011-04-28",176]
["2011-04-27",176]
["2011-04-26",179]
["2011-04-25",179]
["2011-04-21",176]
["2011-04-20",176]
["2011-04-19",181]
["2011-04-18",178]
["2011-04-15",175]
["2011-04-14",171]
["2011-04-13",171]
["2011-04-12",170]
["2011-04-11",164]
["2011-04-08",164]
["2011-04-07",164]
["2011-04-06",163]
["2011-04-05",168]
["2011-04-04",169]
["2011-04-01",171]
["2011-03-31",173]
["2011-03-30",170]
["2011-03-29",173]
["2011-03-28",170]
["2011-03-25",171]
["2011-03-24",173]
["2011-03-23",176]
["2011-03-22",178]
["2011-03-21",177]
["2011-03-18",184]
["2011-03-17",187]
["2011-03-16",191]
["2011-03-15",180]
["2011-03-14",174]
["2011-03-11",171]
["2011-03-10",173]
["2011-03-09",161]
["2011-03-08",156]
["2011-03-07",165]
["2011-03-04",166]
["2011-03-03",162]
["2011-03-02",168]
["2011-03-01",174]
["2011-02-28",177]
["2011-02-25",186]
["2011-02-24",188]
["2011-02-23",184]
["2011-02-22",183]
["2011-02-21",176]
["2011-02-18",176]
["2011-02-17",175]
["2011-02-16",175]
["2011-02-15",180]
["2011-02-14",181]
["2011-02-11",176]
["2011-02-10",171]
["2011-02-09",173]
["2011-02-08",162]
["2011-02-07",163]
["2011-02-04",160]
["2011-02-03",165]
["2011-02-02",165]
["2011-02-01",169]
["2011-01-31",179]
["2011-01-28",186]
["2011-01-27",174]
["2011-01-26",166]
["2011-01-25",173]
["2011-01-24",165]
["2011-01-21",169]
["2011-01-20",168]
["2011-01-19",175]
["2011-01-18",167]
["2011-01-17",169]
["2011-01-14",169]
["2011-01-13",168]
["2011-01-12",166]
["2011-01-11",168]
["2011-01-10",173]
["2011-01-07",169]
["2011-01-06",165]
["2011-01-05",164]
["2011-01-04",167]
["2011-01-03",181]
["2010-12-31",189]
["2010-12-30",180]
["2010-12-29",184]
["2010-12-28",178]
["2010-12-27",178]
["2010-12-24",179]
["2010-12-23",179]
["2010-12-22",181]
["2010-12-21",186]
["2010-12-20",183]
["2010-12-17",199]
["2010-12-16",184]
["2010-12-15",175]
["2010-12-14",166]
["2010-12-13",172]
["2010-12-10",167]
["2010-12-09",168]
["2010-12-08",168]
["2010-12-07",162]
["2010-12-06",176]
["2010-12-03",171]
["2010-12-02",178]
["2010-12-01",183]
["2010-11-30",198]
["2010-11-29",192]
["2010-11-26",177]
["2010-11-25",177]
["2010-11-24",177]
["2010-11-23",189]
["2010-11-22",183]
["2010-11-19",177]
["2010-11-18",175]
["2010-11-17",175]
["2010-11-16",187]
["2010-11-15",171]
["2010-11-12",176]
["2010-11-11",175]
["2010-11-10",175]
["2010-11-09",174]
["2010-11-08",180]
["2010-11-05",174]
["2010-11-04",176]
["2010-11-03",172]
["2010-11-02",175]
["2010-11-01",171]
["2010-10-29",175]
["2010-10-28",173]
["2010-10-27",171]
["2010-10-26",174]
["2010-10-25",178]
["2010-10-22",183]
["2010-10-21",186]
["2010-10-20",187]
["2010-10-19",191]
["2010-10-18",181]
["2010-10-15",172]
["2010-10-14",176]
["2010-10-13",180]
["2010-10-12",185]
["2010-10-11",197]
["2010-10-08",197]
["2010-10-07",201]
["2010-10-06",202]
["2010-10-05",204]
["2010-10-04",206]
["2010-10-01",203]
["2010-09-30",206]
["2010-09-29",207]
["2010-09-28",215]
["2010-09-27",209]
["2010-09-24",205]
["2010-09-23",214]
["2010-09-22",213]
["2010-09-21",213]
["2010-09-20",201]
["2010-09-17",199]
["2010-09-16",195]
["2010-09-15",206]
["2010-09-14",215]
["2010-09-13",213]
["2010-09-10",212]
["2010-09-09",216]
["2010-09-08",224]
["2010-09-07",226]
["2010-09-06",213]
["2010-09-03",213]
["2010-09-02",220]
["2010-09-01",222]
["2010-08-31",233]
["2010-08-30",229]
["2010-08-27",216]
["2010-08-26",222]
["2010-08-25",212]
["2010-08-24",215]
["2010-08-23",202]
["2010-08-20",204]
["2010-08-19",202]
["2010-08-18",197]
["2010-08-17",199]
["2010-08-16",208]
["2010-08-13",200]
["2010-08-12",195]
["2010-08-11",195]
["2010-08-10",195]
["2010-08-09",194]
["2010-08-06",208]
["2010-08-05",205]
["2010-08-04",200]
["2010-08-03",205]
["2010-08-02",204]
["2010-07-30",214]
["2010-07-29",204]
["2010-07-28",207]
["2010-07-27",202]
["2010-07-26",204]
["2010-07-23",210]
["2010-07-22",218]
["2010-07-21",226]
["2010-07-20",220]
["2010-07-19",221]
["2010-07-16",228]
["2010-07-15",227]
["2010-07-14",221]
["2010-07-13",212]
["2010-07-12",223]
["2010-07-09",229]
["2010-07-08",233]
["2010-07-07",236]
["2010-07-06",244]
["2010-07-05",247]
["2010-07-02",247]
["2010-07-01",250]
["2010-06-30",248]
["2010-06-29",248]
["2010-06-28",238]
["2010-06-25",237]
["2010-06-24",236]
["2010-06-23",238]
["2010-06-22",233]
["2010-06-21",222]
["2010-06-18",223]
["2010-06-17",229]
["2010-06-16",224]
["2010-06-15",223]
["2010-06-14",234]
["2010-06-11",242]
["2010-06-10",234]
["2010-06-09",247]
["2010-06-08",251]
["2010-06-07",244]
["2010-06-04",245]
["2010-06-03",223]
["2010-06-02",230]
["2010-06-01",235]
["2010-05-31",235]
["2010-05-28",235]
["2010-05-27",227]
["2010-05-26",239]
["2010-05-25",249]
["2010-05-24",241]
["2010-05-21",246]
["2010-05-20",243]
["2010-05-19",230]
["2010-05-18",225]
["2010-05-17",210]
["2010-05-14",212]
["2010-05-13",197]
["2010-05-12",196]
["2010-05-11",210]
["2010-05-10",214]
["2010-05-07",240]
["2010-05-06",248]
["2010-05-05",218]
["2010-05-04",205]
["2010-05-03",190]
["2010-04-30",196]
["2010-04-29",190]
["2010-04-28",186]
["2010-04-27",194]
["2010-04-26",176]
["2010-04-23",178]
["2010-04-22",180]
["2010-04-21",179]
["2010-04-20",175]
["2010-04-19",175]
["2010-04-16",177]
["2010-04-15",167]
["2010-04-14",170]
["2010-04-13",179]
["2010-04-12",180]
["2010-04-09",176]
["2010-04-08",175]
["2010-04-07",182]
["2010-04-06",173]
["2010-04-05",172]
["2010-04-01",184]
["2010-03-31",185]
["2010-03-30",182]
["2010-03-29",182]
["2010-03-26",184]
["2010-03-25",181]
["2010-03-24",182]
["2010-03-23",192]
["2010-03-22",197]
["2010-03-19",194]
["2010-03-18",193]
["2010-03-17",192]
["2010-03-16",191]
["2010-03-15",189]
["2010-03-12",189]
["2010-03-11",186]
["2010-03-10",185]
["2010-03-09",183]
["2010-03-08",183]
["2010-03-05",189]
["2010-03-04",198]
["2010-03-03",203]
["2010-03-02",200]
["2010-03-01",201]
["2010-02-26",215]
["2010-02-25",215]
["2010-02-24",218]
["2010-02-23",221]
["2010-02-22",208]
["2010-02-19",209]
["2010-02-18",206]
["2010-02-17",211]
["2010-02-16",219]
["2010-02-15",222]
["2010-02-12",222]
["2010-02-11",216]
["2010-02-10",224]
["2010-02-09",234]
["2010-02-08",243]
["2010-02-05",249]
["2010-02-04",240]
["2010-02-03",225]
["2010-02-02",230]
["2010-02-01",230]
["2010-01-29",234]
["2010-01-28",228]
["2010-01-27",224]
["2010-01-26",219]
["2010-01-25",217]
["2010-01-22",223]
["2010-01-21",223]
["2010-01-20",214]
["2010-01-19",207]
["2010-01-15",210]
["2010-01-14",204]
["2010-01-13",195]
["2010-01-12",201]
["2010-01-11",190]
["2010-01-08",195]
["2010-01-07",193]
["2010-01-06",191]
["2010-01-05",197]
["2010-01-04",191]
["2009-12-31",192]
["2009-12-30",197]
["2009-12-29",197]
["2009-12-28",194]
["2009-12-24",201]
["2009-12-23",207]
["2009-12-22",206]
["2009-12-21",204]
["2009-12-18",213]
["2009-12-17",217]
["2009-12-16",201]
["2009-12-15",196]
["2009-12-14",199]
["2009-12-11",201]
["2009-12-10",204]
["2009-12-09",209]
["2009-12-08",213]
["2009-12-07",207]
["2009-12-04",206]
["2009-12-03",212]
["2009-12-02",218]
["2009-12-01",219]
["2009-11-30",231]
["2009-11-27",227]
["2009-11-26",216]
["2009-11-25",216]
["2009-11-24",216]
["2009-11-23",213]
["2009-11-20",217]
["2009-11-19",219]
["2009-11-18",216]
["2009-11-17",220]
["2009-11-16",220]
["2009-11-13",219]
["2009-11-12",216]
["2009-11-11",209]
["2009-11-10",212]
["2009-11-09",217]
["2009-11-06",228]
["2009-11-05",228]
["2009-11-04",225]
["2009-11-03",236]
["2009-11-02",238]
["2009-10-30",240]
["2009-10-29",231]
["2009-10-28",247]
["2009-10-27",239]
["2009-10-26",221]
["2009-10-23",224]
["2009-10-22",222]
["2009-10-21",221]
["2009-10-20",224]
["2009-10-19",218]
["2009-10-16",216]
["2009-10-15",207]
["2009-10-14",206]
["2009-10-13",218]
["2009-10-12",212]
["2009-10-09",213]
["2009-10-08",220]
["2009-10-07",238]
["2009-10-06",233]
["2009-10-05",238]
["2009-10-02",249]
["2009-10-01",251]
["2009-09-30",234]
["2009-09-29",240]
["2009-09-28",240]
["2009-09-25",240]
["2009-09-24",234]
["2009-09-23",228]
["2009-09-22",224]
["2009-09-21",224]
["2009-09-18",222]
["2009-09-17",228]
["2009-09-16",216]
["2009-09-15",226]
["2009-09-14",234]
["2009-09-11",243]
["2009-09-10",249]
["2009-09-09",239]
["2009-09-08",241]
["2009-09-07",260]
["2009-09-04",260]
["2009-09-03",265]
["2009-09-02",276]
["2009-09-01",272]
["2009-08-31",271]
["2009-08-28",267]
["2009-08-27",263]
["2009-08-26",266]
["2009-08-25",262]
["2009-08-24",254]
["2009-08-21",253]
["2009-08-20",266]
["2009-08-19",264]
["2009-08-18",255]
["2009-08-17",261]
["2009-08-14",256]
["2009-08-13",254]
["2009-08-12",246]
["2009-08-11",248]
["2009-08-10",238]
["2009-08-07",228]
["2009-08-06",238]
["2009-08-05",230]
["2009-08-04",238]
["2009-08-03",243]
["2009-07-31",265]
["2009-07-30",254]
["2009-07-29",253]
["2009-07-28",248]
["2009-07-27",244]
["2009-07-24",249]
["2009-07-23",244]
["2009-07-22",263]
["2009-07-21",269]
["2009-07-20",257]
["2009-07-17",250]
["2009-07-16",263]
["2009-07-15",261]
["2009-07-14",278]
["2009-07-13",293]
["2009-07-10",303]
["2009-07-09",290]
["2009-07-08",306]
["2009-07-07",286]
["2009-07-06",286]
["2009-07-03",288]
["2009-07-02",288]
["2009-07-01",277]
["2009-06-30",284]
["2009-06-29",279]
["2009-06-26",290]
["2009-06-25",295]
["2009-06-24",294]
["2009-06-23",309]
["2009-06-22",309]
["2009-06-19",291]
["2009-06-18",285]
["2009-06-17",294]
["2009-06-16",281]
["2009-06-15",274]
["2009-06-12",265]
["2009-06-11",260]
["2009-06-10",260]
["2009-06-09",264]
["2009-06-08",266]
["2009-06-05",269]
["2009-06-04",278]
["2009-06-03",291]
["2009-06-02",280]
["2009-06-01",266]
["2009-05-29",294]
["2009-05-28",282]
["2009-05-27",278]
["2009-05-26",291]
["2009-05-25",300]
["2009-05-22",300]
["2009-05-21",306]
["2009-05-20",310]
["2009-05-19",309]
["2009-05-18",316]
["2009-05-15",330]
["2009-05-14",333]
["2009-05-13",337]
["2009-05-12",326]
["2009-05-11",324]
["2009-05-08",310]
["2009-05-07",305]
["2009-05-06",314]
["2009-05-05",330]
["2009-05-04",331]
["2009-05-01",351]
["2009-04-30",355]
["2009-04-29",359]
["2009-04-28",370]
["2009-04-27",384]
["2009-04-24",376]
["2009-04-23",389]
["2009-04-22",386]
["2009-04-21",391]
["2009-04-20",399]
["2009-04-17",381]
["2009-04-16",388]
["2009-04-15",388]
["2009-04-14",380]
["2009-04-13",368]
["2009-04-09",368]
["2009-04-08",376]
["2009-04-07",383]
["2009-04-06",378]
["2009-04-03",384]
["2009-04-02",412]
["2009-04-01",427]
["2009-03-31",425]
["2009-03-30",427]
["2009-03-27",414]
["2009-03-26",411]
["2009-03-25",417]
["2009-03-24",421]
["2009-03-23",419]
["2009-03-20",426]
["2009-03-19",423]
["2009-03-18",438]
["2009-03-17",428]
["2009-03-16",431]
["2009-03-13",442]
["2009-03-12",446]
["2009-03-11",446]
["2009-03-10",442]
["2009-03-09",453]
["2009-03-06",457]
["2009-03-05",458]
["2009-03-04",434]
["2009-03-03",441]
["2009-03-02",442]
["2009-02-27",421]
["2009-02-26",419]
["2009-02-25",420]
["2009-02-24",431]
["2009-02-23",439]
["2009-02-20",426]
["2009-02-19",417]
["2009-02-18",487]
["2009-02-17",451]
["2009-02-16",424]
["2009-02-13",426]
["2009-02-12",451]
["2009-02-11",439]
["2009-02-10",426]
["2009-02-09",408]
["2009-02-06",413]
["2009-02-05",429]
["2009-02-04",418]
["2009-02-03",413]
["2009-02-02",426]
["2009-01-30",409]
["2009-01-29",412]
["2009-01-28",413]
["2009-01-27",429]
["2009-01-26",423]
["2009-01-23",432]
["2009-01-22",438]
["2009-01-21",448]
["2009-01-20",460]
["2009-01-19",450]
["2009-01-16",450]
["2009-01-15",465]
["2009-01-14",459]
["2009-01-13",446]
["2009-01-12",445]
["2009-01-09",423]
["2009-01-08",426]
["2009-01-07",402]
["2009-01-06",388]
["2009-01-05",393]
["2009-01-02",405]

{"sheet":"Inflação americana","index":20,"n_rows":124,"n_cols":17,"rows_kept":124,"cut":false,"hidden":false,"merged":[[6,1,6,5],[7,1,7,5],[8,1,8,5],[9,1,9,5],[0,0,0,5],[1,0,1,5],[2,0,2,5],[3,1,3,5],[4,0,4,5],[5,1,5,5]]}
["Consumer Price Index for All Urban Consumers (CPI-U)"]
["Original Data Value"]
[]
["Series Id:","CUUR0000SA0"]
["Not Seasonally Adjusted"]
["Series Title:","All items in U.S. city average, all urban consumers, not seasonally adjusted",null,null,null,null,"Inflação média anual",{"$f":"SUM(Q109:Q123)/15","v":2.5661446841232304E-2}]
["Area:","U.S. city average",null,null,null,null,"media arit",{"$f":"IF(AND(ISNUMBER(#REF!),ISNUMBER(F8)), (100*#REF!/ABS(F8)), \"\")","v":""}]
["Item:","All items",null,null,null,null,{"$f":"IF(AND(ISNUMBER(F8),ISNUMBER(F9)), (F8 - F9), \"\")","v":""},{"$f":"IF(AND(ISNUMBER(G8),ISNUMBER(F9)), (100*G8/ABS(F9)), \"\")","v":""}]
["Base Period:","1982-84=100",null,null,null,null,"",""]
["Years:","1913 to 2024",null,null,null,null,"",""]
[null,null,null,null,null,null,"",""]
["Year","Jan","Feb","Mar","Apr","May","Jun","Jul","Aug","Sep","Oct","Nov","Dec","HALF1","HALF2",null,"inflação do ano"]
[1913,9.8000000000000007,9.8000000000000007,9.8000000000000007,9.8000000000000007,9.6999999999999993,9.8000000000000007,9.9,9.9,10,10,10.1,10]
[1914,10,9.9,9.9,9.8000000000000007,9.9,9.9,10,10.199999999999999,10.199999999999999,10.1,10.199999999999999,10.1]
[1915,10.1,10,9.9,10,10.1,10.1,10.1,10.1,10.1,10.199999999999999,10.3,10.3]
[1916,10.4,10.4,10.5,10.6,10.7,10.8,10.8,10.9,11.1,11.3,11.5,11.6]
[1917,11.7,12,12,12.6,12.8,13,12.8,13,13.3,13.5,13.5,13.7]
[1918,14,14.1,14,14.2,14.5,14.7,15.1,15.4,15.7,16,16.3,16.5]
[1919,16.5,16.2,16.399999999999999,16.7,16.899999999999999,16.899999999999999,17.399999999999999,17.7,17.8,18.100000000000001,18.5,18.899999999999999]
[1920,19.3,19.5,19.7,20.3,20.6,20.9,20.8,20.3,20,19.899999999999999,19.8,19.399999999999999]
[1921,19,18.399999999999999,18.3,18.100000000000001,17.7,17.600000000000001,17.7,17.7,17.5,17.5,17.399999999999999,17.3]
[1922,16.899999999999999,16.899999999999999,16.7,16.7,16.7,16.7,16.8,16.600000000000001,16.600000000000001,16.7,16.8,16.899999999999999]
[1923,16.8,16.8,16.8,16.899999999999999,16.899999999999999,17,17.2,17.100000000000001,17.2,17.3,17.3,17.3]
[1924,17.3,17.2,17.100000000000001,17,17,17,17.100000000000001,17,17.100000000000001,17.2,17.2,17.3]
[1925,17.3,17.2,17.3,17.2,17.3,17.5,17.7,17.7,17.7,17.7,18,17.899999999999999]
[1926,17.899999999999999,17.899999999999999,17.8,17.899999999999999,17.8,17.7,17.5,17.399999999999999,17.5,17.600000000000001,17.7,17.7]
[1927,17.5,17.399999999999999,17.3,17.3,17.399999999999999,17.600000000000001,17.3,17.2,17.3,17.399999999999999,17.3,17.3]
[1928,17.3,17.100000000000001,17.100000000000001,17.100000000000001,17.2,17.100000000000001,17.100000000000001,17.100000000000001,17.3,17.2,17.2,17.100000000000001]
[1929,17.100000000000001,17.100000000000001,17,16.899999999999999,17,17.100000000000001,17.3,17.3,17.3,17.3,17.3,17.2]
[1930,17.100000000000001,17,16.899999999999999,17,16.899999999999999,16.8,16.600000000000001,16.5,16.600000000000001,16.5,16.399999999999999,16.100000000000001]
[1931,15.9,15.7,15.6,15.5,15.3,15.1,15.1,15.1,15,14.9,14.7,14.6]
[1932,14.3,14.1,14,13.9,13.7,13.6,13.6,13.5,13.4,13.3,13.2,13.1]
[1933,12.9,12.7,12.6,12.6,12.6,12.7,13.1,13.2,13.2,13.2,13.2,13.2]
[1934,13.2,13.3,13.3,13.3,13.3,13.4,13.4,13.4,13.6,13.5,13.5,13.4]
[1935,13.6,13.7,13.7,13.8,13.8,13.7,13.7,13.7,13.7,13.7,13.8,13.8]
[1936,13.8,13.8,13.7,13.7,13.7,13.8,13.9,14,14,14,14,14]
[1937,14.1,14.1,14.2,14.3,14.4,14.4,14.5,14.5,14.6,14.6,14.5,14.4]
[1938,14.2,14.1,14.1,14.2,14.1,14.1,14.1,14.1,14.1,14,14,14]
[1939,14,13.9,13.9,13.8,13.8,13.8,13.8,13.8,14.1,14,14,14]
[1940,13.9,14,14,14,14,14.1,14,14,14,14,14,14.1]
[1941,14.1,14.1,14.2,14.3,14.4,14.7,14.7,14.9,15.1,15.3,15.4,15.5]
[1942,15.7,15.8,16,16.100000000000001,16.3,16.3,16.399999999999999,16.5,16.5,16.7,16.8,16.899999999999999]
[1943,16.899999999999999,16.899999999999999,17.2,17.399999999999999,17.5,17.5,17.399999999999999,17.3,17.399999999999999,17.399999999999999,17.399999999999999,17.399999999999999]
[1944,17.399999999999999,17.399999999999999,17.399999999999999,17.5,17.5,17.600000000000001,17.7,17.7,17.7,17.7,17.7,17.8]
[1945,17.8,17.8,17.8,17.8,17.899999999999999,18.100000000000001,18.100000000000001,18.100000000000001,18.100000000000001,18.100000000000001,18.100000000000001,18.2]
[1946,18.2,18.100000000000001,18.3,18.399999999999999,18.5,18.7,19.8,20.2,20.399999999999999,20.8,21.3,21.5]
[1947,21.5,21.5,21.9,21.9,21.9,22,22.2,22.5,23,23,23.1,23.4]
[1948,23.7,23.5,23.4,23.8,23.9,24.1,24.4,24.5,24.5,24.4,24.2,24.1]
[1949,24,23.8,23.8,23.9,23.8,23.9,23.7,23.8,23.9,23.7,23.8,23.6]
[1950,23.5,23.5,23.6,23.6,23.7,23.8,24.1,24.3,24.4,24.6,24.7,25]
[1951,25.4,25.7,25.8,25.8,25.9,25.9,25.9,25.9,26.1,26.2,26.4,26.5]
[1952,26.5,26.3,26.3,26.4,26.4,26.5,26.7,26.7,26.7,26.7,26.7,26.7]
[1953,26.6,26.5,26.6,26.6,26.7,26.8,26.8,26.9,26.9,27,26.9,26.9]
[1954,26.9,26.9,26.9,26.8,26.9,26.9,26.9,26.9,26.8,26.8,26.8,26.7]
[1955,26.7,26.7,26.7,26.7,26.7,26.7,26.8,26.8,26.9,26.9,26.9,26.8]
[1956,26.8,26.8,26.8,26.9,27,27.2,27.4,27.3,27.4,27.5,27.5,27.6]
[1957,27.6,27.7,27.8,27.9,28,28.1,28.3,28.3,28.3,28.3,28.4,28.4]
[1958,28.6,28.6,28.8,28.9,28.9,28.9,29,28.9,28.9,28.9,29,28.9]
[1959,29,28.9,28.9,29,29,29.1,29.2,29.2,29.3,29.4,29.4,29.4]
[1960,29.3,29.4,29.4,29.5,29.5,29.6,29.6,29.6,29.6,29.8,29.8,29.8]
[1961,29.8,29.8,29.8,29.8,29.8,29.8,30,29.9,30,30,30,30]
[1962,30,30.1,30.1,30.2,30.2,30.2,30.3,30.3,30.4,30.4,30.4,30.4]
[1963,30.4,30.4,30.5,30.5,30.5,30.6,30.7,30.7,30.7,30.8,30.8,30.9]
[1964,30.9,30.9,30.9,30.9,30.9,31,31.1,31,31.1,31.1,31.2,31.2]
[1965,31.2,31.2,31.3,31.4,31.4,31.6,31.6,31.6,31.6,31.7,31.7,31.8]
[1966,31.8,32,32.1,32.299999999999997,32.299999999999997,32.4,32.5,32.700000000000003,32.700000000000003,32.9,32.9,32.9]
[1967,32.9,32.9,33,33.1,33.200000000000003,33.299999999999997,33.4,33.5,33.6,33.700000000000003,33.799999999999997,33.9]
[1968,34.1,34.200000000000003,34.299999999999997,34.4,34.5,34.700000000000003,34.9,35,35.1,35.299999999999997,35.4,35.5]
[1969,35.6,35.799999999999997,36.1,36.299999999999997,36.4,36.6,36.799999999999997,37,37.1,37.299999999999997,37.5,37.700000000000003]
[1970,37.799999999999997,38,38.200000000000003,38.5,38.6,38.799999999999997,39,39,39.200000000000003,39.4,39.6,39.799999999999997]
[1971,39.799999999999997,39.9,40,40.1,40.299999999999997,40.6,40.700000000000003,40.799999999999997,40.799999999999997,40.9,40.9,41.1]
[1972,41.1,41.3,41.4,41.5,41.6,41.7,41.9,42,42.1,42.3,42.4,42.5]
[1973,42.6,42.9,43.3,43.6,43.9,44.2,44.3,45.1,45.2,45.6,45.9,46.2]
[1974,46.6,47.2,47.8,48,48.6,49,49.4,50,50.6,51.1,51.5,51.9]
[1975,52.1,52.5,52.7,52.9,53.2,53.6,54.2,54.3,54.6,54.9,55.3,55.5]
[1976,55.6,55.8,55.9,56.1,56.5,56.8,57.1,57.4,57.6,57.9,58,58.2]
[1977,58.5,59.1,59.5,60,60.3,60.7,61,61.2,61.4,61.6,61.9,62.1]
[1978,62.5,62.9,63.4,63.9,64.5,65.2,65.7,66,66.5,67.099999999999994,67.400000000000006,67.7]
[1979,68.3,69.099999999999994,69.8,70.599999999999994,71.5,72.3,73.099999999999994,73.8,74.599999999999994,75.2,75.900000000000006,76.7]
[1980,77.8,78.900000000000006,80.099999999999994,81,81.8,82.7,82.7,83.3,84,84.8,85.5,86.3]
[1981,87,87.9,88.5,89.1,89.8,90.6,91.6,92.3,93.2,93.4,93.7,94]
[1982,94.3,94.6,94.5,94.9,95.8,97,97.5,97.7,97.9,98.2,98,97.6]
[1983,97.8,97.9,97.9,98.6,99.2,99.5,99.9,100.2,100.7,101,101.2,101.3]
[1984,101.9,102.4,102.6,103.1,103.4,103.7,104.1,104.5,105,105.3,105.3,105.3,102.9,104.9]
[1985,105.5,106,106.4,106.9,107.3,107.6,107.8,108,108.3,108.7,109,109.3,106.6,108.5]
[1986,109.6,109.3,108.8,108.6,108.9,109.5,109.5,109.7,110.2,110.3,110.4,110.5,109.1,110.1]
[1987,111.2,111.6,112.1,112.7,113.1,113.5,113.8,114.4,115,115.3,115.4,115.4,112.4,114.9]
[1988,115.7,116,116.5,117.1,117.5,118,118.5,119,119.8,120.2,120.3,120.5,116.8,119.7]
[1989,121.1,121.6,122.3,123.1,123.8,124.1,124.4,124.6,125,125.6,125.9,126.1,122.7,125.3]
[1990,127.4,128,128.69999999999999,128.9,129.19999999999999,129.9,130.4,131.6,132.69999999999999,133.5,133.80000000000001,133.80000000000001,128.69999999999999,132.6]
[1991,134.6,134.80000000000001,135,135.19999999999999,135.6,136,136.19999999999999,136.6,137.19999999999999,137.4,137.80000000000001,137.9,135.19999999999999,137.19999999999999]
[1992,138.1,138.6,139.30000000000001,139.5,139.69999999999999,140.19999999999999,140.5,140.9,141.30000000000001,141.80000000000001,142,141.9,139.19999999999999,141.4]
[1993,142.6,143.1,143.6,144,144.19999999999999,144.4,144.4,144.80000000000001,145.1,145.69999999999999,145.80000000000001,145.80000000000001,143.69999999999999,145.30000000000001]
[1994,146.19999999999999,146.69999999999999,147.19999999999999,147.4,147.5,148,148.4,149,149.4,149.5,149.69999999999999,149.69999999999999,147.19999999999999,149.30000000000001]
[1995,150.30000000000001,150.9,151.4,151.9,152.19999999999999,152.5,152.5,152.9,153.19999999999999,153.69999999999999,153.6,153.5,151.5,153.19999999999999]
[1996,154.4,154.9,155.69999999999999,156.30000000000001,156.6,156.69999999999999,157,157.30000000000001,157.80000000000001,158.30000000000001,158.6,158.6,155.80000000000001,157.9]
[1997,159.1,159.6,160,160.19999999999999,160.1,160.30000000000001,160.5,160.80000000000001,161.19999999999999,161.6,161.5,161.30000000000001,159.9,161.19999999999999]
[1998,161.6,161.9,162.19999999999999,162.5,162.80000000000001,163,163.19999999999999,163.4,163.6,164,164,163.9,162.30000000000001,163.69999999999999]
[1999,164.3,164.5,165,166.2,166.2,166.2,166.7,167.1,167.9,168.2,168.3,168.3,165.4,167.8]
[2000,168.8,169.8,171.2,171.3,171.5,172.4,172.8,172.8,173.7,174,174.1,174,170.8,173.6]
[2001,175.1,175.8,176.2,176.9,177.7,178,177.5,177.5,178.3,177.7,177.4,176.7,176.6,177.5]
[2002,177.1,177.8,178.8,179.8,179.8,179.9,180.1,180.7,181,181.3,181.3,180.9,178.9,180.9]
[2003,181.7,183.1,184.2,183.8,183.5,183.7,183.9,184.6,185.2,185,184.5,184.3,183.3,184.6]
[2004,185.2,186.2,187.4,188,189.1,189.7,189.4,189.5,189.9,190.9,191,190.3,187.6,190.2]
[2005,190.7,191.8,193.3,194.6,194.4,194.5,195.4,196.4,198.8,199.2,197.6,196.8,193.2,197.4]
[2006,198.3,198.7,199.8,201.5,202.5,202.9,203.5,203.9,202.9,201.8,201.5,201.8,200.6,202.6]
[2007,202.416,203.499,205.352,206.68600000000001,207.94900000000001,208.352,208.29900000000001,207.917,208.49,208.93600000000001,210.17699999999999,210.036,205.709,208.976]
[2008,211.08,211.69300000000001,213.52799999999999,214.82300000000001,216.63200000000001,218.815,219.964,219.08600000000001,218.78299999999999,216.57300000000001,212.42500000000001,210.22800000000001,214.429,216.17699999999999]
[2009,211.143,212.19300000000001,212.709,213.24,213.85599999999999,215.69300000000001,215.351,215.834,215.96899999999999,216.17699999999999,216.33,215.94900000000001,213.13900000000001,215.935,null,{"$f":"M109/M108-1","v":2.7213311262058282E-2}]
[2010,216.68700000000001,216.74100000000001,217.631,218.00899999999999,218.178,217.965,218.011,218.31200000000001,218.43899999999999,218.71100000000001,218.803,219.179,217.535,218.57599999999999,null,1.4957235273143077E-2]
[2011,220.22300000000001,221.309,223.46700000000001,224.90600000000001,225.964,225.72200000000001,225.922,226.54499999999999,226.88900000000001,226.42099999999999,226.23,225.672,223.59800000000001,226.28,null,2.9624188448710953E-2]
[2012,226.66499999999999,227.66300000000001,229.392,230.08500000000001,229.815,229.47800000000001,229.10400000000001,230.37899999999999,231.40700000000001,231.31700000000001,230.221,229.601,228.85,230.33799999999999,null,1.7410223687475579E-2]
[2013,230.28,232.166,232.773,232.53100000000001,232.94499999999999,233.50399999999999,233.596,233.87700000000001,234.149,233.54599999999999,233.06899999999999,233.04900000000001,232.36600000000001,233.548,null,1.501735619618394E-2]
[2014,233.916,234.78100000000001,236.29300000000001,237.072,237.9,238.34299999999999,238.25,237.852,238.03100000000001,237.43299999999999,236.15100000000001,234.81200000000001,236.38399999999999,237.08799999999999,null,7.564932696557447E-3]
[2015,233.70699999999999,234.72200000000001,236.119,236.59899999999999,237.80500000000001,238.63800000000001,238.654,238.316,237.94499999999999,237.83799999999999,237.33600000000001,236.52500000000001,236.26499999999999,237.76900000000001,null,7.2951978604158807E-3]
[2016,236.916,237.11099999999999,238.13200000000001,239.261,240.22900000000001,241.018,240.62799999999999,240.84899999999999,241.428,241.72900000000001,241.35300000000001,241.43199999999999,238.77799999999999,241.23699999999999,null,2.074622132966919E-2]
[2017,242.839,243.60300000000001,243.80099999999999,244.524,244.733,244.95500000000001,244.786,245.51900000000001,246.81899999999999,246.66300000000001,246.66900000000001,246.524,244.07599999999999,246.16300000000001,null,2.1090824745684245E-2]
[2018,247.86699999999999,248.99100000000001,249.554,250.54599999999999,251.58799999999999,251.989,252.006,252.14599999999999,252.43899999999999,252.88499999999999,252.03800000000001,251.233,250.089,252.125,null,1.9101588486313714E-2]
[2019,251.71199999999999,252.77600000000001,254.202,255.548,256.09199999999998,256.14299999999997,256.57100000000003,256.55799999999999,256.75900000000001,257.346,257.20800000000003,256.97399999999999,254.41200000000001,256.90300000000002,null,2.2851297401217163E-2]
[2020,257.971,258.678,258.11500000000001,256.38900000000001,256.39400000000001,257.79700000000003,259.101,259.91800000000001,260.27999999999997,260.38799999999998,260.22899999999998,260.47399999999999,257.55700000000002,260.065,null,1.3620054947193205E-2]
[2021,261.58199999999999,263.01400000000001,264.87700000000001,267.05399999999997,269.19499999999999,271.69600000000003,273.00299999999999,273.56700000000001,274.31,276.589,277.94799999999998,278.80200000000002,266.23599999999999,275.70299999999997,null,7.0364028655451438E-2]
[2022,281.14800000000002,283.71600000000001,287.50400000000002,289.10899999999998,292.29599999999999,296.31099999999998,296.27600000000001,296.17099999999999,296.80799999999999,298.012,297.71100000000001,296.79700000000003,288.34699999999998,296.96300000000002,null,6.4544013314108195E-2]
[2023,299.17,300.83999999999997,301.83600000000001,303.363,304.12700000000001,305.10899999999998,305.69099999999997,307.02600000000001,307.78899999999999,307.67099999999999,307.05099999999999,306.74599999999998,302.40800000000002,306.99599999999998,null,3.3521228314302265E-2]
[2024,308.41699999999997,310.32600000000002]

{"sheet":"We e Wd","index":21,"n_rows":11,"n_cols":12,"rows_kept":11,"cut":false,"hidden":false,"merged":[]}
["Demontrações Contábeis da Compagas"]
[]
["mil R$",{"$f":"C3-1","v":2017},{"$f":"D3-1","v":2018},{"$f":"E3-1","v":2019},{"$f":"F3-1","v":2020},2021,2022,2023,"Média",null,null,"Dívida recente afetada pela média do caixa no cáculo da estrutura de capital"]
["(D) - Passivo Oneroso Líquido",{"$f":"B5+B6-B7-B8","v":-41404},{"$f":"C5+C6-C7-C8","v":-72503},{"$f":"D5+D6-D7-D8","v":-86913},-90407,{"$f":"F5+F6-F7-F8","v":-210641},{"$f":"G5+G6-G7-G8","v":-61059},{"$f":"H5+H6-H7-H8","v":182765},{"$f":"AVERAGE(D4:H4)","v":-53251},null,null,{"$f":"SUM(L5:L6)","v":284202}]
["Empréstimos de curto (debêntures)",25138,5919,34547,20252,0,0,81797,{"$f":"AVERAGE(D5:H5)","v":27319.200000000001},null,null,{"$f":"H5-(H5*L11)","v":81797}]
["Empréstimos de longo prazo (debêntures)",17537,11733,20236,0,0,0,202405,44528.2,null,null,{"$f":"H6-(H6*L11)","v":202405}]
["Caixa e Equivalente de Caixa",84079,90155,141696,110659,210641,61059,101437,125098.4]
["Instrumentos derivativos",0,0,0,0,0,0,0]
["(E) -  Patrimônio Líquido",349375,409142,545895,483271,522177,568433,511508,{"$f":"AVERAGE(D9:H9)","v":526256.80000000005},null,null,"Estrutura de capital considerada"]
["(we) - participação do capital próprio na estrutura de capital ",{"$f":"B9/(B4+B9)","v":1.1344412298560578},{"$f":"C9/(C4+C9)","v":1.2153731445257383},1.1893603670732185,1.2301228924004235,{"$f":"F9/(F4+F9)","v":1.6761369472548919},{"$f":"G9/(G4+G9)","v":1.1203431787990712},{"$f":"H9/(H4+H9)","v":0.73675340968178227},{"$f":"AVERAGE(D10:H10)","v":1.1905433590418775},null,"We",{"$f":"1-L11","v":1}]
["(wd) =   participação da dívida na estrutura de capital ",{"$f":"B4/(B4+B9)","v":-0.13444122985605789},{"$f":"C4/(C4+C9)","v":-0.21537314452573825},-0.18936036707321854,-0.23012289240042355,{"$f":"F4/(F4+F9)","v":-0.67613694725489193},{"$f":"G4/(G4+G9)","v":-0.12034317879907129},{"$f":"H4/(H4+H9)","v":0.26324659031821779},{"$f":"AVERAGE(D11:H11)","v":-0.19054335904187752},null,"Wd",0]

{"sheet":"Taxa Agepar","index":22,"n_rows":56,"n_cols":13,"rows_kept":56,"cut":false,"hidden":false,"merged":[[2,2,3,5],[4,3,4,4]]}
[]
[]
[null,null,"ANEXO III\nFAIXAS DE INCIDÊNCIA A QUE SE REFERE O §4º DO ART. 54\nPARA CÁLCULO DA TAXA DE REGULAÇÃO"]
[null,null,null,null,null,null,null,null,null,null,"UPF/PR PROJETADO JULHO/2024",{"$f":"137.53*('Série - IPCA'!C444/'Série - IPCA'!C443)","v":138.06636700000001}]
[null,null,null,"Receita Operacional Bruta (UPF/PR)",null,null,null,null,null,null,"UPF/PR PROJETADO JULHO/2024",{"$f":"137.53*('Série - IPCA'!C444/'Série - IPCA'!C443)","v":138.06636700000001}]
[null,null,"Faixa","Limite Inferior (UPF/PR)","Limite superior (UPF/PR)","UPF à pagar (UPF/PR)",null,"ROB","PROP. UPF DEZ","UPF A PAGAR","TAXA A PAGAR"]
[null,null,1,0,683,2,null,{"$f":"I22","v":463783361.69422209},{"$f":"H7/$L$4","v":3359133.522317003},{"$f":"IF(I7<=$E$7,$F$7,IF(I7<=$E$8,$F$8,IF(I7<=$E$9,$F$9,IF(I7<=$E$10,$F$10,IF(I7<=$E$11,$F$11,IF(I7<=$E$12,$F$12,IF(I7<=$E$13,$F$13,IF(I7<=$E$14,$F$14,IF(I7<=$E$15,$F$15,IF(I7<=$E$16,$F$16,IF(I7<=$E$17,$F$17,IF(I7<=$E$18,$F$18,IF(I7<=$E$19,$F$19,IF(I7<=$E$20,$F$20,IF(I7<=$E$21,$F$21,IF(I7<=$E$22,$F$22,IF(I7<=$E$23,$F$23,IF(I7<=$E$24,$F$24,IF(I7<=$E$25,$F$25,IF(I7<=$E$26,$F$26,IF(I7<=$E$27,$F$27,IF(I7<=$E$28,$F$28,IF(I7<=$E$29,$F$29,IF(I7<=$E$30,$F$30,IF(I7<=$E$31,$F$31,IF(I7<=$E$32,$F$32,IF(I7<=$E$33,$F$33,IF(I7<=$E$34,$F$34,IF(I7<=$E$35,$F$35,IF(I7<=$E$36,$F$36,IF(I7<=$E$37,$F$37,IF(I7<=$E$38,$F$38,IF(I7<=$E$39,$F$39,IF(I7<=$E$40,$F$40,IF(I7<=$E$41,$F$41,IF(I7<=$E$42,$F$42,IF(I7<=$E$43,$F$43,IF(I7<=$E$44,$F$44,IF(I7<=$E$45,$F$45,IF(I7<=$E$46,$F$46,IF(I7<=$E$47,$F$47,IF(I7<=$E$48,$F$48,IF(I7<=$E$49,$F$49,IF(I7<=$E$50,$F$50,IF(I7<=$E$51,$F$51,IF(I7<=$E$52,$F$52,IF(I7<=$E$53,$F$53,IF(I7<=$E$54,$F$54,IF(I7<=$E$55,$F$55,IF(I7>=$D$56,$F$56,\"\"))))))))))))))))))))))))))))))))))))))))))))))))))","v":17426},{"$f":"J7*$L$5","v":2405944.5113420002}]
[null,null,2,684,1368,7,null,{"$f":"J22","v":519163508.65674305},{"$f":"H8/$L$4","v":3760246.0319444994},21211,{"$f":"J8*$L$5","v":2928525.7104370003}]
[null,null,3,1369,3214,16,null,{"$f":"K22","v":539660849.49787521},3908706.0898609376,21211,2928525.7104370003]
[null,null,4,3215,4582,23,null,{"$f":"L22","v":574727847.92102432},4162692.6268076878,21211,2928525.7104370003]
[null,null,5,4583,6179,31,null,{"$f":"M22","v":609504930.85942709},{"$f":"H11/$L$4","v":4414579.3367578583},24241,3346866.8024470005]
[null,null,6,6180,8475,42]
[null,null,7,8476,12850,64]
[null,null,8,12851,18314,91]
[null,null,9,18315,25139,124]
[null,null,10,25140,38280,189]
[null,null,11,38281,48849,241]
[null,null,12,48850,63678,315]
[null,null,13,63679,83611,413,null,{"$f":"VCG!I27","v":"Receita Total Estimada"},{"$f":"VCG!K27","v":"2024/2025"},{"$f":"VCG!L27","v":"2025/2026"},{"$f":"VCG!M27","v":"2026/2027"},{"$f":"VCG!N27","v":"2027/2028"},{"$f":"VCG!O27","v":"2028/2029"}]
[null,null,14,83612,94576,468,null,"Receita c/ tirb",{"$f":"((I28+I29)*I26+(I27*I30))/(1-9.25%)/(1-12%)","v":1138135868.2634282},{"$f":"((J28+J29)*J26+(J27*J30))/(1-9.25%)/(1-12%)","v":1223145960.3070986},1261918792.7145851,1309498072.0145638,1362301096.250562]
[null,null,15,94577,108087,535,null,"Custo do gas s/ trib",{"$f":"I26*I28","v":674352506.56920612},{"$f":"J26*J28","v":703982451.65035558},722257943.21670985,734770224.09353948,752796165.39113486]
[null,null,16,108088,124259,615,null,"ROB",{"$f":"I20-I21","v":463783361.69422209},{"$f":"J20-J21","v":519163508.65674305},539660849.49787521,574727847.92102432,609504930.85942709]
[null,null,17,124260,145230,719]
[null,null,18,145231,163102,807,null,null,"2024/2025","2025/2026","2026/2027","2027/2028","2028/2029"]
[null,null,19,163103,183152,907,null,"VOLUME  m³/ano",{"$f":"VOLUME!E4","v":469927461.93578792},{"$f":"VOLUME!F4","v":551333391.03942132},{"$f":"VOLUME!G4","v":576633942.72671223},{"$f":"VOLUME!H4","v":636069452.48545504},{"$f":"VOLUME!I4","v":688666645.42370522}]
[null,null,20,183153,197561,978,null,"VOLUME Cativo m³/ano",{"$f":"VOLUME!E21","v":297937461.93578792},{"$f":"VOLUME!F21","v":321383391.03942132},{"$f":"VOLUME!G21","v":345323942.72671223},{"$f":"VOLUME!H21","v":355227452.48545504},{"$f":"VOLUME!I21","v":363451645.42370522}]
[null,null,21,197562,203260,1006,null,"VOLUME Livre m³/ano",{"$f":"VOLUME!E22","v":171990000},{"$f":"VOLUME!F22","v":229950000},{"$f":"VOLUME!G22","v":229950000},{"$f":"VOLUME!H22","v":275352000},{"$f":"VOLUME!I22","v":319740000}]
[null,null,22,203261,239675,1177,null,"Custo do Gás estimado pela Compagas          R$/m³",{"$f":"VCG!K32","v":2.2634028704807316},{"$f":"VCG!L32","v":2.1904755232481947},{"$f":"VCG!M32","v":2.0915374054682951},{"$f":"VCG!N32","v":2.0684499999999999},{"$f":"VCG!O32","v":2.0712415939499711}]
[null,null,23,239676,324260,1596,null,"TUSDC (R$/m³)",{"$f":"Resultados!M36","v":0.53},{"$f":"I29","v":0.53},0.53,0.53,0.53]
[null,null,24,324261,378303,1874,null,"TUSDL(R$/m³)",{"$f":"Resultados!M37","v":0.44570000000000004},0.44570000000000004,0.44570000000000004,0.44570000000000004,0.44570000000000004]
[null,null,25,378304,432347,2142]
[null,null,26,432348,477593,2266]
[null,null,27,477594,540434,2677]
[null,null,28,540435,607898,3012]
[null,null,29,607899,675542,3347]
[null,null,30,675543,743096,3685]
[null,null,31,743097,810650,4016]
[null,null,32,810651,894298,4321]
[null,null,33,894299,1013313,5021]
[null,null,34,1013314,1080867,5355]
[null,null,35,1080868,1215975,6025]
[null,null,36,1215976,1351084,6695]
[null,null,37,1351085,1486192,7364]
[null,null,38,1486193,1621301,8034]
[null,null,39,1621302,2379385,11464]
[null,null,40,2379386,3639910,17426]
[null,null,41,3639911,4362985,21211]
[null,null,42,4362986,4893374,24241]
[null,null,43,4893375,7994565,38897]
[null,null,44,7994566,9591719,47522]
[null,null,45,9591720,13428406,66536]
[null,null,46,13428407,18799768,93155]
[null,null,47,18799769,26319676,130421]
[null,null,48,26319677,36847546,182594]
[null,null,49,36847547,47483772,231990]
[null,null,50,47483773,"                -   ",272426]

{"sheet":"Plan1","index":23,"n_rows":0,"n_cols":0,"rows_kept":0,"cut":false,"hidden":false,"merged":[]}